{"text_format":"3","workbook":"xlsx","n_sheets":5,"sheets":["Hoja3","Causas nuevas","Hoja1","Hoja3 (2)","Causas anteriores"],"not_rendered":{"images":3,"macros":1},"read":"whole","date_system":"1900"}

{"sheet":"Hoja3","index":0,"n_rows":697,"n_cols":14,"rows_kept":697,"hidden":true}
[{"$nulls":3},{"$f":"SUM(Hoja3!$D$3:$D$697)","v":5}]
["Columna1","NOMBRE DE LA CAUSA 2017","NOMBRE DE LA CAUSA 2018","NOMBRE DE LA CAUSA 2019","0","1","ACCIÓN","ANTERIOR","COMENTARIOS","ESTADO EN EKOGUI","TIPO DE PROCESO O CASO","DEFINICIÓN","ID CAUSA","dadsa"]
[{"$f":"+Hoja3!$F3","v":0},"ILEGALIDAD DEL ACTO ADMINISTRATIVO QUE REVOCA EL NOMBRAMIENTO DE FUNCIONARIO PUBLICO",{"$f":"IFERROR(FIND(UPPER('Causas nuevas'!$D$4),B3),0)","v":0},{"$f":"+IF(Hoja3!$C3=0,0,1)","v":0},{"$f":"+E2+Hoja3!$D3","v":0},{"$f":"+Hoja3!$E3*Hoja3!$D3","v":0},"MANTENER",null,null,"ACTIVA","JUDICIAL","Acto administrativo presuntamente viciado de ilegalidad que antecede al acto de posesión y que deja sin efectos jurídicos el acto administrativo de nombramiento de un funcionario público. El vicio del acto puede ser la expedición con infracción de las normas en que debería fundarse, o sin competencia, o en forma irregular, o con desconocimiento del derecho de audiencia y defensa, o mediante falsa motivación, o con falta de motivación, o con desviación de las atribuciones propias de quien lo profirió, o con violación del debido proceso administrativo.",457,{"$f":"+Hoja3!$B3","v":"ILEGALIDAD DEL ACTO ADMINISTRATIVO QUE REVOCA EL NOMBRAMIENTO DE FUNCIONARIO PUBLICO"}]
[{"$f":"+Hoja3!$F4","v":0},"ILEGALIDAD DEL ACTO ADMINISTRATIVO QUE IMPONE SANCION DISCIPLINARIA",{"$f":"IFERROR(FIND(UPPER('Causas nuevas'!$D$4),B4),0)","v":0},{"$f":"+IF(Hoja3!$C4=0,0,1)","v":0},{"$f":"+E3+Hoja3!$D4","v":0},{"$f":"+Hoja3!$E4*Hoja3!$D4","v":0},"MANTENER",null,null,"ACTIVA","JUDICIAL","Acto administrativo presuntamente viciado de ilegalidad que impone sanción disciplinaria, impuesta por la misma entidad o por el Ministerio Público en ejercicio del control disciplinario. El control disciplinario ejercido en forma prevalente por la Procuraduría General de la Nación, busca garantizar la correcta marcha y el buen nombre de la cosa pública, por lo que juzga el comportamiento de los servidores públicos frente a normas administrativas de carácter ético destinadas a proteger la eficiencia, eficacia y moralidad de la administración pública. El vicio del acto puede ser la expedición con infracción de las normas en que debería fundarse, o sin competencia, o en forma irregular, o con desconocimiento del derecho de audiencia y defensa, o mediante falsa motivación, o con falta de motivación, o con desviación de las atribuciones propias de quien lo profirió, o con violación del debido proceso administrativo.",331,{"$f":"+Hoja3!$B4","v":"ILEGALIDAD DEL ACTO ADMINISTRATIVO QUE IMPONE SANCION DISCIPLINARIA"}]
[{"$f":"+Hoja3!$F5","v":0},"ILEGALIDAD DEL ACTO ADMINISTRATIVO QUE DECLARA LA INSUBSISTENCIA DE FUNCIONARIO DE CARRERA",{"$f":"IFERROR(FIND(UPPER('Causas nuevas'!$D$4),B5),0)","v":0},{"$f":"+IF(Hoja3!$C5=0,0,1)","v":0},{"$f":"+E4+Hoja3!$D5","v":0},{"$f":"+Hoja3!$E5*Hoja3!$D5","v":0},"MANTENER",null,null,"ACTIVA","JUDICIAL","Acto administrativo presuntamente viciado de ilegalidad que declara insubsistente a funcionario público de carrera. Es funcionario público de carrera quien tiene una relación legal y regamentaria con el Estado e ingresó a la función pública mediante concurso de méritos. El vicio del acto administrativo puede ser la expedición con infracción de las normas en que debería fundarse, o sin competencia, o en forma irregular, o con desconocimiento del derecho de audiencia y defensa, o mediante falsa motivación, o con falta de motivación, o con desviación de las atribuciones propias de quien lo profirió, o con violación del debido proceso administrativo.",307,{"$f":"+Hoja3!$B5","v":"ILEGALIDAD DEL ACTO ADMINISTRATIVO QUE DECLARA LA INSUBSISTENCIA DE FUNCIONARIO DE CARRERA"}]
[{"$f":"+Hoja3!$F6","v":0},"ILEGALIDAD DEL ACTO ADMINISTRATIVO QUE DECLARA LA INSUBSISTENCIA DE FUNCIONARIO DE LIBRE NOMBRAMIENTO Y REMOCION",{"$f":"IFERROR(FIND(UPPER('Causas nuevas'!$D$4),B6),0)","v":0},{"$f":"+IF(Hoja3!$C6=0,0,1)","v":0},{"$f":"+E5+Hoja3!$D6","v":0},{"$f":"+Hoja3!$E6*Hoja3!$D6","v":0},"MANTENER",null,null,"ACTIVA","JUDICIAL","Acto administrativo presuntamente viciado de ilegalidad que declara insubsistente a funcionario público de libre nombramiento y remoción. Es funcionario público de libre nombramiento y remoción quien tiene una relación legal y regamentaria con el Estado y respecto de ellos el nominador puede proceder a su nombramiento y remoción en forma discrecional. El vicio del acto administrativo puede ser la expedición con infracción de las normas en que debería fundarse, o sin competencia, o en forma irregular, o con desconocimiento del derecho de audiencia y defensa, o mediante falsa motivación, o con falta de motivación, o con desviación de las atribuciones propias de quien lo profirió, o con violación del debido proceso administrativo.",308,{"$f":"+Hoja3!$B6","v":"ILEGALIDAD DEL ACTO ADMINISTRATIVO QUE DECLARA LA INSUBSISTENCIA DE FUNCIONARIO DE LIBRE NOMBRAMIENTO Y REMOCION"}]
[{"$f":"+Hoja3!$F7","v":0},"INCUMPLIMIENTO EN EL RECONOCIMIENTO DE MEDICAMENTOS Y SERVICIOS INCLUIDOS O NO EN EL POS",{"$f":"IFERROR(FIND(UPPER('Causas nuevas'!$D$4),B7),0)","v":0},{"$f":"+IF(Hoja3!$C7=0,0,1)","v":0},{"$f":"+E6+Hoja3!$D7","v":0},{"$f":"+Hoja3!$E7*Hoja3!$D7","v":0},"MANTENER",null,null,"ACTIVA","JUDICIAL","No reconocimiento, reconocimiento parcial o tardío de servicios y medicamentos incluidos o no en el plan obligatorio de salud, cuando medie reclamación tanto del usuario del servicio a su prestador, como del prestador del servicio al FOSYGA o quien haga sus veces.",536,{"$f":"+Hoja3!$B7","v":"INCUMPLIMIENTO EN EL RECONOCIMIENTO DE MEDICAMENTOS Y SERVICIOS INCLUIDOS O NO EN EL POS"}]
[{"$f":"+Hoja3!$F8","v":0},"NO RECONOCIMIENTO DE PENSION DE VEJEZ",{"$f":"IFERROR(FIND(UPPER('Causas nuevas'!$D$4),B8),0)","v":0},{"$f":"+IF(Hoja3!$C8=0,0,1)","v":0},{"$f":"+E7+Hoja3!$D8","v":0},{"$f":"+Hoja3!$E8*Hoja3!$D8","v":0},"MANTENER",null,null,"ACTIVA","JUDICIAL","Desconocimiento del derecho a percibir la pensión de vejez. La pensión de vejez es una prestación económica que consiste en obtener una renta mensual que se otorga en forma vitalicia a partir del cumplimiento de los requisitos de edad y tiempo cotizado.",819,{"$f":"+Hoja3!$B8","v":"NO RECONOCIMIENTO DE PENSION DE VEJEZ"}]
[{"$f":"+Hoja3!$F9","v":0},"NO RECONOCIMIENTO DE LA INDEXACION Y REAJUSTE DE LA ASIGNACION DE RETIRO",{"$f":"IFERROR(FIND(UPPER('Causas nuevas'!$D$4),B9),0)","v":0},{"$f":"+IF(Hoja3!$C9=0,0,1)","v":0},{"$f":"+E8+Hoja3!$D9","v":0},{"$f":"+Hoja3!$E9*Hoja3!$D9","v":0},"MANTENER",null,null,"ACTIVA","JUDICIAL","Desconocimiento del derecho a que la asignación de retiro mantenga su poder adquisitivo constante, mediante el reajuste anual de oficio, según la variación porcentual del Indice de Precios al Consumidor, certificado por el DANE para el año inmediatamente anterior o si la asignación de retiro mensual es igual al salario mínimo legal mensual vigente, el reajuste de oficio corresponde al mismo porcentaje en que se incremente dicho salario por el Gobierno Nacional. La asignación de retiro es una prestación económica a la que tienen derecho los miembros de la Fuerza Pública a partir de su retiro del servicio activo y tras el cumplimiento de determinados requisitos; se asemeja a la pensión de vejez.",810,{"$f":"+Hoja3!$B9","v":"NO RECONOCIMIENTO DE LA INDEXACION Y REAJUSTE DE LA ASIGNACION DE RETIRO"}]
[{"$f":"+Hoja3!$F10","v":0},"NO RECONOCIMIENTO DE PRIMA DE ACTUALIZACION",{"$f":"IFERROR(FIND(UPPER('Causas nuevas'!$D$4),B10),0)","v":0},{"$f":"+IF(Hoja3!$C10=0,0,1)","v":0},{"$f":"+E9+Hoja3!$D10","v":0},{"$f":"+Hoja3!$E10*Hoja3!$D10","v":0},"MANTENER",null,null,"ACTIVA","JUDICIAL","Desconocimiento del derecho a percibir la prima de actualización. La prima de actualización pretende la nivelación de la remuneración del personal activo y retirado de la Fuerza Pública.",824,{"$f":"+Hoja3!$B10","v":"NO RECONOCIMIENTO DE PRIMA DE ACTUALIZACION"}]
[{"$f":"+Hoja3!$F11","v":0},"NO RECONOCIMIENTO DE PRIMA DE ACTIVIDAD",{"$f":"IFERROR(FIND(UPPER('Causas nuevas'!$D$4),B11),0)","v":0},{"$f":"+IF(Hoja3!$C11=0,0,1)","v":0},{"$f":"+E10+Hoja3!$D11","v":0},{"$f":"+Hoja3!$E11*Hoja3!$D11","v":0},"MANTENER",null,null,"ACTIVA","JUDICIAL","Desconocimiento del derecho a percibir la prima de actividad, propia de los miembros de la fuerza pública. La prima de actividad es una partida que el titular devenga durante el tiempo que permanezca en actividad y será estimada en los términos señalados por el artículo 141 del Decreto 1212 de 1990 (Dec. 1793 y 1794 de 2000 uniformados) es reconocida a los miembros de la fuerza pública y a personal no uniformado o civil que laboran para el Ministerio de Defensa.",823,{"$f":"+Hoja3!$B11","v":"NO RECONOCIMIENTO DE PRIMA DE ACTIVIDAD"}]
[{"$f":"+Hoja3!$F12","v":0},"NO RECONOCIMIENTO DE PRIMA TECNICA",{"$f":"IFERROR(FIND(UPPER('Causas nuevas'!$D$4),B12),0)","v":0},{"$f":"+IF(Hoja3!$C12=0,0,1)","v":0},{"$f":"+E11+Hoja3!$D12","v":0},{"$f":"+Hoja3!$E12*Hoja3!$D12","v":0},"MANTENER",null,null,"ACTIVA","JUDICIAL","Desconocimiento del derecho a percivir la prima técnica. La prima técnica puede reconocerse por formación avanzada o altamente calificada o, por evaluación del desempeño.",827,{"$f":"+Hoja3!$B12","v":"NO RECONOCIMIENTO DE PRIMA TECNICA"}]
[{"$f":"+Hoja3!$F13","v":0},"DESPIDO INDIRECTO DE TRABAJADOR OFICIAL",{"$f":"IFERROR(FIND(UPPER('Causas nuevas'!$D$4),B13),0)","v":0},{"$f":"+IF(Hoja3!$C13=0,0,1)","v":0},{"$f":"+E12+Hoja3!$D13","v":0},{"$f":"+Hoja3!$E13*Hoja3!$D13","v":0},"MANTENER",null,null,"ACTIVA","JUDICIAL","El trabajador oficial pone término a la relación laboral mediante renuncia, por considerar que el empleador ha incurrido en un grave incumplimiento de sus obligaciones legales, contractuales o convencionales. Es trabajador oficial quien tiene una relación contractual laboral con el Estado.",222,{"$f":"+Hoja3!$B13","v":"DESPIDO INDIRECTO DE TRABAJADOR OFICIAL"}]
[{"$f":"+Hoja3!$F14","v":0},"NO RECONOCIMIENTO DE PENSION SUSTITUTIVA",{"$f":"IFERROR(FIND(UPPER('Causas nuevas'!$D$4),B14),0)","v":0},{"$f":"+IF(Hoja3!$C14=0,0,1)","v":0},{"$f":"+E13+Hoja3!$D14","v":0},{"$f":"+Hoja3!$E14*Hoja3!$D14","v":0},"MANTENER",null,"Se mantuvo por sugerencia DGI","ACTIVA","JUDICIAL","Desconocimiento del derecho a percibir la pensión sustitutiva. La pensión de sustitutiva es una prestación económica que se causa por la muerte de un pensionado.",821,{"$f":"+Hoja3!$B14","v":"NO RECONOCIMIENTO DE PENSION SUSTITUTIVA"}]
[{"$f":"+Hoja3!$F15","v":0},"INDEBIDA LIQUIDACION DE BONO PENSIONAL",{"$f":"IFERROR(FIND(UPPER('Causas nuevas'!$D$4),B15),0)","v":0},{"$f":"+IF(Hoja3!$C15=0,0,1)","v":0},{"$f":"+E14+Hoja3!$D15","v":0},{"$f":"+Hoja3!$E15*Hoja3!$D15","v":0},"MANTENER",null,null,"ACTIVA","JUDICIAL","Liquidación irregular del bono pensional, por lo que se pretende su reliquidación. El bono pensional es el capital equivalente a las cotizaciones realizadas al régimen de prima media con prestación definida (anterior Instituto de Seguros Sociales - ISS hoy Colpensiones) o a los tiempos laborados con empresas del sector público o reconocedoras de pensión, antes del traslado al régimen de ahorro individual con solidaridad.",546,{"$f":"+Hoja3!$B15","v":"INDEBIDA LIQUIDACION DE BONO PENSIONAL"}]
[{"$f":"+Hoja3!$F16","v":0},"INDEBIDA LIQUIDACION DE REGALIAS",{"$f":"IFERROR(FIND(UPPER('Causas nuevas'!$D$4),B16),0)","v":0},{"$f":"+IF(Hoja3!$C16=0,0,1)","v":0},{"$f":"+E15+Hoja3!$D16","v":0},{"$f":"+Hoja3!$E16*Hoja3!$D16","v":0},"MANTENER",null,null,"ACTIVA","JUDICIAL","Liquidación irregular de regalías, por lo que sepretende su reliquidación. La explotación de un recurso natural no renovable causará, a favor del Estado, una contraprestación económica a título de regalía, cuya distribución, objetivos, fines, administración, ejecución, control, uso eficiente y destinación, precisando las condiciones de participación de sus beneficiarios se hace a través del Sistema General de Regalías. El vicio del acto puede ser la expedición con infracción de las normas en que debería fundarse, o sin competencia, o en forma irregular, o con desconocimiento del derecho de audiencia y defensa, o mediante falsa motivación, o con falta de motivación, o con desviación de las atribuciones propias de quien lo profirió, o con violación del debido proceso administrativo.",572,{"$f":"+Hoja3!$B16","v":"INDEBIDA LIQUIDACION DE REGALIAS"}]
[{"$f":"+Hoja3!$F17","v":0},"ILEGALIDAD DEL ACTO ADMINISTRATIVO QUE ADJUDICA UN BIEN INMUEBLE",{"$f":"IFERROR(FIND(UPPER('Causas nuevas'!$D$4),B17),0)","v":0},{"$f":"+IF(Hoja3!$C17=0,0,1)","v":0},{"$f":"+E16+Hoja3!$D17","v":0},{"$f":"+Hoja3!$E17*Hoja3!$D17","v":0},"MANTENER",null,null,"ACTIVA","JUDICIAL","Acto administrativo presuntamente viciado de ilegalidad que adjudica un bien inmueble. El vicio del acto puede ser la expedición con infracción de las normas en que debería fundarse, o sin competencia, o en forma irregular, o con desconocimiento del derecho de audiencia y defensa, o mediante falsa motivación, o con falta de motivación, o con desviación de las atribuciones propias de quien lo profirió, o con violación del debido proceso administrativo.",289,{"$f":"+Hoja3!$B17","v":"ILEGALIDAD DEL ACTO ADMINISTRATIVO QUE ADJUDICA UN BIEN INMUEBLE"}]
[{"$f":"+Hoja3!$F18","v":0},"ILEGALIDAD DEL ACTO ADMINISTRATIVO QUE NO ADJUDICA UN BIEN INMUEBLE",{"$f":"IFERROR(FIND(UPPER('Causas nuevas'!$D$4),B18),0)","v":0},{"$f":"+IF(Hoja3!$C18=0,0,1)","v":0},{"$f":"+E17+Hoja3!$D18","v":0},{"$f":"+Hoja3!$E18*Hoja3!$D18","v":0},"MANTENER",null,null,"ACTIVA","JUDICIAL","Acto administrativo presuntamente viciado de ilegalidad que niega o revoca la adjudicación de un bien inmueble. El vicio del acto puede ser la expedición con infracción de las normas en que debería fundarse, o sin competencia, o en forma irregular, o con desconocimiento del derecho de audiencia y defensa, o mediante falsa motivación, o con falta de motivación, o con desviación de las atribuciones propias de quien lo profirió, o con violación del debido proceso administrativo.",417,{"$f":"+Hoja3!$B18","v":"ILEGALIDAD DEL ACTO ADMINISTRATIVO QUE NO ADJUDICA UN BIEN INMUEBLE"}]
[{"$f":"+Hoja3!$F19","v":0},"VIOLACION AL DEBIDO PROCESO ADMINISTRATIVO",{"$f":"IFERROR(FIND(UPPER('Causas nuevas'!$D$4),B19),0)","v":0},{"$f":"+IF(Hoja3!$C19=0,0,1)","v":0},{"$f":"+E18+Hoja3!$D19","v":0},{"$f":"+Hoja3!$E19*Hoja3!$D19","v":0},"MANTENER",null,null,"ACTIVA","JUDICIAL","Perjuicios derivados de la violación al debido proceso administrativo (principio jurídico procesal según el cual toda persona tiene derecho a ciertas garantías mínimas, tendientes a asegurar un resultado justo y equitativo dentro del mismo, a tener la oportunidad de ser oído, a solicitar, presentar y controvertir pruebas y hacer valer sus pretensiones legítimas).",938,{"$f":"+Hoja3!$B19","v":"VIOLACION AL DEBIDO PROCESO ADMINISTRATIVO"}]
[{"$f":"+Hoja3!$F20","v":0},"LESION A CIVIL EN PROCEDIMIENTO DE POLICIA",{"$f":"IFERROR(FIND(UPPER('Causas nuevas'!$D$4),B20),0)","v":0},{"$f":"+IF(Hoja3!$C20=0,0,1)","v":0},{"$f":"+E19+Hoja3!$D20","v":0},{"$f":"+Hoja3!$E20*Hoja3!$D20","v":0},"MANTENER",null,null,"ACTIVA","JUDICIAL","Lesiones causadas a civiles en la ejecución material de las normas y actos que surgen del ejercicio del poder y la función de Policía.",603,{"$f":"+Hoja3!$B20","v":"LESION A CIVIL EN PROCEDIMIENTO DE POLICIA"}]
[{"$f":"+Hoja3!$F21","v":0},"LESION A CIVIL POR EXPLOSION DE MINA ANTIPERSONAL",{"$f":"IFERROR(FIND(UPPER('Causas nuevas'!$D$4),B21),0)","v":0},{"$f":"+IF(Hoja3!$C21=0,0,1)","v":0},{"$f":"+E20+Hoja3!$D21","v":0},{"$f":"+Hoja3!$E21*Hoja3!$D21","v":0},"MANTENER",null,null,"ACTIVA","JUDICIAL","Lesión física o síquica a civil por explosión de mina antipersonal (artefacto explosivo diseñado para herir, mutilar o matar personas; se ubican debajo de la tierra, sobre o cerca de ella y se activan con la presencia, proximidad o contacto de una persona o animal). ",606,{"$f":"+Hoja3!$B21","v":"LESION A CIVIL POR EXPLOSION DE MINA ANTIPERSONAL"}]
[{"$f":"+Hoja3!$F22","v":0},"MUERTE DE CIVIL CON ARMA DE DOTACION OFICIAL",{"$f":"IFERROR(FIND(UPPER('Causas nuevas'!$D$4),B22),0)","v":0},{"$f":"+IF(Hoja3!$C22=0,0,1)","v":0},{"$f":"+E21+Hoja3!$D22","v":0},{"$f":"+Hoja3!$E22*Hoja3!$D22","v":0},"MANTENER",null,null,"ACTIVA","JUDICIAL","Muerte de civil por el uso de armas de dotación oficial (aquellas de las que está dotada la fuerza pública para el ejercicio de sus funciones): fusil, granada, bolillo, revólver, pistola, gas pimienta, gases lacrimógenos, balas de salva, etc. ",703,{"$f":"+Hoja3!$B22","v":"MUERTE DE CIVIL CON ARMA DE DOTACION OFICIAL"}]
[{"$f":"+Hoja3!$F23","v":0},"MUERTE DE CIVIL EN PROCEDIMIENTO DE POLICIA",{"$f":"IFERROR(FIND(UPPER('Causas nuevas'!$D$4),B23),0)","v":0},{"$f":"+IF(Hoja3!$C23=0,0,1)","v":0},{"$f":"+E22+Hoja3!$D23","v":0},{"$f":"+Hoja3!$E23*Hoja3!$D23","v":0},"MANTENER",null,null,"ACTIVA","JUDICIAL","Muerte de civiles en la ejecución material de las normas y actos que surgen del ejercicio del poder y la función de Policía.",710,{"$f":"+Hoja3!$B23","v":"MUERTE DE CIVIL EN PROCEDIMIENTO DE POLICIA"}]
[{"$f":"+Hoja3!$F24","v":0},"MUERTE DE CIVIL POR EXPLOSION DE MINA ANTIPERSONAL",{"$f":"IFERROR(FIND(UPPER('Causas nuevas'!$D$4),B24),0)","v":0},{"$f":"+IF(Hoja3!$C24=0,0,1)","v":0},{"$f":"+E23+Hoja3!$D24","v":0},{"$f":"+Hoja3!$E24*Hoja3!$D24","v":0},"MANTENER",null,null,"ACTIVA","JUDICIAL","Muerte de civil por explosión de mina antipersonal (artefacto explosivo diseñado para herir, mutilar o matar personas; se ubican debajo de la tierra, sobre o cerca de ella y se activan con la presencia, proximidad o contacto de una persona o animal). ",714,{"$f":"+Hoja3!$B24","v":"MUERTE DE CIVIL POR EXPLOSION DE MINA ANTIPERSONAL"}]
[{"$f":"+Hoja3!$F25","v":0},"DAÑO O AMENAZA AMBIENTAL POR VERTIMIENTO DE CONTAMINANTES",{"$f":"IFERROR(FIND(UPPER('Causas nuevas'!$D$4),B25),0)","v":0},{"$f":"+IF(Hoja3!$C25=0,0,1)","v":0},{"$f":"+E24+Hoja3!$D25","v":0},{"$f":"+Hoja3!$E25*Hoja3!$D25","v":0},"MANTENER",null,null,"ACTIVA","JUDICIAL","Daño o amenaza al medio ambiente por verter agentes contaminantes. Ejemplo: Vertimiento de químicos a fuentes hídricas o bosques. Nota: es subsidiaria a las otras causas sobre contaminantes.",122,{"$f":"+Hoja3!$B25","v":"DAÑO O AMENAZA AMBIENTAL POR VERTIMIENTO DE CONTAMINANTES"}]
[{"$f":"+Hoja3!$F26","v":0},"DAÑO O AMENAZA AMBIENTAL POR TALA MASIVA DE ARBOLES",{"$f":"IFERROR(FIND(UPPER('Causas nuevas'!$D$4),B26),0)","v":0},{"$f":"+IF(Hoja3!$C26=0,0,1)","v":0},{"$f":"+E25+Hoja3!$D26","v":0},{"$f":"+Hoja3!$E26*Hoja3!$D26","v":0},"MANTENER",null,null,"ACTIVA","JUDICIAL","Daño o amenaza al medio ambiente por tala masiva de árboles. ",121,{"$f":"+Hoja3!$B26","v":"DAÑO O AMENAZA AMBIENTAL POR TALA MASIVA DE ARBOLES"}]
[{"$f":"+Hoja3!$F27","v":0},"DAÑO O AMENAZA AMBIENTAL POR DISPOSICION FINAL DE RESIDUOS SOLIDOS",{"$f":"IFERROR(FIND(UPPER('Causas nuevas'!$D$4),B27),0)","v":0},{"$f":"+IF(Hoja3!$C27=0,0,1)","v":0},{"$f":"+E26+Hoja3!$D27","v":0},{"$f":"+Hoja3!$E27*Hoja3!$D27","v":0},"MANTENER",null,null,"ACTIVA","JUDICIAL","Daño o amenaza al medio ambiente por disposición final de residuos sólidos (proceso de aislar o confinar cualquier objeto o material de desecho que se produce tras la fabricación, transformación o utilización de bienes de consumo y que se abandona después de ser utilizado, puede o no ser reciclable).",115,{"$f":"+Hoja3!$B27","v":"DAÑO O AMENAZA AMBIENTAL POR DISPOSICION FINAL DE RESIDUOS SOLIDOS"}]
[{"$f":"+Hoja3!$F28","v":0},"DAÑO O AMENAZA AMBIENTAL POR ACTIVIDAD MINERA",{"$f":"IFERROR(FIND(UPPER('Causas nuevas'!$D$4),B28),0)","v":0},{"$f":"+IF(Hoja3!$C28=0,0,1)","v":0},{"$f":"+E27+Hoja3!$D28","v":0},{"$f":"+Hoja3!$E28*Hoja3!$D28","v":0},"MANTENER",null,null,"ACTIVA","JUDICIAL","Daño o amenaza al medio ambiente (impactos atmosféricos, paisajísticos, hidrológicos, edafológicos, faunísticos y florísticos, etc.) por el desempeño de la actividad minera, comprende las etapas de cateo y prospección, exploración, explotación, beneficio, labor general, transporte, comercialización, cierre y post cierre.",109,{"$f":"+Hoja3!$B28","v":"DAÑO O AMENAZA AMBIENTAL POR ACTIVIDAD MINERA"}]
[{"$f":"+Hoja3!$F29","v":0},"DAÑO O AMENAZA AMBIENTAL POR ACTIVIDAD INDUSTRIAL",{"$f":"IFERROR(FIND(UPPER('Causas nuevas'!$D$4),B29),0)","v":0},{"$f":"+IF(Hoja3!$C29=0,0,1)","v":0},{"$f":"+E28+Hoja3!$D29","v":0},{"$f":"+Hoja3!$E29*Hoja3!$D29","v":0},"MANTENER",null,null,"ACTIVA","JUDICIAL","Daño o amenaza al medio ambiente por el desempeño de la actividad industrial (contaminaciones biológicas, físicas, químicas y antropogénicas, etc.).",108,{"$f":"+Hoja3!$B29","v":"DAÑO O AMENAZA AMBIENTAL POR ACTIVIDAD INDUSTRIAL"}]
[{"$f":"+Hoja3!$F30","v":0},"DAÑO O AMENAZA AMBIENTAL POR ACTIVIDAD AGROPECUARIA",{"$f":"IFERROR(FIND(UPPER('Causas nuevas'!$D$4),B30),0)","v":0},{"$f":"+IF(Hoja3!$C30=0,0,1)","v":0},{"$f":"+E29+Hoja3!$D30","v":0},{"$f":"+Hoja3!$E30*Hoja3!$D30","v":0},"MANTENER",null,null,"ACTIVA","JUDICIAL","Daño o amenaza al medio ambiente por el desempeño de la actividad agropecuaria (disminución de la productividad del suelo por erosión o compactación, acumulación de contaminantes por utilización de fertilizantes, sobreexplotación de agua, pérdida de especies polinizadoras, etc.).",106,{"$f":"+Hoja3!$B30","v":"DAÑO O AMENAZA AMBIENTAL POR ACTIVIDAD AGROPECUARIA"}]
[{"$f":"+Hoja3!$F31","v":0},"DAÑO O AMENAZA AMBIENTAL POR EJECUCION DE OBRA PUBLICA",{"$f":"IFERROR(FIND(UPPER('Causas nuevas'!$D$4),B31),0)","v":0},{"$f":"+IF(Hoja3!$C31=0,0,1)","v":0},{"$f":"+E30+Hoja3!$D31","v":0},{"$f":"+Hoja3!$E31*Hoja3!$D31","v":0},"MANTENER",null,null,"ACTIVA","JUDICIAL","Daño o amenaza al medio ambiente por la ejecución de obra pública.",116,{"$f":"+Hoja3!$B31","v":"DAÑO O AMENAZA AMBIENTAL POR EJECUCION DE OBRA PUBLICA"}]
[{"$f":"+Hoja3!$F32","v":0},"DAÑO O AMENAZA AMBIENTAL POR INCENDIO FORESTAL",{"$f":"IFERROR(FIND(UPPER('Causas nuevas'!$D$4),B32),0)","v":0},{"$f":"+IF(Hoja3!$C32=0,0,1)","v":0},{"$f":"+E31+Hoja3!$D32","v":0},{"$f":"+Hoja3!$E32*Hoja3!$D32","v":0},"MANTENER",null,null,"ACTIVA","JUDICIAL","Daño o amenaza al medio ambiente por incendio forestal. ",119,{"$f":"+Hoja3!$B32","v":"DAÑO O AMENAZA AMBIENTAL POR INCENDIO FORESTAL"}]
[{"$f":"+Hoja3!$F33","v":0},"DAÑO O AMENAZA AMBIENTAL POR DESVIACION DEL CAUCE DE UN RIO",{"$f":"IFERROR(FIND(UPPER('Causas nuevas'!$D$4),B33),0)","v":0},{"$f":"+IF(Hoja3!$C33=0,0,1)","v":0},{"$f":"+E32+Hoja3!$D33","v":0},{"$f":"+Hoja3!$E33*Hoja3!$D33","v":0},"MANTENER",null,null,"ACTIVA","JUDICIAL","Daño o amenaza al medio ambiente por desviación del cauce de ríos (alteración provocada o fortuita del cauce natural de las fuentes hídricas). ",113,{"$f":"+Hoja3!$B33","v":"DAÑO O AMENAZA AMBIENTAL POR DESVIACION DEL CAUCE DE UN RIO"}]
[{"$f":"+Hoja3!$F34","v":0},"DAÑO O AMENAZA AMBIENTAL POR ACTIVIDAD DEL SECTOR DE HIDROCARBUROS",{"$f":"IFERROR(FIND(UPPER('Causas nuevas'!$D$4),B34),0)","v":0},{"$f":"+IF(Hoja3!$C34=0,0,1)","v":0},{"$f":"+E33+Hoja3!$D34","v":0},{"$f":"+Hoja3!$E34*Hoja3!$D34","v":0},"MANTENER",null,null,"ACTIVA","JUDICIAL","Daño o amenaza al medio ambiente (impactos atmosféricos, paisajísticos, hidrológicos, edafológicos, faunísticos y florísticos, etc.) por derrame de hidrocarburos (material orgánico compuesto principalmente por hidrógeno y carbono), comprende las actividades de exploración sísmica, exploración perforatoria, producción, refinación, transporte y comercialización.",107,{"$f":"+Hoja3!$B34","v":"DAÑO O AMENAZA AMBIENTAL POR ACTIVIDAD DEL SECTOR DE HIDROCARBUROS"}]
[{"$f":"+Hoja3!$F35","v":0},"DAÑO O AMENAZA AMBIENTAL POR CONTAMINACION AUDITIVA",{"$f":"IFERROR(FIND(UPPER('Causas nuevas'!$D$4),B35),0)","v":0},{"$f":"+IF(Hoja3!$C35=0,0,1)","v":0},{"$f":"+E34+Hoja3!$D35","v":0},{"$f":"+Hoja3!$E35*Hoja3!$D35","v":0},"MANTENER",null,null,"ACTIVA","JUDICIAL","Daño o amenaza al medio ambiente por contaminación auditiva (aquella derivada por el exceso de sonido que altera las condiciones normales del ambiente en una determinada zona). ",111,{"$f":"+Hoja3!$B35","v":"DAÑO O AMENAZA AMBIENTAL POR CONTAMINACION AUDITIVA"}]
[{"$f":"+Hoja3!$F36","v":0},"DAÑO O AMENAZA AMBIENTAL POR ERRADICACION DE CULTIVOS ILICITOS",{"$f":"IFERROR(FIND(UPPER('Causas nuevas'!$D$4),B36),0)","v":0},{"$f":"+IF(Hoja3!$C36=0,0,1)","v":0},{"$f":"+E35+Hoja3!$D36","v":0},{"$f":"+Hoja3!$E36*Hoja3!$D36","v":0},"MANTENER",null,null,"ACTIVA","JUDICIAL","Daño o amenaza al medio ambiente por erradicación terrestre o aérea de cultivos ilícitos.",118,{"$f":"+Hoja3!$B36","v":"DAÑO O AMENAZA AMBIENTAL POR ERRADICACION DE CULTIVOS ILICITOS"}]
[{"$f":"+Hoja3!$F37","v":0},"DAÑO O AMENAZA AMBIENTAL POR ACTO TERRORISTA",{"$f":"IFERROR(FIND(UPPER('Causas nuevas'!$D$4),B37),0)","v":0},{"$f":"+IF(Hoja3!$C37=0,0,1)","v":0},{"$f":"+E36+Hoja3!$D37","v":0},{"$f":"+Hoja3!$E37*Hoja3!$D37","v":0},"MANTENER",null,null,"ACTIVA","JUDICIAL","Daño o amenaza al medio ambiente por un acto terrorista (acto cuya finalidad es la de generar sosobra en la población civil y desestabilización del estamento militar y/o gubernamental). ",110,{"$f":"+Hoja3!$B37","v":"DAÑO O AMENAZA AMBIENTAL POR ACTO TERRORISTA"}]
[{"$f":"+Hoja3!$F38","v":0},"DAÑO O AMENAZA AMBIENTAL POR DISPOSICION FINAL DE RESIDUOS NUCLEARES",{"$f":"IFERROR(FIND(UPPER('Causas nuevas'!$D$4),B38),0)","v":0},{"$f":"+IF(Hoja3!$C38=0,0,1)","v":0},{"$f":"+E37+Hoja3!$D38","v":0},{"$f":"+Hoja3!$E38*Hoja3!$D38","v":0},"MANTENER",null,null,"ACTIVA","JUDICIAL","Daño o amenaza al medio ambiente por disposición final de residuos nucleares (residuos que contienen elementos químios radioactivos). ",114,{"$f":"+Hoja3!$B38","v":"DAÑO O AMENAZA AMBIENTAL POR DISPOSICION FINAL DE RESIDUOS NUCLEARES"}]
[{"$f":"+Hoja3!$F39","v":0},"DAÑOS A BIENES POR EJECUCION DE OBRA PUBLICA",{"$f":"IFERROR(FIND(UPPER('Causas nuevas'!$D$4),B39),0)","v":0},{"$f":"+IF(Hoja3!$C39=0,0,1)","v":0},{"$f":"+E38+Hoja3!$D39","v":0},{"$f":"+Hoja3!$E39*Hoja3!$D39","v":0},"MANTENER",null,null,"ACTIVA","JUDICIAL","Daños a bienes muebles e inmuebles por la ejecución de obra pública.",144,{"$f":"+Hoja3!$B39","v":"DAÑOS A BIENES POR EJECUCION DE OBRA PUBLICA"}]
[{"$f":"+Hoja3!$F40","v":0},"DAÑOS CAUSADOS A BIENES EN PROCEDIMIENTO DE POLICIA",{"$f":"IFERROR(FIND(UPPER('Causas nuevas'!$D$4),B40),0)","v":0},{"$f":"+IF(Hoja3!$C40=0,0,1)","v":0},{"$f":"+E39+Hoja3!$D40","v":0},{"$f":"+Hoja3!$E40*Hoja3!$D40","v":0},"MANTENER",null,null,"ACTIVA","JUDICIAL","Daños a bienes muebles e inmuebles en la ejecución material de las normas y actos que surgen del ejercicio del poder y la función de Policía.",156,{"$f":"+Hoja3!$B40","v":"DAÑOS CAUSADOS A BIENES EN PROCEDIMIENTO DE POLICIA"}]
[{"$f":"+Hoja3!$F41","v":0},"VIOLACION O AMENAZA A LA LIBRE COMPETENCIA ECONOMICA",{"$f":"IFERROR(FIND(UPPER('Causas nuevas'!$D$4),B41),0)","v":0},{"$f":"+IF(Hoja3!$C41=0,0,1)","v":0},{"$f":"+E40+Hoja3!$D41","v":0},{"$f":"+Hoja3!$E41*Hoja3!$D41","v":0},"MANTENER",null,null,"ACTIVA","JUDICIAL","Violación o amenaza al derecho e interés colectivo a la libre competencia económica (conjunto de actos desarrollados por agentes económicos independientemente, que rivalizan con el fin de asegurar la participación efectiva de sus bienes y servicios en un mercado determinado) por restricciones indebidas de los agentes económicos o del Estado.",944,{"$f":"+Hoja3!$B41","v":"VIOLACION O AMENAZA A LA LIBRE COMPETENCIA ECONOMICA"}]
[{"$f":"+Hoja3!$F42","v":0},"VIOLACION O AMENAZA A LA MORALIDAD ADMINISTRATIVA",{"$f":"IFERROR(FIND(UPPER('Causas nuevas'!$D$4),B42),0)","v":0},{"$f":"+IF(Hoja3!$C42=0,0,1)","v":0},{"$f":"+E41+Hoja3!$D42","v":0},{"$f":"+Hoja3!$E42*Hoja3!$D42","v":0},"MANTENER",null,null,"ACTIVA","JUDICIAL","Violación o amenaza al derecho e interés colectivo a la moralidad administrativa (conjunto de principios, valores v virtudes fundamentales aceptados por la generalidad de los individuos, que deben regir permanentemente las actuaciones del Estado).",945,{"$f":"+Hoja3!$B42","v":"VIOLACION O AMENAZA A LA MORALIDAD ADMINISTRATIVA"}]
[{"$f":"+Hoja3!$F43","v":0},"VIOLACION O AMENAZA AL PATRIMONIO PUBLICO",{"$f":"IFERROR(FIND(UPPER('Causas nuevas'!$D$4),B43),0)","v":0},{"$f":"+IF(Hoja3!$C43=0,0,1)","v":0},{"$f":"+E42+Hoja3!$D43","v":0},{"$f":"+Hoja3!$E43*Hoja3!$D43","v":0},"MANTENER",null,null,"ACTIVA","JUDICIAL","Violación o amenaza al derecho e interés colectivo a la defensa del patrimonio público (el derecho que tienen los individuos como miembros de una colectividad a que se conserven, mantengan, custodien, protejan del uso indebido o del deterioro, los bienes o recursos públicos, o los intereses patrimoniales del Estado).",951,{"$f":"+Hoja3!$B43","v":"VIOLACION O AMENAZA AL PATRIMONIO PUBLICO"}]
[{"$f":"+Hoja3!$F44","v":0},"ILEGALIDAD DEL ACTO ADMINISTRATIVO QUE DECLARA DESIERTA LA LICITACION",{"$f":"IFERROR(FIND(UPPER('Causas nuevas'!$D$4),B44),0)","v":0},{"$f":"+IF(Hoja3!$C44=0,0,1)","v":0},{"$f":"+E43+Hoja3!$D44","v":0},{"$f":"+Hoja3!$E44*Hoja3!$D44","v":0},"MANTENER",null,null,"ACTIVA","JUDICIAL","Acto administrativo presuntamente viciado de ilegalidad que declara desierta la licitación. El vicio del acto puede ser la expedición con infracción de las normas en que debería fundarse, o sin competencia, o en forma irregular, o con desconocimiento del derecho de audiencia y defensa, o mediante falsa motivación, o con falta de motivación, o con desviación de las atribuciones propias de quien lo profirió, o con violación del debido proceso administrativo.",305,{"$f":"+Hoja3!$B44","v":"ILEGALIDAD DEL ACTO ADMINISTRATIVO QUE DECLARA DESIERTA LA LICITACION"}]
[{"$f":"+Hoja3!$F45","v":0},"INCUMPLIMIENTO DEL DEBER DE LIQUIDAR EL CONTRATO",{"$f":"IFERROR(FIND(UPPER('Causas nuevas'!$D$4),B45),0)","v":0},{"$f":"+IF(Hoja3!$C45=0,0,1)","v":0},{"$f":"+E44+Hoja3!$D45","v":0},{"$f":"+Hoja3!$E45*Hoja3!$D45","v":0},"MANTENER",null,null,"ACTIVA","JUDICIAL","Perjuicios derivados de la mora o no cumplimiento de los términos previstos para la liquidación del contrato estatal.",55,{"$f":"+Hoja3!$B45","v":"INCUMPLIMIENTO DEL DEBER DE LIQUIDAR EL CONTRATO"}]
[{"$f":"+Hoja3!$F46","v":0},"ACCESO CARNAL O ACTO SEXUAL VIOLENTO",{"$f":"IFERROR(FIND(UPPER('Causas nuevas'!$D$4),B46),0)","v":0},{"$f":"+IF(Hoja3!$C46=0,0,1)","v":0},{"$f":"+E45+Hoja3!$D46","v":0},{"$f":"+Hoja3!$E46*Hoja3!$D46","v":0},"MANTENER",null,null,"ACTIVA","JUDICIAL","Acceso carnal violento o acto sexual violento.  ",73,{"$f":"+Hoja3!$B46","v":"ACCESO CARNAL O ACTO SEXUAL VIOLENTO"}]
[{"$f":"+Hoja3!$F47","v":0},"DESPLAZAMIENTO FORZADO",{"$f":"IFERROR(FIND(UPPER('Causas nuevas'!$D$4),B47),0)","v":0},{"$f":"+IF(Hoja3!$C47=0,0,1)","v":0},{"$f":"+E46+Hoja3!$D47","v":0},{"$f":"+Hoja3!$E47*Hoja3!$D47","v":0},"MANTENER",null,null,"ACTIVA","JUDICIAL","Perjuicios derivados del desarraigo producto de la violencia generalizada, la vulneración de los derechos humanos o la amenaza de las garantías del derecho humanitario.",32,{"$f":"+Hoja3!$B47","v":"DESPLAZAMIENTO FORZADO"}]
[{"$f":"+Hoja3!$F48","v":0},"VIOLACION O AMENAZA A LA SEGURIDAD Y SALUBRIDAD PUBLICAS",{"$f":"IFERROR(FIND(UPPER('Causas nuevas'!$D$4),B48),0)","v":0},{"$f":"+IF(Hoja3!$C48=0,0,1)","v":0},{"$f":"+E47+Hoja3!$D48","v":0},{"$f":"+Hoja3!$E48*Hoja3!$D48","v":0},"MANTENER",null,null,"ACTIVA","JUDICIAL","Violación o amenaza al derecho e interés colectivo a la seguridad y salubridad pública (el derecho que garantiza la existencia de los factores y condiciones que hacen posible una vida digna y duradera, como el abastecimiento de agua potable, el manejo adecuado de residuos líquidos y sólidos, el control de calidad de los alimentos, la existencia de unas condiciones y ambiente de trabajo adecuado, y la conservación y control a la contaminación de los recursos naturales).",946,{"$f":"+Hoja3!$B48","v":"VIOLACION O AMENAZA A LA SEGURIDAD Y SALUBRIDAD PUBLICAS"}]
[{"$f":"+Hoja3!$F49","v":0},"OMISION DE ASISTENCIA HUMANITARIA",{"$f":"IFERROR(FIND(UPPER('Causas nuevas'!$D$4),B49),0)","v":0},{"$f":"+IF(Hoja3!$C49=0,0,1)","v":0},{"$f":"+E48+Hoja3!$D49","v":0},{"$f":"+Hoja3!$E49*Hoja3!$D49","v":0},"MANTENER",null,null,"ACTIVA","JUDICIAL","Perjuicios derivados de la no prestación o de la prestación deficiente o tardía del conjunto de acciones de ayuda a las víctimas de desastres, bien sea, por catástrofes naturales o conflictos armados, orientadas a aliviar su sufrimiento, proveer mecanismos de subsistencia, proteger los derechos fundamentales y frenar, cuando haya lugar a ello, el proceso de desestructuración socio económica de los ciudadanos. ",857,{"$f":"+Hoja3!$B49","v":"OMISION DE ASISTENCIA HUMANITARIA"}]
[{"$f":"+Hoja3!$F50","v":0},"PRIVACION INJUSTA DE LA LIBERTAD",{"$f":"IFERROR(FIND(UPPER('Causas nuevas'!$D$4),B50),0)","v":0},{"$f":"+IF(Hoja3!$C50=0,0,1)","v":0},{"$f":"+E49+Hoja3!$D50","v":0},{"$f":"+Hoja3!$E50*Hoja3!$D50","v":0},"MANTENER",null,null,"ACTIVA","JUDICIAL","Perjuicios derivados de la imposición de medidas de aseguramiento privativas de la libertad, cuando el proceso penal termina con sentencia absolutoria o su equivalente.",9,{"$f":"+Hoja3!$B50","v":"PRIVACION INJUSTA DE LA LIBERTAD"}]
[{"$f":"+Hoja3!$F51","v":0},"DEFECTUOSO FUNCIONAMIENTO DE LA ADMINISTRACION DE JUSTICIA",{"$f":"IFERROR(FIND(UPPER('Causas nuevas'!$D$4),B51),0)","v":0},{"$f":"+IF(Hoja3!$C51=0,0,1)","v":0},{"$f":"+E50+Hoja3!$D51","v":0},{"$f":"+Hoja3!$E51*Hoja3!$D51","v":0},"MANTENER",null,null,"ACTIVA","JUDICIAL","Perjucios derivados del inadecuado funcionamiento de la funsión jurisdiccional, distintos a privación injusta de la libertad y error judicial.",203,{"$f":"+Hoja3!$B51","v":"DEFECTUOSO FUNCIONAMIENTO DE LA ADMINISTRACION DE JUSTICIA"}]
[{"$f":"+Hoja3!$F52","v":0},"NO RESTITUCION DE BIEN INMUEBLE ARRENDADO",{"$f":"IFERROR(FIND(UPPER('Causas nuevas'!$D$4),B52),0)","v":0},{"$f":"+IF(Hoja3!$C52=0,0,1)","v":0},{"$f":"+E51+Hoja3!$D52","v":0},{"$f":"+Hoja3!$E52*Hoja3!$D52","v":0},"MANTENER",null,null,"ACTIVA","JUDICIAL","No entrega oportuna del bien inmueble arrendado por parte del arrendatario al arrendador.",849,{"$f":"+Hoja3!$B52","v":"NO RESTITUCION DE BIEN INMUEBLE ARRENDADO"}]
[{"$f":"+Hoja3!$F53","v":0},"NO RECONOCIMIENTO DE INDEMNIZACION SUSTITUTIVA DE PENSION DE VEJEZ",{"$f":"IFERROR(FIND(UPPER('Causas nuevas'!$D$4),B53),0)","v":0},{"$f":"+IF(Hoja3!$C53=0,0,1)","v":0},{"$f":"+E52+Hoja3!$D53","v":0},{"$f":"+Hoja3!$E53*Hoja3!$D53","v":0},"MANTENER",null,null,"ACTIVA","JUDICIAL","Desconocimiento del derecho a percibir la indemnización sustitutiva de la pensión de vejez. La indemnización sustitutiva de la pensión de vejez es una prestación económica que se reconoce a los afiliados al régimen de prima media con prestación definida, cuando éstos no reúnen el número mínimo de semanas cotizadas pero han cumplido la edad mínima para acceder a la pensión de vejez y declaran la imposibilidad de continuar cotizando al sistema general de pensiones.",807,{"$f":"+Hoja3!$B53","v":"NO RECONOCIMIENTO DE INDEMNIZACION SUSTITUTIVA DE PENSION DE VEJEZ"}]
[{"$f":"+Hoja3!$F54","v":0},"ILEGALIDAD DEL ACTO ADMINISTRATIVO QUE CALIFICA LA PERDIDA DE CAPACIDAD LABORAL",{"$f":"IFERROR(FIND(UPPER('Causas nuevas'!$D$4),B54),0)","v":0},{"$f":"+IF(Hoja3!$C54=0,0,1)","v":0},{"$f":"+E53+Hoja3!$D54","v":0},{"$f":"+Hoja3!$E54*Hoja3!$D54","v":0},"MANTENER",null,null,"ACTIVA","JUDICIAL","Acto administrativo presuntamente viciado de ilegalidad que califica la périda o disminución de la capacidad laboral, lo expide una junta de calificación de invalidez, independienemente de si el origen de la afectación es una enfermedad o accidente de origen laboral o por riesgo común. El vicio del acto puede ser la expedición con infracción de las normas en que debería fundarse, o sin competencia, o en forma irregular, o con desconocimiento del derecho de audiencia y defensa, o mediante falsa motivación, o con falta de motivación, o con desviación de las atribuciones propias de quien lo profirió, o con violación del debido proceso administrativo.",295,{"$f":"+Hoja3!$B54","v":"ILEGALIDAD DEL ACTO ADMINISTRATIVO QUE CALIFICA LA PERDIDA DE CAPACIDAD LABORAL"}]
[{"$f":"+Hoja3!$F55","v":0},"NO ACEPTACION DE LA RENUNCIA",{"$f":"IFERROR(FIND(UPPER('Causas nuevas'!$D$4),B55),0)","v":0},{"$f":"+IF(Hoja3!$C55=0,0,1)","v":0},{"$f":"+E54+Hoja3!$D55","v":0},{"$f":"+Hoja3!$E55*Hoja3!$D55","v":0},"MANTENER",null,null,"ACTIVA","JUDICIAL","Desconocimiento del derecho a renunciar de forma voluntaria. No aceptación por parte del nominador, dentro del término legal, de la renuncia del servidor público causándole perjuicios al mismo. ",787,{"$f":"+Hoja3!$B55","v":"NO ACEPTACION DE LA RENUNCIA"}]
[{"$f":"+Hoja3!$F56","v":0},"DESPIDO SIN JUSTA CAUSA DE TRABAJADOR OFICIAL",{"$f":"IFERROR(FIND(UPPER('Causas nuevas'!$D$4),B56),0)","v":0},{"$f":"+IF(Hoja3!$C56=0,0,1)","v":0},{"$f":"+E55+Hoja3!$D56","v":0},{"$f":"+Hoja3!$E56*Hoja3!$D56","v":0},"MANTENER",null,null,"ACTIVA","JUDICIAL","Terminación unilateral del contrato de trabajo suscrito con un trabajador oficial por parte del empleador sin justa causa comprobada. Es trabajador oficial quien tiene una relación contractual laboral con el Estado.",224,{"$f":"+Hoja3!$B56","v":"DESPIDO SIN JUSTA CAUSA DE TRABAJADOR OFICIAL"}]
[{"$f":"+Hoja3!$F57","v":0},"NO RECONOCIMIENTO DEL AUXILIO FUNERARIO",{"$f":"IFERROR(FIND(UPPER('Causas nuevas'!$D$4),B57),0)","v":0},{"$f":"+IF(Hoja3!$C57=0,0,1)","v":0},{"$f":"+E56+Hoja3!$D57","v":0},{"$f":"+Hoja3!$E57*Hoja3!$D57","v":0},"MANTENER",null,null,"ACTIVA","JUDICIAL","Desconocimiento del derecho a percibir el auxilio funerario. El auxilio funerario es una prestación económica que se genera cuando fallece el afiliado o pensionado por vejez o invalidez y, se paga a la persona que demuestre haber sufragado los gastos fúnebres o de entierro.",840,{"$f":"+Hoja3!$B57","v":"NO RECONOCIMIENTO DEL AUXILIO FUNERARIO"}]
[{"$f":"+Hoja3!$F58","v":0},"CAPITALIZACION DE INTERESES",{"$f":"IFERROR(FIND(UPPER('Causas nuevas'!$D$4),B58),0)","v":0},{"$f":"+IF(Hoja3!$C58=0,0,1)","v":0},{"$f":"+E57+Hoja3!$D58","v":0},{"$f":"+Hoja3!$E58*Hoja3!$D58","v":0},"MANTENER",null,null,"ACTIVA","JUDICIAL","Controversias suscitadas como consecuencia de la capitalización de intereses causados que se han hecho exigibles y que aún no se han pagado.",86,{"$f":"+Hoja3!$B58","v":"CAPITALIZACION DE INTERESES"}]
[{"$f":"+Hoja3!$F59","v":1},"PERJUICIOS OCASIONADOS POR REESTRUCTURACION Y LIQUIDACION DE ENTIDADES DE DERECHO PRIVADO",{"$f":"IFERROR(FIND(UPPER('Causas nuevas'!$D$4),B59),0)","v":83},{"$f":"+IF(Hoja3!$C59=0,0,1)","v":1},{"$f":"+E58+Hoja3!$D59","v":1},{"$f":"+Hoja3!$E59*Hoja3!$D59","v":1},"MANTENER",null,null,"ACTIVA","JUDICIAL","El proceso de reestructuración pretende preservar entidades viables y normalizar sus relaciones comerciales y crediticias, mediante su reestructuración operacional, administrativa, de activos y pasivos. El proceso de liquidación de entidades inviables tiene por objeto la venta de los activos con el propósito de atender pasivos.",877,{"$f":"+Hoja3!$B59","v":"PERJUICIOS OCASIONADOS POR REESTRUCTURACION Y LIQUIDACION DE ENTIDADES DE DERECHO PRIVADO"}]
[{"$f":"+Hoja3!$F60","v":0},"SIMULACION",{"$f":"IFERROR(FIND(UPPER('Causas nuevas'!$D$4),B60),0)","v":0},{"$f":"+IF(Hoja3!$C60=0,0,1)","v":0},{"$f":"+E59+Hoja3!$D60","v":1},{"$f":"+Hoja3!$E60*Hoja3!$D60","v":0},"MANTENER",null,null,"ACTIVA","JUDICIAL","Perjuicios ocasionados por la declaración aparente que se emite de acuerdo con la otra parte para engañar a terceros.",920,{"$f":"+Hoja3!$B60","v":"SIMULACION"}]
[{"$f":"+Hoja3!$F61","v":0},"PERTURBACION A LA POSESION",{"$f":"IFERROR(FIND(UPPER('Causas nuevas'!$D$4),B61),0)","v":0},{"$f":"+IF(Hoja3!$C61=0,0,1)","v":0},{"$f":"+E60+Hoja3!$D61","v":1},{"$f":"+Hoja3!$E61*Hoja3!$D61","v":0},"MANTENER",null,null,"ACTIVA","JUDICIAL","Perjuicios ocasionados por la vulneración del derecho de dominio o de tenencia. Nota: esta causa es subsidiaria, no confundir con ocupación temporal o permanente de inmueble.",0,{"$f":"+Hoja3!$B61","v":"PERTURBACION A LA POSESION"}]
[{"$f":"+Hoja3!$F62","v":0},"INCUMPLIMIENTO EN EL PAGO DE UNA OBLIGACION CON GARANTIA REAL",{"$f":"IFERROR(FIND(UPPER('Causas nuevas'!$D$4),B62),0)","v":0},{"$f":"+IF(Hoja3!$C62=0,0,1)","v":0},{"$f":"+E61+Hoja3!$D62","v":1},{"$f":"+Hoja3!$E62*Hoja3!$D62","v":0},"MANTENER",null,null,"ACTIVA","JUDICIAL","Mora o no pago de una obligación afianzada mediante garantía real (hipoteca sobre bien inmueble o prenda sobre bien mueble). Una garantía real es un contrato o negocio jurídico accesorio que liga inmediata y directamente al acreedor con la cosa especialmente sujeta al cumplimiento de una determinada obligación principal.",534,{"$f":"+Hoja3!$B62","v":"INCUMPLIMIENTO EN EL PAGO DE UNA OBLIGACION CON GARANTIA REAL"}]
[{"$f":"+Hoja3!$F63","v":0},"VIOLACION AL REGIMEN JURIDICO DE DERECHOS DE AUTOR",{"$f":"IFERROR(FIND(UPPER('Causas nuevas'!$D$4),B63),0)","v":0},{"$f":"+IF(Hoja3!$C63=0,0,1)","v":0},{"$f":"+E62+Hoja3!$D63","v":1},{"$f":"+Hoja3!$E63*Hoja3!$D63","v":0},"MANTENER",null,null,"ACTIVA","JUDICIAL","Violación al conjunto de normas jurídicas y principios que regulan los derechos morales y patrimoniales que la ley concede a los autores por el solo hecho de la creación de una obra literaria, artística, musical, científica o didáctica, publicada o inédita.",941,{"$f":"+Hoja3!$B63","v":"VIOLACION AL REGIMEN JURIDICO DE DERECHOS DE AUTOR"}]
[{"$f":"+Hoja3!$F64","v":0},"VIOLACION AL REGIMEN JURIDICO DE PROPIEDAD INDUSTRIAL",{"$f":"IFERROR(FIND(UPPER('Causas nuevas'!$D$4),B64),0)","v":0},{"$f":"+IF(Hoja3!$C64=0,0,1)","v":0},{"$f":"+E63+Hoja3!$D64","v":1},{"$f":"+Hoja3!$E64*Hoja3!$D64","v":0},"MANTENER",null,null,"ACTIVA","JUDICIAL","Violación al derecho que recáe sobre las innovaciones tecnológicas que tienen una aplicación industrial.",942,{"$f":"+Hoja3!$B64","v":"VIOLACION AL REGIMEN JURIDICO DE PROPIEDAD INDUSTRIAL"}]
[{"$f":"+Hoja3!$F65","v":0},"INCUMPLIMIENTO EN PAGO DE OBLIGACION CONTENIDA EN TITULO VALOR",{"$f":"IFERROR(FIND(UPPER('Causas nuevas'!$D$4),B65),0)","v":0},{"$f":"+IF(Hoja3!$C65=0,0,1)","v":0},{"$f":"+E64+Hoja3!$D65","v":1},{"$f":"+Hoja3!$E65*Hoja3!$D65","v":0},"MANTENER",null,null,"ACTIVA","JUDICIAL","Mora o no pago de una obligación clara, expresa y exigible.",540,{"$f":"+Hoja3!$B65","v":"INCUMPLIMIENTO EN PAGO DE OBLIGACION CONTENIDA EN TITULO VALOR"}]
[{"$f":"+Hoja3!$F66","v":0},"CONTROVERSIAS SOBRE LAUDO ARBITRAL",{"$f":"IFERROR(FIND(UPPER('Causas nuevas'!$D$4),B66),0)","v":0},{"$f":"+IF(Hoja3!$C66=0,0,1)","v":0},{"$f":"+E65+Hoja3!$D66","v":1},{"$f":"+Hoja3!$E66*Hoja3!$D66","v":0},"MANTENER",null,null,"ACTIVA","JUDICIAL","Perjuicios derivados de un laudo arbitral, susceptibles de revisión extraordinaria ante la jurisdicción contencioso administrativa.",94,{"$f":"+Hoja3!$B66","v":"CONTROVERSIAS SOBRE LAUDO ARBITRAL"}]
[{"$f":"+Hoja3!$F67","v":0},"PERJUICIOS OCASIONADOS POR ACTAS DE JUNTA DE SOCIOS",{"$f":"IFERROR(FIND(UPPER('Causas nuevas'!$D$4),B67),0)","v":0},{"$f":"+IF(Hoja3!$C67=0,0,1)","v":0},{"$f":"+E66+Hoja3!$D67","v":1},{"$f":"+Hoja3!$E67*Hoja3!$D67","v":0},"MANTENER",null,null,"ACTIVA","JUDICIAL","Perjuicios ocasionados por actas de juntas de socios contrarias a la ley o a los estatutos sociales.",27,{"$f":"+Hoja3!$B67","v":"PERJUICIOS OCASIONADOS POR ACTAS DE JUNTA DE SOCIOS"}]
[{"$f":"+Hoja3!$F68","v":0},"INCUMPLIMIENTO EN LA CONSTITUCION DE CONSORCIOS Y/O UNIONES TEMPORALES",{"$f":"IFERROR(FIND(UPPER('Causas nuevas'!$D$4),B68),0)","v":0},{"$f":"+IF(Hoja3!$C68=0,0,1)","v":0},{"$f":"+E67+Hoja3!$D68","v":1},{"$f":"+Hoja3!$E68*Hoja3!$D68","v":0},"MANTENER",null,null,"ACTIVA","JUDICIAL","Perjuicios derivados de la no constitución de un consorcio y/o unión temporal para la adjudicación, celebración y ejecución de un contrato.",537,{"$f":"+Hoja3!$B68","v":"INCUMPLIMIENTO EN LA CONSTITUCION DE CONSORCIOS Y/O UNIONES TEMPORALES"}]
[{"$f":"+Hoja3!$F69","v":0},"VIOLACION O AMENAZA A LOS DERECHOS DE LOS CONSUMIDORES Y USUARIOS",{"$f":"IFERROR(FIND(UPPER('Causas nuevas'!$D$4),B69),0)","v":0},{"$f":"+IF(Hoja3!$C69=0,0,1)","v":0},{"$f":"+E68+Hoja3!$D69","v":1},{"$f":"+Hoja3!$E69*Hoja3!$D69","v":0},"MANTENER",null,null,"ACTIVA","JUDICIAL","Violación o amenaza a los derechos de los consumidores y usuarios (los derechos que tienen los consumidores que adquieren bienes o servicios, cualquiera que sea su naturaleza, así como los usuarios que disfrutan servicios públicos prestados por entidades públicas o privadas, a que el bien o servicio sea de calidad, cantidad e idoneidad óptimas para su uso y goce).",947,{"$f":"+Hoja3!$B69","v":"VIOLACION O AMENAZA A LOS DERECHOS DE LOS CONSUMIDORES Y USUARIOS"}]
[{"$f":"+Hoja3!$F70","v":0},"CONFIGURACION DEL CONTRATO REALIDAD",{"$f":"IFERROR(FIND(UPPER('Causas nuevas'!$D$4),B70),0)","v":0},{"$f":"+IF(Hoja3!$C70=0,0,1)","v":0},{"$f":"+E69+Hoja3!$D70","v":1},{"$f":"+Hoja3!$E70*Hoja3!$D70","v":0},"MANTENER",null,null,"ACTIVA","JUDICIAL","Existiendo un contrato de prestación de servicios se presentan los tres elementos que configuran un contrato laboral: actividad personal, contínua subordinación, salario como retribución del servicio, por lo que se pretende la declaración de existencia de una relación laboral. ",1082,{"$f":"+Hoja3!$B70","v":"CONFIGURACION DEL CONTRATO REALIDAD"}]
[{"$f":"+Hoja3!$F71","v":0},"FACTURA EXPEDIDA SIN EL CUMPLIMIENTO DE LOS REQUISITOS LEGALES",{"$f":"IFERROR(FIND(UPPER('Causas nuevas'!$D$4),B71),0)","v":0},{"$f":"+IF(Hoja3!$C71=0,0,1)","v":0},{"$f":"+E70+Hoja3!$D71","v":1},{"$f":"+Hoja3!$E71*Hoja3!$D71","v":0},"MANTENER",null,null,"ACTIVA","JUDICIAL","Factura expedida sin el cumplimiento de los requisitos legales, por lo que se pretende su reexpedición. La factura es una cuenta en la que se detallan las mercancías compradas o los servicios recibidos, junto con su cantidad y su importe, y que se entrega a quien debe pagarla.",244,{"$f":"+Hoja3!$B71","v":"FACTURA EXPEDIDA SIN EL CUMPLIMIENTO DE LOS REQUISITOS LEGALES"}]
[{"$f":"+Hoja3!$F72","v":0},"INCUMPLIMIENTO EN EL PAGO DE SINIESTRO POR ASEGURADORA",{"$f":"IFERROR(FIND(UPPER('Causas nuevas'!$D$4),B72),0)","v":0},{"$f":"+IF(Hoja3!$C72=0,0,1)","v":0},{"$f":"+E71+Hoja3!$D72","v":1},{"$f":"+Hoja3!$E72*Hoja3!$D72","v":0},"MANTENER",null,null,"ACTIVA","JUDICIAL","Mora o no pago de una póliza de seguro cuando se ha configurado el siniestro amparado.",530,{"$f":"+Hoja3!$B72","v":"INCUMPLIMIENTO EN EL PAGO DE SINIESTRO POR ASEGURADORA"}]
[{"$f":"+Hoja3!$F73","v":0},"DAÑO O AMENAZA AMBIENTAL POR CONTAMINACION POR OLORES",{"$f":"IFERROR(FIND(UPPER('Causas nuevas'!$D$4),B73),0)","v":0},{"$f":"+IF(Hoja3!$C73=0,0,1)","v":0},{"$f":"+E72+Hoja3!$D73","v":1},{"$f":"+Hoja3!$E73*Hoja3!$D73","v":0},"MANTENER",null,null,"ACTIVA","JUDICIAL","Daño o amenaza al medio ambiente por contaminación con olores (dispersión atmosférica de olores). ",112,{"$f":"+Hoja3!$B73","v":"DAÑO O AMENAZA AMBIENTAL POR CONTAMINACION POR OLORES"}]
[{"$f":"+Hoja3!$F74","v":0},"EXTRACCION ILEGAL DE ORGANOS, TEJIDOS Y HUESOS",{"$f":"IFERROR(FIND(UPPER('Causas nuevas'!$D$4),B74),0)","v":0},{"$f":"+IF(Hoja3!$C74=0,0,1)","v":0},{"$f":"+E73+Hoja3!$D74","v":1},{"$f":"+Hoja3!$E74*Hoja3!$D74","v":0},"MANTENER",null,null,"ACTIVA","JUDICIAL","Extracción de órganos, tejidos y huesos humanos cuando el procedimiento no se adhiere a las guías de práctica clínica del centro médico público para transplantes o donantes y/o cuando no se ajuste a los requisitos previstos legalmente.",243,{"$f":"+Hoja3!$B74","v":"EXTRACCION ILEGAL DE ORGANOS, TEJIDOS Y HUESOS"}]
[{"$f":"+Hoja3!$F75","v":0},"LESION ENORME",{"$f":"IFERROR(FIND(UPPER('Causas nuevas'!$D$4),B75),0)","v":0},{"$f":"+IF(Hoja3!$C75=0,0,1)","v":0},{"$f":"+E74+Hoja3!$D75","v":1},{"$f":"+Hoja3!$E75*Hoja3!$D75","v":0},"MANTENER",null,null,"ACTIVA","JUDICIAL","Perjucios derivados de la grave desproporción entre el valor pactado en el contrato y el valor real del objeto, en contratos de compraventa, permuta de inmuebles, aceptación de una asignación por causa de muerte, partición de una herencia, obligaciones con cláusula penal, mutuo con intereses convencionales y en los contratos de hipoteca y anticresis.",26,{"$f":"+Hoja3!$B75","v":"LESION ENORME"}]
[{"$f":"+Hoja3!$F76","v":0},"DAÑO O AMENAZA AMBIENTAL POR INDEBIDA DISPOSICION DE DESECHOS HOSPITALARIOS",{"$f":"IFERROR(FIND(UPPER('Causas nuevas'!$D$4),B76),0)","v":0},{"$f":"+IF(Hoja3!$C76=0,0,1)","v":0},{"$f":"+E75+Hoja3!$D76","v":1},{"$f":"+Hoja3!$E76*Hoja3!$D76","v":0},"MANTENER",null,null,"ACTIVA","JUDICIAL","Daño o amenaza al medio ambiente por la disposición final de desechos infecciosos hospitalarios con desconocimiento de los métodos de relleno de seguridad. ",120,{"$f":"+Hoja3!$B76","v":"DAÑO O AMENAZA AMBIENTAL POR INDEBIDA DISPOSICION DE DESECHOS HOSPITALARIOS"}]
[{"$f":"+Hoja3!$F77","v":0},"PERDIDA O DESTRUCCION DE TITULO VALOR",{"$f":"IFERROR(FIND(UPPER('Causas nuevas'!$D$4),B77),0)","v":0},{"$f":"+IF(Hoja3!$C77=0,0,1)","v":0},{"$f":"+E76+Hoja3!$D77","v":1},{"$f":"+Hoja3!$E77*Hoja3!$D77","v":0},"MANTENER",null,null,"ACTIVA","JUDICIAL","Solicitud de reposición de título valor ante el extravío, pérdida, hurto, deterioro o destrucción total o parcial del mismo.",870,{"$f":"+Hoja3!$B77","v":"PERDIDA O DESTRUCCION DE TITULO VALOR"}]
[{"$f":"+Hoja3!$F78","v":0},"ILEGALIDAD DEL ACTO ADMINISTRATIVO QUE DECLARA LA INSUBSISTENCIA DE FUNCIONARIO EN PROVISIONALIDAD",{"$f":"IFERROR(FIND(UPPER('Causas nuevas'!$D$4),B78),0)","v":0},{"$f":"+IF(Hoja3!$C78=0,0,1)","v":0},{"$f":"+E77+Hoja3!$D78","v":1},{"$f":"+Hoja3!$E78*Hoja3!$D78","v":0},"MANTENER",null,null,"ACTIVA","JUDICIAL","Acto administrativo presuntamente viciado de ilegalidad que declara insubsistente a funcionario público en provisionalidad. Es funcionario público en provisionalidad quien tiene una relación legal y regamentaria con el Estado y ocupa transitoriamente un empleo de carrera cuando este no está provisto de manera definitiva. El vicio del acto administrativo puede ser la expedición con infracción de las normas en que debería fundarse, o sin competencia, o en forma irregular, o con desconocimiento del derecho de audiencia y defensa, o mediante falsa motivación, o con falta de motivación, o con desviación de las atribuciones propias de quien lo profirió, o con violación del debido proceso administrativo.",309,{"$f":"+Hoja3!$B78","v":"ILEGALIDAD DEL ACTO ADMINISTRATIVO QUE DECLARA LA INSUBSISTENCIA DE FUNCIONARIO EN PROVISIONALIDAD"}]
[{"$f":"+Hoja3!$F79","v":0},"INDEBIDA ADECUACION FISICA DE CONSTRUCCIONES PARA PERSONAS CON ALGUNA DISCAPACIDAD",{"$f":"IFERROR(FIND(UPPER('Causas nuevas'!$D$4),B79),0)","v":0},{"$f":"+IF(Hoja3!$C79=0,0,1)","v":0},{"$f":"+E78+Hoja3!$D79","v":1},{"$f":"+Hoja3!$E79*Hoja3!$D79","v":0},"MANTENER",null,null,"ACTIVA","JUDICIAL","Realización de las construcciones, edificaciones y desarrollos urbanos sin tener en cuenta la reglamentación sobre adecuaciones físicas para personas con alguna discapacidad.",541,{"$f":"+Hoja3!$B79","v":"INDEBIDA ADECUACION FISICA DE CONSTRUCCIONES PARA PERSONAS CON ALGUNA DISCAPACIDAD"}]
[{"$f":"+Hoja3!$F80","v":0},"INCUMPLIMIENTO EN LA ENTREGA MATERIAL DE BIEN DEL TRADENTE AL ADQUIRENTE",{"$f":"IFERROR(FIND(UPPER('Causas nuevas'!$D$4),B80),0)","v":0},{"$f":"+IF(Hoja3!$C80=0,0,1)","v":0},{"$f":"+E79+Hoja3!$D80","v":1},{"$f":"+Hoja3!$E80*Hoja3!$D80","v":0},"MANTENER",null,null,"ACTIVA","JUDICIAL","Perjuicios ocasionados por la no entrega material del bien mueble al adquirente y/o la entrega material e inscripción en el registro del bien inmueble.",539,{"$f":"+Hoja3!$B80","v":"INCUMPLIMIENTO EN LA ENTREGA MATERIAL DE BIEN DEL TRADENTE AL ADQUIRENTE"}]
[{"$f":"+Hoja3!$F81","v":0},"ILEGALIDAD DEL ACTO ADMINISTRATIVO QUE DECLARA LA OCURRENCIA DEL SINIESTRO Y ORDENA HACER EFECTIVA LA POLIZA",{"$f":"IFERROR(FIND(UPPER('Causas nuevas'!$D$4),B81),0)","v":0},{"$f":"+IF(Hoja3!$C81=0,0,1)","v":0},{"$f":"+E80+Hoja3!$D81","v":1},{"$f":"+Hoja3!$E81*Hoja3!$D81","v":0},"MANTENER",null,null,"ACTIVA","JUDICIAL","Acto administrativo presuntamente viciado de ilegalidad que declara la ocurrencia del siniestro y ordena hacer efectiva la póliza. El vicio del acto puede ser la expedición con infracción de las normas en que debería fundarse, o sin competencia, o en forma irregular, o con desconocimiento del derecho de audiencia y defensa, o mediante falsa motivación, o con falta de motivación, o con desviación de las atribuciones propias de quien lo profirió, o con violación del debido proceso administrativo.",42,{"$f":"+Hoja3!$B81","v":"ILEGALIDAD DEL ACTO ADMINISTRATIVO QUE DECLARA LA OCURRENCIA DEL SINIESTRO Y ORDENA HACER EFECTIVA LA POLIZA"}]
[{"$f":"+Hoja3!$F82","v":0},"INCUMPLIMIENTO EN EL PAGO DE LOS CANONES DE ARRENDAMIENTO",{"$f":"IFERROR(FIND(UPPER('Causas nuevas'!$D$4),B82),0)","v":0},{"$f":"+IF(Hoja3!$C82=0,0,1)","v":0},{"$f":"+E81+Hoja3!$D82","v":1},{"$f":"+Hoja3!$E82*Hoja3!$D82","v":0},"MANTENER",null,null,"ACTIVA","JUDICIAL","Mora o no pago de los cánones de arrendamiento.",512,{"$f":"+Hoja3!$B82","v":"INCUMPLIMIENTO EN EL PAGO DE LOS CANONES DE ARRENDAMIENTO"}]
[{"$f":"+Hoja3!$F83","v":0},"VIOLACION AL DERECHO DE POSTULACION A UN CARGO DE ELECCION POPULAR",{"$f":"IFERROR(FIND(UPPER('Causas nuevas'!$D$4),B83),0)","v":0},{"$f":"+IF(Hoja3!$C83=0,0,1)","v":0},{"$f":"+E82+Hoja3!$D83","v":1},{"$f":"+Hoja3!$E83*Hoja3!$D83","v":0},"MANTENER",null,null,"ACTIVA","JUDICIAL","Vulneración al derecho fundamental a ser elegido por decisiones de la autoridad electoral, frente a la inscripción de candidatos. El vicio del acto puede ser la expedición con infracción de las normas en que debería fundarse, o sin competencia, o en forma irregular, o con desconocimiento del derecho de audiencia y defensa, o mediante falsa motivación, o con falta de motivación, o con desviación de las atribuciones propias de quien lo profirió, o con violación del debido proceso administrativo.",939,{"$f":"+Hoja3!$B83","v":"VIOLACION AL DERECHO DE POSTULACION A UN CARGO DE ELECCION POPULAR"}]
[{"$f":"+Hoja3!$F84","v":0},"PRESTACION INADECUADA DEL SERVICIO NOTARIAL Y REGISTRAL",{"$f":"IFERROR(FIND(UPPER('Causas nuevas'!$D$4),B84),0)","v":0},{"$f":"+IF(Hoja3!$C84=0,0,1)","v":0},{"$f":"+E83+Hoja3!$D84","v":1},{"$f":"+Hoja3!$E84*Hoja3!$D84","v":0},"MANTENER",null,null,"ACTIVA","JUDICIAL","No prestación, prestación deficiente o prestación tardía del servicio de notariado y registro. Ejemplos: No expedición oportuna de la cédula de ciudadanía; doble folio de matrícula inmobilidaria para un mismo inmueble.",885,{"$f":"+Hoja3!$B84","v":"PRESTACION INADECUADA DEL SERVICIO NOTARIAL Y REGISTRAL"}]
[{"$f":"+Hoja3!$F85","v":0},"VIOLACION A LA PROTECCION DE DATOS PERSONALES",{"$f":"IFERROR(FIND(UPPER('Causas nuevas'!$D$4),B85),0)","v":0},{"$f":"+IF(Hoja3!$C85=0,0,1)","v":0},{"$f":"+E84+Hoja3!$D85","v":1},{"$f":"+Hoja3!$E85*Hoja3!$D85","v":0},"MANTENER",null,null,"ACTIVA","JUDICIAL","Uso inapropiado de los datos personales o información vinculada o que pueda asociarse a una o varias personas naturales determinadas o determinables.",937,{"$f":"+Hoja3!$B85","v":"VIOLACION A LA PROTECCION DE DATOS PERSONALES"}]
[{"$f":"+Hoja3!$F86","v":0},"PRIVACION DE LA LIBERTAD SIN QUE MEDIE MEDIDA DE ASEGURAMIENTO",{"$f":"IFERROR(FIND(UPPER('Causas nuevas'!$D$4),B86),0)","v":0},{"$f":"+IF(Hoja3!$C86=0,0,1)","v":0},{"$f":"+E85+Hoja3!$D86","v":1},{"$f":"+Hoja3!$E86*Hoja3!$D86","v":0},"MANTENER",null,null,"ACTIVA","JUDICIAL","Perjuicios derivados de la privación de la libertad de una persona, sin me medie medida de aseguramento privativa de la libertad en firme.",887,{"$f":"+Hoja3!$B86","v":"PRIVACION DE LA LIBERTAD SIN QUE MEDIE MEDIDA DE ASEGURAMIENTO"}]
[{"$f":"+Hoja3!$F87","v":0},"ERROR JUDICIAL",{"$f":"IFERROR(FIND(UPPER('Causas nuevas'!$D$4),B87),0)","v":0},{"$f":"+IF(Hoja3!$C87=0,0,1)","v":0},{"$f":"+E86+Hoja3!$D87","v":1},{"$f":"+Hoja3!$E87*Hoja3!$D87","v":0},"MANTENER",null,null,"ACTIVA","JUDICIAL","Perjuicios derivados del error cometido por una autoridad investida de facultad jurisdiccional, en su carácter de tal, en el curso de un proceso, materializado a través de una providencia en firme contraria a la Ley.",238,{"$f":"+Hoja3!$B87","v":"ERROR JUDICIAL"}]
[{"$f":"+Hoja3!$F88","v":0},"INDEBIDA INCORPORACION DE CONSCRIPTOS",{"$f":"IFERROR(FIND(UPPER('Causas nuevas'!$D$4),B88),0)","v":0},{"$f":"+IF(Hoja3!$C88=0,0,1)","v":0},{"$f":"+E87+Hoja3!$D88","v":1},{"$f":"+Hoja3!$E88*Hoja3!$D88","v":0},"MANTENER",null,null,"ACTIVA","JUDICIAL","Perjuicios derivados de la indebida incorporación del conscripto (quien presta servicio militar obligatorio).",544,{"$f":"+Hoja3!$B88","v":"INDEBIDA INCORPORACION DE CONSCRIPTOS"}]
[{"$f":"+Hoja3!$F89","v":0},"LESION A CONSCRIPTO CON ARMA DE DOTACION OFICIAL",{"$f":"IFERROR(FIND(UPPER('Causas nuevas'!$D$4),B89),0)","v":0},{"$f":"+IF(Hoja3!$C89=0,0,1)","v":0},{"$f":"+E88+Hoja3!$D89","v":1},{"$f":"+Hoja3!$E89*Hoja3!$D89","v":0},"MANTENER",null,null,"ACTIVA","JUDICIAL","Lesión física o síquica a conscripto (quien presta servicio militar obligatorio) por el uso de armas de dotación oficial (aquellas de las que está dotada la fuerza pública para el ejercicio de sus funciones): fusil, granada, bolillo, revólver, pistola, gas pimienta, gases lacrimógenos, balas de salva, etc. ",609,{"$f":"+Hoja3!$B89","v":"LESION A CONSCRIPTO CON ARMA DE DOTACION OFICIAL"}]
[{"$f":"+Hoja3!$F90","v":0},"MUERTE DE CONSCRIPTO CON ARMA DE DOTACION OFICIAL",{"$f":"IFERROR(FIND(UPPER('Causas nuevas'!$D$4),B90),0)","v":0},{"$f":"+IF(Hoja3!$C90=0,0,1)","v":0},{"$f":"+E89+Hoja3!$D90","v":1},{"$f":"+Hoja3!$E90*Hoja3!$D90","v":0},"MANTENER",null,null,"ACTIVA","JUDICIAL","Muerte de conscripto (quien presta servicio militar obligatorio) por el uso de armas de dotación oficial (aquellas de las que está dotada la fuerza pública para el ejercicio de sus funciones): fusil, granada, bolillo, revólver, pistola, gas pimienta, gases lacrimógenos, balas de salva, etc.",718,{"$f":"+Hoja3!$B90","v":"MUERTE DE CONSCRIPTO CON ARMA DE DOTACION OFICIAL"}]
[{"$f":"+Hoja3!$F91","v":0},"LESION ACCIDENTAL O FORTUITA A CONSCRIPTO",{"$f":"IFERROR(FIND(UPPER('Causas nuevas'!$D$4),B91),0)","v":0},{"$f":"+IF(Hoja3!$C91=0,0,1)","v":0},{"$f":"+E90+Hoja3!$D91","v":1},{"$f":"+Hoja3!$E91*Hoja3!$D91","v":0},"MANTENER",null,null,"ACTIVA","JUDICIAL","Lesión física o síquica a conscripto (quien presta servicio militar obligatorio) causada accidentalmente o de manera fortuita.",643,{"$f":"+Hoja3!$B91","v":"LESION ACCIDENTAL O FORTUITA A CONSCRIPTO"}]
[{"$f":"+Hoja3!$F92","v":0},"MUERTE ACCIDENTAL O FORTUITA A CONSCRIPTO",{"$f":"IFERROR(FIND(UPPER('Causas nuevas'!$D$4),B92),0)","v":0},{"$f":"+IF(Hoja3!$C92=0,0,1)","v":0},{"$f":"+E91+Hoja3!$D92","v":1},{"$f":"+Hoja3!$E92*Hoja3!$D92","v":0},"MANTENER",null,null,"ACTIVA","JUDICIAL","Muerte de conscripto (quien presta servicio militar obligatorio) causada accidentalmente o de manera fortuita.",695,{"$f":"+Hoja3!$B92","v":"MUERTE ACCIDENTAL O FORTUITA A CONSCRIPTO"}]
[{"$f":"+Hoja3!$F93","v":0},"LESION A MIEMBRO VOLUNTARIO DE LA FUERZA PUBLICA CON ARMA DE DOTACION OFICIAL",{"$f":"IFERROR(FIND(UPPER('Causas nuevas'!$D$4),B93),0)","v":0},{"$f":"+IF(Hoja3!$C93=0,0,1)","v":0},{"$f":"+E92+Hoja3!$D93","v":1},{"$f":"+Hoja3!$E93*Hoja3!$D93","v":0},"MANTENER",null,null,"ACTIVA","JUDICIAL","Lesión física o síquica a miembro voluntario de la fuerza pública (quien no presta servicio militar obligatorio) por el uso de armas de dotación oficial (aquellas de las que está dotada la fuerza pública para el ejercicio de sus funciones): fusil, granada, bolillo, revólver, pistola, gas pimienta, gases lacrimógenos, balas de salva, etc. ",622,{"$f":"+Hoja3!$B93","v":"LESION A MIEMBRO VOLUNTARIO DE LA FUERZA PUBLICA CON ARMA DE DOTACION OFICIAL"}]
[{"$f":"+Hoja3!$F94","v":0},"MUERTE DE MIEMBRO VOLUNTARIO DE LA FUERZA PUBLICA CON ARMA DE DOTACION OFICIAL",{"$f":"IFERROR(FIND(UPPER('Causas nuevas'!$D$4),B94),0)","v":0},{"$f":"+IF(Hoja3!$C94=0,0,1)","v":0},{"$f":"+E93+Hoja3!$D94","v":1},{"$f":"+Hoja3!$E94*Hoja3!$D94","v":0},"MANTENER",null,null,"ACTIVA","JUDICIAL","Muerte de miembro voluntario de la fuerza pública (quien no presta servicio militar obligatorio) por el uso de armas de dotación oficial (aquellas de las que está dotada la fuerza pública para el ejercicio de sus funciones): fusil, granada, bolillo, revólver, pistola, gas pimienta, gases lacrimógenos, balas de salva, etc. ",732,{"$f":"+Hoja3!$B94","v":"MUERTE DE MIEMBRO VOLUNTARIO DE LA FUERZA PUBLICA CON ARMA DE DOTACION OFICIAL"}]
[{"$f":"+Hoja3!$F95","v":0},"MUERTE DE CIVIL POR GRUPO ARMADO ILEGAL",{"$f":"IFERROR(FIND(UPPER('Causas nuevas'!$D$4),B95),0)","v":0},{"$f":"+IF(Hoja3!$C95=0,0,1)","v":0},{"$f":"+E94+Hoja3!$D95","v":1},{"$f":"+Hoja3!$E95*Hoja3!$D95","v":0},"MANTENER",null,null,"ACTIVA","JUDICIAL","Muerte de civil por grupo armado ilegal (guerrilla, autodefensas, bandas criminales). Nota: es subsidiaria a las causas sobre acto terrorista o combate o enfrentamiento.",716,{"$f":"+Hoja3!$B95","v":"MUERTE DE CIVIL POR GRUPO ARMADO ILEGAL"}]
[{"$f":"+Hoja3!$F96","v":0},"LESION A CIVIL CON ARMA DE DOTACION OFICIAL",{"$f":"IFERROR(FIND(UPPER('Causas nuevas'!$D$4),B96),0)","v":0},{"$f":"+IF(Hoja3!$C96=0,0,1)","v":0},{"$f":"+E95+Hoja3!$D96","v":1},{"$f":"+Hoja3!$E96*Hoja3!$D96","v":0},"MANTENER",null,null,"ACTIVA","JUDICIAL","Lesión física o síquica a civil por el uso de armas de dotación oficial (aquellas de las que está dotada la fuerza pública para el ejercicio de sus funciones): fusil, granada, bolillo, revólver, pistola, gas pimienta, gases lacrimógenos, balas de salva, etc. ",596,{"$f":"+Hoja3!$B96","v":"LESION A CIVIL CON ARMA DE DOTACION OFICIAL"}]
[{"$f":"+Hoja3!$F97","v":0},"DESAPARICION FORZADA",{"$f":"IFERROR(FIND(UPPER('Causas nuevas'!$D$4),B97),0)","v":0},{"$f":"+IF(Hoja3!$C97=0,0,1)","v":0},{"$f":"+E96+Hoja3!$D97","v":1},{"$f":"+Hoja3!$E97*Hoja3!$D97","v":0},"MANTENER",null,null,"ACTIVA","JUDICIAL","Sometimiento, por parte de un servidor público o de un particular que actúa bajo su expresa instrucción, de otra persona a la privación de su libertad cualquiera que sea la forma, seguida de su ocultamiento y de la negativa a reconocer dicha privación o de dar información sobre su paradero, sustrayéndola del amparo de la ley.",206,{"$f":"+Hoja3!$B97","v":"DESAPARICION FORZADA"}]
[{"$f":"+Hoja3!$F98","v":0},"ALLANAMIENTO ILEGAL",{"$f":"IFERROR(FIND(UPPER('Causas nuevas'!$D$4),B98),0)","v":0},{"$f":"+IF(Hoja3!$C98=0,0,1)","v":0},{"$f":"+E97+Hoja3!$D98","v":1},{"$f":"+Hoja3!$E98*Hoja3!$D98","v":0},"MANTENER",null,null,"ACTIVA","JUDICIAL","Ingreso a bien inmueble, automotor, nave o aeronave sin el cumplimiento de las formalidades legales. ",80,{"$f":"+Hoja3!$B98","v":"ALLANAMIENTO ILEGAL"}]
[{"$f":"+Hoja3!$F99","v":0},"PERDIDA O DAÑOS A BIENES INCAUTADOS U OCUPADOS EN PROCESOS PENALES",{"$f":"IFERROR(FIND(UPPER('Causas nuevas'!$D$4),B99),0)","v":0},{"$f":"+IF(Hoja3!$C99=0,0,1)","v":0},{"$f":"+E98+Hoja3!$D99","v":1},{"$f":"+Hoja3!$E99*Hoja3!$D99","v":0},"MANTENER",null,null,"ACTIVA","JUDICIAL","Pérdida o deterioro de bienes muebles o inmuebles incautados u ocupados en procesos penales.",869,{"$f":"+Hoja3!$B99","v":"PERDIDA O DAÑOS A BIENES INCAUTADOS U OCUPADOS EN PROCESOS PENALES"}]
[{"$f":"+Hoja3!$F100","v":0},"INDEBIDO MANEJO DE CADAVER",{"$f":"IFERROR(FIND(UPPER('Causas nuevas'!$D$4),B100),0)","v":0},{"$f":"+IF(Hoja3!$C100=0,0,1)","v":0},{"$f":"+E99+Hoja3!$D100","v":1},{"$f":"+Hoja3!$E100*Hoja3!$D100","v":0},"MANTENER",null,null,"ACTIVA","JUDICIAL","Desaparición o pérdida de cadavér. Nota: no confundir con desaparición forzada.",953,{"$f":"+Hoja3!$B100","v":"INDEBIDO MANEJO DE CADAVER"}]
[{"$f":"+Hoja3!$F101","v":0},"NO PAGO DE RECOMPENSA POR DELACION",{"$f":"IFERROR(FIND(UPPER('Causas nuevas'!$D$4),B101),0)","v":0},{"$f":"+IF(Hoja3!$C101=0,0,1)","v":0},{"$f":"+E100+Hoja3!$D101","v":1},{"$f":"+Hoja3!$E101*Hoja3!$D101","v":0},"MANTENER",null,null,"ACTIVA","JUDICIAL","No pago, pago parcial o mora en el pago de la recompensa ofrecida por delatar u ofrecer información requerida por autoridades.",792,{"$f":"+Hoja3!$B101","v":"NO PAGO DE RECOMPENSA POR DELACION"}]
[{"$f":"+Hoja3!$F102","v":0},"RETIRO ILEGAL DE ALUMNO DE ESCUELA DE FORMACION MILITAR",{"$f":"IFERROR(FIND(UPPER('Causas nuevas'!$D$4),B102),0)","v":0},{"$f":"+IF(Hoja3!$C102=0,0,1)","v":0},{"$f":"+E101+Hoja3!$D102","v":1},{"$f":"+Hoja3!$E102*Hoja3!$D102","v":0},"MANTENER",null,null,"ACTIVA","JUDICIAL","Perjuicios derivados del retiro, no ajustado a derecho, de un alumno de una institución de formación militar.",907,{"$f":"+Hoja3!$B102","v":"RETIRO ILEGAL DE ALUMNO DE ESCUELA DE FORMACION MILITAR"}]
[{"$f":"+Hoja3!$F103","v":0},"MUERTE DE MIEMBRO VOLUNTARIO DE LA FUERZA PUBLICA POR DESCONOCIDOS",{"$f":"IFERROR(FIND(UPPER('Causas nuevas'!$D$4),B103),0)","v":0},{"$f":"+IF(Hoja3!$C103=0,0,1)","v":0},{"$f":"+E102+Hoja3!$D103","v":1},{"$f":"+Hoja3!$E103*Hoja3!$D103","v":0},"MANTENER",null,null,"ACTIVA","JUDICIAL","Muerte de miembro voluntario de la fuerza pública (quien no presta servicio militar obligatorio) por terceros desconocidos, con ocación de su calidad de miembro de la fuerza pública.",744,{"$f":"+Hoja3!$B103","v":"MUERTE DE MIEMBRO VOLUNTARIO DE LA FUERZA PUBLICA POR DESCONOCIDOS"}]
[{"$f":"+Hoja3!$F104","v":0},"VIOLACION O AMENAZA AL GOCE DEL ESPACIO PUBLICO Y A LA UTILIZACION Y DEFENSA DE BIENES DE USO PUBLICO",{"$f":"IFERROR(FIND(UPPER('Causas nuevas'!$D$4),B104),0)","v":0},{"$f":"+IF(Hoja3!$C104=0,0,1)","v":0},{"$f":"+E103+Hoja3!$D104","v":1},{"$f":"+Hoja3!$E104*Hoja3!$D104","v":0},"MANTENER",null,null,"ACTIVA","JUDICIAL","Violación o amenaza al derecho e interés colectivo al goce del espacio público y a la utilización y defensa de los bienes de uso público (el derecho que tienen las personas de acceder al conjunto de inmuebles públicos y a los elementos naturales y arquitectónicos de los inmuebles privados destindados a la satisfacción de las necesidades urbanas colectivas, las cuales trascienden los límites de los intereses individuales de los habitantes y a su defensa).",949,{"$f":"+Hoja3!$B104","v":"VIOLACION O AMENAZA AL GOCE DEL ESPACIO PUBLICO Y A LA UTILIZACION Y DEFENSA DE BIENES DE USO PUBLICO"}]
[{"$f":"+Hoja3!$F105","v":0},"INCUMPLIMIENTO DE NORMA JURIDICA",{"$f":"IFERROR(FIND(UPPER('Causas nuevas'!$D$4),B105),0)","v":0},{"$f":"+IF(Hoja3!$C105=0,0,1)","v":0},{"$f":"+E104+Hoja3!$D105","v":1},{"$f":"+Hoja3!$E105*Hoja3!$D105","v":0},"MANTENER",null,null,"ACTIVA","JUDICIAL","No cumplimiento o cumplimiento parcial o defectuoso de una norma jurídica contenida en una ley o acto administrativo.",482,{"$f":"+Hoja3!$B105","v":"INCUMPLIMIENTO DE NORMA JURIDICA"}]
[{"$f":"+Hoja3!$F106","v":0},"VIOLACION O AMENAZA AL PATRIMONIO CULTURAL DE LA NACION",{"$f":"IFERROR(FIND(UPPER('Causas nuevas'!$D$4),B106),0)","v":0},{"$f":"+IF(Hoja3!$C106=0,0,1)","v":0},{"$f":"+E105+Hoja3!$D106","v":1},{"$f":"+Hoja3!$E106*Hoja3!$D106","v":0},"MANTENER",null,null,"ACTIVA","JUDICIAL","Violación o amenaza al derecho e interés colectivo a la defensa del patrimonio cultural de la Nación (el derecho que tienen las personas de acceder al conjunto de bienes y valores culturales que son expresión de la nacionalidad colombiana. Forman parte de ese patrimonio cultural: (1) el patrimonio inmaterial: conjunto de formas de cultura tradicional, popular o folclórica: tradiciones orales, costumbres, lenguas, música, rituales, medicina tradicional, artes culinarias, entre otros, y (2) los bienes culturales: conforman la identidad nacional y pertenecen a la nación: patrimonio arqueológico).",950,{"$f":"+Hoja3!$B106","v":"VIOLACION O AMENAZA AL PATRIMONIO CULTURAL DE LA NACION"}]
[{"$f":"+Hoja3!$F107","v":0},"INDEBIDA PRESTACION DE SERVICIOS PUBLICOS DOMICILIARIOS",{"$f":"IFERROR(FIND(UPPER('Causas nuevas'!$D$4),B107),0)","v":0},{"$f":"+IF(Hoja3!$C107=0,0,1)","v":0},{"$f":"+E106+Hoja3!$D107","v":1},{"$f":"+Hoja3!$E107*Hoja3!$D107","v":0},"MANTENER",null,null,"ACTIVA","JUDICIAL","No prestación, prestación deficiente o prestación tardía de servicios públicos domiciliarios.",582,{"$f":"+Hoja3!$B107","v":"INDEBIDA PRESTACION DE SERVICIOS PUBLICOS DOMICILIARIOS"}]
[{"$f":"+Hoja3!$F108","v":0},"INCUMPLIMIENTO EN EL DEBER DE SEGURIDAD Y PREVENCION DE DESASTRES",{"$f":"IFERROR(FIND(UPPER('Causas nuevas'!$D$4),B108),0)","v":0},{"$f":"+IF(Hoja3!$C108=0,0,1)","v":0},{"$f":"+E107+Hoja3!$D108","v":1},{"$f":"+Hoja3!$E108*Hoja3!$D108","v":0},"MANTENER",null,null,"ACTIVA","JUDICIAL","Violación o amenaza al derecho e interés colectivo a la seguridad y prevención de desastres previsibles técnicamente.",492,{"$f":"+Hoja3!$B108","v":"INCUMPLIMIENTO EN EL DEBER DE SEGURIDAD Y PREVENCION DE DESASTRES"}]
[{"$f":"+Hoja3!$F109","v":0},"ILEGALIDAD DEL ACTO ADMINISTRATIVO QUE DECRETA LA EXPROPIACION",{"$f":"IFERROR(FIND(UPPER('Causas nuevas'!$D$4),B109),0)","v":0},{"$f":"+IF(Hoja3!$C109=0,0,1)","v":0},{"$f":"+E108+Hoja3!$D109","v":1},{"$f":"+Hoja3!$E109*Hoja3!$D109","v":0},"MANTENER",null,null,"ACTIVA","JUDICIAL","Acto administrativo presuntamente viciado de ilegalidad que decreta una expropiación. La expropiación es una decisión de derecho público por la cual el Estado obliga a un particular a realizar la tradición del dominio privado al dominio público de un bien, en beneficio de la comunidad y mediante una indemnización previa. El vicio del acto puede ser la expedición con infracción de las normas en que debería fundarse, o sin competencia, o en forma irregular, o con desconocimiento del derecho de audiencia y defensa, o mediante falsa motivación, o con falta de motivación, o con desviación de las atribuciones propias de quien lo profirió, o con violación del debido proceso administrativo.",311,{"$f":"+Hoja3!$B109","v":"ILEGALIDAD DEL ACTO ADMINISTRATIVO QUE DECRETA LA EXPROPIACION"}]
[{"$f":"+Hoja3!$F110","v":0},"NO RECONOCIMIENTO DE SUBSIDIO FAMILIAR",{"$f":"IFERROR(FIND(UPPER('Causas nuevas'!$D$4),B110),0)","v":0},{"$f":"+IF(Hoja3!$C110=0,0,1)","v":0},{"$f":"+E109+Hoja3!$D110","v":1},{"$f":"+Hoja3!$E110*Hoja3!$D110","v":0},"MANTENER",null,null,"ACTIVA","JUDICIAL","Desconocimiento del derecho a percibir subsidio familiar. El subsidio familiar es una prestación social pagadera en dinero, especie y servicios. El subsidio familiar en dinero, denominado cuota monetaria, se paga mensualmente a los trabajadores por cada una de las personas que tengan a su cargo con derecho a este.",835,{"$f":"+Hoja3!$B110","v":"NO RECONOCIMIENTO DE SUBSIDIO FAMILIAR"}]
[{"$f":"+Hoja3!$F111","v":0},"ILEGALIDAD DEL ACTO ADMINISTRATIVO QUE AUTORIZA O NIEGA UN ASCENSO",{"$f":"IFERROR(FIND(UPPER('Causas nuevas'!$D$4),B111),0)","v":0},{"$f":"+IF(Hoja3!$C111=0,0,1)","v":0},{"$f":"+E110+Hoja3!$D111","v":1},{"$f":"+Hoja3!$E111*Hoja3!$D111","v":0},"MANTENER",null,null,"ACTIVA","JUDICIAL","Acto administrativo presuntamente viciado de ilegalidad que autoriza o niega un ascenso. Se denomina ascenso a la promoción de un trabajador a un cargo más importante y mejor remunerado. El vicio del acto puede ser la expedición con infracción de las normas en que debería fundarse, o sin competencia, o en forma irregular, o con desconocimiento del derecho de audiencia y defensa, o mediante falsa motivación, o con falta de motivación, o con desviación de las atribuciones propias de quien lo profirió, o con violación del debido proceso administrativo.",294,{"$f":"+Hoja3!$B111","v":"ILEGALIDAD DEL ACTO ADMINISTRATIVO QUE AUTORIZA O NIEGA UN ASCENSO"}]
[{"$f":"+Hoja3!$F112","v":0},"NO RECONOCIMIENTO DE PENSION DE INVALIDEZ",{"$f":"IFERROR(FIND(UPPER('Causas nuevas'!$D$4),B112),0)","v":0},{"$f":"+IF(Hoja3!$C112=0,0,1)","v":0},{"$f":"+E111+Hoja3!$D112","v":1},{"$f":"+Hoja3!$E112*Hoja3!$D112","v":0},"MANTENER",null,null,"ACTIVA","JUDICIAL","Desconocimiento del derecho a percibir la pensión de invalidez. La pensión de invalidez es una prestación económica que consiste en el pago de una renta mensual denominada pensión a una persona que ha sido calificada como inválida y cuya enfermedad o patología es de origen común.",817,{"$f":"+Hoja3!$B112","v":"NO RECONOCIMIENTO DE PENSION DE INVALIDEZ"}]
[{"$f":"+Hoja3!$F113","v":0},"NO RECONOCIMIENTO DE BONO PENSIONAL",{"$f":"IFERROR(FIND(UPPER('Causas nuevas'!$D$4),B113),0)","v":0},{"$f":"+IF(Hoja3!$C113=0,0,1)","v":0},{"$f":"+E112+Hoja3!$D113","v":1},{"$f":"+Hoja3!$E113*Hoja3!$D113","v":0},"MANTENER",null,null,"ACTIVA","JUDICIAL","Desconocimiento del derecho a que se expida, en favor de otro, el bono pensional. El bono pensional es el capital equivalente a las cotizaciones realizadas al régimen de prima media con prestación definida (anterior Instituto de Seguros Sociales - ISS hoy Colpensiones) o a los tiempos laborados con empresas del sector público o reconocedoras de pensión, antes del traslado al régimen de ahorro individual con solidaridad.",795,{"$f":"+Hoja3!$B113","v":"NO RECONOCIMIENTO DE BONO PENSIONAL"}]
[{"$f":"+Hoja3!$F114","v":0},"ILEGALIDAD DEL ACTO ADMINISTRATIVO QUE HACE EFECTIVA LA CLAUSULA PENAL PECUNIARIA",{"$f":"IFERROR(FIND(UPPER('Causas nuevas'!$D$4),B114),0)","v":0},{"$f":"+IF(Hoja3!$C114=0,0,1)","v":0},{"$f":"+E113+Hoja3!$D114","v":1},{"$f":"+Hoja3!$E114*Hoja3!$D114","v":0},"MANTENER",null,null,"ACTIVA","JUDICIAL","Acto administrativo presuntamente viciado de ilegalidad que hace efectiva la cláusula penal pactada en un contrato estatal. El vicio del acto puede ser la expedición con infracción de las normas en que debería fundarse, o sin competencia, o en forma irregular, o con desconocimiento del derecho de audiencia y defensa, o mediante falsa motivación, o con falta de motivación, o con desviación de las atribuciones propias de quien lo profirió, o con violación del debido proceso administrativo.",44,{"$f":"+Hoja3!$B114","v":"ILEGALIDAD DEL ACTO ADMINISTRATIVO QUE HACE EFECTIVA LA CLAUSULA PENAL PECUNIARIA"}]
[{"$f":"+Hoja3!$F115","v":0},"ILEGALIDAD DEL ACTO ADMINISTRATIVO QUE IMPONE MULTA POR INCUMPLIMIENTO DEL CONTRATO",{"$f":"IFERROR(FIND(UPPER('Causas nuevas'!$D$4),B115),0)","v":0},{"$f":"+IF(Hoja3!$C115=0,0,1)","v":0},{"$f":"+E114+Hoja3!$D115","v":1},{"$f":"+Hoja3!$E115*Hoja3!$D115","v":0},"MANTENER",null,null,"ACTIVA","JUDICIAL","Acto administrativo presuntamente viciado de ilegalidad que impone una multa. El vicio del acto puede ser la expedición con infracción de las normas en que debería fundarse, o sin competencia, o en forma irregular, o con desconocimiento del derecho de audiencia y defensa, o mediante falsa motivación, o con falta de motivación, o con desviación de las atribuciones propias de quien lo profirió, o con violación del debido proceso administrativo.",45,{"$f":"+Hoja3!$B115","v":"ILEGALIDAD DEL ACTO ADMINISTRATIVO QUE IMPONE MULTA POR INCUMPLIMIENTO DEL CONTRATO"}]
[{"$f":"+Hoja3!$F116","v":0},"ILEGALIDAD DEL ACTO ADMINISTRATIVO QUE ADJUDICA UN CONTRATO",{"$f":"IFERROR(FIND(UPPER('Causas nuevas'!$D$4),B116),0)","v":0},{"$f":"+IF(Hoja3!$C116=0,0,1)","v":0},{"$f":"+E115+Hoja3!$D116","v":1},{"$f":"+Hoja3!$E116*Hoja3!$D116","v":0},"MANTENER",null,null,"ACTIVA","JUDICIAL","Acto administrativo presuntamente viciado de ilegalidad que adjudica un contrato estatal. El vicio del acto puede ser la expedición con infracción de las normas en que debería fundarse, o sin competencia, o en forma irregular, o con desconocimiento del derecho de audiencia y defensa, o mediante falsa motivación, o con falta de motivación, o con desviación de las atribuciones propias de quien lo profirió, o con violación del debido proceso administrativo.",290,{"$f":"+Hoja3!$B116","v":"ILEGALIDAD DEL ACTO ADMINISTRATIVO QUE ADJUDICA UN CONTRATO"}]
[{"$f":"+Hoja3!$F117","v":0},"ILEGALIDAD DEL ACTO ADMINISTRATIVO QUE LIQUIDA UN CONTRATO",{"$f":"IFERROR(FIND(UPPER('Causas nuevas'!$D$4),B117),0)","v":0},{"$f":"+IF(Hoja3!$C117=0,0,1)","v":0},{"$f":"+E116+Hoja3!$D117","v":1},{"$f":"+Hoja3!$E117*Hoja3!$D117","v":0},"MANTENER",null,null,"ACTIVA","JUDICIAL","Acto administrativo presuntamente viciado de ilegalidad que liquida un contrato estatal. El vicio del acto puede ser la expedición con infracción de las normas en que debería fundarse, o sin competencia, o en forma irregular, o con desconocimiento del derecho de audiencia y defensa, o mediante falsa motivación, o con falta de motivación, o con desviación de las atribuciones propias de quien lo profirió, o con violación del debido proceso administrativo.",46,{"$f":"+Hoja3!$B117","v":"ILEGALIDAD DEL ACTO ADMINISTRATIVO QUE LIQUIDA UN CONTRATO"}]
[{"$f":"+Hoja3!$F118","v":0},"ILEGALIDAD DEL ACTO ADMINISTRATIVO QUE DECLARA LA CADUCIDAD CONTRACTUAL",{"$f":"IFERROR(FIND(UPPER('Causas nuevas'!$D$4),B118),0)","v":0},{"$f":"+IF(Hoja3!$C118=0,0,1)","v":0},{"$f":"+E117+Hoja3!$D118","v":1},{"$f":"+Hoja3!$E118*Hoja3!$D118","v":0},"MANTENER",null,null,"ACTIVA","JUDICIAL","Acto administrativo presuntamente viciado de ilegalidad que declara la caducidad del contrato estatal (cláusula excepcional que se hace efectiva cuando se presenta alguno de los hechos constitutivos de incumplimiento de las obligaciones a cargo del contratista, que afecte de manera grave y directa la ejecución del contrato y evidencie que puede conducir a su paralización). El vicio del acto puede ser la expedición con infracción de las normas en que debería fundarse, o sin competencia, o en forma irregular, o con desconocimiento del derecho de audiencia y defensa, o mediante falsa motivación, o con falta de motivación, o con desviación de las atribuciones propias de quien lo profirió, o con violación del debido proceso administrativo.",41,{"$f":"+Hoja3!$B118","v":"ILEGALIDAD DEL ACTO ADMINISTRATIVO QUE DECLARA LA CADUCIDAD CONTRACTUAL"}]
[{"$f":"+Hoja3!$F119","v":0},"EJECUCION DE PRESTACIONES SIN CONTRATO",{"$f":"IFERROR(FIND(UPPER('Causas nuevas'!$D$4),B119),0)","v":0},{"$f":"+IF(Hoja3!$C119=0,0,1)","v":0},{"$f":"+E118+Hoja3!$D119","v":1},{"$f":"+Hoja3!$E119*Hoja3!$D119","v":0},"MANTENER",null,null,"ACTIVA","JUDICIAL","Perjuicios derivados de la ejecución de prestaciones a favor del Estado, por fuera de las pactadas en el contrato o sin que medie contrato estatal o título valor. Ejemplo: Ejecución de obras adicionales, no incluídas en el contrato.",24,{"$f":"+Hoja3!$B119","v":"EJECUCION DE PRESTACIONES SIN CONTRATO"}]
[{"$f":"+Hoja3!$F120","v":0},"INCUMPLIMIENTO EN EL PAGO DE PRESTACIONES SOCIALES",{"$f":"IFERROR(FIND(UPPER('Causas nuevas'!$D$4),B120),0)","v":0},{"$f":"+IF(Hoja3!$C120=0,0,1)","v":0},{"$f":"+E119+Hoja3!$D120","v":1},{"$f":"+Hoja3!$E120*Hoja3!$D120","v":0},"MANTENER",null,null,"ACTIVA","JUDICIAL","Las prestaciones sociales son los dineros adicionales al salario que el empleador debe reconocer al trabajador oficial o al funcionario público por sus servicios prestados, es el reconociendo a su aporte en la generación de ingresos y utilidad en la empresa o unidad económica.",519,{"$f":"+Hoja3!$B120","v":"INCUMPLIMIENTO EN EL PAGO DE PRESTACIONES SOCIALES"}]
[{"$f":"+Hoja3!$F121","v":0},"COMPETENCIA DESLEAL",{"$f":"IFERROR(FIND(UPPER('Causas nuevas'!$D$4),B121),0)","v":0},{"$f":"+IF(Hoja3!$C121=0,0,1)","v":0},{"$f":"+E120+Hoja3!$D121","v":1},{"$f":"+Hoja3!$E121*Hoja3!$D121","v":0},"MANTENER",null,null,"ACTIVA","JUDICIAL","Contempla todos los actos de competencia desleal (ejecutados por el Estado y/o particulares) establecidos en la Ley 256 de 1996 (incluye: desviación de clientela, desorganización, engaño, confusión, descrédito, comparación, imitación, explotación de la reputación ajena, violación de secretos, inducción a la ruptura contractual, violación de normas y pactos desleales de exclusividad).",90,{"$f":"+Hoja3!$B121","v":"COMPETENCIA DESLEAL"}]
[{"$f":"+Hoja3!$F122","v":0},"LESION A OPERADOR POR EJECUCION DE OBRA PUBLICA",{"$f":"IFERROR(FIND(UPPER('Causas nuevas'!$D$4),B122),0)","v":0},{"$f":"+IF(Hoja3!$C122=0,0,1)","v":0},{"$f":"+E121+Hoja3!$D122","v":1},{"$f":"+Hoja3!$E122*Hoja3!$D122","v":0},"MANTENER",null,null,"ACTIVA","JUDICIAL","Lesión física o síquica causada a operador (obreros, arquitectos, ingenieros, interventores, contratistas, subcontratistas) por ejecusión de obra pública.",635,{"$f":"+Hoja3!$B122","v":"LESION A OPERADOR POR EJECUCION DE OBRA PUBLICA"}]
[{"$f":"+Hoja3!$F123","v":0},"DESLINDE Y AMOJONAMIENTO",{"$f":"IFERROR(FIND(UPPER('Causas nuevas'!$D$4),B123),0)","v":0},{"$f":"+IF(Hoja3!$C123=0,0,1)","v":0},{"$f":"+E122+Hoja3!$D123","v":1},{"$f":"+Hoja3!$E123*Hoja3!$D123","v":0},"MANTENER",null,null,"ACTIVA","JUDICIAL","Solicitud que se efectúa con el propósito de que judicialmente se declare la forma material y visible del lindero que separa predios colindantes.",219,{"$f":"+Hoja3!$B123","v":"DESLINDE Y AMOJONAMIENTO"}]
[{"$f":"+Hoja3!$F124","v":0},"SOLICITUD DE LA DIVISION MATERIAL DE BIEN INMUEBLE",{"$f":"IFERROR(FIND(UPPER('Causas nuevas'!$D$4),B124),0)","v":0},{"$f":"+IF(Hoja3!$C124=0,0,1)","v":0},{"$f":"+E123+Hoja3!$D124","v":1},{"$f":"+Hoja3!$E124*Hoja3!$D124","v":0},"MANTENER",null,null,"ACTIVA","JUDICIAL","Solicitud de modificación de las características de un predio por segregación de otros predios, con o sin cambio de propietario o poseedor.",922,{"$f":"+Hoja3!$B124","v":"SOLICITUD DE LA DIVISION MATERIAL DE BIEN INMUEBLE"}]
[{"$f":"+Hoja3!$F125","v":0},"CONSTITUCION DE SERVIDUMBRE",{"$f":"IFERROR(FIND(UPPER('Causas nuevas'!$D$4),B125),0)","v":0},{"$f":"+IF(Hoja3!$C125=0,0,1)","v":0},{"$f":"+E124+Hoja3!$D125","v":1},{"$f":"+Hoja3!$E125*Hoja3!$D125","v":0},"MANTENER",null,null,"ACTIVA","JUDICIAL","Solicitud de constitución de servidumbre que es del derecho real que limita el dominio de un predio denominado fundo sirviente en favor de las necesidades de otro llamado fundo dominante perteneciente a otra persona y el reconocimiento y pago de los correspondientes perjuicios. Nota: no se debe confundir con las causas relacionadas con la ocupación temporal o permanente de inmuebles, es subsidiaria a estas.",92,{"$f":"+Hoja3!$B125","v":"CONSTITUCION DE SERVIDUMBRE"}]
[{"$f":"+Hoja3!$F126","v":0},"PRESCRIPCION ADQUISITIVA DE DOMINIO",{"$f":"IFERROR(FIND(UPPER('Causas nuevas'!$D$4),B126),0)","v":0},{"$f":"+IF(Hoja3!$C126=0,0,1)","v":0},{"$f":"+E125+Hoja3!$D126","v":1},{"$f":"+Hoja3!$E126*Hoja3!$D126","v":0},"MANTENER",null,null,"ACTIVA","JUDICIAL","Solicitud de declaración del dominio sobre un bien respecto del cual se ha ejercido la posesión continua, pacifica y publica como propietario una vez transcurrido el tiempo previsto en la Ley.",881,{"$f":"+Hoja3!$B126","v":"PRESCRIPCION ADQUISITIVA DE DOMINIO"}]
[{"$f":"+Hoja3!$F127","v":0},"ILEGALIDAD DEL ACTO ADMINISTRATIVO QUE RECONOCE PENSION - ACCION DE LESIVIDAD",{"$f":"IFERROR(FIND(UPPER('Causas nuevas'!$D$4),B127),0)","v":0},{"$f":"+IF(Hoja3!$C127=0,0,1)","v":0},{"$f":"+E126+Hoja3!$D127","v":1},{"$f":"+Hoja3!$E127*Hoja3!$D127","v":0},"MANTENER",null,null,"ACTIVA","JUDICIAL","Acto administrativo presuntamente viciado de ilegalidad que reconoce la pensión (incluye invalidez, vejez y muerte) y que no pudo ser revocado de forma directa, por lo que el demandante es el Estado. El vicio del acto puede ser la expedición con infracción de las normas en que debería fundarse, o sin competencia, o en forma irregular, o con desconocimiento del derecho de audiencia y defensa, o mediante falsa motivación, o con falta de motivación, o con desviación de las atribuciones propias de quien lo profirió, o con violación del debido proceso administrativo.",450,{"$f":"+Hoja3!$B127","v":"ILEGALIDAD DEL ACTO ADMINISTRATIVO QUE RECONOCE PENSION - ACCION DE LESIVIDAD"}]
[{"$f":"+Hoja3!$F128","v":0},"NO RECONOCIMIENTO DE ASIGNACION DE RETIRO",{"$f":"IFERROR(FIND(UPPER('Causas nuevas'!$D$4),B128),0)","v":0},{"$f":"+IF(Hoja3!$C128=0,0,1)","v":0},{"$f":"+E127+Hoja3!$D128","v":1},{"$f":"+Hoja3!$E128*Hoja3!$D128","v":0},"MANTENER",null,null,"ACTIVA","JUDICIAL","Desconocimiento del derecho a percibir la asignación de retiro. La asignación de retiro es una prestación económica a la que tienen derecho los miembros de la Fuerza Pública a partir de su retiro del servicio activo y tras el cumplimiento de determinados requisitos; se asemeja a la pensión de vejez.",794,{"$f":"+Hoja3!$B128","v":"NO RECONOCIMIENTO DE ASIGNACION DE RETIRO"}]
[{"$f":"+Hoja3!$F129","v":0},"ILEGALIDAD DEL ACTO ADMINISTRATIVO GENERAL QUE DISPONE LA REESTRUCTURACION O LIQUIDACION LAS ENTIDADES PUBLICAS",{"$f":"IFERROR(FIND(UPPER('Causas nuevas'!$D$4),B129),0)","v":0},{"$f":"+IF(Hoja3!$C129=0,0,1)","v":0},{"$f":"+E128+Hoja3!$D129","v":1},{"$f":"+Hoja3!$E129*Hoja3!$D129","v":0},"MANTENER",null,null,"ACTIVA","JUDICIAL","Acto administrativo general (decreto) presuntamente viciado de ilegalidad que dispone la reestructuración o liquidación de entidades públicas.",287,{"$f":"+Hoja3!$B129","v":"ILEGALIDAD DEL ACTO ADMINISTRATIVO GENERAL QUE DISPONE LA REESTRUCTURACION O LIQUIDACION LAS ENTIDADES PUBLICAS"}]
[{"$f":"+Hoja3!$F130","v":0},"ILEGALIDAD DEL ACTO ADMINISTRATIVO QUE CONVOCA A CONCURSO PUBLICO DE MERITOS PARA PROVEER CARGOS PUBLICOS",{"$f":"IFERROR(FIND(UPPER('Causas nuevas'!$D$4),B130),0)","v":0},{"$f":"+IF(Hoja3!$C130=0,0,1)","v":0},{"$f":"+E129+Hoja3!$D130","v":1},{"$f":"+Hoja3!$E130*Hoja3!$D130","v":0},"MANTENER",null,null,"ACTIVA","JUDICIAL","Acto administrativo presuntamente viciado de ilegalidad que convoca a concurso público de méritos. El concurso público ha sido definido, como el procedimiento mediante el cual, la administración señalando bases o normas claramente establecidas, selecciona entre varios participantes que han sido convocados, a la persona o personas que por razón de sus méritos y calidades, adquieren el derecho a ser nombradas en un cargo público. El vicio del acto puede ser la expedición con infracción de las normas en que debería fundarse, o sin competencia, o en forma irregular, o con desconocimiento del derecho de audiencia y defensa, o mediante falsa motivación, o con falta de motivación, o con desviación de las atribuciones propias de quien lo profirió, o con violación del debido proceso administrativo.",301,{"$f":"+Hoja3!$B130","v":"ILEGALIDAD DEL ACTO ADMINISTRATIVO QUE CONVOCA A CONCURSO PUBLICO DE MERITOS PARA PROVEER CARGOS PUBLICOS"}]
[{"$f":"+Hoja3!$F131","v":0},"MUERTE DE MIEMBRO VOLUNTARIO DE LA FUERZA PUBLICA EN INSTRUCCION",{"$f":"IFERROR(FIND(UPPER('Causas nuevas'!$D$4),B131),0)","v":0},{"$f":"+IF(Hoja3!$C131=0,0,1)","v":0},{"$f":"+E130+Hoja3!$D131","v":1},{"$f":"+Hoja3!$E131*Hoja3!$D131","v":0},"MANTENER",null,null,"ACTIVA","JUDICIAL","Muerte de miembro voluntario de la fuerza pública (quien no presta servicio militar obligatorio) con ocasión de las actividades propias de la instrucción militar o de policía.",739,{"$f":"+Hoja3!$B131","v":"MUERTE DE MIEMBRO VOLUNTARIO DE LA FUERZA PUBLICA EN INSTRUCCION"}]
[{"$f":"+Hoja3!$F132","v":0},"INCUMPLIMIENTO EN EL PAGO DE MESADA ADICIONAL",{"$f":"IFERROR(FIND(UPPER('Causas nuevas'!$D$4),B132),0)","v":0},{"$f":"+IF(Hoja3!$C132=0,0,1)","v":0},{"$f":"+E131+Hoja3!$D132","v":1},{"$f":"+Hoja3!$E132*Hoja3!$D132","v":0},"MANTENER",null,null,"ACTIVA","JUDICIAL","Mora o no pago de mesada adicional ya reconocida por ministerio de la ley o en virtud de la entrada en vigencia del acto legislativo 01 de 2005.",513,{"$f":"+Hoja3!$B132","v":"INCUMPLIMIENTO EN EL PAGO DE MESADA ADICIONAL"}]
[{"$f":"+Hoja3!$F133","v":0},"DESMEJORA EN LAS CONDICIONES LABORALES",{"$f":"IFERROR(FIND(UPPER('Causas nuevas'!$D$4),B133),0)","v":0},{"$f":"+IF(Hoja3!$C133=0,0,1)","v":0},{"$f":"+E132+Hoja3!$D133","v":1},{"$f":"+Hoja3!$E133*Hoja3!$D133","v":0},"MANTENER",null,null,"ACTIVA","JUDICIAL","Incluye todos los eventos en los que el ejercicio del ius variandi (la facultad que tiene todo empleador de modificar las circunstancias, condiciones y/o modalidad en las que el trabajador ejecuta la prestación de labores contratada) implica un detrimento en las condiciones del trabajador.",220,{"$f":"+Hoja3!$B133","v":"DESMEJORA EN LAS CONDICIONES LABORALES"}]
[{"$f":"+Hoja3!$F134","v":0},"ILEGALIDAD DEL ACTO ADMINISTRATIVO QUE IMPONE SANCION EN EJERCICIO DEL CONTROL FISCAL",{"$f":"IFERROR(FIND(UPPER('Causas nuevas'!$D$4),B134),0)","v":0},{"$f":"+IF(Hoja3!$C134=0,0,1)","v":0},{"$f":"+E133+Hoja3!$D134","v":1},{"$f":"+Hoja3!$E134*Hoja3!$D134","v":0},"MANTENER",null,null,"ACTIVA","JUDICIAL","Acto administrativo presuntamente viciado de ilegalidad que impone una sanción en ejercicio del control fiscal. Mediante el ejercicio del control fiscal, la Contraloría General de la República vigila la administración y el manejo de los fondos o bienes públicos, para lo cual puede iniciar procesos fiscales en donde busca el resarcimiento por el detrimento patrimonial que una conducta o una omisión del servidor público o de un particular haya ocasionado al Estado. El vicio del acto puede ser la expedición con infracción de las normas en que debería fundarse, o sin competencia, o en forma irregular, o con desconocimiento del derecho de audiencia y defensa, o mediante falsa motivación, o con falta de motivación, o con desviación de las atribuciones propias de quien lo profirió, o con violación del debido proceso administrativo.",332,{"$f":"+Hoja3!$B134","v":"ILEGALIDAD DEL ACTO ADMINISTRATIVO QUE IMPONE SANCION EN EJERCICIO DEL CONTROL FISCAL"}]
[{"$f":"+Hoja3!$F135","v":0},"RETENCION ILEGAL DE BIENES",{"$f":"IFERROR(FIND(UPPER('Causas nuevas'!$D$4),B135),0)","v":0},{"$f":"+IF(Hoja3!$C135=0,0,1)","v":0},{"$f":"+E134+Hoja3!$D135","v":1},{"$f":"+Hoja3!$E135*Hoja3!$D135","v":0},"MANTENER",null,null,"ACTIVA","JUDICIAL","Retención de bienes sin el cumplimiento de las formalidades legales. Nota: esta causa es subsidiaria a aquella denominada DECRETO INJUSTO DE MEDIDAS CAUTELARES SOBRE BIENES SUSCEPTIBLES DE COMISO EN PROCESOS PENALES ",904,{"$f":"+Hoja3!$B135","v":"RETENCION ILEGAL DE BIENES"}]
[{"$f":"+Hoja3!$F136","v":0},"INCONSTITUCIONALIDAD DEL ACTO ADMINISTRATIVO",{"$f":"IFERROR(FIND(UPPER('Causas nuevas'!$D$4),B136),0)","v":0},{"$f":"+IF(Hoja3!$C136=0,0,1)","v":0},{"$f":"+E135+Hoja3!$D136","v":1},{"$f":"+Hoja3!$E136*Hoja3!$D136","v":0},"MANTENER",null,null,"ACTIVA","JUDICIAL","Nulidad de acto administrativo general o particular por ser contrario a la Constitución Política.",474,{"$f":"+Hoja3!$B136","v":"INCONSTITUCIONALIDAD DEL ACTO ADMINISTRATIVO"}]
[{"$f":"+Hoja3!$F137","v":0},"FALTA DE REPARACION INTEGRAL A VICTIMAS DEL CONFLICTO ARMADO INTERNO",{"$f":"IFERROR(FIND(UPPER('Causas nuevas'!$D$4),B137),0)","v":0},{"$f":"+IF(Hoja3!$C137=0,0,1)","v":0},{"$f":"+E136+Hoja3!$D137","v":1},{"$f":"+Hoja3!$E137*Hoja3!$D137","v":0},"MANTENER",null,null,"ACTIVA","JUDICIAL","Ausencia o insuficiente reparación integral (incluye acciones dirigidas a la rehabilitación, restitución, indemnización, garantías de no repetición, medidas de satisfacción, entre otras) a las víctimas reconocidas y amparadas por la Ley 1448 de 2011. ",255,{"$f":"+Hoja3!$B137","v":"FALTA DE REPARACION INTEGRAL A VICTIMAS DEL CONFLICTO ARMADO INTERNO"}]
[{"$f":"+Hoja3!$F138","v":0},"ACOSO LABORAL",{"$f":"IFERROR(FIND(UPPER('Causas nuevas'!$D$4),B138),0)","v":0},{"$f":"+IF(Hoja3!$C138=0,0,1)","v":0},{"$f":"+E137+Hoja3!$D138","v":1},{"$f":"+Hoja3!$E138*Hoja3!$D138","v":0},"MANTENER",null,null,"ACTIVA","JUDICIAL","Conductas persistente y demostrable, ejercida sobre un empleado o trabajador por parte de un empleador, un jefe o superior jerárquico inmediato o mediato, un compañero de trabajo o un subalterno, encaminada a infundir miedo, intimidación, terror y angustia, a causar perjuicio laboral, generar desmotivación en el trabajo, o inducir la renuncia del mismo.",1066,{"$f":"+Hoja3!$B138","v":"ACOSO LABORAL"}]
[{"$f":"+Hoja3!$F139","v":0},"LESION ACCIDENTAL O FORTUITA A MIEMBRO VOLUNTARIO DE LA FUERZA PUBLICA",{"$f":"IFERROR(FIND(UPPER('Causas nuevas'!$D$4),B139),0)","v":0},{"$f":"+IF(Hoja3!$C139=0,0,1)","v":0},{"$f":"+E138+Hoja3!$D139","v":1},{"$f":"+Hoja3!$E139*Hoja3!$D139","v":0},"MANTENER",null,null,"ACTIVA","JUDICIAL","Lesión física o síquica a miembro voluntario de la fuerza pública (quien no presta servicio militar obligatorio) causada accidentalmente o de manera fortuita.",644,{"$f":"+Hoja3!$B139","v":"LESION ACCIDENTAL O FORTUITA A MIEMBRO VOLUNTARIO DE LA FUERZA PUBLICA"}]
[{"$f":"+Hoja3!$F140","v":0},"NO RECONOCIMIENTO DE REAJUSTE O NIVELACION SALARIAL",{"$f":"IFERROR(FIND(UPPER('Causas nuevas'!$D$4),B140),0)","v":0},{"$f":"+IF(Hoja3!$C140=0,0,1)","v":0},{"$f":"+E139+Hoja3!$D140","v":1},{"$f":"+Hoja3!$E140*Hoja3!$D140","v":0},"MANTENER",null,null,"ACTIVA","JUDICIAL","Desconocimiento de derecho a la igualdad material en asuntos laborales (principio a igual trabajo igual salario). ",829,{"$f":"+Hoja3!$B140","v":"NO RECONOCIMIENTO DE REAJUSTE O NIVELACION SALARIAL"}]
[{"$f":"+Hoja3!$F141","v":0},"NO RECONOCIMIENTO DE DESCANSOS COMPENSATORIOS",{"$f":"IFERROR(FIND(UPPER('Causas nuevas'!$D$4),B141),0)","v":0},{"$f":"+IF(Hoja3!$C141=0,0,1)","v":0},{"$f":"+E140+Hoja3!$D141","v":1},{"$f":"+Hoja3!$E141*Hoja3!$D141","v":0},"MANTENER",null,null,"ACTIVA","JUDICIAL","Desconocimiento del derecho a disfrutar de descanso compensatorio remunerado. Ejemplos: desconocimiento del derecho a disfrutar del descanso compensatorio remunerado cuando se es jurado de votación.",798,{"$f":"+Hoja3!$B141","v":"NO RECONOCIMIENTO DE DESCANSOS COMPENSATORIOS"}]
[{"$f":"+Hoja3!$F142","v":0},"NO RECONOCIMIENTO DE INDEMNIZACION POR DISMINUCION DE CAPACIDAD LABORAL",{"$f":"IFERROR(FIND(UPPER('Causas nuevas'!$D$4),B142),0)","v":0},{"$f":"+IF(Hoja3!$C142=0,0,1)","v":0},{"$f":"+E141+Hoja3!$D142","v":1},{"$f":"+Hoja3!$E142*Hoja3!$D142","v":0},"MANTENER",null,null,"ACTIVA","JUDICIAL","Desconocimiento del derecho del servidor público a recibir la indemnización en caso de disminución permanenete de la capacidad laboral ocasionada por accidente de trabajo o enfermedad laboral. La incapacidad permanente parcial se presenta cuando el afiliado al Sistema General de Riesgos Profesionales, como consecuencia de un accidente de trabajo o de una enfermedad profesional, sufre una disminución parcial, pero definitiva en alguna o algunas de sus facultades para realizar su trabajo habitual.",805,{"$f":"+Hoja3!$B142","v":"NO RECONOCIMIENTO DE INDEMNIZACION POR DISMINUCION DE CAPACIDAD LABORAL"}]
[{"$f":"+Hoja3!$F143","v":0},"NO RECONOCIMIENTO DE VIATICOS",{"$f":"IFERROR(FIND(UPPER('Causas nuevas'!$D$4),B143),0)","v":0},{"$f":"+IF(Hoja3!$C143=0,0,1)","v":0},{"$f":"+E142+Hoja3!$D143","v":1},{"$f":"+Hoja3!$E143*Hoja3!$D143","v":0},"MANTENER",null,null,"ACTIVA","JUDICIAL","Desconocimiento del derecho del servidor público a recibir las sumas de dinero que el empleador debe reconocerle para cubrir los gastos en que éste hubiere incurrido para el cumplimiento de sus funciones fuera de su sede habitual de trabajo.",838,{"$f":"+Hoja3!$B143","v":"NO RECONOCIMIENTO DE VIATICOS"}]
[{"$f":"+Hoja3!$F144","v":0},"NO RECONOCIMIENTO DE INDEMNIZACION POR MUERTE EN ACCIDENTE DE TRABAJO",{"$f":"IFERROR(FIND(UPPER('Causas nuevas'!$D$4),B144),0)","v":0},{"$f":"+IF(Hoja3!$C144=0,0,1)","v":0},{"$f":"+E143+Hoja3!$D144","v":1},{"$f":"+Hoja3!$E144*Hoja3!$D144","v":0},"MANTENER",null,null,"ACTIVA","JUDICIAL","Desconocimiento del derecho de los beneficiarios a recibir la indemnización en caso de muerte del servidor público ocasionada por accidente de trabajo o enfermedad laboral.",806,{"$f":"+Hoja3!$B144","v":"NO RECONOCIMIENTO DE INDEMNIZACION POR MUERTE EN ACCIDENTE DE TRABAJO"}]
[{"$f":"+Hoja3!$F145","v":0},"INCUMPLIMIENTO EN EL PAGO DE APORTES AL SISTEMA DE SEGURIDAD SOCIAL INTEGRAL",{"$f":"IFERROR(FIND(UPPER('Causas nuevas'!$D$4),B145),0)","v":0},{"$f":"+IF(Hoja3!$C145=0,0,1)","v":0},{"$f":"+E144+Hoja3!$D145","v":1},{"$f":"+Hoja3!$E145*Hoja3!$D145","v":0},"MANTENER",null,null,"ACTIVA","JUDICIAL","Mora o no pago por parte del empleador de los aportes al sistema de seguridad social. El sistema de seguridad social integral es el conjunto armónico de entidades públicas y privadas, normas y procedimientos y está conformado por los regímenes generales establecidos para pensiones, salud, riesgos profesionales y los servicios sociales complementarios que se definen en la Ley 100 de 1993 y las normas que modifiquén, complementen o desarrollen.",493,{"$f":"+Hoja3!$B145","v":"INCUMPLIMIENTO EN EL PAGO DE APORTES AL SISTEMA DE SEGURIDAD SOCIAL INTEGRAL"}]
[{"$f":"+Hoja3!$F146","v":0},"NO RECONOCIMIENTO DE PENSION DE SOBREVIVIENTE",{"$f":"IFERROR(FIND(UPPER('Causas nuevas'!$D$4),B146),0)","v":0},{"$f":"+IF(Hoja3!$C146=0,0,1)","v":0},{"$f":"+E145+Hoja3!$D146","v":1},{"$f":"+Hoja3!$E146*Hoja3!$D146","v":0},"MANTENER",null,null,"ACTIVA","JUDICIAL","Desconocimiento del derecho a percibir la pensión de sobrevivientes. La pensión de sobrevivientes es una prestación económica que se causa por la muerte de un afiliado activo al sistema de seguridad social.",818,{"$f":"+Hoja3!$B146","v":"NO RECONOCIMIENTO DE PENSION DE SOBREVIVIENTE"}]
[{"$f":"+Hoja3!$F147","v":0},"NO RECONOCIMIENTO DE PRIMA DE ANTIGUEDAD",{"$f":"IFERROR(FIND(UPPER('Causas nuevas'!$D$4),B147),0)","v":0},{"$f":"+IF(Hoja3!$C147=0,0,1)","v":0},{"$f":"+E146+Hoja3!$D147","v":1},{"$f":"+Hoja3!$E147*Hoja3!$D147","v":0},"MANTENER",null,null,"ACTIVA","JUDICIAL","Desconocimiento del derecho a percibir la prima de antiguedad propia de los miembros de la fuerza pública. El artículo 46 del Decreto 1214 de 1990 establece el pago de una prima de servicios, más conocida como prima de antigüedad a los empleados públicos del Ministerio de Defensa y de la Policía Nacional, a partir de la fecha en que cumplan 15 años de servicios continuos o discontinuos como tales en el Ministerio de Defensa, en las Fuerzas Militares o en la Policía Nacional, su pago es mensual y se liquidara sobre el sueldo básico.",825,{"$f":"+Hoja3!$B147","v":"NO RECONOCIMIENTO DE PRIMA DE ANTIGUEDAD"}]
[{"$f":"+Hoja3!$F148","v":0},"NO RECONOCIMIENTO DEL TIEMPO DE SERVICIO MILITAR OBLIGATORIO",{"$f":"IFERROR(FIND(UPPER('Causas nuevas'!$D$4),B148),0)","v":0},{"$f":"+IF(Hoja3!$C148=0,0,1)","v":0},{"$f":"+E147+Hoja3!$D148","v":1},{"$f":"+Hoja3!$E148*Hoja3!$D148","v":0},"MANTENER",null,null,"ACTIVA","JUDICIAL","No reconocimiento o reconocimiento indebido del tiempo prestado en el servicio militar obligatorio para efectos del reconocimiento de la asignación de retiro.",843,{"$f":"+Hoja3!$B148","v":"NO RECONOCIMIENTO DEL TIEMPO DE SERVICIO MILITAR OBLIGATORIO"}]
[{"$f":"+Hoja3!$F149","v":0},"NO RECONOCIMIENTO DEL SUBSIDIO NOTARIAL",{"$f":"IFERROR(FIND(UPPER('Causas nuevas'!$D$4),B149),0)","v":0},{"$f":"+IF(Hoja3!$C149=0,0,1)","v":0},{"$f":"+E148+Hoja3!$D149","v":1},{"$f":"+Hoja3!$E149*Hoja3!$D149","v":0},"MANTENER",null,null,"ACTIVA","JUDICIAL","No reconocimiento en derecho y pago de los subsidios establecidos para las notarías de insuficientes ingresos, de conformidad con la normatividad vigente.",842,{"$f":"+Hoja3!$B149","v":"NO RECONOCIMIENTO DEL SUBSIDIO NOTARIAL"}]
[{"$f":"+Hoja3!$F150","v":0},"SUSTITUCION PATRONAL",{"$f":"IFERROR(FIND(UPPER('Causas nuevas'!$D$4),B150),0)","v":0},{"$f":"+IF(Hoja3!$C150=0,0,1)","v":0},{"$f":"+E149+Hoja3!$D150","v":1},{"$f":"+Hoja3!$E150*Hoja3!$D150","v":0},"MANTENER",null,null,"ACTIVA","JUDICIAL","La sustitución de patronos consiste en el cambio de dueño de los establecimientos, negocios o empresas; implica que la empresa siga en funcionamiento y que no se afecten los contratos de trabajo firmados con el antiguo patrono.",929,{"$f":"+Hoja3!$B150","v":"SUSTITUCION PATRONAL"}]
[{"$f":"+Hoja3!$F151","v":0},"INCUMPLIMIENTO EN LA ENTREGA DE VIVIENDA DE INTERES SOCIAL",{"$f":"IFERROR(FIND(UPPER('Causas nuevas'!$D$4),B151),0)","v":0},{"$f":"+IF(Hoja3!$C151=0,0,1)","v":0},{"$f":"+E150+Hoja3!$D151","v":1},{"$f":"+Hoja3!$E151*Hoja3!$D151","v":0},"MANTENER",null,null,"ACTIVA","JUDICIAL","No entrega, entrega tardía o entrega defectuosa de viviendas de interés social.",538,{"$f":"+Hoja3!$B151","v":"INCUMPLIMIENTO EN LA ENTREGA DE VIVIENDA DE INTERES SOCIAL"}]
[{"$f":"+Hoja3!$F152","v":0},"ENAJENACION DE ACCIONES SIN EL CUMPLIMIENTO DE LOS REQUISITOS LEGALES",{"$f":"IFERROR(FIND(UPPER('Causas nuevas'!$D$4),B152),0)","v":0},{"$f":"+IF(Hoja3!$C152=0,0,1)","v":0},{"$f":"+E151+Hoja3!$D152","v":1},{"$f":"+Hoja3!$E152*Hoja3!$D152","v":0},"MANTENER",null,null,"ACTIVA","JUDICIAL","Perjuicios derivados de la venta ilegal de acciones (título valor). Ejémplo:  venta de acciones con desconocimiento de las preferencias legalmente determinadas a favor de los trabajadores de las empresas objeto de enajenación.",234,{"$f":"+Hoja3!$B152","v":"ENAJENACION DE ACCIONES SIN EL CUMPLIMIENTO DE LOS REQUISITOS LEGALES"}]
[{"$f":"+Hoja3!$F153","v":0},"OMISION DE LAS NORMAS DE SALUD OCUPACIONAL",{"$f":"IFERROR(FIND(UPPER('Causas nuevas'!$D$4),B153),0)","v":0},{"$f":"+IF(Hoja3!$C153=0,0,1)","v":0},{"$f":"+E152+Hoja3!$D153","v":1},{"$f":"+Hoja3!$E153*Hoja3!$D153","v":0},"MANTENER",null,null,"ACTIVA","JUDICIAL","Perjuicios ocasionados por culpa patronal cuando no se acatan las normas sobre salud ocupacional determinadas por la Administradora de Riesgos Laborales.",858,{"$f":"+Hoja3!$B153","v":"OMISION DE LAS NORMAS DE SALUD OCUPACIONAL"}]
[{"$f":"+Hoja3!$F154","v":0},"NO RECONOCIMIENTO EN DERECHO DE SUBSIDIOS A LOS USUARIOS DE SERVICIOS PUBLICOS DOMICILIARIOS",{"$f":"IFERROR(FIND(UPPER('Causas nuevas'!$D$4),B154),0)","v":0},{"$f":"+IF(Hoja3!$C154=0,0,1)","v":0},{"$f":"+E153+Hoja3!$D154","v":1},{"$f":"+Hoja3!$E154*Hoja3!$D154","v":0},"MANTENER",null,null,"ACTIVA","JUDICIAL","Desconocimiento del derecho a ser beneficiario de los subsidios a favor de los usuarios de los servicios públicos domiciliarios que tengan derecho a ellos. Los subsidios son la diferencia entre lo que se paga por un bien o servicio, y el costo de éste, cuando tal costo es mayor al pago que se recibe, y que se reflejan en el reparto que debe hacerse entre los usuarios como un descuento en el valor de la factura que éste debe cancelar.",847,{"$f":"+Hoja3!$B154","v":"NO RECONOCIMIENTO EN DERECHO DE SUBSIDIOS A LOS USUARIOS DE SERVICIOS PUBLICOS DOMICILIARIOS"}]
[{"$f":"+Hoja3!$F155","v":0},"ACCIDENTE DE TRABAJO O ENFERMEDAD PROFESIONAL POR CULPA PATRONAL",{"$f":"IFERROR(FIND(UPPER('Causas nuevas'!$D$4),B155),0)","v":0},{"$f":"+IF(Hoja3!$C155=0,0,1)","v":0},{"$f":"+E154+Hoja3!$D155","v":1},{"$f":"+Hoja3!$E155*Hoja3!$D155","v":0},"MANTENER",null,null,"ACTIVA","JUDICIAL","Accidente de trabajo (todo suceso repentino que sobreviene por causa o con ocasión del trabajo y que produce en el trabajador Lesión física o síquica orgánica, perturbación funcional, invalidez o muerte) o enfermedad profesional (todo estado patológico que sobrevenga como consecuencia obligada de la clase de trabajo que desempeña el trabajador o del medio en que se ha visto obligado a trabajar), derivada de una culpa patronal (dirección incorrecta del trabajo o vigilancia inadecuada sobre el mismo).",74,{"$f":"+Hoja3!$B155","v":"ACCIDENTE DE TRABAJO O ENFERMEDAD PROFESIONAL POR CULPA PATRONAL"}]
[{"$f":"+Hoja3!$F156","v":0},"INDEBIDA PRESTACION DEL SERVICIO DE CORREO POSTAL",{"$f":"IFERROR(FIND(UPPER('Causas nuevas'!$D$4),B156),0)","v":0},{"$f":"+IF(Hoja3!$C156=0,0,1)","v":0},{"$f":"+E155+Hoja3!$D156","v":1},{"$f":"+Hoja3!$E156*Hoja3!$D156","v":0},"MANTENER",null,null,"ACTIVA","JUDICIAL","Perjucios derivados de la no entrega o entrega deficiente (incluye entrega tardía o entrega defectuosa) o pérdida de correo postal.",583,{"$f":"+Hoja3!$B156","v":"INDEBIDA PRESTACION DEL SERVICIO DE CORREO POSTAL"}]
[{"$f":"+Hoja3!$F157","v":0},"ILEGALIDAD DEL ACTO ADMINISTRATIVO QUE REVOCA, SUSPENDE O NIEGA UN PROGRAMA DE EDUCACION SUPERIOR",{"$f":"IFERROR(FIND(UPPER('Causas nuevas'!$D$4),B157),0)","v":0},{"$f":"+IF(Hoja3!$C157=0,0,1)","v":0},{"$f":"+E156+Hoja3!$D157","v":1},{"$f":"+Hoja3!$E157*Hoja3!$D157","v":0},"MANTENER",null,null,"ACTIVA","JUDICIAL","Acto administrativo presuntamente viciado de ilegalidad que revoca, suspende o niega un programa de educación superior. El vicio del acto puede ser la expedición con infracción de las normas en que debería fundarse, o sin competencia, o en forma irregular, o con desconocimiento del derecho de audiencia y defensa, o mediante falsa motivación, o con falta de motivación, o con desviación de las atribuciones propias de quien lo profirió, o con violación del debido proceso administrativo.",458,{"$f":"+Hoja3!$B157","v":"ILEGALIDAD DEL ACTO ADMINISTRATIVO QUE REVOCA, SUSPENDE O NIEGA UN PROGRAMA DE EDUCACION SUPERIOR"}]
[{"$f":"+Hoja3!$F158","v":0},"ILEGALIDAD DEL ACTO ADMINISTRATIVO QUE LIQUIDA LA PENSION - ACCION DE LESIVIDAD",{"$f":"IFERROR(FIND(UPPER('Causas nuevas'!$D$4),B158),0)","v":0},{"$f":"+IF(Hoja3!$C158=0,0,1)","v":0},{"$f":"+E157+Hoja3!$D158","v":1},{"$f":"+Hoja3!$E158*Hoja3!$D158","v":0},"MANTENER",null,null,"ACTIVA","JUDICIAL","Acto administrativo presuntamente viciado de ilegalidad que liquida de manera irregular la pensión (incluye invalidez, vejez y muerte) y que no pudo ser revocado de forma directa, por lo que el demandante es el Estado. El vicio del acto puede ser la expedición con infracción de las normas en que debería fundarse, o sin competencia, o en forma irregular, o con desconocimiento del derecho de audiencia y defensa, o mediante falsa motivación, o con falta de motivación, o con desviación de las atribuciones propias de quien lo profirió, o con violación del debido proceso administrativo.",378,{"$f":"+Hoja3!$B158","v":"ILEGALIDAD DEL ACTO ADMINISTRATIVO QUE LIQUIDA LA PENSION - ACCION DE LESIVIDAD"}]
[{"$f":"+Hoja3!$F159","v":0},"ILEGALIDAD DEL ACTO ADMINISTRATIVO QUE SUSPENDE EL PAGO DE LA ASIGNACION DE RETIRO",{"$f":"IFERROR(FIND(UPPER('Causas nuevas'!$D$4),B159),0)","v":0},{"$f":"+IF(Hoja3!$C159=0,0,1)","v":0},{"$f":"+E158+Hoja3!$D159","v":1},{"$f":"+Hoja3!$E159*Hoja3!$D159","v":0},"MANTENER",null,null,"ACTIVA","JUDICIAL","Acto administrativo presuntamente viciado de ilegalidad que suspende el pago de la asignación de retiro. El vicio del acto puede ser la expedición con infracción de las normas en que debería fundarse, o sin competencia, o en forma irregular, o con desconocimiento del derecho de audiencia y defensa, o mediante falsa motivación, o con falta de motivación, o con desviación de las atribuciones propias de quien lo profirió, o con violación del debido proceso administrativo.",462,{"$f":"+Hoja3!$B159","v":"ILEGALIDAD DEL ACTO ADMINISTRATIVO QUE SUSPENDE EL PAGO DE LA ASIGNACION DE RETIRO"}]
[{"$f":"+Hoja3!$F160","v":0},"ILEGALIDAD DEL ACTO ADMINISTRATIVO QUE SUSPENDE EL PAGO DE PENSION",{"$f":"IFERROR(FIND(UPPER('Causas nuevas'!$D$4),B160),0)","v":0},{"$f":"+IF(Hoja3!$C160=0,0,1)","v":0},{"$f":"+E159+Hoja3!$D160","v":1},{"$f":"+Hoja3!$E160*Hoja3!$D160","v":0},"MANTENER",null,null,"ACTIVA","JUDICIAL","Acto administrativo presuntamente viciado de ilegalidad que suspende el pago de la pensión (incluye invalidez, vejez y muerte). El vicio del acto puede ser la expedición con infracción de las normas en que debería fundarse, o sin competencia, o en forma irregular, o con desconocimiento del derecho de audiencia y defensa, o mediante falsa motivación, o con falta de motivación, o con desviación de las atribuciones propias de quien lo profirió, o con violación del debido proceso administrativo.",463,{"$f":"+Hoja3!$B160","v":"ILEGALIDAD DEL ACTO ADMINISTRATIVO QUE SUSPENDE EL PAGO DE PENSION"}]
[{"$f":"+Hoja3!$F161","v":0},"INCUMPLIMIENTO EN EL PAGO DE APORTES PARAFISCALES",{"$f":"IFERROR(FIND(UPPER('Causas nuevas'!$D$4),B161),0)","v":0},{"$f":"+IF(Hoja3!$C161=0,0,1)","v":0},{"$f":"+E160+Hoja3!$D161","v":1},{"$f":"+Hoja3!$E161*Hoja3!$D161","v":0},"MANTENER",null,null,"ACTIVA","JUDICIAL","Mora o no pago de aportes parafiscales. Toda empresa o unidad productiva que tenga trabajadores vinculados mediante contrato de trabajo debe hacer un aporte equivalente al 9% de su nómina por concepto de aportes parafiscales, los cuales se distribuirán de la siguiente forma: 4% para el subsidio familiar (Cajas de Compensación Familiar), 3% para el Instituto Colombiano de Bienestar Familiar (ICBF) y 2% para el Servicio Nacional de Aprendizaje (SENA).",494,{"$f":"+Hoja3!$B161","v":"INCUMPLIMIENTO EN EL PAGO DE APORTES PARAFISCALES"}]
[{"$f":"+Hoja3!$F162","v":0},"INCUMPLIMIENTO EN EL PAGO DE INTERESES SOBRE EL AUXILIO DE CESANTIA",{"$f":"IFERROR(FIND(UPPER('Causas nuevas'!$D$4),B162),0)","v":0},{"$f":"+IF(Hoja3!$C162=0,0,1)","v":0},{"$f":"+E161+Hoja3!$D162","v":1},{"$f":"+Hoja3!$E162*Hoja3!$D162","v":0},"MANTENER",null,null,"ACTIVA","JUDICIAL","Mora o no pago de los intereses sobre el auxilio de cesantías ya reconocidos. Los intereses sobre el auxilio de cesantías son la utilidad sobre el valor de las cesantías acumuladas al 31 de diciembre que corresponde al 12%.",506,{"$f":"+Hoja3!$B162","v":"INCUMPLIMIENTO EN EL PAGO DE INTERESES SOBRE EL AUXILIO DE CESANTIA"}]
[{"$f":"+Hoja3!$F163","v":0},"LESION A CONSCRIPTO POR EXPLOSION DE MINA ANTIPERSONAL",{"$f":"IFERROR(FIND(UPPER('Causas nuevas'!$D$4),B163),0)","v":0},{"$f":"+IF(Hoja3!$C163=0,0,1)","v":0},{"$f":"+E162+Hoja3!$D163","v":1},{"$f":"+Hoja3!$E163*Hoja3!$D163","v":0},"MANTENER",null,null,"ACTIVA","JUDICIAL","Lesión física o síquica a conscripto (quien presta servicio militar obligatorio) por explosión de mina antipersonal (artefacto explosivo diseñado para herir, mutilar o matar personas; se ubican debajo de la tierra, sobre o cerca de ella y se activan con la presencia, proximidad o contacto de una persona o animal).",620,{"$f":"+Hoja3!$B163","v":"LESION A CONSCRIPTO POR EXPLOSION DE MINA ANTIPERSONAL"}]
[{"$f":"+Hoja3!$F164","v":0},"MUERTE DE CONSCRIPTO POR EXPLOSION DE MINA ANTIPERSONAL",{"$f":"IFERROR(FIND(UPPER('Causas nuevas'!$D$4),B164),0)","v":0},{"$f":"+IF(Hoja3!$C164=0,0,1)","v":0},{"$f":"+E163+Hoja3!$D164","v":1},{"$f":"+Hoja3!$E164*Hoja3!$D164","v":0},"MANTENER",null,null,"ACTIVA","JUDICIAL","Muerte de conscripto (quien presta servicio militar obligatorio) por explosión de mina antipersonal (artefacto explosivo diseñado para herir, mutilar o matar personas; se ubican debajo de la tierra, sobre o cerca de ella y se activan con la presencia, proximidad o contacto de una persona o animal). ",730,{"$f":"+Hoja3!$B164","v":"MUERTE DE CONSCRIPTO POR EXPLOSION DE MINA ANTIPERSONAL"}]
[{"$f":"+Hoja3!$F165","v":0},"LESION A MIEMBRO VOLUNTARIO DE LA FUERZA PUBLICA POR EXPLOSION DE MINA ANTIPERSONAL",{"$f":"IFERROR(FIND(UPPER('Causas nuevas'!$D$4),B165),0)","v":0},{"$f":"+IF(Hoja3!$C165=0,0,1)","v":0},{"$f":"+E164+Hoja3!$D165","v":1},{"$f":"+Hoja3!$E165*Hoja3!$D165","v":0},"MANTENER",null,null,"ACTIVA","JUDICIAL","Lesión física o síquica a miembro voluntario de la fuerza pública (quien no presta servicio militar obligatorio) por explosión de mina antipersonal (artefacto explosivo diseñado para herir, mutilar o matar personas; se ubican debajo de la tierra, sobre o cerca de ella y se activan con la presencia, proximidad o contacto de una persona o animal).",634,{"$f":"+Hoja3!$B165","v":"LESION A MIEMBRO VOLUNTARIO DE LA FUERZA PUBLICA POR EXPLOSION DE MINA ANTIPERSONAL"}]
[{"$f":"+Hoja3!$F166","v":0},"MUERTE DE MIEMBRO VOLUNTARIO DE LA FUERZA PUBLICA POR EXPLOSION DE MINA ANTIPERSONAL",{"$f":"IFERROR(FIND(UPPER('Causas nuevas'!$D$4),B166),0)","v":0},{"$f":"+IF(Hoja3!$C166=0,0,1)","v":0},{"$f":"+E165+Hoja3!$D166","v":1},{"$f":"+Hoja3!$E166*Hoja3!$D166","v":0},"MANTENER",null,null,"ACTIVA","JUDICIAL","Muerte de miembro voluntario de la fuerza pública (quien no presta servicio militar obligatorio) por explosión de mina antipersonal (artefacto explosivo diseñado para herir, mutilar o matar personas; se ubican debajo de la tierra, sobre o cerca de ella y se activan con la presencia, proximidad o contacto de una persona o animal). ",745,{"$f":"+Hoja3!$B166","v":"MUERTE DE MIEMBRO VOLUNTARIO DE LA FUERZA PUBLICA POR EXPLOSION DE MINA ANTIPERSONAL"}]
[{"$f":"+Hoja3!$F167","v":0},"LESION A CIVIL POR GRUPO ARMADO ILEGAL",{"$f":"IFERROR(FIND(UPPER('Causas nuevas'!$D$4),B167),0)","v":0},{"$f":"+IF(Hoja3!$C167=0,0,1)","v":0},{"$f":"+E166+Hoja3!$D167","v":1},{"$f":"+Hoja3!$E167*Hoja3!$D167","v":0},"MANTENER",null,null,"ACTIVA","JUDICIAL","Lesión física o síquica a civil por grupo armado ilegal (guerrilla, autodefensas, bandas criminales). Nota: es subsidiaria a las causas sobre acto terrorista o combate o enfrentamiento.",607,{"$f":"+Hoja3!$B167","v":"LESION A CIVIL POR GRUPO ARMADO ILEGAL"}]
[{"$f":"+Hoja3!$F168","v":0},"DAÑOS CAUSADOS A BIENES POR GRUPO ARMADO ILEGAL",{"$f":"IFERROR(FIND(UPPER('Causas nuevas'!$D$4),B168),0)","v":0},{"$f":"+IF(Hoja3!$C168=0,0,1)","v":0},{"$f":"+E167+Hoja3!$D168","v":1},{"$f":"+Hoja3!$E168*Hoja3!$D168","v":0},"MANTENER",null,null,"ACTIVA","JUDICIAL","Incluye daños a bienes muebles e inmuebles causados por grupo armado ilegal (guerrilla, autodefensas, bandas criminales). Nota: es subsidiaria a las causas sobre acto terrorista o combate o enfrentamiento.",157,{"$f":"+Hoja3!$B168","v":"DAÑOS CAUSADOS A BIENES POR GRUPO ARMADO ILEGAL"}]
[{"$f":"+Hoja3!$F169","v":0},"LESION A CONSCRIPTO DURANTE INSTRUCCION",{"$f":"IFERROR(FIND(UPPER('Causas nuevas'!$D$4),B169),0)","v":0},{"$f":"+IF(Hoja3!$C169=0,0,1)","v":0},{"$f":"+E168+Hoja3!$D169","v":1},{"$f":"+Hoja3!$E169*Hoja3!$D169","v":0},"MANTENER",null,null,"ACTIVA","JUDICIAL","Lesión física o síquica a conscripto (quien presta servicio militar obligatorio) con ocasión de las actividades propias de la instrucción militar o de policía.",613,{"$f":"+Hoja3!$B169","v":"LESION A CONSCRIPTO DURANTE INSTRUCCION"}]
[{"$f":"+Hoja3!$F170","v":0},"LESION A MIEMBRO VOLUNTARIO DE LA FUERZA PUBLICA DURANTE INSTRUCCION",{"$f":"IFERROR(FIND(UPPER('Causas nuevas'!$D$4),B170),0)","v":0},{"$f":"+IF(Hoja3!$C170=0,0,1)","v":0},{"$f":"+E169+Hoja3!$D170","v":1},{"$f":"+Hoja3!$E170*Hoja3!$D170","v":0},"MANTENER",null,null,"ACTIVA","JUDICIAL","Lesión física o síquica a miembro voluntario de la fuerza pública (quien no presta servicio militar obligatorio) con ocasión de las actividades propias de la instrucción militar o de policía.",627,{"$f":"+Hoja3!$B170","v":"LESION A MIEMBRO VOLUNTARIO DE LA FUERZA PUBLICA DURANTE INSTRUCCION"}]
[{"$f":"+Hoja3!$F171","v":0},"INDEBIDA LIQUIDACION DE PRIMA DE ACTIVIDAD",{"$f":"IFERROR(FIND(UPPER('Causas nuevas'!$D$4),B171),0)","v":0},{"$f":"+IF(Hoja3!$C171=0,0,1)","v":0},{"$f":"+E170+Hoja3!$D171","v":1},{"$f":"+Hoja3!$E171*Hoja3!$D171","v":0},"MANTENER",null,null,"ACTIVA","JUDICIAL","Liquidación irregular de la prima de actividad propia de los miembros de la fuerza pública, por lo que se pretende su reliquidación.  La prima de actividad es una partida que el titular devenga durante el tiempo que permanezca en actividad y será estimada en los términos señalados por el artículo 141 del Decreto 1212 de 1990 (Dec. 1793 y 1794 de 2000 uniformados) es reconocida a los miembros de la fuerza pública y a personal no uniformado o civil que laboran para el Ministerio de Defensa.",566,{"$f":"+Hoja3!$B171","v":"INDEBIDA LIQUIDACION DE PRIMA DE ACTIVIDAD"}]
[{"$f":"+Hoja3!$F172","v":0},"INCUMPLIMIENTO EN EL PAGO DE AUXILIO DE CESANTIAS",{"$f":"IFERROR(FIND(UPPER('Causas nuevas'!$D$4),B172),0)","v":0},{"$f":"+IF(Hoja3!$C172=0,0,1)","v":0},{"$f":"+E171+Hoja3!$D172","v":1},{"$f":"+Hoja3!$E172*Hoja3!$D172","v":0},"MANTENER",null,null,"ACTIVA","JUDICIAL","Mora o no pago del auxilio de cesantías ya reconocido. El auxilio de cesantías es una prestación social a cargo del empleador y a favor del trabajador que corresponde en un mes de salario por cada año de servicios prestados o proporcionalmente al tiempo de servicio y tiene como objetivo principal dar un auxilio monetario cuando la persona termine su relación laboral.",496,{"$f":"+Hoja3!$B172","v":"INCUMPLIMIENTO EN EL PAGO DE AUXILIO DE CESANTIAS"}]
[{"$f":"+Hoja3!$F173","v":0},"NO RECONOCIMIENTO DE LA BONIFICACION POR COMPENSACION",{"$f":"IFERROR(FIND(UPPER('Causas nuevas'!$D$4),B173),0)","v":0},{"$f":"+IF(Hoja3!$C173=0,0,1)","v":0},{"$f":"+E172+Hoja3!$D173","v":1},{"$f":"+Hoja3!$E173*Hoja3!$D173","v":0},"MANTENER",null,null,"ACTIVA","JUDICIAL","Desconocimiento del derecho a percibir del derecho a percibir la bonificación por compensación. La bonificación por compensación pretende compensar la diferencia salarial  proporcional del salario mensual en relación con el salario de otros funcionarios de superior jerarquía.",809,{"$f":"+Hoja3!$B173","v":"NO RECONOCIMIENTO DE LA BONIFICACION POR COMPENSACION"}]
[{"$f":"+Hoja3!$F174","v":0},"ACTOS SEXUALES CON MENOR DE CATORCE AÑOS",{"$f":"IFERROR(FIND(UPPER('Causas nuevas'!$D$4),B174),0)","v":0},{"$f":"+IF(Hoja3!$C174=0,0,1)","v":0},{"$f":"+E173+Hoja3!$D174","v":1},{"$f":"+Hoja3!$E174*Hoja3!$D174","v":0},"MANTENER",null,null,"ACTIVA","JUDICIAL","Acceso carnal o acto sexual con menor de catorce años o en su presencia.  ",78,{"$f":"+Hoja3!$B174","v":"ACTOS SEXUALES CON MENOR DE CATORCE AÑOS"}]
[{"$f":"+Hoja3!$F175","v":0},"DAÑOS A BIENES CON ARMA DE DOTACION OFICIAL",{"$f":"IFERROR(FIND(UPPER('Causas nuevas'!$D$4),B175),0)","v":0},{"$f":"+IF(Hoja3!$C175=0,0,1)","v":0},{"$f":"+E174+Hoja3!$D175","v":1},{"$f":"+Hoja3!$E175*Hoja3!$D175","v":0},"MANTENER",null,null,"ACTIVA","JUDICIAL","Daños a bienes muebles e inmuebles por el uso de armas de dotación oficial (aquellas de las que está dotada la fuerza pública para el ejercicio de sus funciones): fusil, granada, bolillo, revólver, pistola, gas pimienta, gases lacrimógenos, balas de salva, etc. ",124,{"$f":"+Hoja3!$B175","v":"DAÑOS A BIENES CON ARMA DE DOTACION OFICIAL"}]
[{"$f":"+Hoja3!$F176","v":0},"DAÑOS CAUSADOS POR MEDIDA DE EXTINCION DE DOMINIO",{"$f":"IFERROR(FIND(UPPER('Causas nuevas'!$D$4),B176),0)","v":0},{"$f":"+IF(Hoja3!$C176=0,0,1)","v":0},{"$f":"+E175+Hoja3!$D176","v":1},{"$f":"+Hoja3!$E176*Hoja3!$D176","v":0},"MANTENER",null,null,"ACTIVA","JUDICIAL","Perjuicios derivados de la perturbación al derecho de dominio sobre bienes muebles e inmuebles, con ocasión de la adopción de medidas de extinción de dominio.",181,{"$f":"+Hoja3!$B176","v":"DAÑOS CAUSADOS POR MEDIDA DE EXTINCION DE DOMINIO"}]
[{"$f":"+Hoja3!$F177","v":0},"CAPTACION ILEGAL DE DINERO",{"$f":"IFERROR(FIND(UPPER('Causas nuevas'!$D$4),B177),0)","v":0},{"$f":"+IF(Hoja3!$C177=0,0,1)","v":0},{"$f":"+E176+Hoja3!$D177","v":1},{"$f":"+Hoja3!$E177*Hoja3!$D177","v":0},"MANTENER",null,null,"ACTIVA","JUDICIAL","Omisión en el deber de inspección, vigilancia y control frente a las captadoras ilegales de dinero.",87,{"$f":"+Hoja3!$B177","v":"CAPTACION ILEGAL DE DINERO"}]
[{"$f":"+Hoja3!$F178","v":0},"NO RECONOCIMIENTO DE REGALIAS",{"$f":"IFERROR(FIND(UPPER('Causas nuevas'!$D$4),B178),0)","v":0},{"$f":"+IF(Hoja3!$C178=0,0,1)","v":0},{"$f":"+E177+Hoja3!$D178","v":1},{"$f":"+Hoja3!$E178*Hoja3!$D178","v":0},"MANTENER",null,null,"ACTIVA","JUDICIAL","No reconocimiento de regalías.  La explotación de un recurso natural no renovable causará, a favor del Estado, una contraprestación económica a título de regalía, cuya distribución, objetivos, fines, administración, ejecución, control, uso eficiente y destinación, precisando las condiciones de participación de sus beneficiarios se hace a través del Sistema General de Regalías. El vicio del acto puede ser la expedición con infracción de las normas en que debería fundarse, o sin competencia, o en forma irregular, o con desconocimiento del derecho de audiencia y defensa, o mediante falsa motivación, o con falta de motivación, o con desviación de las atribuciones propias de quien lo profirió, o con violación del debido proceso administrativo.",830,{"$f":"+Hoja3!$B178","v":"NO RECONOCIMIENTO DE REGALIAS"}]
[{"$f":"+Hoja3!$F179","v":0},"MUERTE ACCIDENTAL O FORTUITA A MIEMBRO VOLUNTARIO DE LA FUERZA PUBLICA",{"$f":"IFERROR(FIND(UPPER('Causas nuevas'!$D$4),B179),0)","v":0},{"$f":"+IF(Hoja3!$C179=0,0,1)","v":0},{"$f":"+E178+Hoja3!$D179","v":1},{"$f":"+Hoja3!$E179*Hoja3!$D179","v":0},"MANTENER",null,null,"ACTIVA","JUDICIAL","Muerte de miembro voluntario de la fuerza pública (quien no presta servicio militar obligatorio) causada accidentalmente o de manera fortuita.",696,{"$f":"+Hoja3!$B179","v":"MUERTE ACCIDENTAL O FORTUITA A MIEMBRO VOLUNTARIO DE LA FUERZA PUBLICA"}]
[{"$f":"+Hoja3!$F180","v":0},"LESION A TERCERO POR EJECUCION DE OBRA PUBLICA",{"$f":"IFERROR(FIND(UPPER('Causas nuevas'!$D$4),B180),0)","v":0},{"$f":"+IF(Hoja3!$C180=0,0,1)","v":0},{"$f":"+E179+Hoja3!$D180","v":1},{"$f":"+Hoja3!$E180*Hoja3!$D180","v":0},"MANTENER",null,null,"ACTIVA","JUDICIAL","Lesión física o síquica causada a terceros (no operador de la obra) por ejecución de obra pública. ",642,{"$f":"+Hoja3!$B180","v":"LESION A TERCERO POR EJECUCION DE OBRA PUBLICA"}]
[{"$f":"+Hoja3!$F181","v":0},"MUERTE DE CONSCRIPTO EN INSTRUCCION",{"$f":"IFERROR(FIND(UPPER('Causas nuevas'!$D$4),B181),0)","v":0},{"$f":"+IF(Hoja3!$C181=0,0,1)","v":0},{"$f":"+E180+Hoja3!$D181","v":1},{"$f":"+Hoja3!$E181*Hoja3!$D181","v":0},"MANTENER",null,null,"ACTIVA","JUDICIAL","Muerte de conscripto (quien presta servicio militar obligatorio) con ocasión de las actividades propias de la instrucción militar o de policía.",724,{"$f":"+Hoja3!$B181","v":"MUERTE DE CONSCRIPTO EN INSTRUCCION"}]
[{"$f":"+Hoja3!$F182","v":0},"MUERTE DE MIEMBRO VOLUNTARIO DE LA FUERZA PUBLICA POR ACTO TERRORISTA",{"$f":"IFERROR(FIND(UPPER('Causas nuevas'!$D$4),B182),0)","v":0},{"$f":"+IF(Hoja3!$C182=0,0,1)","v":0},{"$f":"+E181+Hoja3!$D182","v":1},{"$f":"+Hoja3!$E182*Hoja3!$D182","v":0},"MANTENER",null,null,"ACTIVA","JUDICIAL","Muerte de miembro voluntario de la fuerza pública (quien no presta servicio militar obligatorio) con ocasión de un acto terrorista (acto cuya finalidad es la de generar sosobra en la población civil y desestabilización del estamento militar y/o gubernamental).",743,{"$f":"+Hoja3!$B182","v":"MUERTE DE MIEMBRO VOLUNTARIO DE LA FUERZA PUBLICA POR ACTO TERRORISTA"}]
[{"$f":"+Hoja3!$F183","v":0},"LESION A MIEMBRO VOLUNTARIO DE LA FUERZA PUBLICA POR ACTO TERRORISTA",{"$f":"IFERROR(FIND(UPPER('Causas nuevas'!$D$4),B183),0)","v":0},{"$f":"+IF(Hoja3!$C183=0,0,1)","v":0},{"$f":"+E182+Hoja3!$D183","v":1},{"$f":"+Hoja3!$E183*Hoja3!$D183","v":0},"MANTENER",null,null,"ACTIVA","JUDICIAL","Lesión física o síquica a miembro voluntario de la fuerza pública (quien no presta servicio militar obligatorio) con ocasión de un acto terrorista (acto cuya finalidad es la de generar sosobra en la población civil y desestabilización del estamento militar y/o gubernamental).",633,{"$f":"+Hoja3!$B183","v":"LESION A MIEMBRO VOLUNTARIO DE LA FUERZA PUBLICA POR ACTO TERRORISTA"}]
[{"$f":"+Hoja3!$F184","v":0},"LESION A CONSCRIPTO POR ACTO TERRORISTA",{"$f":"IFERROR(FIND(UPPER('Causas nuevas'!$D$4),B184),0)","v":0},{"$f":"+IF(Hoja3!$C184=0,0,1)","v":0},{"$f":"+E183+Hoja3!$D184","v":1},{"$f":"+Hoja3!$E184*Hoja3!$D184","v":0},"MANTENER",null,null,"ACTIVA","JUDICIAL","Lesión física o síquica a conscripto (quien presta servicio militar obligatorio) con ocasión de un acto terrorista (acto cuya finalidad es la de generar sosobra en la población civil y desestabilización del estamento militar y/o gubernamental).",619,{"$f":"+Hoja3!$B184","v":"LESION A CONSCRIPTO POR ACTO TERRORISTA"}]
[{"$f":"+Hoja3!$F185","v":0},"MUERTE DE CONSCRIPTO POR ACTO TERRORISTA",{"$f":"IFERROR(FIND(UPPER('Causas nuevas'!$D$4),B185),0)","v":0},{"$f":"+IF(Hoja3!$C185=0,0,1)","v":0},{"$f":"+E184+Hoja3!$D185","v":1},{"$f":"+Hoja3!$E185*Hoja3!$D185","v":0},"MANTENER",null,null,"ACTIVA","JUDICIAL","Muerte de conscripto (quien presta servicio militar obligatorio) con ocasión de un acto terrorista (acto cuya finalidad es la de generar sosobra en la población civil y desestabilización del estamento militar y/o gubernamental).",728,{"$f":"+Hoja3!$B185","v":"MUERTE DE CONSCRIPTO POR ACTO TERRORISTA"}]
[{"$f":"+Hoja3!$F186","v":0},"MUERTE DE TERCERO POR EJECUCION DE OBRA PUBLICA",{"$f":"IFERROR(FIND(UPPER('Causas nuevas'!$D$4),B186),0)","v":0},{"$f":"+IF(Hoja3!$C186=0,0,1)","v":0},{"$f":"+E185+Hoja3!$D186","v":1},{"$f":"+Hoja3!$E186*Hoja3!$D186","v":0},"MANTENER",null,null,"ACTIVA","JUDICIAL","Muerte causada a terceros (no operador de la obra) por la ejecución de obra pública. ",755,{"$f":"+Hoja3!$B186","v":"MUERTE DE TERCERO POR EJECUCION DE OBRA PUBLICA"}]
[{"$f":"+Hoja3!$F187","v":0},"MUERTE DE OPERADOR POR EJECUCION DE OBRA PUBLICA",{"$f":"IFERROR(FIND(UPPER('Causas nuevas'!$D$4),B187),0)","v":0},{"$f":"+IF(Hoja3!$C187=0,0,1)","v":0},{"$f":"+E186+Hoja3!$D187","v":1},{"$f":"+Hoja3!$E187*Hoja3!$D187","v":0},"MANTENER",null,null,"ACTIVA","JUDICIAL","Muerte causada a operador (obreros, arquitectos, ingenieros, interventores, contratistas, subcontratistas) por ejecusión de obra pública.",747,{"$f":"+Hoja3!$B187","v":"MUERTE DE OPERADOR POR EJECUCION DE OBRA PUBLICA"}]
[{"$f":"+Hoja3!$F188","v":0},"PAGO DE CONDENA O CONCILIACION POR ACTUACION DOLOSA O GRAVEMENTE CULPOSA DE SERVIDOR O EX SERVIDOR PUBLICO O PARTICULAR EN EJERCICIO DE FUNCIONES PUBLICAS",{"$f":"IFERROR(FIND(UPPER('Causas nuevas'!$D$4),B188),0)","v":0},{"$f":"+IF(Hoja3!$C188=0,0,1)","v":0},{"$f":"+E187+Hoja3!$D188","v":1},{"$f":"+Hoja3!$E188*Hoja3!$D188","v":0},"MANTENER",null,null,"ACTIVA","JUDICIAL","Recuperación de dineros públicos cuando el Estado haya debido hacer un pago con ocasión de una condena, conciliación u otra forma de terminación de conflictos que sean consecuencia de la conducta dolosa o gravemente culposa del servidor o ex servidor público o del particular en ejercicio de funciones públicas.",864,{"$f":"+Hoja3!$B188","v":"PAGO DE CONDENA O CONCILIACION POR ACTUACION DOLOSA O GRAVEMENTE CULPOSA DE SERVIDOR O EX SERVIDOR PUBLICO O PARTICULAR EN EJERCICIO DE FUNCIONES PUBLICAS"}]
[{"$f":"+Hoja3!$F189","v":0},"ILEGALIDAD DEL ACTO ADMINISTRATIVO QUE IMPONE SANCION A LOS USUARIOS DE SERVICIOS PUBLICOS DOMICILIARIOS",{"$f":"IFERROR(FIND(UPPER('Causas nuevas'!$D$4),B189),0)","v":0},{"$f":"+IF(Hoja3!$C189=0,0,1)","v":0},{"$f":"+E188+Hoja3!$D189","v":1},{"$f":"+Hoja3!$E189*Hoja3!$D189","v":0},"MANTENER",null,null,"ACTIVA","JUDICIAL","Acto administrativo presuntamente viciado de ilegalidad que impone sanciones a los usuarios de servicios públicos dominiliarios por parte de las empresas prestadoras. El vicio del acto puede ser la expedición con infracción de las normas en que debería fundarse, o sin competencia, o en forma irregular, o con desconocimiento del derecho de audiencia y defensa, o mediante falsa motivación, o con falta de motivación, o con desviación de las atribuciones propias de quien lo profirió, o con violación del debido proceso administrativo.",329,{"$f":"+Hoja3!$B189","v":"ILEGALIDAD DEL ACTO ADMINISTRATIVO QUE IMPONE SANCION A LOS USUARIOS DE SERVICIOS PUBLICOS DOMICILIARIOS"}]
[{"$f":"+Hoja3!$F190","v":0},"ILEGALIDAD DEL ACTO ADMINISTRATIVO QUE ESTABLECE CUPOS DE COMBUSTIBLE LIBRE DE IMPUESTOS",{"$f":"IFERROR(FIND(UPPER('Causas nuevas'!$D$4),B190),0)","v":0},{"$f":"+IF(Hoja3!$C190=0,0,1)","v":0},{"$f":"+E189+Hoja3!$D190","v":1},{"$f":"+Hoja3!$E190*Hoja3!$D190","v":0},"MANTENER",null,null,"ACTIVA","JUDICIAL","Acto administrativo presuntamente viciado de ilegalidad que establece la asignación de volúmenes máximos de combustibles libres de impuestos en zonas de frontera. El vicio del acto puede ser la expedición con infracción de las normas en que debería fundarse, o sin competencia, o en forma irregular, o con desconocimiento del derecho de audiencia y defensa, o mediante falsa motivación, o con falta de motivación, o con desviación de las atribuciones propias de quien lo profirió, o con violación del debido proceso administrativo.",322,{"$f":"+Hoja3!$B190","v":"ILEGALIDAD DEL ACTO ADMINISTRATIVO QUE ESTABLECE CUPOS DE COMBUSTIBLE LIBRE DE IMPUESTOS"}]
[{"$f":"+Hoja3!$F191","v":0},"INDEBIDA CONSTITUCION DE SINDICATO",{"$f":"IFERROR(FIND(UPPER('Causas nuevas'!$D$4),B191),0)","v":0},{"$f":"+IF(Hoja3!$C191=0,0,1)","v":0},{"$f":"+E190+Hoja3!$D191","v":1},{"$f":"+Hoja3!$E191*Hoja3!$D191","v":0},"MANTENER",null,null,"ACTIVA","JUDICIAL","Indebida constitución de una organizaión sindical, por lo que pretende la declaratoria de ilegalidad de la constitución del sindicato y su consecuente disolución y liquidación. ",543,{"$f":"+Hoja3!$B191","v":"INDEBIDA CONSTITUCION DE SINDICATO"}]
[{"$f":"+Hoja3!$F192","v":0},"DESCUENTO ILEGAL A LA MESADA PENSIONAL",{"$f":"IFERROR(FIND(UPPER('Causas nuevas'!$D$4),B192),0)","v":0},{"$f":"+IF(Hoja3!$C192=0,0,1)","v":0},{"$f":"+E191+Hoja3!$D192","v":1},{"$f":"+Hoja3!$E192*Hoja3!$D192","v":0},"MANTENER",null,null,"ACTIVA","JUDICIAL","Descuento a las mesadas pensionales no autorizado legalmente.",217,{"$f":"+Hoja3!$B192","v":"DESCUENTO ILEGAL A LA MESADA PENSIONAL"}]
[{"$f":"+Hoja3!$F193","v":0},"DESCONOCIMIENTO DE TRASLADO DE REGIMEN PENSIONAL",{"$f":"IFERROR(FIND(UPPER('Causas nuevas'!$D$4),B193),0)","v":0},{"$f":"+IF(Hoja3!$C193=0,0,1)","v":0},{"$f":"+E192+Hoja3!$D193","v":1},{"$f":"+Hoja3!$E193*Hoja3!$D193","v":0},"MANTENER",null,null,"ACTIVA","JUDICIAL","Desconocimiento del derecho de los afiliados al sistema de seguridad social en pensiones a cambiar del régimen pensional de ahorro individual con solidaridad al de prima media con prestación definida o viceversa.",209,{"$f":"+Hoja3!$B193","v":"DESCONOCIMIENTO DE TRASLADO DE REGIMEN PENSIONAL"}]
[{"$f":"+Hoja3!$F194","v":0},"NO RECONOCIMIENTO DE CUOTA PARTE PENSIONAL",{"$f":"IFERROR(FIND(UPPER('Causas nuevas'!$D$4),B194),0)","v":0},{"$f":"+IF(Hoja3!$C194=0,0,1)","v":0},{"$f":"+E193+Hoja3!$D194","v":1},{"$f":"+Hoja3!$E194*Hoja3!$D194","v":0},"MANTENER",null,null,"ACTIVA","JUDICIAL","Desconocimiento del deber de aportar cuota parte pensional. Las cuotas partes pensionales contribuyen al financiamiento de las pensiones que otorga Colpensiones y se derivan de los periodos laborados con entidades públicas que aportaban a cajas o fondos diferentes al ISS en L., antes de la entrada en vigencia de la Ley 100 de 1993, y que se acumulan para el cómputo del tiempo requerido para tener derecho a la pensión. El trámite de cobro de la cuota parte es interadministrativo, es decir que, la liquidación es un trámite interno de Colpensiones y el cobro se realiza directamente a la(s) entidad(es) donde el ciudadano trabajó o aportó.",797,{"$f":"+Hoja3!$B194","v":"NO RECONOCIMIENTO DE CUOTA PARTE PENSIONAL"}]
[{"$f":"+Hoja3!$F195","v":0},"INDEBIDA LIQUIDACION DE CUOTA PARTE PENSIONAL",{"$f":"IFERROR(FIND(UPPER('Causas nuevas'!$D$4),B195),0)","v":0},{"$f":"+IF(Hoja3!$C195=0,0,1)","v":0},{"$f":"+E194+Hoja3!$D195","v":1},{"$f":"+Hoja3!$E195*Hoja3!$D195","v":0},"MANTENER",null,null,"ACTIVA","JUDICIAL","Liquidación irregular de cuota parte pensional, se pretende su reliquidación. Las cuotas partes pensionales contribuyen al financiamiento de las pensiones que otorga Colpensiones y se derivan de los periodos laborados con entidades públicas que aportaban a cajas o fondos diferentes al ISS en L., antes de la entrada en vigencia de la Ley 100 de 1993, y que se acumulan para el cómputo del tiempo requerido para tener derecho a la pensión. El trámite de cobro de la cuota parte es interadministrativo, es decir que, la liquidación es un trámite interno de Colpensiones y el cobro se realiza directamente a la(s) entidad(es) donde el ciudadano trabajó o aportó.",547,{"$f":"+Hoja3!$B195","v":"INDEBIDA LIQUIDACION DE CUOTA PARTE PENSIONAL"}]
[{"$f":"+Hoja3!$F196","v":0},"INDEBIDA LIQUIDACION DE ASIGNACION DE RETIRO",{"$f":"IFERROR(FIND(UPPER('Causas nuevas'!$D$4),B196),0)","v":0},{"$f":"+IF(Hoja3!$C196=0,0,1)","v":0},{"$f":"+E195+Hoja3!$D196","v":1},{"$f":"+Hoja3!$E196*Hoja3!$D196","v":0},"MANTENER",null,null,"ACTIVA","JUDICIAL","Liquidación irregular de la asignación de retiro, por lo que se pretende su reliquidación. La asignación de retiro es una prestación económica a la que tienen derecho los miembros de la Fuerza Pública a partir de su retiro del servicio activo y tras el cumplimiento de determinados requisitos; se asemeja a la pensión de vejez.",545,{"$f":"+Hoja3!$B196","v":"INDEBIDA LIQUIDACION DE ASIGNACION DE RETIRO"}]
[{"$f":"+Hoja3!$F197","v":0},"NO RECONOCIMIENTO DE SUSTITUCION DE LA ASIGNACION DE RETIRO",{"$f":"IFERROR(FIND(UPPER('Causas nuevas'!$D$4),B197),0)","v":0},{"$f":"+IF(Hoja3!$C197=0,0,1)","v":0},{"$f":"+E196+Hoja3!$D197","v":1},{"$f":"+Hoja3!$E197*Hoja3!$D197","v":0},"MANTENER",null,null,"ACTIVA","JUDICIAL","Desconocimiento del derecho a percibir la sustitución de la asignación de retiro. La asignación de retiro es una prestación económica cuya finalidad es asimilable a la de la pensión de sobrevivientes reconocida en el Sistema General de Pensiones y se causa por la muerte del beneficiario directo de la asignación de retiro. ",836,{"$f":"+Hoja3!$B197","v":"NO RECONOCIMIENTO DE SUSTITUCION DE LA ASIGNACION DE RETIRO"}]
[{"$f":"+Hoja3!$F198","v":0},"LESION A MIEMBRO VOLUNTARIO DE LA FUERZA PUBLICA CON VEHICULO OFICIAL",{"$f":"IFERROR(FIND(UPPER('Causas nuevas'!$D$4),B198),0)","v":0},{"$f":"+IF(Hoja3!$C198=0,0,1)","v":0},{"$f":"+E197+Hoja3!$D198","v":1},{"$f":"+Hoja3!$E198*Hoja3!$D198","v":0},"MANTENER",null,null,"ACTIVA","JUDICIAL","Lesión física o síquica a miembro voluntario de la fuerza pública (quien no presta servicio militar obligatorio) con ocasión de la actividad peligrosa de conducción de vehículos de uso oficial.",625,{"$f":"+Hoja3!$B198","v":"LESION A MIEMBRO VOLUNTARIO DE LA FUERZA PUBLICA CON VEHICULO OFICIAL"}]
[{"$f":"+Hoja3!$F199","v":0},"MUERTE DE MIEMBRO VOLUNTARIO DE LA FUERZA PUBLICA CON VEHICULO OFICIAL",{"$f":"IFERROR(FIND(UPPER('Causas nuevas'!$D$4),B199),0)","v":0},{"$f":"+IF(Hoja3!$C199=0,0,1)","v":0},{"$f":"+E198+Hoja3!$D199","v":1},{"$f":"+Hoja3!$E199*Hoja3!$D199","v":0},"MANTENER",null,null,"ACTIVA","JUDICIAL","Muerte de miembro voluntario de la fuerza pública (quien no presta servicio militar obligatorio) con ocasión de la actividad peligrosa de conducción de vehículos de uso oficial.",735,{"$f":"+Hoja3!$B199","v":"MUERTE DE MIEMBRO VOLUNTARIO DE LA FUERZA PUBLICA CON VEHICULO OFICIAL"}]
[{"$f":"+Hoja3!$F200","v":0},"LESION A MIEMBRO VOLUNTARIO DE LA FUERZA PUBLICA CON AERONAVE OFICIAL",{"$f":"IFERROR(FIND(UPPER('Causas nuevas'!$D$4),B200),0)","v":0},{"$f":"+IF(Hoja3!$C200=0,0,1)","v":0},{"$f":"+E199+Hoja3!$D200","v":1},{"$f":"+Hoja3!$E200*Hoja3!$D200","v":0},"MANTENER",null,null,"ACTIVA","JUDICIAL","Lesión física o síquica a miembro voluntario de la fuerza pública (quien no presta servicio militar obligatorio) con ocasión de la actividad peligrosa de pilotaje de aeronaves de uso oficial.",621,{"$f":"+Hoja3!$B200","v":"LESION A MIEMBRO VOLUNTARIO DE LA FUERZA PUBLICA CON AERONAVE OFICIAL"}]
[{"$f":"+Hoja3!$F201","v":0},"MUERTE DE MIEMBRO VOLUNTARIO DE LA FUERZA PUBLICA CON AERONAVE OFICIAL",{"$f":"IFERROR(FIND(UPPER('Causas nuevas'!$D$4),B201),0)","v":0},{"$f":"+IF(Hoja3!$C201=0,0,1)","v":0},{"$f":"+E200+Hoja3!$D201","v":1},{"$f":"+Hoja3!$E201*Hoja3!$D201","v":0},"MANTENER",null,null,"ACTIVA","JUDICIAL","Muerte de miembro voluntario de la fuerza pública (quien no presta servicio militar obligatorio) con ocasión de la actividad peligrosa de pilotaje de aeronaves de uso oficial.",731,{"$f":"+Hoja3!$B201","v":"MUERTE DE MIEMBRO VOLUNTARIO DE LA FUERZA PUBLICA CON AERONAVE OFICIAL"}]
[{"$f":"+Hoja3!$F202","v":0},"LESION A MIEMBRO VOLUNTARIO DE LA FUERZA PUBLICA CON NAVE OFICIAL",{"$f":"IFERROR(FIND(UPPER('Causas nuevas'!$D$4),B202),0)","v":0},{"$f":"+IF(Hoja3!$C202=0,0,1)","v":0},{"$f":"+E201+Hoja3!$D202","v":1},{"$f":"+Hoja3!$E202*Hoja3!$D202","v":0},"MANTENER",null,null,"ACTIVA","JUDICIAL","Lesión física o síquica a miembro voluntario de la fuerza pública (quien no presta servicio militar obligatorio) con ocasión de la actividad peligrosa de conducción de naves de uso oficial.",624,{"$f":"+Hoja3!$B202","v":"LESION A MIEMBRO VOLUNTARIO DE LA FUERZA PUBLICA CON NAVE OFICIAL"}]
[{"$f":"+Hoja3!$F203","v":0},"MUERTE DE MIEMBRO VOLUNTARIO DE LA FUERZA PUBLICA CON NAVE OFICIAL",{"$f":"IFERROR(FIND(UPPER('Causas nuevas'!$D$4),B203),0)","v":0},{"$f":"+IF(Hoja3!$C203=0,0,1)","v":0},{"$f":"+E202+Hoja3!$D203","v":1},{"$f":"+Hoja3!$E203*Hoja3!$D203","v":0},"MANTENER",null,null,"ACTIVA","JUDICIAL","Muerte de miembro voluntario de la fuerza pública (quien no presta servicio militar obligatorio) con ocasión de la actividad peligrosa de conducción de naves de uso oficial.",734,{"$f":"+Hoja3!$B203","v":"MUERTE DE MIEMBRO VOLUNTARIO DE LA FUERZA PUBLICA CON NAVE OFICIAL"}]
[{"$f":"+Hoja3!$F204","v":0},"LESION A CONSCRIPTO CON VEHICULO OFICIAL",{"$f":"IFERROR(FIND(UPPER('Causas nuevas'!$D$4),B204),0)","v":0},{"$f":"+IF(Hoja3!$C204=0,0,1)","v":0},{"$f":"+E203+Hoja3!$D204","v":1},{"$f":"+Hoja3!$E204*Hoja3!$D204","v":0},"MANTENER",null,null,"ACTIVA","JUDICIAL","Lesión física o síquica a conscripto (quien presta servicio militar obligatorio) con ocasión de la actividad peligrosa de conducción de vehículos de uso oficial.",611,{"$f":"+Hoja3!$B204","v":"LESION A CONSCRIPTO CON VEHICULO OFICIAL"}]
[{"$f":"+Hoja3!$F205","v":0},"MUERTE DE CONSCRIPTO CON VEHICULO OFICIAL",{"$f":"IFERROR(FIND(UPPER('Causas nuevas'!$D$4),B205),0)","v":0},{"$f":"+IF(Hoja3!$C205=0,0,1)","v":0},{"$f":"+E204+Hoja3!$D205","v":1},{"$f":"+Hoja3!$E205*Hoja3!$D205","v":0},"MANTENER",null,null,"ACTIVA","JUDICIAL","Muerte de conscripto (quien presta servicio militar obligatorio) con ocasión de la actividad peligrosa de conducción de vehículos de uso oficial.",720,{"$f":"+Hoja3!$B205","v":"MUERTE DE CONSCRIPTO CON VEHICULO OFICIAL"}]
[{"$f":"+Hoja3!$F206","v":0},"LESION A CONSCRIPTO CON AERONAVE OFICIAL",{"$f":"IFERROR(FIND(UPPER('Causas nuevas'!$D$4),B206),0)","v":0},{"$f":"+IF(Hoja3!$C206=0,0,1)","v":0},{"$f":"+E205+Hoja3!$D206","v":1},{"$f":"+Hoja3!$E206*Hoja3!$D206","v":0},"MANTENER",null,null,"ACTIVA","JUDICIAL","Lesión física o síquica a conscripto (quien presta servicio militar obligatorio) con ocasión de la actividad peligrosa de pilotaje de aeronaves de uso oficial.",608,{"$f":"+Hoja3!$B206","v":"LESION A CONSCRIPTO CON AERONAVE OFICIAL"}]
[{"$f":"+Hoja3!$F207","v":0},"MUERTE DE CONSCRIPTO CON AERONAVE OFICIAL",{"$f":"IFERROR(FIND(UPPER('Causas nuevas'!$D$4),B207),0)","v":0},{"$f":"+IF(Hoja3!$C207=0,0,1)","v":0},{"$f":"+E206+Hoja3!$D207","v":1},{"$f":"+Hoja3!$E207*Hoja3!$D207","v":0},"MANTENER",null,null,"ACTIVA","JUDICIAL","Muerte de conscripto (quien presta servicio militar obligatorio) con ocasión de la actividad peligrosa de pilotaje de aeronaves de uso oficial.",717,{"$f":"+Hoja3!$B207","v":"MUERTE DE CONSCRIPTO CON AERONAVE OFICIAL"}]
[{"$f":"+Hoja3!$F208","v":0},"MUERTE DE CONSCRIPTO CON NAVE OFICIAL",{"$f":"IFERROR(FIND(UPPER('Causas nuevas'!$D$4),B208),0)","v":0},{"$f":"+IF(Hoja3!$C208=0,0,1)","v":0},{"$f":"+E207+Hoja3!$D208","v":1},{"$f":"+Hoja3!$E208*Hoja3!$D208","v":0},"MANTENER",null,null,"ACTIVA","JUDICIAL","Muerte de conscripto (quien presta servicio militar obligatorio) con ocasión de la actividad peligrosa de conducción de naves de uso oficial.",719,{"$f":"+Hoja3!$B208","v":"MUERTE DE CONSCRIPTO CON NAVE OFICIAL"}]
[{"$f":"+Hoja3!$F209","v":0},"EXISTENCIA O INEXISTENCIA DEL CONTRATO",{"$f":"IFERROR(FIND(UPPER('Causas nuevas'!$D$4),B209),0)","v":0},{"$f":"+IF(Hoja3!$C209=0,0,1)","v":0},{"$f":"+E208+Hoja3!$D209","v":1},{"$f":"+Hoja3!$E209*Hoja3!$D209","v":0},"MANTENER",null,null,"ACTIVA","JUDICIAL","Controversias suscitadas en torno a la verificación del cumplimiento de los requisitos indispensables para el perfeccionamiento de los contratos estatales.",38,{"$f":"+Hoja3!$B209","v":"EXISTENCIA O INEXISTENCIA DEL CONTRATO"}]
[{"$f":"+Hoja3!$F210","v":0},"INCUMPLIMIENTO DE LAS OBLIGACIONES CONSIGNADAS EN EL ACTA DE LIQUIDACION DEL CONTRATO",{"$f":"IFERROR(FIND(UPPER('Causas nuevas'!$D$4),B210),0)","v":0},{"$f":"+IF(Hoja3!$C210=0,0,1)","v":0},{"$f":"+E209+Hoja3!$D210","v":1},{"$f":"+Hoja3!$E210*Hoja3!$D210","v":0},"MANTENER",null,null,"ACTIVA","JUDICIAL","Mora o no pago de las obligaciones contenidas en el acta de liquidación bilateral de un contrato estatal.",480,{"$f":"+Hoja3!$B210","v":"INCUMPLIMIENTO DE LAS OBLIGACIONES CONSIGNADAS EN EL ACTA DE LIQUIDACION DEL CONTRATO"}]
[{"$f":"+Hoja3!$F211","v":0},"INCUMPLIMIENTO DEL ACTO ADMINISTRATIVO QUE LIQUIDA UN CONTRATO",{"$f":"IFERROR(FIND(UPPER('Causas nuevas'!$D$4),B211),0)","v":0},{"$f":"+IF(Hoja3!$C211=0,0,1)","v":0},{"$f":"+E210+Hoja3!$D211","v":1},{"$f":"+Hoja3!$E211*Hoja3!$D211","v":0},"MANTENER",null,null,"ACTIVA","JUDICIAL","Mora o no pago de las obligaciones contenidas en el acto administrativo que liquida unilateralmente un contrato estatal.",487,{"$f":"+Hoja3!$B211","v":"INCUMPLIMIENTO DEL ACTO ADMINISTRATIVO QUE LIQUIDA UN CONTRATO"}]
[{"$f":"+Hoja3!$F212","v":0},"OMISION EN LAS FUNCIONES DE INSPECCION, VIGILANCIA Y CONTROL",{"$f":"IFERROR(FIND(UPPER('Causas nuevas'!$D$4),B212),0)","v":0},{"$f":"+IF(Hoja3!$C212=0,0,1)","v":0},{"$f":"+E211+Hoja3!$D212","v":1},{"$f":"+Hoja3!$E212*Hoja3!$D212","v":0},"MANTENER",null,null,"ACTIVA","JUDICIAL","No ejercicio, ejercicio deficiente o ejercicio tardío de las funciones constitucionales presidenciales de inspección, vigilancia y control sobre los entes que realizan diversas actividades económicas, generalmente delegadas a las superintendencias.",862,{"$f":"+Hoja3!$B212","v":"OMISION EN LAS FUNCIONES DE INSPECCION, VIGILANCIA Y CONTROL"}]
[{"$f":"+Hoja3!$F213","v":0},"ILEGALIDAD DEL ACTO ADMINISTRATIVO QUE NOMBRA FUNCIONARIO PUBLICO DESCONOCIENDO EL REGIMEN DE CARRERA DIPLOMATICA Y CONSULAR",{"$f":"IFERROR(FIND(UPPER('Causas nuevas'!$D$4),B213),0)","v":0},{"$f":"+IF(Hoja3!$C213=0,0,1)","v":0},{"$f":"+E212+Hoja3!$D213","v":1},{"$f":"+Hoja3!$E213*Hoja3!$D213","v":0},"MANTENER",null,null,"ACTIVA","JUDICIAL","Acto administrativo que nombra a un servidor público con desconocimiento del régimen de carrera diplomática o consular.",430,{"$f":"+Hoja3!$B213","v":"ILEGALIDAD DEL ACTO ADMINISTRATIVO QUE NOMBRA FUNCIONARIO PUBLICO DESCONOCIENDO EL REGIMEN DE CARRERA DIPLOMATICA Y CONSULAR"}]
[{"$f":"+Hoja3!$F214","v":0},"PERJUICIOS OCASIONADOS POR INSTAURAR UN PROCESO JUDICIAL INFUNDADO",{"$f":"IFERROR(FIND(UPPER('Causas nuevas'!$D$4),B214),0)","v":0},{"$f":"+IF(Hoja3!$C214=0,0,1)","v":0},{"$f":"+E213+Hoja3!$D214","v":1},{"$f":"+Hoja3!$E214*Hoja3!$D214","v":0},"MANTENER",null,null,"ACTIVA","JUDICIAL","Abuso del derecho de acceso a la administración de justicia, temeridad.",875,{"$f":"+Hoja3!$B214","v":"PERJUICIOS OCASIONADOS POR INSTAURAR UN PROCESO JUDICIAL INFUNDADO"}]
[{"$f":"+Hoja3!$F215","v":0},"NO RECONOCIMIENTO DE LOS TRES (3) MESES DE ALTA ESTABLECIDOS EN EL DECRETO 1214 DE 1990",{"$f":"IFERROR(FIND(UPPER('Causas nuevas'!$D$4),B215),0)","v":0},{"$f":"+IF(Hoja3!$C215=0,0,1)","v":0},{"$f":"+E214+Hoja3!$D215","v":1},{"$f":"+Hoja3!$E215*Hoja3!$D215","v":0},"MANTENER",null,null,"ACTIVA","JUDICIAL","Desconocimiento del derecho a percibir los tres (3) meses de alta establecidos en el Decreto 1214 de 1990. Los empleados públicos del Ministerio de Defensa y de la Policía Nacional que sean retirados con derecho a pensión o que queden cesantes, con diez (10) o más años de servicio continuo, por causa distinta a mala conducta comprobada, abandono del cargo o incumplimiento de los deberes inherentes al mismo, tienen derecho a continuar de alta en la contaduría o pagaduría respectiva por el término de tres (3) meses, a partir de la fecha en que se cause la novedad de retiro, para la formación del expediente de prestaciones sociales; en caso de fallecimiento del empleado público, este derecho se reconocerá a sus beneficiarios.",815,{"$f":"+Hoja3!$B215","v":"NO RECONOCIMIENTO DE LOS TRES (3) MESES DE ALTA ESTABLECIDOS EN EL DECRETO 1214 DE 1990"}]
[{"$f":"+Hoja3!$F216","v":0},"ILEGALIDAD DEL ACTO ADMINISTRATIVO QUE IMPONE SANCION POR PRACTICA RESTRICTIVA DE LA COMPETENCIA",{"$f":"IFERROR(FIND(UPPER('Causas nuevas'!$D$4),B216),0)","v":0},{"$f":"+IF(Hoja3!$C216=0,0,1)","v":0},{"$f":"+E215+Hoja3!$D216","v":1},{"$f":"+Hoja3!$E216*Hoja3!$D216","v":0},"MANTENER",null,null,"ACTIVA","JUDICIAL","Acto administrativo presuntamente viciado de ilegalidad que impone sanciones por práctica restrictiva de la competencia. Las prácticas susceptibles de distorsionar la competencia comprenden, entre otros, todo acuerdo entre dos o más empresas que prevenga, restrinja, o distorsione la competencia; toda conducta abusiva por parte de agentes económicos que tengan una posición dominante en el mercado y ciertos actos unilaterales realizados por empresas que impliquen competencia desleal o impacten en el mercado. El vicio del acto puede ser la expedición con infracción de las normas en que debería fundarse, o sin competencia, o en forma irregular, o con desconocimiento del derecho de audiencia y defensa, o mediante falsa motivación, o con falta de motivación, o con desviación de las atribuciones propias de quien lo profirió, o con violación del debido proceso administrativo.",364,{"$f":"+Hoja3!$B216","v":"ILEGALIDAD DEL ACTO ADMINISTRATIVO QUE IMPONE SANCION POR PRACTICA RESTRICTIVA DE LA COMPETENCIA"}]
[{"$f":"+Hoja3!$F217","v":0},"NO RECONOCIMIENTO DE TIEMPO DOBLE DE SERVICIO PRESTADO EN ESTADO DE CONMOCION INTERIOR O DE GUERRA INTERNACIONAL",{"$f":"IFERROR(FIND(UPPER('Causas nuevas'!$D$4),B217),0)","v":0},{"$f":"+IF(Hoja3!$C217=0,0,1)","v":0},{"$f":"+E216+Hoja3!$D217","v":1},{"$f":"+Hoja3!$E217*Hoja3!$D217","v":0},"MANTENER",null,null,"ACTIVA","JUDICIAL","Desconocimiento del derecho al cómputo de tiempo doble de servicio prestado en estado de conmoción interior o de guerra internacional por parte de los miembros de la fuerza pública, para efectos prestacionales.",837,{"$f":"+Hoja3!$B217","v":"NO RECONOCIMIENTO DE TIEMPO DOBLE DE SERVICIO PRESTADO EN ESTADO DE CONMOCION INTERIOR O DE GUERRA INTERNACIONAL"}]
[{"$f":"+Hoja3!$F218","v":0},"ILEGALIDAD DEL ACTO ADMINISTRATIVO QUE NIEGA LA HOMOLOGACION O CONVALIDACION DE TITULOS OTORGADOS EN EL EXTRANJERO",{"$f":"IFERROR(FIND(UPPER('Causas nuevas'!$D$4),B218),0)","v":0},{"$f":"+IF(Hoja3!$C218=0,0,1)","v":0},{"$f":"+E217+Hoja3!$D218","v":1},{"$f":"+Hoja3!$E218*Hoja3!$D218","v":0},"MANTENER",null,null,"ACTIVA","JUDICIAL","Acto administrativo presuntamente viciado de ilegalidad que niega la homologación o convalidación de títulos otorgados en el extranjero. La niega la homologación o convalidación de títulos otorgados en el extranjero es el reconocimiento que el Gobierno colombiano efectúa sobre un título de educación superior, otorgado por una institución de educación superior extranjera o por una institución legalmente reconocida por la autoridad competente en el respectivo país. El vicio del acto puede ser la expedición con infracción de las normas en que debería fundarse, o sin competencia, o en forma irregular, o con desconocimiento del derecho de audiencia y defensa, o mediante falsa motivación, o con falta de motivación, o con desviación de las atribuciones propias de quien lo profirió, o con violación del debido proceso administrativo.",400,{"$f":"+Hoja3!$B218","v":"ILEGALIDAD DEL ACTO ADMINISTRATIVO QUE NIEGA LA HOMOLOGACION O CONVALIDACION DE TITULOS OTORGADOS EN EL EXTRANJERO"}]
[{"$f":"+Hoja3!$F219","v":0},"ILEGALIDAD DEL ACTO ADMINISTRATIVO QUE NOMBRA UN SERVIDOR PUBLICO DESCONOCIENDO EL REGIMEN DE CARRERA NOTARIAL",{"$f":"IFERROR(FIND(UPPER('Causas nuevas'!$D$4),B219),0)","v":0},{"$f":"+IF(Hoja3!$C219=0,0,1)","v":0},{"$f":"+E218+Hoja3!$D219","v":1},{"$f":"+Hoja3!$E219*Hoja3!$D219","v":0},"MANTENER",null,null,"ACTIVA","JUDICIAL","Acto administrativo que nombra a un servidor público con desconocimiento del régimen de carrera notarial.",432,{"$f":"+Hoja3!$B219","v":"ILEGALIDAD DEL ACTO ADMINISTRATIVO QUE NOMBRA UN SERVIDOR PUBLICO DESCONOCIENDO EL REGIMEN DE CARRERA NOTARIAL"}]
[{"$f":"+Hoja3!$F220","v":0},"INDEBIDA LIQUIDACION DE INDEMNIZACION SUSTITUTIVA DE PENSION DE VEJEZ",{"$f":"IFERROR(FIND(UPPER('Causas nuevas'!$D$4),B220),0)","v":0},{"$f":"+IF(Hoja3!$C220=0,0,1)","v":0},{"$f":"+E219+Hoja3!$D220","v":1},{"$f":"+Hoja3!$E220*Hoja3!$D220","v":0},"MANTENER",null,null,"ACTIVA","JUDICIAL","Liquidación irregular de la  indemnización sustitutiva de la pensión de vejez por no contabilización del número total de semanas, indebido cálculo de la tasa de retorno, desconocimiento de régimen de transición, entre otros, por lo que se pretende su reliquidación. La indemnización sustitutiva de la pensión de vejez es una prestación económica que se reconoce a los afiliados al régimen de prima media con prestación definida, cuando éstos no reúnen el número mínimo de semanas cotizadas pero han cumplido la edad mínima para acceder a la pensión de vejez y declaran la imposibilidad de continuar cotizando al sistema general de pensiones.",555,{"$f":"+Hoja3!$B220","v":"INDEBIDA LIQUIDACION DE INDEMNIZACION SUSTITUTIVA DE PENSION DE VEJEZ"}]
[{"$f":"+Hoja3!$F221","v":0},"NO OTORGAMIENTO DE LICENCIA DE FUNCIONAMIENTO",{"$f":"IFERROR(FIND(UPPER('Causas nuevas'!$D$4),B221),0)","v":0},{"$f":"+IF(Hoja3!$C221=0,0,1)","v":0},{"$f":"+E220+Hoja3!$D221","v":1},{"$f":"+Hoja3!$E221*Hoja3!$D221","v":0},"MANTENER",null,null,"ACTIVA","JUDICIAL","No otorgamiento o retardo en el otorgamiento de licencias de funcionamiento. El vicio del acto administrativo que no otorga la licencia puede ser la expedición con infracción de las normas en que debería fundarse, o sin competencia, o en forma irregular, o con desconocimiento del derecho de audiencia y defensa, o mediante falsa motivación, o con falta de motivación, o con desviación de las atribuciones propias de quien lo profirió, o con violación del debido proceso administrativo.",789,{"$f":"+Hoja3!$B221","v":"NO OTORGAMIENTO DE LICENCIA DE FUNCIONAMIENTO"}]
[{"$f":"+Hoja3!$F222","v":0},"ACCESO CARNAL O ACTO SEXUAL CON INCAPAZ DE RESISTIR",{"$f":"IFERROR(FIND(UPPER('Causas nuevas'!$D$4),B222),0)","v":0},{"$f":"+IF(Hoja3!$C222=0,0,1)","v":0},{"$f":"+E221+Hoja3!$D222","v":1},{"$f":"+Hoja3!$E222*Hoja3!$D222","v":0},"MANTENER",null,null,"ACTIVA","JUDICIAL","Acceso carnal o acto sexual con incapaz de resistir (persona que está en incapacidad de resistir o que es puesta por el agresor en incapacidad de resistir).",72,{"$f":"+Hoja3!$B222","v":"ACCESO CARNAL O ACTO SEXUAL CON INCAPAZ DE RESISTIR"}]
[{"$f":"+Hoja3!$F223","v":0},"ACOSO SEXUAL",{"$f":"IFERROR(FIND(UPPER('Causas nuevas'!$D$4),B223),0)","v":0},{"$f":"+IF(Hoja3!$C223=0,0,1)","v":0},{"$f":"+E222+Hoja3!$D223","v":1},{"$f":"+Hoja3!$E223*Hoja3!$D223","v":0},"MANTENER",null,null,"ACTIVA","JUDICIAL","Acoso, persecusión, hostigamiento o asedio físico o verbal, con fines sexuales no consentidos, en beneficio del agresor o de un tercero, valiéndose de su superioridad.  ",76,{"$f":"+Hoja3!$B223","v":"ACOSO SEXUAL"}]
[{"$f":"+Hoja3!$F224","v":0},"ILEGALIDAD DEL ACTO ADMINISTRATIVO QUE IMPONE SANCION POR NO PAGO DE APORTES PARAFISCALES",{"$f":"IFERROR(FIND(UPPER('Causas nuevas'!$D$4),B224),0)","v":0},{"$f":"+IF(Hoja3!$C224=0,0,1)","v":0},{"$f":"+E223+Hoja3!$D224","v":1},{"$f":"+Hoja3!$E224*Hoja3!$D224","v":0},"MANTENER",null,null,"ACTIVA","JUDICIAL","Acto administrativo presuntamente viciado de ilegalidad que impone sanción por mora o no pago de aportes parafiscales. Toda empresa o unidad productiva que tenga trabajadores vinculados mediante contrato de trabajo debe hacer un aporte equivalente al 9% de su nómina por concepto de aportes parafiscales, los cuales se distribuirán de la siguiente forma: 4% para el subsidio familiar (Cajas de Compensación Familiar), 3% para el Instituto Colombiano de Bienestar Familiar (ICBF) y 2% para el Servicio Nacional de Aprendizaje (SENA). El vicio del acto puede ser la expedición con infracción de las normas en que debería fundarse, o sin competencia, o en forma irregular, o con desconocimiento del derecho de audiencia y defensa, o mediante falsa motivación, o con falta de motivación, o con desviación de las atribuciones propias de quien lo profirió, o con violación del debido proceso administrativo.",361,{"$f":"+Hoja3!$B224","v":"ILEGALIDAD DEL ACTO ADMINISTRATIVO QUE IMPONE SANCION POR NO PAGO DE APORTES PARAFISCALES"}]
[{"$f":"+Hoja3!$F225","v":0},"PRESTACION INADECUADA DEL SERVICIO CATASTRAL",{"$f":"IFERROR(FIND(UPPER('Causas nuevas'!$D$4),B225),0)","v":0},{"$f":"+IF(Hoja3!$C225=0,0,1)","v":0},{"$f":"+E224+Hoja3!$D225","v":1},{"$f":"+Hoja3!$E225*Hoja3!$D225","v":0},"MANTENER",null,null,"ACTIVA","JUDICIAL","No prestación, prestación deficiente o prestación tardía del servicio catastral: censo estadístico de los bienes inmuebles de una determinada población que contiene la descripción física, económica y jurídica de las propiedades rústicas y urbanas.",884,{"$f":"+Hoja3!$B225","v":"PRESTACION INADECUADA DEL SERVICIO CATASTRAL"}]
[{"$f":"+Hoja3!$F226","v":0},"ILEGALIDAD DEL ACTO ADMINISTRATIVO QUE NO EFECTUA CORRECCION DE HISTORIA LABORAL",{"$f":"IFERROR(FIND(UPPER('Causas nuevas'!$D$4),B226),0)","v":0},{"$f":"+IF(Hoja3!$C226=0,0,1)","v":0},{"$f":"+E225+Hoja3!$D226","v":1},{"$f":"+Hoja3!$E226*Hoja3!$D226","v":0},"MANTENER",null,null,"ACTIVA","JUDICIAL","Acto administrativo presuntamente viciado de ilegalidad que no efectúa corrección de historia laboral. La historia laboral es el reporte de las semanas cotizadas y está compuesta por tres unidades básicas: empleador, afiliado y cotizaciones; incluye las cotizaciones realizadas a partir de enero de 1967 hasta la fecha, así como las cotizaciones efectuadas a los fondos privados y que fueron trasladadas a Colpensiones. El vicio del acto puede ser la expedición con infracción de las normas en que debería fundarse, o sin competencia, o en forma irregular, o con desconocimiento del derecho de audiencia y defensa, o mediante falsa motivación, o con falta de motivación, o con desviación de las atribuciones propias de quien lo profirió, o con violación del debido proceso administrativo.",418,{"$f":"+Hoja3!$B226","v":"ILEGALIDAD DEL ACTO ADMINISTRATIVO QUE NO EFECTUA CORRECCION DE HISTORIA LABORAL"}]
[{"$f":"+Hoja3!$F227","v":0},"FALTA DE MANTENIMIENTO DE BIEN INMUEBLE ARRENDADO",{"$f":"IFERROR(FIND(UPPER('Causas nuevas'!$D$4),B227),0)","v":0},{"$f":"+IF(Hoja3!$C227=0,0,1)","v":0},{"$f":"+E226+Hoja3!$D227","v":1},{"$f":"+Hoja3!$E227*Hoja3!$D227","v":0},"MANTENER",null,null,"ACTIVA","JUDICIAL","Incumplimiento de la obligación de mantener en óptimas condiciones un inmueble arrendado.",254,{"$f":"+Hoja3!$B227","v":"FALTA DE MANTENIMIENTO DE BIEN INMUEBLE ARRENDADO"}]
[{"$f":"+Hoja3!$F228","v":0},"ILEGALIDAD DEL ACTO ADMINISTRATIVO QUE IMPONE SANCION A EMPRESA PRESTADORA DE SERVICIOS PUBLICOS DOMICILIARIOS POR VIOLACION AL ESTATUTO DEL CONSUMIDOR",{"$f":"IFERROR(FIND(UPPER('Causas nuevas'!$D$4),B228),0)","v":0},{"$f":"+IF(Hoja3!$C228=0,0,1)","v":0},{"$f":"+E227+Hoja3!$D228","v":1},{"$f":"+Hoja3!$E228*Hoja3!$D228","v":0},"MANTENER",null,null,"ACTIVA","JUDICIAL","Acto administrativo presuntamente viciado de ilegalidad que impone sanciones a las empresas prestadoras de servicios públicos domiciliarios por violación al estatuto del consumidor. El vicio del acto puede ser la expedición con infracción de las normas en que debería fundarse, o sin competencia, o en forma irregular, o con desconocimiento del derecho de audiencia y defensa, o mediante falsa motivación, o con falta de motivación, o con desviación de las atribuciones propias de quien lo profirió, o con violación del debido proceso administrativo.",327,{"$f":"+Hoja3!$B228","v":"ILEGALIDAD DEL ACTO ADMINISTRATIVO QUE IMPONE SANCION A EMPRESA PRESTADORA DE SERVICIOS PUBLICOS DOMICILIARIOS POR VIOLACION AL ESTATUTO DEL CONSUMIDOR"}]
[{"$f":"+Hoja3!$F229","v":0},"ILEGALIDAD DEL ACTO ADMINISTRATIVO QUE LIBRA MANDAMIENTO DE PAGO",{"$f":"IFERROR(FIND(UPPER('Causas nuevas'!$D$4),B229),0)","v":0},{"$f":"+IF(Hoja3!$C229=0,0,1)","v":0},{"$f":"+E228+Hoja3!$D229","v":1},{"$f":"+Hoja3!$E229*Hoja3!$D229","v":0},"MANTENER",null,"DIAN","ACTIVA","JUDICIAL","Acto administrativo presuntamente viciado de ilegalidad, mediante el cual se exige el cobro coactivo de obligaciones pendientes ordenando su cancelación. El vicio del acto puede ser la expedición con infracción de las normas en que debería fundarse, o sin competencia, o en forma irregular, o con desconocimiento del derecho de audiencia y defensa, o mediante falsa motivación, o con falta de motivación, o con desviación de las atribuciones propias de quien lo profirió, o con violación del debido proceso administrativo.",374,{"$f":"+Hoja3!$B229","v":"ILEGALIDAD DEL ACTO ADMINISTRATIVO QUE LIBRA MANDAMIENTO DE PAGO"}]
[{"$f":"+Hoja3!$F230","v":0},"NO RECONOCIMIENTO DEL INCENTIVO A LA CAPITALIZACION RURAL ESTABLECIDO EN LA LEY 101 DE 1993",{"$f":"IFERROR(FIND(UPPER('Causas nuevas'!$D$4),B230),0)","v":0},{"$f":"+IF(Hoja3!$C230=0,0,1)","v":0},{"$f":"+E229+Hoja3!$D230","v":1},{"$f":"+Hoja3!$E230*Hoja3!$D230","v":0},"MANTENER",null,null,"ACTIVA","JUDICIAL","Desconocimiento a ser beneficiario del incentivo a la capitalización rural. El incentivo a la capitalización rural es un título que incorpora un derecho personal, que expedirá el Fondo para el Financiamiento del Sector Agropecuario, FINAGRO, cuyo monto será descontado de la cuantía total o de los pagos parciales de la obligación crediticia originada en un proyecto de inversión en el sector agropecuario.",841,{"$f":"+Hoja3!$B230","v":"NO RECONOCIMIENTO DEL INCENTIVO A LA CAPITALIZACION RURAL ESTABLECIDO EN LA LEY 101 DE 1993"}]
[{"$f":"+Hoja3!$F231","v":0},"PERJUICIOS OCASIONADOS POR NO EXPEDICION DE DOCUMENTO",{"$f":"IFERROR(FIND(UPPER('Causas nuevas'!$D$4),B231),0)","v":0},{"$f":"+IF(Hoja3!$C231=0,0,1)","v":0},{"$f":"+E230+Hoja3!$D231","v":1},{"$f":"+Hoja3!$E231*Hoja3!$D231","v":0},"MANTENER",null,null,"ACTIVA","JUDICIAL","Perjuicios derivados de la no expedición de documentos que certifiquen condiciones, situaciones, cumplimiento de requisitos, etc.",876,{"$f":"+Hoja3!$B231","v":"PERJUICIOS OCASIONADOS POR NO EXPEDICION DE DOCUMENTO"}]
[{"$f":"+Hoja3!$F232","v":0},"ILEGALIDAD DEL ACTO ADMINISTRATIVO QUE MODIFICA PLANTA DE PERSONAL",{"$f":"IFERROR(FIND(UPPER('Causas nuevas'!$D$4),B232),0)","v":0},{"$f":"+IF(Hoja3!$C232=0,0,1)","v":0},{"$f":"+E231+Hoja3!$D232","v":1},{"$f":"+Hoja3!$E232*Hoja3!$D232","v":0},"MANTENER",null,null,"ACTIVA","JUDICIAL","Acto administrativo presuntamente viciado de ilegalidad que crea o modifica una planta de personal. Las modificaciones a las plantas de personal deben hacerce de acuerdo con las necesidades del servicio y previo estudio técnico que así lo demuestre. El vicio del acto puede ser la expedición con infracción de las normas en que debería fundarse, o sin competencia, o en forma irregular, o con desconocimiento del derecho de audiencia y defensa, o mediante falsa motivación, o con falta de motivación, o con desviación de las atribuciones propias de quien lo profirió, o con violación del debido proceso administrativo.",383,{"$f":"+Hoja3!$B232","v":"ILEGALIDAD DEL ACTO ADMINISTRATIVO QUE MODIFICA PLANTA DE PERSONAL"}]
[{"$f":"+Hoja3!$F233","v":0},"INCUMPLIMIENTO DE LA OBLIGACION DE SUSCRIBIR CONTRATO DE SEGURO",{"$f":"IFERROR(FIND(UPPER('Causas nuevas'!$D$4),B233),0)","v":0},{"$f":"+IF(Hoja3!$C233=0,0,1)","v":0},{"$f":"+E232+Hoja3!$D233","v":1},{"$f":"+Hoja3!$E233*Hoja3!$D233","v":0},"MANTENER",null,null,"ACTIVA","JUDICIAL","Incumplimiento del deber de suscribir un contrato o póliza de seguro encontrándose legalmente obligado a ello, en virtud del riesgo de la actividad a ejecutar. Nota: No aplica a asuntos contractuales, por lo tanto es subsidiaria de la causa: INCUMPLIMIENTO DE LA OBLIGACION DE CONSTITUCION DE GARANTIAS CONTRACTUALES",479,{"$f":"+Hoja3!$B233","v":"INCUMPLIMIENTO DE LA OBLIGACION DE SUSCRIBIR CONTRATO DE SEGURO"}]
[{"$f":"+Hoja3!$F234","v":0},"ILEGALIDAD DEL ACTO ADMINISTRATIVO QUE NIEGA CREACION DE ZONA FRANCA",{"$f":"IFERROR(FIND(UPPER('Causas nuevas'!$D$4),B234),0)","v":0},{"$f":"+IF(Hoja3!$C234=0,0,1)","v":0},{"$f":"+E233+Hoja3!$D234","v":1},{"$f":"+Hoja3!$E234*Hoja3!$D234","v":0},"MANTENER",null,null,"ACTIVA","JUDICIAL","Acto administrativo presuntamente viciado de ilegalidad que niega creación de zona franca. La zona franca es un área geográfica delimitada dentro del territorio nacional, en\ndonde se desarrollan actividades industriales de bienes y de servicios, o actividades comerciales, bajo una normatividad especial en materia tributaria, aduanera y de comercio exterior, las mercancías ingresadas en estas zonas se consideran fuera del territorio aduanero nacional para efectos de los impuestos a las importaciones y a las exportaciones. El vicio del acto puede ser la expedición con infracción de las normas en que debería fundarse, o sin competencia, o en forma irregular, o con desconocimiento del derecho de audiencia y defensa, o mediante falsa motivación, o con falta de motivación, o con desviación de las atribuciones propias de quien lo profirió, o con violación del debido proceso administrativo.",388,{"$f":"+Hoja3!$B234","v":"ILEGALIDAD DEL ACTO ADMINISTRATIVO QUE NIEGA CREACION DE ZONA FRANCA"}]
[{"$f":"+Hoja3!$F235","v":0},"NO SUSCRIPCION DE CONTRATO DE CONCESION PORTUARIA",{"$f":"IFERROR(FIND(UPPER('Causas nuevas'!$D$4),B235),0)","v":0},{"$f":"+IF(Hoja3!$C235=0,0,1)","v":0},{"$f":"+E234+Hoja3!$D235","v":1},{"$f":"+Hoja3!$E235*Hoja3!$D235","v":0},"MANTENER",null,null,"ACTIVA","JUDICIAL","La concesión portuaria es un contrato administrativo en virtud del cual la Nación, por intermedio de la Superintendencia General de Puertos, permite que una sociedad portuaria ocupe y utilice en forma temporal y exclusiva las playas, terrenos de bajamar y zonas accesorias a aquéllas o éstos, para la construcción y operación de un puerto a cambio de una contraprestación económica a favor de la Nación, y de los municipios o distritos donde operen los puertos.",850,{"$f":"+Hoja3!$B235","v":"NO SUSCRIPCION DE CONTRATO DE CONCESION PORTUARIA"}]
[{"$f":"+Hoja3!$F236","v":0},"ILEGALIDAD DEL ACTO ADMINISTRATIVO QUE NIEGA CONDONACION DE CREDITO EDUCATIVO",{"$f":"IFERROR(FIND(UPPER('Causas nuevas'!$D$4),B236),0)","v":0},{"$f":"+IF(Hoja3!$C236=0,0,1)","v":0},{"$f":"+E235+Hoja3!$D236","v":1},{"$f":"+Hoja3!$E236*Hoja3!$D236","v":0},"MANTENER",null,null,"ACTIVA","JUDICIAL","Acto administrativo presuntamente viciado de ilegalidad que niega la condonación totl o parcial de un crédito educativo, a pesar del cumplimieno de los requisitos previstos por el ordenamiento jurídico para que opere la figura. El vicio del acto puede ser la expedición con infracción de las normas en que debería fundarse, o sin competencia, o en forma irregular, o con desconocimiento del derecho de audiencia y defensa, o mediante falsa motivación, o con falta de motivación, o con desviación de las atribuciones propias de quien lo profirió, o con violación del debido proceso administrativo.",386,{"$f":"+Hoja3!$B236","v":"ILEGALIDAD DEL ACTO ADMINISTRATIVO QUE NIEGA CONDONACION DE CREDITO EDUCATIVO"}]
[{"$f":"+Hoja3!$F237","v":0},"NO RECONOCIMIENTO BONIFICACION MENSUAL PARA LAS MADRES COMUNITARIAS Y SUSTITUTAS",{"$f":"IFERROR(FIND(UPPER('Causas nuevas'!$D$4),B237),0)","v":0},{"$f":"+IF(Hoja3!$C237=0,0,1)","v":0},{"$f":"+E236+Hoja3!$D237","v":1},{"$f":"+Hoja3!$E237*Hoja3!$D237","v":0},"MANTENER",null,null,"ACTIVA","JUDICIAL","Desconocimiento del derecho a percibir la bonificación mensuales que el Instituto Colombiano de Bienestar Familiar debe cancelar a las madres comunitarias y sustitutas como remuneración por su labor en los hogares comunitarios o sustitutos y que a su vez constituye el ingreso base para liquidar los aportes a sistema de seguridad social integral.",793,{"$f":"+Hoja3!$B237","v":"NO RECONOCIMIENTO BONIFICACION MENSUAL PARA LAS MADRES COMUNITARIAS Y SUSTITUTAS"}]
[{"$f":"+Hoja3!$F238","v":0},"ILEGALIDAD DEL ACTO ADMINISTRATIVO QUE IMPONE SANCION POR VIOLACION DE NORMAS DE PROTECCION AMBIENTAL",{"$f":"IFERROR(FIND(UPPER('Causas nuevas'!$D$4),B238),0)","v":0},{"$f":"+IF(Hoja3!$C238=0,0,1)","v":0},{"$f":"+E237+Hoja3!$D238","v":1},{"$f":"+Hoja3!$E238*Hoja3!$D238","v":0},"MANTENER",null,null,"ACTIVA","JUDICIAL","Acto administrativo presuntamente viciado de ilegalidad que impone sanciones por violación de normas de protección ambiental. El vicio del acto puede ser la expedición con infracción de las normas en que debería fundarse, o sin competencia, o en forma irregular, o con desconocimiento del derecho de audiencia y defensa, o mediante falsa motivación, o con falta de motivación, o con desviación de las atribuciones propias de quien lo profirió, o con violación del debido proceso administrativo.",367,{"$f":"+Hoja3!$B238","v":"ILEGALIDAD DEL ACTO ADMINISTRATIVO QUE IMPONE SANCION POR VIOLACION DE NORMAS DE PROTECCION AMBIENTAL"}]
[{"$f":"+Hoja3!$F239","v":0},"VOCACION HEREDITARIA DE BIENES",{"$f":"IFERROR(FIND(UPPER('Causas nuevas'!$D$4),B239),0)","v":0},{"$f":"+IF(Hoja3!$C239=0,0,1)","v":0},{"$f":"+E238+Hoja3!$D239","v":1},{"$f":"+Hoja3!$E239*Hoja3!$D239","v":0},"MANTENER",null,null,"ACTIVA","JUDICIAL","La vocación hereditaria es la capacidad que tiene el ICBF para heredar los bienes pertenecientes a un patrimonio cuando a un causante que no ha testado no le sobreviven hijos, cónyuge, padres, hermanos o sobrinos; implica la declaratoria de bienes vacantes o mostrencos, son vacantes los bienes inmuebles que se encuentran dentro del territorio respectivo a cargo de la nación, sin dueño aparente o conocido, y mostrencos los bienes muebles que se hallen en el mismo caso, es necesario que hayan tenido dueño anteriormente ya que si no han tenido dueño anterior ni pertenecieron a alguien en particular serian entonces bienes baldíos. ",952,{"$f":"+Hoja3!$B239","v":"VOCACION HEREDITARIA DE BIENES"}]
[{"$f":"+Hoja3!$F240","v":0},"ILEGALIDAD DEL ACTO ADMINISTRATIVO QUE IMPONE SANCION POR VIOLACION DE NORMAS SOBRE CONTRATO DE APRENDIZAJE",{"$f":"IFERROR(FIND(UPPER('Causas nuevas'!$D$4),B240),0)","v":0},{"$f":"+IF(Hoja3!$C240=0,0,1)","v":0},{"$f":"+E239+Hoja3!$D240","v":1},{"$f":"+Hoja3!$E240*Hoja3!$D240","v":0},"MANTENER",null,null,"ACTIVA","JUDICIAL","Acto administrativo presuntamente viciado de ilegalidad que impone sanciones por violación de normas que reglamentan el contrato de aprendizaje. El contrato de apendizaje es una forma especial del derecho laboral que busca facilitar el desarrollo de los aprendizajes adquiridos durante la etapa de formación teórica, de aprendices y estudiantes universitarios, a cambio que una empresa patrocinadora proporcione los medios para adquirir formación profesional, metódica y completa en el oficio, actividad u ocupación. El vicio del acto puede ser la expedición con infracción de las normas en que debería fundarse, o sin competencia, o en forma irregular, o con desconocimiento del derecho de audiencia y defensa, o mediante falsa motivación, o con falta de motivación, o con desviación de las atribuciones propias de quien lo profirió, o con violación del debido proceso administrativo.",369,{"$f":"+Hoja3!$B240","v":"ILEGALIDAD DEL ACTO ADMINISTRATIVO QUE IMPONE SANCION POR VIOLACION DE NORMAS SOBRE CONTRATO DE APRENDIZAJE"}]
[{"$f":"+Hoja3!$F241","v":0},"NO ACEPTACION DE ENAJENACION VOLUNTARIA DE INMUEBLE AFECTADO A UN PROYECTO DE INFRAESTRUCTURA",{"$f":"IFERROR(FIND(UPPER('Causas nuevas'!$D$4),B241),0)","v":0},{"$f":"+IF(Hoja3!$C241=0,0,1)","v":0},{"$f":"+E240+Hoja3!$D241","v":1},{"$f":"+Hoja3!$E241*Hoja3!$D241","v":0},"MANTENER",null,null,"ACTIVA","JUDICIAL","No aceptación de la oferta de enajenación voluntaria de un inmueble afectado al desarrollo de un proyecto de infraestructura, por lo cual se demanda su expropiación judicial. La expropiación implica el ejercicio de una potestad, de la cual es titular  el Estado, que le permite, con el cumplimiento de los requisitos constitucionales, quitar la propiedad individual sobre un determinado bien en beneficio del interés colectivo, previa indemnización del afectado.",786,{"$f":"+Hoja3!$B241","v":"NO ACEPTACION DE ENAJENACION VOLUNTARIA DE INMUEBLE AFECTADO A UN PROYECTO DE INFRAESTRUCTURA"}]
[{"$f":"+Hoja3!$F242","v":0},"LESION A CIVIL CON VEHICULO OFICIAL",{"$f":"IFERROR(FIND(UPPER('Causas nuevas'!$D$4),B242),0)","v":0},{"$f":"+IF(Hoja3!$C242=0,0,1)","v":0},{"$f":"+E241+Hoja3!$D242","v":1},{"$f":"+Hoja3!$E242*Hoja3!$D242","v":0},"MANTENER",null,null,"ACTIVA","JUDICIAL","Lesión física o síquica a civil con ocasión de la actividad peligrosa de conducción de vehículos de uso oficial.",598,{"$f":"+Hoja3!$B242","v":"LESION A CIVIL CON VEHICULO OFICIAL"}]
[{"$f":"+Hoja3!$F243","v":0},"INDEBIDA PRESTACION DE SERVICIOS FINANCIEROS",{"$f":"IFERROR(FIND(UPPER('Causas nuevas'!$D$4),B243),0)","v":0},{"$f":"+IF(Hoja3!$C243=0,0,1)","v":0},{"$f":"+E242+Hoja3!$D243","v":1},{"$f":"+Hoja3!$E243*Hoja3!$D243","v":0},"MANTENER",null,null,"ACTIVA","JUDICIAL","Perjuicios derivados de la indebida prestación de los servicios financieros o bancarios. Los servicios financieros son los servicios proporcionados por la industria financiera, que abarca un amplio rango de organismos que gestionan los fondos, incluidas las cooperativas de crédito, bancos, compañías de tarjetas de crédito, compañías de seguros, compañías de financiación al consumo, brokers de bolsa, fondos de inversión y muchas otras.",581,{"$f":"+Hoja3!$B243","v":"INDEBIDA PRESTACION DE SERVICIOS FINANCIEROS"}]
[{"$f":"+Hoja3!$F244","v":0},"MUERTE DE CIVIL CON VEHICULO OFICIAL",{"$f":"IFERROR(FIND(UPPER('Causas nuevas'!$D$4),B244),0)","v":0},{"$f":"+IF(Hoja3!$C244=0,0,1)","v":0},{"$f":"+E243+Hoja3!$D244","v":1},{"$f":"+Hoja3!$E244*Hoja3!$D244","v":0},"MANTENER",null,null,"ACTIVA","JUDICIAL","Muerte de civil con ocasión de la actividad peligrosa de conducción de vehículos de uso oficial.",705,{"$f":"+Hoja3!$B244","v":"MUERTE DE CIVIL CON VEHICULO OFICIAL"}]
[{"$f":"+Hoja3!$F245","v":0},"NO RECONOCIMIENTO DE PENSION FAMILIAR",{"$f":"IFERROR(FIND(UPPER('Causas nuevas'!$D$4),B245),0)","v":0},{"$f":"+IF(Hoja3!$C245=0,0,1)","v":0},{"$f":"+E244+Hoja3!$D245","v":1},{"$f":"+Hoja3!$E245*Hoja3!$D245","v":0},"MANTENER",null,null,"ACTIVA","JUDICIAL","Desconocimiento del derecho a percibir la pensión familiar. La pensión familiar fue creada por la Ley 1580 de 2012 y es aquella que se reconoce por la suma de esfuerzos de cotización o aportes de cada uno de los cónyuges o cada uno de los compañeros permanentes, cuyo resultado es el cumplimiento de los requisitos establecidos para la pensión de vejez.",820,{"$f":"+Hoja3!$B245","v":"NO RECONOCIMIENTO DE PENSION FAMILIAR"}]
[{"$f":"+Hoja3!$F246","v":0},"DESCONOCIMIENTO DEL DERECHO A REUBICACION LABORAL",{"$f":"IFERROR(FIND(UPPER('Causas nuevas'!$D$4),B246),0)","v":0},{"$f":"+IF(Hoja3!$C246=0,0,1)","v":0},{"$f":"+E245+Hoja3!$D246","v":1},{"$f":"+Hoja3!$E246*Hoja3!$D246","v":0},"MANTENER",null,null,"ACTIVA","JUDICIAL","Desconocimiento del derecho de los trabajadores oficiales y funcionarios públicos a ser reubicados laboralmente. La reubicación laboral es la adaptación del trabajador en un puesto de trabajo en el que no esté expuesto a las condiciones anteriores que afectaron su salud. Se amerita una reubicación laboral, si la exposición a factores de riesgo presentes en el oficio del trabajador es continua.",213,{"$f":"+Hoja3!$B246","v":"DESCONOCIMIENTO DEL DERECHO A REUBICACION LABORAL"}]
[{"$f":"+Hoja3!$F247","v":0},"RETENCION DE CUOTAS SINDICALES",{"$f":"IFERROR(FIND(UPPER('Causas nuevas'!$D$4),B247),0)","v":0},{"$f":"+IF(Hoja3!$C247=0,0,1)","v":0},{"$f":"+E246+Hoja3!$D247","v":1},{"$f":"+Hoja3!$E247*Hoja3!$D247","v":0},"MANTENER",null,null,"ACTIVA","JUDICIAL","La cuota sindical es el aporte con el cual contribuye el afiliado al mantenimiento del sindicato. La retención de las cuotas sindicales consiste en una deducción que el empleador efectúa a los salarios de los trabajadores afiliados a un sindicato y la pone a disposición del sindicato. La retención cesa a partir del momento en que el trabajador o el sindicato, comunica por escrito al empleador el hecho de la renuncia o expulsión, quedando a salvo el derecho del sindicato en caso de información falsa del trabajador.",903,{"$f":"+Hoja3!$B247","v":"RETENCION DE CUOTAS SINDICALES"}]
[{"$f":"+Hoja3!$F248","v":0},"REVOCATORIA DE LICENCIA DE FUNCIONAMIENTO",{"$f":"IFERROR(FIND(UPPER('Causas nuevas'!$D$4),B248),0)","v":0},{"$f":"+IF(Hoja3!$C248=0,0,1)","v":0},{"$f":"+E247+Hoja3!$D248","v":1},{"$f":"+Hoja3!$E248*Hoja3!$D248","v":0},"MANTENER",null,null,"ACTIVA","JUDICIAL","Revocatoria o cancelación de licencias de funcionamiento. El vicio del acto que revoca o cancela la licencia puede ser la expedición con infracción de las normas en que debería fundarse, o sin competencia, o en forma irregular, o con desconocimiento del derecho de audiencia y defensa, o mediante falsa motivación, o con falta de motivación, o con desviación de las atribuciones propias de quien lo profirió, o con violación del debido proceso administrativo.",909,{"$f":"+Hoja3!$B248","v":"REVOCATORIA DE LICENCIA DE FUNCIONAMIENTO"}]
[{"$f":"+Hoja3!$F249","v":0},"ILEGALIDAD DEL ACTO ADMINISTRATIVO QUE DECLARA EL RESULTADO DE UN PROCESO ELECTORAL",{"$f":"IFERROR(FIND(UPPER('Causas nuevas'!$D$4),B249),0)","v":0},{"$f":"+IF(Hoja3!$C249=0,0,1)","v":0},{"$f":"+E248+Hoja3!$D249","v":1},{"$f":"+Hoja3!$E249*Hoja3!$D249","v":0},"MANTENER",null,null,"ACTIVA","JUDICIAL","Acto administrativo presuntamente viciado de ilegalidad que declara los resultados de una elección por voto popular. Las decisiones adoptadas por las autoridades electorales que resuelvan sobre reclamaciones o irregularidades respecto de la votación o de los escrutinios, deberán demandarse junto con el acto que declara la elección.",306,{"$f":"+Hoja3!$B249","v":"ILEGALIDAD DEL ACTO ADMINISTRATIVO QUE DECLARA EL RESULTADO DE UN PROCESO ELECTORAL"}]
[{"$f":"+Hoja3!$F250","v":0},"NO DEVOLUCION DE APORTES A SALUD DESCONTADOS DE LA PENSION GRACIA",{"$f":"IFERROR(FIND(UPPER('Causas nuevas'!$D$4),B250),0)","v":0},{"$f":"+IF(Hoja3!$C250=0,0,1)","v":0},{"$f":"+E249+Hoja3!$D250","v":1},{"$f":"+Hoja3!$E250*Hoja3!$D250","v":0},"MANTENER",null,null,"ACTIVA","JUDICIAL","Solicitud de devolución de aportes a salud descontados de la pensión gracia por estimar que el descuento afecta el mínimo vital del pensionado. La pensión gracia se reconoce a docentes, empleados normalistas o inspectores educativos al cumplir 50 años de edad, siempre que hubieren servido en el magisterio por lo menos durante 20 años, y que además reúnan los requisitos relativos a la conducta en el desempeño del cargo y a la imposibilidad de proveer lo necesario para su sostenimiento.",788,{"$f":"+Hoja3!$B250","v":"NO DEVOLUCION DE APORTES A SALUD DESCONTADOS DE LA PENSION GRACIA"}]
[{"$f":"+Hoja3!$F251","v":0},"DESCONOCIMIENTO DEL AMPARO POR RETEN SOCIAL POR CONDICION DE PREPENSIONADO DURANTE LOS PROCESOS DE REESTRUCTURACION Y LIQUIDACION DE ENTIDADES PUBLICAS",{"$f":"IFERROR(FIND(UPPER('Causas nuevas'!$D$4),B251),0)","v":0},{"$f":"+IF(Hoja3!$C251=0,0,1)","v":0},{"$f":"+E250+Hoja3!$D251","v":1},{"$f":"+Hoja3!$E251*Hoja3!$D251","v":0},"MANTENER",null,null,"ACTIVA","JUDICIAL","Desconocimiento de la condición de prepensionado durante los procesos de reestructuración y liquidación de entidades publicas, por lo que se pretende el reintegro del servidor público. El retén social consiste en que ciertos sujetos (los servidores públicos próximos a obtener su pensión de jubilación o de vejez) tendrán una estabilidad laboral reforzada de modo que se mantendrán en sus cargos hasta que finalice el proceso de liquidación, o se presente la extinción material y jurídica de la entidad sometida a dicho procedimiento.",212,{"$f":"+Hoja3!$B251","v":"DESCONOCIMIENTO DEL AMPARO POR RETEN SOCIAL POR CONDICION DE PREPENSIONADO DURANTE LOS PROCESOS DE REESTRUCTURACION Y LIQUIDACION DE ENTIDADES PUBLICAS"}]
[{"$f":"+Hoja3!$F252","v":0},"DESCONOCIMIENTO DEL AMPARO POR RETEN SOCIAL POR CONDICION DE MADRE O PADRE CABEZA DE FAMILIA DURANTE LOS PROCESOS DE REESTRUCTURACION Y LIQUIDACION DE ENTIDADES PUBLICAS",{"$f":"IFERROR(FIND(UPPER('Causas nuevas'!$D$4),B252),0)","v":0},{"$f":"+IF(Hoja3!$C252=0,0,1)","v":0},{"$f":"+E251+Hoja3!$D252","v":1},{"$f":"+Hoja3!$E252*Hoja3!$D252","v":0},"MANTENER",null,null,"ACTIVA","JUDICIAL","Desconocimiento de la condición de madre o padre cabeza de familia durante los procesos de reestructuración y liquidación de entidades publicas, por lo que se pretende el reintegro del servidor público. El retén social consiste en que ciertos sujetos (madre o padre cabeza de familia sin alternativa económica) tendrán una estabilidad laboral reforzada de modo que se mantendrán en sus cargos hasta que finalice el proceso de liquidación, o se presente la extinción material y jurídica de la entidad sometida a dicho procedimiento.",210,{"$f":"+Hoja3!$B252","v":"DESCONOCIMIENTO DEL AMPARO POR RETEN SOCIAL POR CONDICION DE MADRE O PADRE CABEZA DE FAMILIA DURANTE LOS PROCESOS DE REESTRUCTURACION Y LIQUIDACION DE ENTIDADES PUBLICAS"}]
[{"$f":"+Hoja3!$F253","v":0},"DESCONOCIMIENTO DEL AMPARO POR RETEN SOCIAL POR CONDICION DE PERSONA CON DISCAPACIDAD DURANTE LOS PROCESOS DE REESTRUCTURACION Y LIQUIDACION DE ENTIDADES PUBLICAS",{"$f":"IFERROR(FIND(UPPER('Causas nuevas'!$D$4),B253),0)","v":0},{"$f":"+IF(Hoja3!$C253=0,0,1)","v":0},{"$f":"+E252+Hoja3!$D253","v":1},{"$f":"+Hoja3!$E253*Hoja3!$D253","v":0},"MANTENER",null,null,"ACTIVA","JUDICIAL","Desconocimiento de la condición de discapacitado durante los procesos de reestructuración y liquidación de entidades publicas, por lo que se pretende el reintegro del servidor público. El retén social consiste en que ciertos sujetos (los servidores públicos con limitación física, mental, visual o auditiva) tendrán una estabilidad laboral reforzada de modo que se mantendrán en sus cargos hasta que finalice el proceso de liquidación, o se presente la extinción material y jurídica de la entidad sometida a dicho procedimiento.",211,{"$f":"+Hoja3!$B253","v":"DESCONOCIMIENTO DEL AMPARO POR RETEN SOCIAL POR CONDICION DE PERSONA CON DISCAPACIDAD DURANTE LOS PROCESOS DE REESTRUCTURACION Y LIQUIDACION DE ENTIDADES PUBLICAS"}]
[{"$f":"+Hoja3!$F254","v":0},"NO RECONOCIMIENTO DE DEVOLUCION DE APORTES ENTRE ADMINISTRADORAS DEL SISTEMA DE SEGURIDAD SOCIAL INTEGRAL",{"$f":"IFERROR(FIND(UPPER('Causas nuevas'!$D$4),B254),0)","v":0},{"$f":"+IF(Hoja3!$C254=0,0,1)","v":0},{"$f":"+E253+Hoja3!$D254","v":1},{"$f":"+Hoja3!$E254*Hoja3!$D254","v":0},"MANTENER",null,null,"ACTIVA","JUDICIAL","Desconocimiento del derecho a reconocer la devolución de aportes efectuados por los asegurados a otra administradora del sistema de seguridad social integral, en virtud del reconocimiento de una prestación económica. El sistema de seguridad social integral es el conjunto armónico de entidades públicas y privadas, normas y procedimientos y está conformado por los regímenes generales establecidos para pensiones, salud, riesgos profesionales y los servicios sociales complementarios que se definen en la Ley 100 de 1993 y las normas que modifiquén, complementen o desarrollen.",799,{"$f":"+Hoja3!$B254","v":"NO RECONOCIMIENTO DE DEVOLUCION DE APORTES ENTRE ADMINISTRADORAS DEL SISTEMA DE SEGURIDAD SOCIAL INTEGRAL"}]
[{"$f":"+Hoja3!$F255","v":0},"VIOLACION AL REGIMEN LEGAL DE INHABILIDADES E INCOMPATIBILIDADES PARA ACCEDER A CARGO DE ELECCION POPULAR",{"$f":"IFERROR(FIND(UPPER('Causas nuevas'!$D$4),B255),0)","v":0},{"$f":"+IF(Hoja3!$C255=0,0,1)","v":0},{"$f":"+E254+Hoja3!$D255","v":1},{"$f":"+Hoja3!$E255*Hoja3!$D255","v":0},"MANTENER",null,null,"ACTIVA","JUDICIAL","Desconocimiento del régimen de inhabilidades e incompatibilidades para acceder a un cargo de elección por voto popular o por cuerpos electorales.",943,{"$f":"+Hoja3!$B255","v":"VIOLACION AL REGIMEN LEGAL DE INHABILIDADES E INCOMPATIBILIDADES PARA ACCEDER A CARGO DE ELECCION POPULAR"}]
[{"$f":"+Hoja3!$F256","v":0},"INCUMPLIMIENTO EN EL PAGO DE SALARIO",{"$f":"IFERROR(FIND(UPPER('Causas nuevas'!$D$4),B256),0)","v":0},{"$f":"+IF(Hoja3!$C256=0,0,1)","v":0},{"$f":"+E255+Hoja3!$D256","v":1},{"$f":"+Hoja3!$E256*Hoja3!$D256","v":0},"MANTENER",null,null,"ACTIVA","JUDICIAL","Mora o no pago de salario. Salario es la remuneración que recibe el trabajador oficial o el funcionario público de la empresa o entidad para la que trabaja en concepto de paga, generalmente de manera periódica.",529,{"$f":"+Hoja3!$B256","v":"INCUMPLIMIENTO EN EL PAGO DE SALARIO"}]
[{"$f":"+Hoja3!$F257","v":0},"INDEBIDA LIQUIDACION DE INDEMNIZACION POR DESPIDO SIN JUSTA CAUSA",{"$f":"IFERROR(FIND(UPPER('Causas nuevas'!$D$4),B257),0)","v":0},{"$f":"+IF(Hoja3!$C257=0,0,1)","v":0},{"$f":"+E256+Hoja3!$D257","v":1},{"$f":"+Hoja3!$E257*Hoja3!$D257","v":0},"MANTENER",null,"Esta causa fue parametrizada por soporte ekogui, pero ya hay otras causas que la cubren: DESPIDO SIN JUSTA CAUSA DE TRABAJADOR OFICIAL","ACTIVA","JUDICIAL","Liquidación irregular de la indemnización por despido sin justa causa, por lo que se pretende su reliquidación. La indemnización por despido sin justa causa es aquella que se causa en caso de terminación unilateral del contrato de trabajo sin justa causa comprobada, por parte del empleador o si éste da lugar a la terminación unilateral por parte del trabajador por alguna de las justas causas contempladas en la ley (artículos 62 y 63 del CST literal B).",552,{"$f":"+Hoja3!$B257","v":"INDEBIDA LIQUIDACION DE INDEMNIZACION POR DESPIDO SIN JUSTA CAUSA"}]
[{"$f":"+Hoja3!$F258","v":0},"ILEGALIDAD DEL ACTO ADMINISTRATIVO QUE IMPONE SANCION POR INFRACCION DE TRANSITO",{"$f":"IFERROR(FIND(UPPER('Causas nuevas'!$D$4),B258),0)","v":0},{"$f":"+IF(Hoja3!$C258=0,0,1)","v":0},{"$f":"+E257+Hoja3!$D258","v":1},{"$f":"+Hoja3!$E258*Hoja3!$D258","v":0},"MANTENER",null,null,"ACTIVA","JUDICIAL","Acto administrativo presuntamente viciado de ilegalidad que impone una sanción por infracción de tránsito. Una infracción de tránsito es un incumplimiento de la normativa de circulación de vehículos que acarrea una sanción administrativa, dentro del concepto de infracción de tránsito se incluyen todos los posibles vehículos: de motor, de tracción animal, bicicletas o incluso las producidas por los peatones. El vicio del acto puede ser la expedición con infracción de las normas en que debería fundarse, o sin competencia, o en forma irregular, o con desconocimiento del derecho de audiencia y defensa, o mediante falsa motivación, o con falta de motivación, o con desviación de las atribuciones propias de quien lo profirió, o con violación del debido proceso administrativo.",356,{"$f":"+Hoja3!$B258","v":"ILEGALIDAD DEL ACTO ADMINISTRATIVO QUE IMPONE SANCION POR INFRACCION DE TRANSITO"}]
[{"$f":"+Hoja3!$F259","v":0},"ILEGALIDAD DEL ACTO ADMINISTRATIVO DE LIQUIDACION OFICIAL DE REVISION IMPUESTO DE RENTA Y COMPLEMENTARIOS",{"$f":"IFERROR(FIND(UPPER('Causas nuevas'!$D$4),B259),0)","v":0},{"$f":"+IF(Hoja3!$C259=0,0,1)","v":0},{"$f":"+E258+Hoja3!$D259","v":1},{"$f":"+Hoja3!$E259*Hoja3!$D259","v":0},"MANTENER",null,"DIAN","ACTIVA","JUDICIAL","Acto administrativo presuntamente viciado de ilegalidad que se expide en el proceso de determinación oficial del impuesto, con el cual se modifica la declaración privada del impuesto sobre la renta y complementarios. El vicio del acto puede ser la expedición con infracción de las normas en que debería fundarse, o sin competencia, o en forma irregular, o con desconocimiento del derecho de audiencia y defensa, o mediante falsa motivación, o con falta de motivación, o con desviación de las atribuciones propias de quien lo profirió, o con violación del debido proceso administrativo.",280,{"$f":"+Hoja3!$B259","v":"ILEGALIDAD DEL ACTO ADMINISTRATIVO DE LIQUIDACION OFICIAL DE REVISION IMPUESTO DE RENTA Y COMPLEMENTARIOS"}]
[{"$f":"+Hoja3!$F260","v":0},"ILEGALIDAD DEL ACTO ADMINISTRATIVO DE LIQUIDACION OFICIAL DE REVISION IMPUESTO DE VENTAS",{"$f":"IFERROR(FIND(UPPER('Causas nuevas'!$D$4),B260),0)","v":0},{"$f":"+IF(Hoja3!$C260=0,0,1)","v":0},{"$f":"+E259+Hoja3!$D260","v":1},{"$f":"+Hoja3!$E260*Hoja3!$D260","v":0},"MANTENER",null,"DIAN","ACTIVA","JUDICIAL","Acto administrativo presuntamente viciado de ilegalidad que se expide en el proceso de determinación oficial del impuesto, con el cual se modifica la declaración privada del impuesto a las ventas IVA. El vicio del acto puede ser la expedición con infracción de las normas en que debería fundarse, o sin competencia, o en forma irregular, o con desconocimiento del derecho de audiencia y defensa, o mediante falsa motivación, o con falta de motivación, o con desviación de las atribuciones propias de quien lo profirió, o con violación del debido proceso administrativo.",284,{"$f":"+Hoja3!$B260","v":"ILEGALIDAD DEL ACTO ADMINISTRATIVO DE LIQUIDACION OFICIAL DE REVISION IMPUESTO DE VENTAS"}]
[{"$f":"+Hoja3!$F261","v":0},"ILEGALIDAD DEL ACTO ADMINISTRATIVO DE LIQUIDACION OFICIAL DE REVISION IMPUESTO DE RETENCION EN LA FUENTE",{"$f":"IFERROR(FIND(UPPER('Causas nuevas'!$D$4),B261),0)","v":0},{"$f":"+IF(Hoja3!$C261=0,0,1)","v":0},{"$f":"+E260+Hoja3!$D261","v":1},{"$f":"+Hoja3!$E261*Hoja3!$D261","v":0},"MANTENER",null,"DIAN","ACTIVA","JUDICIAL","Acto administrativo presuntamente viciado de ilegalidad que se expide en el proceso de determinación oficial del impuesto, con el cual se modifica la declaración privada de retención en la fuente. El vicio del acto puede ser la expedición con infracción de las normas en que debería fundarse, o sin competencia, o en forma irregular, o con desconocimiento del derecho de audiencia y defensa, o mediante falsa motivación, o con falta de motivación, o con desviación de las atribuciones propias de quien lo profirió, o con violación del debido proceso administrativo.",281,{"$f":"+Hoja3!$B261","v":"ILEGALIDAD DEL ACTO ADMINISTRATIVO DE LIQUIDACION OFICIAL DE REVISION IMPUESTO DE RETENCION EN LA FUENTE"}]
[{"$f":"+Hoja3!$F262","v":0},"ILEGALIDAD DEL ACTO ADMINISTRATIVO DE LIQUIDACION OFICIAL DE REVISION IMPUESTO CREE",{"$f":"IFERROR(FIND(UPPER('Causas nuevas'!$D$4),B262),0)","v":0},{"$f":"+IF(Hoja3!$C262=0,0,1)","v":0},{"$f":"+E261+Hoja3!$D262","v":1},{"$f":"+Hoja3!$E262*Hoja3!$D262","v":0},"MANTENER",null,"DIAN","ACTIVA","JUDICIAL","Acto administrativo presuntamente viciado de ilegalidad que se expide en el proceso de determinación oficial del impuesto, con el cual se modifica la declaración privada del impuesto a la equidad CREE. El vicio del acto puede ser la expedición con infracción de las normas en que debería fundarse, o sin competencia, o en forma irregular, o con desconocimiento del derecho de audiencia y defensa, o mediante falsa motivación, o con falta de motivación, o con desviación de las atribuciones propias de quien lo profirió, o con violación del debido proceso administrativo.",279,{"$f":"+Hoja3!$B262","v":"ILEGALIDAD DEL ACTO ADMINISTRATIVO DE LIQUIDACION OFICIAL DE REVISION IMPUESTO CREE"}]
[{"$f":"+Hoja3!$F263","v":0},"ILEGALIDAD DEL ACTO ADMINISTRATIVO DE LIQUIDACION OFICIAL DE REVISION IMPUESTO DE RIQUEZA",{"$f":"IFERROR(FIND(UPPER('Causas nuevas'!$D$4),B263),0)","v":0},{"$f":"+IF(Hoja3!$C263=0,0,1)","v":0},{"$f":"+E262+Hoja3!$D263","v":1},{"$f":"+Hoja3!$E263*Hoja3!$D263","v":0},"MANTENER",null,"DIAN","ACTIVA","JUDICIAL","Acto administrativo presuntamente viciado de ilegalidad que se expide en el proceso de determinación oficial del impuesto, con el cual se modifica la declaración privada del impuesto a la riqueza. El vicio del acto puede ser la expedición con infracción de las normas en que debería fundarse, o sin competencia, o en forma irregular, o con desconocimiento del derecho de audiencia y defensa, o mediante falsa motivación, o con falta de motivación, o con desviación de las atribuciones propias de quien lo profirió, o con violación del debido proceso administrativo.",282,{"$f":"+Hoja3!$B263","v":"ILEGALIDAD DEL ACTO ADMINISTRATIVO DE LIQUIDACION OFICIAL DE REVISION IMPUESTO DE RIQUEZA"}]
[{"$f":"+Hoja3!$F264","v":0},"ILEGALIDAD DEL ACTO ADMINISTRATIVO DE LIQUIDACION OFICIAL DE REVISION IMPUESTO AL PATRIMONIO",{"$f":"IFERROR(FIND(UPPER('Causas nuevas'!$D$4),B264),0)","v":0},{"$f":"+IF(Hoja3!$C264=0,0,1)","v":0},{"$f":"+E263+Hoja3!$D264","v":1},{"$f":"+Hoja3!$E264*Hoja3!$D264","v":0},"MANTENER",null,"DIAN","ACTIVA","JUDICIAL","Acto administrativo presuntamente viciado de ilegalidad que se expide en el proceso de determinación oficial del impuesto, con el cual se modifica la declaración privada del impuesto al patrimonio. El vicio del acto puede ser la expedición con infracción de las normas en que debería fundarse, o sin competencia, o en forma irregular, o con desconocimiento del derecho de audiencia y defensa, o mediante falsa motivación, o con falta de motivación, o con desviación de las atribuciones propias de quien lo profirió, o con violación del debido proceso administrativo.",278,{"$f":"+Hoja3!$B264","v":"ILEGALIDAD DEL ACTO ADMINISTRATIVO DE LIQUIDACION OFICIAL DE REVISION IMPUESTO AL PATRIMONIO"}]
[{"$f":"+Hoja3!$F265","v":0},"ILEGALIDAD DEL ACTO ADMINISTRATIVO DE LIQUIDACION OFICIAL DE REVISION IMPUESTO DE SEGURIDAD DEMOCRATICA",{"$f":"IFERROR(FIND(UPPER('Causas nuevas'!$D$4),B265),0)","v":0},{"$f":"+IF(Hoja3!$C265=0,0,1)","v":0},{"$f":"+E264+Hoja3!$D265","v":1},{"$f":"+Hoja3!$E265*Hoja3!$D265","v":0},"MANTENER",null,"DIAN","ACTIVA","JUDICIAL","Acto administrativo presuntamente viciado de ilegalidad que se expide en el proceso de determinación del impuesto, con el cual se modifica la declaración privada del impuesto al patrimonio. El vicio del acto puede ser la expedición con infracción de las normas en que debería fundarse, o sin competencia, o en forma irregular, o con desconocimiento del derecho de audiencia y defensa, o mediante falsa motivación, o con falta de motivación, o con desviación de las atribuciones propias de quien lo profirió, o con violación del debido proceso administrativo.",283,{"$f":"+Hoja3!$B265","v":"ILEGALIDAD DEL ACTO ADMINISTRATIVO DE LIQUIDACION OFICIAL DE REVISION IMPUESTO DE SEGURIDAD DEMOCRATICA"}]
[{"$f":"+Hoja3!$F266","v":0},"ILEGALIDAD DEL ACTO ADMINISTRATIVO DE LIQUIDACION OFICIAL DE REVISION IMPUESTO AL CONSUMO",{"$f":"IFERROR(FIND(UPPER('Causas nuevas'!$D$4),B266),0)","v":0},{"$f":"+IF(Hoja3!$C266=0,0,1)","v":0},{"$f":"+E265+Hoja3!$D266","v":1},{"$f":"+Hoja3!$E266*Hoja3!$D266","v":0},"MANTENER",null,"DIAN","ACTIVA","JUDICIAL","Acto administrativo presuntamente viciado de ilegalidad que se expide en el proceso de determinación oficial del impuesto, mediante el cual se modifica la declaración privada del impuesto al consumo. El vicio del acto puede ser la expedición con infracción de las normas en que debería fundarse, o sin competencia, o en forma irregular, o con desconocimiento del derecho de audiencia y defensa, o mediante falsa motivación, o con falta de motivación, o con desviación de las atribuciones propias de quien lo profirió, o con violación del debido proceso administrativo.",277,{"$f":"+Hoja3!$B266","v":"ILEGALIDAD DEL ACTO ADMINISTRATIVO DE LIQUIDACION OFICIAL DE REVISION IMPUESTO AL CONSUMO"}]
[{"$f":"+Hoja3!$F267","v":0},"ILEGALIDAD DEL ACTO ADMINISTRATIVO DE LIQUIDACION OFICIAL DE CORRECCION IMPUESTO DE RENTA Y COMPLEMENTARIOS",{"$f":"IFERROR(FIND(UPPER('Causas nuevas'!$D$4),B267),0)","v":0},{"$f":"+IF(Hoja3!$C267=0,0,1)","v":0},{"$f":"+E266+Hoja3!$D267","v":1},{"$f":"+Hoja3!$E267*Hoja3!$D267","v":0},"MANTENER",null,"DIAN","ACTIVA","JUDICIAL","Acto administrativo presuntamente viciado de ilegalidad que se expide con ocasión de solicitud de corrección a la declaración del impuesto de renta y complementarios disminuyendo el valor a pagar o aumentando el saldo a favor. El vicio del acto puede ser la expedición con infracción de las normas en que debería fundarse, o sin competencia, o en forma irregular, o con desconocimiento del derecho de audiencia y defensa, o mediante falsa motivación, o con falta de motivación, o con desviación de las atribuciones propias de quien lo profirió, o con violación del debido proceso administrativo.",271,{"$f":"+Hoja3!$B267","v":"ILEGALIDAD DEL ACTO ADMINISTRATIVO DE LIQUIDACION OFICIAL DE CORRECCION IMPUESTO DE RENTA Y COMPLEMENTARIOS"}]
[{"$f":"+Hoja3!$F268","v":0},"ILEGALIDAD DEL ACTO ADMINISTRATIVO DE LIQUIDACION OFICIAL DE CORRECCION IMPUESTO DE VENTAS",{"$f":"IFERROR(FIND(UPPER('Causas nuevas'!$D$4),B268),0)","v":0},{"$f":"+IF(Hoja3!$C268=0,0,1)","v":0},{"$f":"+E267+Hoja3!$D268","v":1},{"$f":"+Hoja3!$E268*Hoja3!$D268","v":0},"MANTENER",null,"DIAN","ACTIVA","JUDICIAL","Acto administrativo presuntamente viciado de ilegalidad que se expide por solicitud de corrección a la declaración del impuesto sobre las ventas IVA disminuyendo el valor a pagar o aumentando el saldo a favor. El vicio del acto puede ser la expedición con infracción de las normas en que debería fundarse, o sin competencia, o en forma irregular, o con desconocimiento del derecho de audiencia y defensa, o mediante falsa motivación, o con falta de motivación, o con desviación de las atribuciones propias de quien lo profirió, o con violación del debido proceso administrativo.",275,{"$f":"+Hoja3!$B268","v":"ILEGALIDAD DEL ACTO ADMINISTRATIVO DE LIQUIDACION OFICIAL DE CORRECCION IMPUESTO DE VENTAS"}]
[{"$f":"+Hoja3!$F269","v":0},"ILEGALIDAD DEL ACTO ADMINISTRATIVO DE LIQUIDACION OFICIAL DE CORRECCION IMPUESTO DE RETENCION EN LA FUENTE",{"$f":"IFERROR(FIND(UPPER('Causas nuevas'!$D$4),B269),0)","v":0},{"$f":"+IF(Hoja3!$C269=0,0,1)","v":0},{"$f":"+E268+Hoja3!$D269","v":1},{"$f":"+Hoja3!$E269*Hoja3!$D269","v":0},"MANTENER",null,"DIAN","ACTIVA","JUDICIAL","Acto administrativo presuntamente viciado de ilegalidad que se expide por solicitud de corrección, en debida forma, a la declaración de retenciones en la fuente disminuyendo el valor a pagar. El vicio del acto puede ser la expedición con infracción de las normas en que debería fundarse, o sin competencia, o en forma irregular, o con desconocimiento del derecho de audiencia y defensa, o mediante falsa motivación, o con falta de motivación, o con desviación de las atribuciones propias de quien lo profirió, o con violación del debido proceso administrativo.",272,{"$f":"+Hoja3!$B269","v":"ILEGALIDAD DEL ACTO ADMINISTRATIVO DE LIQUIDACION OFICIAL DE CORRECCION IMPUESTO DE RETENCION EN LA FUENTE"}]
[{"$f":"+Hoja3!$F270","v":0},"ILEGALIDAD DEL ACTO ADMINISTRATIVO DE LIQUIDACION OFICIAL DE CORRECCION IMPUESTO CREE",{"$f":"IFERROR(FIND(UPPER('Causas nuevas'!$D$4),B270),0)","v":0},{"$f":"+IF(Hoja3!$C270=0,0,1)","v":0},{"$f":"+E269+Hoja3!$D270","v":1},{"$f":"+Hoja3!$E270*Hoja3!$D270","v":0},"MANTENER",null,"DIAN","ACTIVA","JUDICIAL","Acto administrativo presuntamente viciado de ilegalidad que se expide con ocasión de la solicitud de corrección que hace el contribuyente, a su declaración privada de impuesto a la equidad CREE, para disminuir el valor a pagar. El vicio del acto puede ser la expedición con infracción de las normas en que debería fundarse, o sin competencia, o en forma irregular, o con desconocimiento del derecho de audiencia y defensa, o mediante falsa motivación, o con falta de motivación, o con desviación de las atribuciones propias de quien lo profirió, o con violación del debido proceso administrativo.",270,{"$f":"+Hoja3!$B270","v":"ILEGALIDAD DEL ACTO ADMINISTRATIVO DE LIQUIDACION OFICIAL DE CORRECCION IMPUESTO CREE"}]
[{"$f":"+Hoja3!$F271","v":0},"ILEGALIDAD DEL ACTO ADMINISTRATIVO DE LIQUIDACION OFICIAL DE CORRECCION IMPUESTO DE RIQUEZA",{"$f":"IFERROR(FIND(UPPER('Causas nuevas'!$D$4),B271),0)","v":0},{"$f":"+IF(Hoja3!$C271=0,0,1)","v":0},{"$f":"+E270+Hoja3!$D271","v":1},{"$f":"+Hoja3!$E271*Hoja3!$D271","v":0},"MANTENER",null,"DIAN","ACTIVA","JUDICIAL","Acto administrativo presuntamente viciado de ilegalidad que se expide por solicitud de corrección, de parte del contribuyente, de la declaración de impuesto a la riqueza disminuyendo el valor a pagar. El vicio del acto puede ser la expedición con infracción de las normas en que debería fundarse, o sin competencia, o en forma irregular, o con desconocimiento del derecho de audiencia y defensa, o mediante falsa motivación, o con falta de motivación, o con desviación de las atribuciones propias de quien lo profirió, o con violación del debido proceso administrativo.",273,{"$f":"+Hoja3!$B271","v":"ILEGALIDAD DEL ACTO ADMINISTRATIVO DE LIQUIDACION OFICIAL DE CORRECCION IMPUESTO DE RIQUEZA"}]
[{"$f":"+Hoja3!$F272","v":0},"ILEGALIDAD DEL ACTO ADMINISTRATIVO DE LIQUIDACION OFICIAL DE CORRECCION IMPUESTO AL PATRIMONIO",{"$f":"IFERROR(FIND(UPPER('Causas nuevas'!$D$4),B272),0)","v":0},{"$f":"+IF(Hoja3!$C272=0,0,1)","v":0},{"$f":"+E271+Hoja3!$D272","v":1},{"$f":"+Hoja3!$E272*Hoja3!$D272","v":0},"MANTENER",null,"DIAN","ACTIVA","JUDICIAL","Acto administrativo presuntamente viciado de ilegalidad que se expide por solicitud de corrección a la declaración de impuesto al patrimonio, para disminuir el valor a pagar. El vicio del acto puede ser la expedición con infracción de las normas en que debería fundarse, o sin competencia, o en forma irregular, o con desconocimiento del derecho de audiencia y defensa, o mediante falsa motivación, o con falta de motivación, o con desviación de las atribuciones propias de quien lo profirió, o con violación del debido proceso administrativo.",269,{"$f":"+Hoja3!$B272","v":"ILEGALIDAD DEL ACTO ADMINISTRATIVO DE LIQUIDACION OFICIAL DE CORRECCION IMPUESTO AL PATRIMONIO"}]
[{"$f":"+Hoja3!$F273","v":0},"ILEGALIDAD DEL ACTO ADMINISTRATIVO DE LIQUIDACION OFICIAL DE CORRECCION IMPUESTO DE SEGURIDAD DEMOCRATICA",{"$f":"IFERROR(FIND(UPPER('Causas nuevas'!$D$4),B273),0)","v":0},{"$f":"+IF(Hoja3!$C273=0,0,1)","v":0},{"$f":"+E272+Hoja3!$D273","v":1},{"$f":"+Hoja3!$E273*Hoja3!$D273","v":0},"MANTENER",null,"DIAN","ACTIVA","JUDICIAL","Acto administrativo presuntamente viciado de ilegalidad que se expide con ocasión de la solicitud de corrección que hace el contribuyente, a su declaración de impuesto a la seguridad democrática, para disminuir el valor a pagar. El vicio del acto puede ser la expedición con infracción de las normas en que debería fundarse, o sin competencia, o en forma irregular, o con desconocimiento del derecho de audiencia y defensa, o mediante falsa motivación, o con falta de motivación, o con desviación de las atribuciones propias de quien lo profirió, o con violación del debido proceso administrativo.",274,{"$f":"+Hoja3!$B273","v":"ILEGALIDAD DEL ACTO ADMINISTRATIVO DE LIQUIDACION OFICIAL DE CORRECCION IMPUESTO DE SEGURIDAD DEMOCRATICA"}]
[{"$f":"+Hoja3!$F274","v":0},"ILEGALIDAD DEL ACTO ADMINISTRATIVO DE LIQUIDACION OFICIAL DE CORRECCION IMPUESTO GMF",{"$f":"IFERROR(FIND(UPPER('Causas nuevas'!$D$4),B274),0)","v":0},{"$f":"+IF(Hoja3!$C274=0,0,1)","v":0},{"$f":"+E273+Hoja3!$D274","v":1},{"$f":"+Hoja3!$E274*Hoja3!$D274","v":0},"MANTENER",null,"DIAN","ACTIVA","JUDICIAL","Acto administrativo presuntamente viciado de ilegalidad que se expide para corregir los errores aritméticos de la declaración del impuesto al gravamen a los movimientos financieros - GMF que originó un menor valor a pagar o un mayor saldo a favor. El vicio del acto puede ser la expedición con infracción de las normas en que debería fundarse, o sin competencia, o en forma irregular, o con desconocimiento del derecho de audiencia y defensa, o mediante falsa motivación, o con falta de motivación, o con desviación de las atribuciones propias de quien lo profirió, o con violación del debido proceso administrativo.",276,{"$f":"+Hoja3!$B274","v":"ILEGALIDAD DEL ACTO ADMINISTRATIVO DE LIQUIDACION OFICIAL DE CORRECCION IMPUESTO GMF"}]
[{"$f":"+Hoja3!$F275","v":0},"ILEGALIDAD DEL ACTO ADMINISTRATIVO DE LIQUIDACION OFICIAL DE AFORO IMPUESTO DE RENTA Y COMPLEMENTARIOS",{"$f":"IFERROR(FIND(UPPER('Causas nuevas'!$D$4),B275),0)","v":0},{"$f":"+IF(Hoja3!$C275=0,0,1)","v":0},{"$f":"+E274+Hoja3!$D275","v":1},{"$f":"+Hoja3!$E275*Hoja3!$D275","v":0},"MANTENER",null,"DIAN","ACTIVA","JUDICIAL","Acto administrativo presuntamente viciado de ilegalidad que se expide al contribuyente que omite la obligación de declarar o no ha presentado declaración, para determinar la obligación tributaria frente al impuesto de renta y complementarios. El vicio del acto puede ser la expedición con infracción de las normas en que debería fundarse, o sin competencia, o en forma irregular, o con desconocimiento del derecho de audiencia y defensa, o mediante falsa motivación, o con falta de motivación, o con desviación de las atribuciones propias de quien lo profirió, o con violación del debido proceso administrativo.",263,{"$f":"+Hoja3!$B275","v":"ILEGALIDAD DEL ACTO ADMINISTRATIVO DE LIQUIDACION OFICIAL DE AFORO IMPUESTO DE RENTA Y COMPLEMENTARIOS"}]
[{"$f":"+Hoja3!$F276","v":0},"ILEGALIDAD DEL ACTO ADMINISTRATIVO DE LIQUIDACION OFICIAL DE AFORO IMPUESTO DE VENTAS",{"$f":"IFERROR(FIND(UPPER('Causas nuevas'!$D$4),B276),0)","v":0},{"$f":"+IF(Hoja3!$C276=0,0,1)","v":0},{"$f":"+E275+Hoja3!$D276","v":1},{"$f":"+Hoja3!$E276*Hoja3!$D276","v":0},"MANTENER",null,"DIAN","ACTIVA","JUDICIAL","Acto administrativo presuntamente viciado de ilegalidad que se expide al responsable de IVA que omite la obligación de declarar o no ha presentado declaración, para determinar la obligación tributaria frente al impuesto a las ventas. El vicio del acto puede ser la expedición con infracción de las normas en que debería fundarse, o sin competencia, o en forma irregular, o con desconocimiento del derecho de audiencia y defensa, o mediante falsa motivación, o con falta de motivación, o con desviación de las atribuciones propias de quien lo profirió, o con violación del debido proceso administrativo.",267,{"$f":"+Hoja3!$B276","v":"ILEGALIDAD DEL ACTO ADMINISTRATIVO DE LIQUIDACION OFICIAL DE AFORO IMPUESTO DE VENTAS"}]
[{"$f":"+Hoja3!$F277","v":0},"ILEGALIDAD DEL ACTO ADMINISTRATIVO DE LIQUIDACION OFICIAL DE AFORO IMPUESTO DE RETENCION EN LA FUENTE",{"$f":"IFERROR(FIND(UPPER('Causas nuevas'!$D$4),B277),0)","v":0},{"$f":"+IF(Hoja3!$C277=0,0,1)","v":0},{"$f":"+E276+Hoja3!$D277","v":1},{"$f":"+Hoja3!$E277*Hoja3!$D277","v":0},"MANTENER",null,"DIAN","ACTIVA","JUDICIAL","Acto administrativo presuntamente viciado de ilegalidad que se expide al agente retenedor que omite la obligación de declarar o no ha presentado declaración, para determinar la obligación tributaria de retención en la fuente. El vicio del acto puede ser la expedición con infracción de las normas en que debería fundarse, o sin competencia, o en forma irregular, o con desconocimiento del derecho de audiencia y defensa, o mediante falsa motivación, o con falta de motivación, o con desviación de las atribuciones propias de quien lo profirió, o con violación del debido proceso administrativo.",264,{"$f":"+Hoja3!$B277","v":"ILEGALIDAD DEL ACTO ADMINISTRATIVO DE LIQUIDACION OFICIAL DE AFORO IMPUESTO DE RETENCION EN LA FUENTE"}]
[{"$f":"+Hoja3!$F278","v":0},"ILEGALIDAD DEL ACTO ADMINISTRATIVO DE LIQUIDACION OFICIAL DE AFORO IMPUESTO CREE",{"$f":"IFERROR(FIND(UPPER('Causas nuevas'!$D$4),B278),0)","v":0},{"$f":"+IF(Hoja3!$C278=0,0,1)","v":0},{"$f":"+E277+Hoja3!$D278","v":1},{"$f":"+Hoja3!$E278*Hoja3!$D278","v":0},"MANTENER",null,"DIAN","ACTIVA","JUDICIAL","Acto administrativo presuntamente viciado de ilegalidad que se expide al contribuyente que omite la obligación de declarar o no ha presentado declaración, para determinar la obligación tributaria frente al impuesto a la equidad CREE. El vicio del acto puede ser la expedición con infracción de las normas en que debería fundarse, o sin competencia, o en forma irregular, o con desconocimiento del derecho de audiencia y defensa, o mediante falsa motivación, o con falta de motivación, o con desviación de las atribuciones propias de quien lo profirió, o con violación del debido proceso administrativo.",262,{"$f":"+Hoja3!$B278","v":"ILEGALIDAD DEL ACTO ADMINISTRATIVO DE LIQUIDACION OFICIAL DE AFORO IMPUESTO CREE"}]
[{"$f":"+Hoja3!$F279","v":0},"ILEGALIDAD DEL ACTO ADMINISTRATIVO DE LIQUIDACION OFICIAL DE AFORO IMPUESTO DE RIQUEZA",{"$f":"IFERROR(FIND(UPPER('Causas nuevas'!$D$4),B279),0)","v":0},{"$f":"+IF(Hoja3!$C279=0,0,1)","v":0},{"$f":"+E278+Hoja3!$D279","v":1},{"$f":"+Hoja3!$E279*Hoja3!$D279","v":0},"MANTENER",null,"DIAN","ACTIVA","JUDICIAL","Acto administrativo presuntamente viciado de ilegalidad que se expide al contribuyente que omite la obligación de declarar o no ha presentado declaración, para determinar la obligación tributaria frente al impuesto de riqueza. El vicio del acto puede ser la expedición con infracción de las normas en que debería fundarse, o sin competencia, o en forma irregular, o con desconocimiento del derecho de audiencia y defensa, o mediante falsa motivación, o con falta de motivación, o con desviación de las atribuciones propias de quien lo profirió, o con violación del debido proceso administrativo.",265,{"$f":"+Hoja3!$B279","v":"ILEGALIDAD DEL ACTO ADMINISTRATIVO DE LIQUIDACION OFICIAL DE AFORO IMPUESTO DE RIQUEZA"}]
[{"$f":"+Hoja3!$F280","v":0},"ILEGALIDAD DEL ACTO ADMINISTRATIVO DE LIQUIDACION OFICIAL DE AFORO IMPUESTO AL PATRIMONIO",{"$f":"IFERROR(FIND(UPPER('Causas nuevas'!$D$4),B280),0)","v":0},{"$f":"+IF(Hoja3!$C280=0,0,1)","v":0},{"$f":"+E279+Hoja3!$D280","v":1},{"$f":"+Hoja3!$E280*Hoja3!$D280","v":0},"MANTENER",null,"DIAN","ACTIVA","JUDICIAL","Acto administrativo presuntamente viciado de ilegalidad que se expide al contribuyente que omite la obligación de declarar o no ha presentado declaración, para determinar la obligación tributaria frente al impuesto al patrimonio. El vicio del acto puede ser la expedición con infracción de las normas en que debería fundarse, o sin competencia, o en forma irregular, o con desconocimiento del derecho de audiencia y defensa, o mediante falsa motivación, o con falta de motivación, o con desviación de las atribuciones propias de quien lo profirió, o con violación del debido proceso administrativo.",261,{"$f":"+Hoja3!$B280","v":"ILEGALIDAD DEL ACTO ADMINISTRATIVO DE LIQUIDACION OFICIAL DE AFORO IMPUESTO AL PATRIMONIO"}]
[{"$f":"+Hoja3!$F281","v":0},"ILEGALIDAD DEL ACTO ADMINISTRATIVO DE LIQUIDACION OFICIAL DE AFORO IMPUESTO DE SEGURIDAD DEMOCRATICA",{"$f":"IFERROR(FIND(UPPER('Causas nuevas'!$D$4),B281),0)","v":0},{"$f":"+IF(Hoja3!$C281=0,0,1)","v":0},{"$f":"+E280+Hoja3!$D281","v":1},{"$f":"+Hoja3!$E281*Hoja3!$D281","v":0},"MANTENER",null,"DIAN","ACTIVA","JUDICIAL","Acto administrativo presuntamente viciado de ilegalidad que se expide al contribuyente que omite o no ha presentado declaración, para determinar la obligación tributaria frente al impuesto a la seguridad democrática. El vicio del acto puede ser la expedición con infracción de las normas en que debería fundarse, o sin competencia, o en forma irregular, o con desconocimiento del derecho de audiencia y defensa, o mediante falsa motivación, o con falta de motivación, o con desviación de las atribuciones propias de quien lo profirió, o con violación del debido proceso administrativo.",266,{"$f":"+Hoja3!$B281","v":"ILEGALIDAD DEL ACTO ADMINISTRATIVO DE LIQUIDACION OFICIAL DE AFORO IMPUESTO DE SEGURIDAD DEMOCRATICA"}]
[{"$f":"+Hoja3!$F282","v":0},"ILEGALIDAD DEL ACTO ADMINISTRATIVO DE LIQUIDACION OFICIAL DE AFORO IMPUESTO GMF",{"$f":"IFERROR(FIND(UPPER('Causas nuevas'!$D$4),B282),0)","v":0},{"$f":"+IF(Hoja3!$C282=0,0,1)","v":0},{"$f":"+E281+Hoja3!$D282","v":1},{"$f":"+Hoja3!$E282*Hoja3!$D282","v":0},"MANTENER",null,"DIAN","ACTIVA","JUDICIAL","Acto administrativo presuntamente viciado de ilegalidad que se expide al contribuyente que omite la obligación de declarar o no ha presentado declaración, para determinar la obligación tributaria frente al gravamen a los movimientos financieros. El vicio del acto puede ser la expedición con infracción de las normas en que debería fundarse, o sin competencia, o en forma irregular, o con desconocimiento del derecho de audiencia y defensa, o mediante falsa motivación, o con falta de motivación, o con desviación de las atribuciones propias de quien lo profirió, o con violación del debido proceso administrativo.",268,{"$f":"+Hoja3!$B282","v":"ILEGALIDAD DEL ACTO ADMINISTRATIVO DE LIQUIDACION OFICIAL DE AFORO IMPUESTO GMF"}]
[{"$f":"+Hoja3!$F283","v":0},"ILEGALIDAD DEL ACTO ADMINISTRATIVO QUE CLAUSURA ESTABLECIMIENTO DE COMERCIO",{"$f":"IFERROR(FIND(UPPER('Causas nuevas'!$D$4),B283),0)","v":0},{"$f":"+IF(Hoja3!$C283=0,0,1)","v":0},{"$f":"+E282+Hoja3!$D283","v":1},{"$f":"+Hoja3!$E283*Hoja3!$D283","v":0},"MANTENER",null,"DIAN","ACTIVA","JUDICIAL","Acto administrativo expedido por la administración tributaria presuntamente viciado de ilegalidad, para imponer la sanción de clausura o cierre del establecimiento de comercio, oficina, consultorio y, en general, del sitio donde se ejerza la actividad, profesión u oficio, en los casos que indica el Estatuto Tributario Nacional. El vicio del acto puede ser la expedición con infracción de las normas en que debería fundarse, o sin competencia, o en forma irregular, o con desconocimiento del derecho de audiencia y defensa, o mediante falsa motivación, o con falta de motivación, o con desviación de las atribuciones propias de quien lo profirió, o con violación del debido proceso administrativo.",297,{"$f":"+Hoja3!$B283","v":"ILEGALIDAD DEL ACTO ADMINISTRATIVO QUE CLAUSURA ESTABLECIMIENTO DE COMERCIO"}]
[{"$f":"+Hoja3!$F284","v":0},"ILEGALIDAD DEL ACTO ADMINISTRATIVO QUE IMPONE SANCION POR OMISION EN LA OBLIGACION DE LLEVAR LIBROS DE CONTABILIDAD",{"$f":"IFERROR(FIND(UPPER('Causas nuevas'!$D$4),B284),0)","v":0},{"$f":"+IF(Hoja3!$C284=0,0,1)","v":0},{"$f":"+E283+Hoja3!$D284","v":1},{"$f":"+Hoja3!$E284*Hoja3!$D284","v":0},"MANTENER",null,"DIAN","ACTIVA","JUDICIAL","Acto administrativo presuntamente viciado de ilegalidad, que impone sanciones relacionadas con hechos irregularidades en la contabilidad como no llevar libros existiendo la obligación, no exhibirlos, llevar doble contabilidad, entre otros. El vicio del acto puede ser la expedición con infracción de las normas en que debería fundarse, o sin competencia, o en forma irregular, o con desconocimiento del derecho de audiencia y defensa, o mediante falsa motivación, o con falta de motivación, o con desviación de las atribuciones propias de quien lo profirió, o con violación del debido proceso administrativo.",362,{"$f":"+Hoja3!$B284","v":"ILEGALIDAD DEL ACTO ADMINISTRATIVO QUE IMPONE SANCION POR OMISION EN LA OBLIGACION DE LLEVAR LIBROS DE CONTABILIDAD"}]
[{"$f":"+Hoja3!$F285","v":0},"ILEGALIDAD DEL ACTO ADMINISTRATIVO QUE IMPONE SANCION A ENTIDADES AUTORIZADAS PARA LA RECEPCION Y RECAUDO DE IMPUESTOS",{"$f":"IFERROR(FIND(UPPER('Causas nuevas'!$D$4),B285),0)","v":0},{"$f":"+IF(Hoja3!$C285=0,0,1)","v":0},{"$f":"+E284+Hoja3!$D285","v":1},{"$f":"+Hoja3!$E285*Hoja3!$D285","v":0},"MANTENER",null,null,"ACTIVA","JUDICIAL","Acto administrativo presuntamente viciado de ilegalidad que impone sanciones a las entidades autorizadas para el recaudo de tributos, por incumplimiento del esquema de recepción, recaudo, procesamiento de la información, consignación de los dineros recaudados y entrega de la información y reportes a la Dirección de Impuestos y Aduanas Nacionales. El vicio del acto puede ser la expedición con infracción de las normas en que debería fundarse, o sin competencia, o en forma irregular, o con desconocimiento del derecho de audiencia y defensa, o mediante falsa motivación, o con falta de motivación, o con desviación de las atribuciones propias de quien lo profirió, o con violación del debido proceso administrativo.",328,{"$f":"+Hoja3!$B285","v":"ILEGALIDAD DEL ACTO ADMINISTRATIVO QUE IMPONE SANCION A ENTIDADES AUTORIZADAS PARA LA RECEPCION Y RECAUDO DE IMPUESTOS"}]
[{"$f":"+Hoja3!$F286","v":0},"ILEGALIDAD DEL ACTO ADMINISTRATIVO QUE IMPONE SANCION A CONTADORES PUBLICOS",{"$f":"IFERROR(FIND(UPPER('Causas nuevas'!$D$4),B286),0)","v":0},{"$f":"+IF(Hoja3!$C286=0,0,1)","v":0},{"$f":"+E285+Hoja3!$D286","v":1},{"$f":"+Hoja3!$E286*Hoja3!$D286","v":0},"MANTENER",null,"DIAN","ACTIVA","JUDICIAL","Acto administrativo presuntamente viciado de ilegalidad, por el cual se suspende la facultad al contador, auditor o revisor fiscal, que haya firmado declaraciones tributarias en las cuales se determine inexactitud de datos contables consignados en ella, certificados o pruebas, para firmar declaraciones tributarias y certificar los estados financieros y demás pruebas con destino a la DIAN. El vicio del acto puede ser la expedición con infracción de las normas en que debería fundarse, o sin competencia, o en forma irregular, o con desconocimiento del derecho de audiencia y defensa, o mediante falsa motivación, o con falta de motivación, o con desviación de las atribuciones propias de quien lo profirió, o con violación del debido proceso administrativo.",326,{"$f":"+Hoja3!$B286","v":"ILEGALIDAD DEL ACTO ADMINISTRATIVO QUE IMPONE SANCION A CONTADORES PUBLICOS"}]
[{"$f":"+Hoja3!$F287","v":0},"ILEGALIDAD DEL ACTO ADMINISTRATIVO QUE IMPONE SANCION POR EXTEMPORANEIDAD EN LA DECLARACION INFORMATIVA DE PRECIOS DE TRANSFERENCIA",{"$f":"IFERROR(FIND(UPPER('Causas nuevas'!$D$4),B287),0)","v":0},{"$f":"+IF(Hoja3!$C287=0,0,1)","v":0},{"$f":"+E286+Hoja3!$D287","v":1},{"$f":"+Hoja3!$E287*Hoja3!$D287","v":0},"MANTENER",null,"DIAN","ACTIVA","JUDICIAL","Acto administrativo presuntamente viciado de ilegalidad, por el cual se sanciona a los contribuyentes del impuesto sobre la renta y complementarios, obligados a la aplicación de las normas que regulan el régimen de precios de transferencia, por presentar de forma extemporánea la declaración informativa de las operaciones realizadas con vinculados económicos o partes relacionadas domiciliadas o residentes en el exterior. El vicio del acto puede ser la expedición con infracción de las normas en que debería fundarse, o sin competencia, o en forma irregular, o con desconocimiento del derecho de audiencia y defensa, o mediante falsa motivación, o con falta de motivación, o con desviación de las atribuciones propias de quien lo profirió, o con violación del debido proceso administrativo.",337,{"$f":"+Hoja3!$B287","v":"ILEGALIDAD DEL ACTO ADMINISTRATIVO QUE IMPONE SANCION POR EXTEMPORANEIDAD EN LA DECLARACION INFORMATIVA DE PRECIOS DE TRANSFERENCIA"}]
[{"$f":"+Hoja3!$F288","v":0},"ILEGALIDAD DEL ACTO ADMINISTRATIVO QUE IMPONE SANCION POR INCONSISTENCIAS EN LA DECLARACION INFORMATIVA DE PRECIOS DE TRANSFERENCIA",{"$f":"IFERROR(FIND(UPPER('Causas nuevas'!$D$4),B288),0)","v":0},{"$f":"+IF(Hoja3!$C288=0,0,1)","v":0},{"$f":"+E287+Hoja3!$D288","v":1},{"$f":"+Hoja3!$E288*Hoja3!$D288","v":0},"MANTENER",null,"DIAN","ACTIVA","JUDICIAL","Acto administrativo presuntamente viciado de ilegalidad, por el cual se sanciona a los contribuyentes del impuesto sobre la renta y complementarios, obligados a la aplicación de las normas que regulan el régimen de precios de transferencia, por inconsistencias en la declaración informativas según los casos previstos en la ley. El vicio del acto puede ser la expedición con infracción de las normas en que debería fundarse, o sin competencia, o en forma irregular, o con desconocimiento del derecho de audiencia y defensa, o mediante falsa motivación, o con falta de motivación, o con desviación de las atribuciones propias de quien lo profirió, o con violación del debido proceso administrativo.",353,{"$f":"+Hoja3!$B288","v":"ILEGALIDAD DEL ACTO ADMINISTRATIVO QUE IMPONE SANCION POR INCONSISTENCIAS EN LA DECLARACION INFORMATIVA DE PRECIOS DE TRANSFERENCIA"}]
[{"$f":"+Hoja3!$F289","v":0},"ILEGALIDAD DEL ACTO ADMINISTRATIVO QUE IMPONE SANCION POR LA NO PRESENTACION DE LA DECLARACION INFORMATIVA DE PRECIOS DE TRANSFERENCIA",{"$f":"IFERROR(FIND(UPPER('Causas nuevas'!$D$4),B289),0)","v":0},{"$f":"+IF(Hoja3!$C289=0,0,1)","v":0},{"$f":"+E288+Hoja3!$D289","v":1},{"$f":"+Hoja3!$E289*Hoja3!$D289","v":0},"MANTENER",null,"DIAN","ACTIVA","JUDICIAL","Acto administrativo presuntamente viciado de ilegalidad, por el cual se sanciona a los contribuyentes del impuesto sobre la renta y complementarios, obligados a la aplicación de las normas que regulan el régimen de precios de transferencia, por no presentar la declaración informativa de las operaciones realizadas con vinculados económicos o partes relacionadas, dentro del término establecido. El vicio del acto puede ser la expedición con infracción de las normas en que debería fundarse, o sin competencia, o en forma irregular, o con desconocimiento del derecho de audiencia y defensa, o mediante falsa motivación, o con falta de motivación, o con desviación de las atribuciones propias de quien lo profirió, o con violación del debido proceso administrativo.",358,{"$f":"+Hoja3!$B289","v":"ILEGALIDAD DEL ACTO ADMINISTRATIVO QUE IMPONE SANCION POR LA NO PRESENTACION DE LA DECLARACION INFORMATIVA DE PRECIOS DE TRANSFERENCIA"}]
[{"$f":"+Hoja3!$F290","v":0},"ILEGALIDAD DEL ACTO ADMINISTRATIVO QUE IMPONE SANCION POR EXTEMPORANEIDAD EN LA DOCUMENTACION COMPROBATORIA DE PRECIOS DE TRANSFERENCIA",{"$f":"IFERROR(FIND(UPPER('Causas nuevas'!$D$4),B290),0)","v":0},{"$f":"+IF(Hoja3!$C290=0,0,1)","v":0},{"$f":"+E289+Hoja3!$D290","v":1},{"$f":"+Hoja3!$E290*Hoja3!$D290","v":0},"MANTENER",null,"DIAN","ACTIVA","JUDICIAL","Acto administrativo presuntamente viciado de ilegalidad, por el cual se sanciona a los contribuyentes del impuesto sobre la renta que celebren operaciones con vinculados económicos o partes relacionadas domiciliadas o residentes en el exterior, por enviar la documentación comprobatoria relativa a cada tipo de operación fuera de los plazos establecidos. El vicio del acto puede ser la expedición con infracción de las normas en que debería fundarse, o sin competencia, o en forma irregular, o con desconocimiento del derecho de audiencia y defensa, o mediante falsa motivación, o con falta de motivación, o con desviación de las atribuciones propias de quien lo profirió, o con violación del debido proceso administrativo.",338,{"$f":"+Hoja3!$B290","v":"ILEGALIDAD DEL ACTO ADMINISTRATIVO QUE IMPONE SANCION POR EXTEMPORANEIDAD EN LA DOCUMENTACION COMPROBATORIA DE PRECIOS DE TRANSFERENCIA"}]
[{"$f":"+Hoja3!$F291","v":0},"ILEGALIDAD DEL ACTO ADMINISTRATIVO QUE IMPONE SANCION POR INCONSISTENCIAS EN LA DOCUMENTACION COMPROBATORIA DE PRECIOS DE TRANSFERENCIA",{"$f":"IFERROR(FIND(UPPER('Causas nuevas'!$D$4),B291),0)","v":0},{"$f":"+IF(Hoja3!$C291=0,0,1)","v":0},{"$f":"+E290+Hoja3!$D291","v":1},{"$f":"+Hoja3!$E291*Hoja3!$D291","v":0},"MANTENER",null,"DIAN","ACTIVA","JUDICIAL","Acto administrativo presuntamente viciado de ilegalidad, por el cual se sanciona a los contribuyentes del impuesto sobre la renta que celebren operaciones con vinculados económicos o partes relacionadas domiciliadas o residentes en el exterior, por enviar la documentación comprobatoria con errores o que no corresponda a lo solicitado o no permita verificar la aplicación de los precios de transferencia. El vicio del acto puede ser la expedición con infracción de las normas en que debería fundarse, o sin competencia, o en forma irregular, o con desconocimiento del derecho de audiencia y defensa, o mediante falsa motivación, o con falta de motivación, o con desviación de las atribuciones propias de quien lo profirió, o con violación del debido proceso administrativo.",354,{"$f":"+Hoja3!$B291","v":"ILEGALIDAD DEL ACTO ADMINISTRATIVO QUE IMPONE SANCION POR INCONSISTENCIAS EN LA DOCUMENTACION COMPROBATORIA DE PRECIOS DE TRANSFERENCIA"}]
[{"$f":"+Hoja3!$F292","v":0},"ILEGALIDAD DEL ACTO ADMINISTRATIVO QUE IMPONE SANCION POR LA NO PRESENTACION DE LA DOCUMENTACION COMPROBATORIA DE PRECIOS DE TRANSFERENCIA",{"$f":"IFERROR(FIND(UPPER('Causas nuevas'!$D$4),B292),0)","v":0},{"$f":"+IF(Hoja3!$C292=0,0,1)","v":0},{"$f":"+E291+Hoja3!$D292","v":1},{"$f":"+Hoja3!$E292*Hoja3!$D292","v":0},"MANTENER",null,"DIAN","ACTIVA","JUDICIAL","Acto administrativo presuntamente viciado de ilegalidad, por el cual se sanciona a los contribuyentes del impuesto sobre la renta que celebren operaciones con vinculados económicos o partes relacionadas domiciliadas o residentes en el exterior, por no presentar la documentación comprobatoria que demuestre la correcta aplicación de las normas del régimen de precios de transferencia. El vicio del acto puede ser la expedición con infracción de las normas en que debería fundarse, o sin competencia, o en forma irregular, o con desconocimiento del derecho de audiencia y defensa, o mediante falsa motivación, o con falta de motivación, o con desviación de las atribuciones propias de quien lo profirió, o con violación del debido proceso administrativo.",359,{"$f":"+Hoja3!$B292","v":"ILEGALIDAD DEL ACTO ADMINISTRATIVO QUE IMPONE SANCION POR LA NO PRESENTACION DE LA DOCUMENTACION COMPROBATORIA DE PRECIOS DE TRANSFERENCIA"}]
[{"$f":"+Hoja3!$F293","v":0},"ILEGALIDAD DEL ACTO ADMINISTRATIVO QUE IMPONE SANCION POR LA NO PRESENTACION DE INFORMACION EXOGENA",{"$f":"IFERROR(FIND(UPPER('Causas nuevas'!$D$4),B293),0)","v":0},{"$f":"+IF(Hoja3!$C293=0,0,1)","v":0},{"$f":"+E292+Hoja3!$D293","v":1},{"$f":"+Hoja3!$E293*Hoja3!$D293","v":0},"MANTENER",null,"DIAN","ACTIVA","JUDICIAL","Acto administrativo presuntamente viciado de ilegalidad, que sanciona a las personas y entidades obligadas a suministrar información tributaria, así como aquellas a quienes se les haya solicitado informaciones o pruebas, que no la suministren. El vicio del acto puede ser la expedición con infracción de las normas en que debería fundarse, o sin competencia, o en forma irregular, o con desconocimiento del derecho de audiencia y defensa, o mediante falsa motivación, o con falta de motivación, o con desviación de las atribuciones propias de quien lo profirió, o con violación del debido proceso administrativo.",357,{"$f":"+Hoja3!$B293","v":"ILEGALIDAD DEL ACTO ADMINISTRATIVO QUE IMPONE SANCION POR LA NO PRESENTACION DE INFORMACION EXOGENA"}]
[{"$f":"+Hoja3!$F294","v":0},"ILEGALIDAD DEL ACTO ADMINISTRATIVO QUE IMPONE SANCION POR EXTEMPORANEIDAD DE LA PRESENTACION DE INFORMACION EXOGENA",{"$f":"IFERROR(FIND(UPPER('Causas nuevas'!$D$4),B294),0)","v":0},{"$f":"+IF(Hoja3!$C294=0,0,1)","v":0},{"$f":"+E293+Hoja3!$D294","v":1},{"$f":"+Hoja3!$E294*Hoja3!$D294","v":0},"MANTENER",null,"DIAN","ACTIVA","JUDICIAL","Acto administrativo presuntamente viciado de ilegalidad, que sanciona a las personas y entidades obligadas a suministrar información tributaria, así como aquellas a quienes se les haya solicitado informaciones o pruebas, que no la suministren dentro del plazo establecido para ello. El vicio del acto puede ser la expedición con infracción de las normas en que debería fundarse, o sin competencia, o en forma irregular, o con desconocimiento del derecho de audiencia y defensa, o mediante falsa motivación, o con falta de motivación, o con desviación de las atribuciones propias de quien lo profirió, o con violación del debido proceso administrativo.",336,{"$f":"+Hoja3!$B294","v":"ILEGALIDAD DEL ACTO ADMINISTRATIVO QUE IMPONE SANCION POR EXTEMPORANEIDAD DE LA PRESENTACION DE INFORMACION EXOGENA"}]
[{"$f":"+Hoja3!$F295","v":0},"ILEGALIDAD DEL ACTO ADMINISTRATIVO QUE IMPONE SANCION POR INCONSISTENCIAS EN LA PRESENTACION DE INFORMACION EXOGENA",{"$f":"IFERROR(FIND(UPPER('Causas nuevas'!$D$4),B295),0)","v":0},{"$f":"+IF(Hoja3!$C295=0,0,1)","v":0},{"$f":"+E294+Hoja3!$D295","v":1},{"$f":"+Hoja3!$E295*Hoja3!$D295","v":0},"MANTENER",null,"DIAN","ACTIVA","JUDICIAL","Acto administrativo presuntamente viciado de ilegalidad, que sanciona a las personas y entidades obligadas a suministrar información tributaria, así como aquellas a quienes se les haya solicitado informaciones o pruebas, cuyo contenido presente errores o no corresponda a lo solicitado. El vicio del acto puede ser la expedición con infracción de las normas en que debería fundarse, o sin competencia, o en forma irregular, o con desconocimiento del derecho de audiencia y defensa, o mediante falsa motivación, o con falta de motivación, o con desviación de las atribuciones propias de quien lo profirió, o con violación del debido proceso administrativo.",355,{"$f":"+Hoja3!$B295","v":"ILEGALIDAD DEL ACTO ADMINISTRATIVO QUE IMPONE SANCION POR INCONSISTENCIAS EN LA PRESENTACION DE INFORMACION EXOGENA"}]
[{"$f":"+Hoja3!$F296","v":0},"ILEGALIDAD DEL ACTO ADMINISTRATIVO QUE IMPONE SANCION POR DEVOLUCION O COMPENSACION IMPROCEDENTE",{"$f":"IFERROR(FIND(UPPER('Causas nuevas'!$D$4),B296),0)","v":0},{"$f":"+IF(Hoja3!$C296=0,0,1)","v":0},{"$f":"+E295+Hoja3!$D296","v":1},{"$f":"+Hoja3!$E296*Hoja3!$D296","v":0},"MANTENER",null,"DIAN","ACTIVA","JUDICIAL","Acto administrativo presuntamente viciado de ilegalidad, que se expide por el rechazo o modificación de un saldo a favor que fue objeto de devolución o compensación. Las sumas devueltas o compensadas en exceso, deben ser reintegradas junto con los intereses moratorios que correspondan. El vicio del acto puede ser la expedición con infracción de las normas en que debería fundarse, o sin competencia, o en forma irregular, o con desconocimiento del derecho de audiencia y defensa, o mediante falsa motivación, o con falta de motivación, o con desviación de las atribuciones propias de quien lo profirió, o con violación del debido proceso administrativo.",335,{"$f":"+Hoja3!$B296","v":"ILEGALIDAD DEL ACTO ADMINISTRATIVO QUE IMPONE SANCION POR DEVOLUCION O COMPENSACION IMPROCEDENTE"}]
[{"$f":"+Hoja3!$F297","v":0},"ILEGALIDAD DEL ACTO ADMINISTRATIVO QUE IMPONE SANCION POR DECLARACION DE PROVEEDOR FICTICIO O INSOLVENTE",{"$f":"IFERROR(FIND(UPPER('Causas nuevas'!$D$4),B297),0)","v":0},{"$f":"+IF(Hoja3!$C297=0,0,1)","v":0},{"$f":"+E296+Hoja3!$D297","v":1},{"$f":"+Hoja3!$E297*Hoja3!$D297","v":0},"MANTENER",null,"DIAN","ACTIVA","JUDICIAL","Acto administrativo presuntamente viciado de ilegalidad, que se expide a aquellas personas o entidades que facturen ventas o prestación de servicios simulados o inexistentes y a quienes se encuentre que, durante el proceso de determinación y discusión del tributo tenían bienes que dentro del procedimiento administrativo de cobro no aparecen como base para la cancelación de las obligaciones tributarias y, se haya operado una disminución patrimonial. El vicio del acto puede ser la expedición con infracción de las normas en que debería fundarse, o sin competencia, o en forma irregular, o con desconocimiento del derecho de audiencia y defensa, o mediante falsa motivación, o con falta de motivación, o con desviación de las atribuciones propias de quien lo profirió, o con violación del debido proceso administrativo.",334,{"$f":"+Hoja3!$B297","v":"ILEGALIDAD DEL ACTO ADMINISTRATIVO QUE IMPONE SANCION POR DECLARACION DE PROVEEDOR FICTICIO O INSOLVENTE"}]
[{"$f":"+Hoja3!$F298","v":0},"ILEGALIDAD DEL ACTO ADMINISTRATIVO QUE IMPONE SANCION POR DECLARACION DE INSOLVENCIA",{"$f":"IFERROR(FIND(UPPER('Causas nuevas'!$D$4),B298),0)","v":0},{"$f":"+IF(Hoja3!$C298=0,0,1)","v":0},{"$f":"+E297+Hoja3!$D298","v":1},{"$f":"+Hoja3!$E298*Hoja3!$D298","v":0},"MANTENER",null,"DIAN","ACTIVA","JUDICIAL","Acto administrativo presuntamente viciado de ilegalidad, que sanciona a aquellas personas o entidades a quienes no se haya podido cobrar las deudas tributarias, en razón a que traspasaron sus bienes a terceras personas, con el fin de eludir el cobro de la Administración. El vicio del acto puede ser la expedición con infracción de las normas en que debería fundarse, o sin competencia, o en forma irregular, o con desconocimiento del derecho de audiencia y defensa, o mediante falsa motivación, o con falta de motivación, o con desviación de las atribuciones propias de quien lo profirió, o con violación del debido proceso administrativo.",333,{"$f":"+Hoja3!$B298","v":"ILEGALIDAD DEL ACTO ADMINISTRATIVO QUE IMPONE SANCION POR DECLARACION DE INSOLVENCIA"}]
[{"$f":"+Hoja3!$F299","v":0},"ILEGALIDAD DEL ACTO ADMINISTRATIVO QUE IMPONE SANCION POR EXTEMPORANEIDAD EN LA INSCRIPCION EN EL REGISTRO NACIONAL DE VENDEDORES",{"$f":"IFERROR(FIND(UPPER('Causas nuevas'!$D$4),B299),0)","v":0},{"$f":"+IF(Hoja3!$C299=0,0,1)","v":0},{"$f":"+E298+Hoja3!$D299","v":1},{"$f":"+Hoja3!$E299*Hoja3!$D299","v":0},"MANTENER",null,"DIAN","ACTIVA","JUDICIAL","Acto administrativo presuntamente viciado de ilegalidad, que sanciona a los responsables del impuesto sobre las ventas que se inscriban en el registro nacional de vendedores con posterioridad al plazo establecido y antes de que la Administración de Impuestos lo haga de oficio. El vicio del acto puede ser la expedición con infracción de las normas en que debería fundarse, o sin competencia, o en forma irregular, o con desconocimiento del derecho de audiencia y defensa, o mediante falsa motivación, o con falta de motivación, o con desviación de las atribuciones propias de quien lo profirió, o con violación del debido proceso administrativo.",339,{"$f":"+Hoja3!$B299","v":"ILEGALIDAD DEL ACTO ADMINISTRATIVO QUE IMPONE SANCION POR EXTEMPORANEIDAD EN LA INSCRIPCION EN EL REGISTRO NACIONAL DE VENDEDORES"}]
[{"$f":"+Hoja3!$F300","v":0},"ILEGALIDAD DEL ACTO ADMINISTRATIVO QUE IMPONE SANCION POR LA OMISION EN LA EXPEDICION DE CERTIFICADOS",{"$f":"IFERROR(FIND(UPPER('Causas nuevas'!$D$4),B300),0)","v":0},{"$f":"+IF(Hoja3!$C300=0,0,1)","v":0},{"$f":"+E299+Hoja3!$D300","v":1},{"$f":"+Hoja3!$E300*Hoja3!$D300","v":0},"MANTENER",null,null,"ACTIVA","JUDICIAL","Acto administrativo presuntamente viciado de ilegalidad que impone sanciones por omisión en el deber de expedición de certificados que den cuenta de condiciones, situaciones, culplimiento de requisitos, etc,. El vicio del acto puede ser la expedición con infracción de las normas en que debería fundarse, o sin competencia, o en forma irregular, o con desconocimiento del derecho de audiencia y defensa, o mediante falsa motivación, o con falta de motivación, o con desviación de las atribuciones propias de quien lo profirió, o con violación del debido proceso administrativo.",360,{"$f":"+Hoja3!$B300","v":"ILEGALIDAD DEL ACTO ADMINISTRATIVO QUE IMPONE SANCION POR LA OMISION EN LA EXPEDICION DE CERTIFICADOS"}]
[{"$f":"+Hoja3!$F301","v":0},"ILEGALIDAD DEL ACTO ADMINISTRATIVO QUE DECRETA MEDIDAS CAUTELARES",{"$f":"IFERROR(FIND(UPPER('Causas nuevas'!$D$4),B301),0)","v":0},{"$f":"+IF(Hoja3!$C301=0,0,1)","v":0},{"$f":"+E300+Hoja3!$D301","v":1},{"$f":"+Hoja3!$E301*Hoja3!$D301","v":0},"MANTENER",null,"DIAN","ACTIVA","JUDICIAL","Acto administrativo presuntamente viciado de ilegalidad, que se expide de forma previa o simultáneamente con el mandamiento de pago, mediante el cual se decreta el embargo y secuestro preventivo de los bienes del deudor que se hayan establecido como de su propiedad, en un proceso administrativo coactivo. El vicio del acto puede ser la expedición con infracción de las normas en que debería fundarse, o sin competencia, o en forma irregular, o con desconocimiento del derecho de audiencia y defensa, o mediante falsa motivación, o con falta de motivación, o con desviación de las atribuciones propias de quien lo profirió, o con violación del debido proceso administrativo.",312,{"$f":"+Hoja3!$B301","v":"ILEGALIDAD DEL ACTO ADMINISTRATIVO QUE DECRETA MEDIDAS CAUTELARES"}]
[{"$f":"+Hoja3!$F302","v":0},"ILEGALIDAD DEL ACTO ADMINISTRATIVO QUE NIEGA O ADMITE REGISTRO DE CONTRATO",{"$f":"IFERROR(FIND(UPPER('Causas nuevas'!$D$4),B302),0)","v":0},{"$f":"+IF(Hoja3!$C302=0,0,1)","v":0},{"$f":"+E301+Hoja3!$D302","v":1},{"$f":"+Hoja3!$E302*Hoja3!$D302","v":0},"MANTENER",null,"DIAN","ACTIVA","JUDICIAL","Acto administrativo presuntamente viciado de ilegalidad que se expide a los importadores de tecnología, quienes deben registrar los contratos de importación de tecnología (asistencia técnica, servicios técnicos, licencias de tecnología, etc.) ante DIAN. El vicio del acto puede ser la expedición con infracción de las normas en que debería fundarse, o sin competencia, o en forma irregular, o con desconocimiento del derecho de audiencia y defensa, o mediante falsa motivación, o con falta de motivación, o con desviación de las atribuciones propias de quien lo profirió, o con violación del debido proceso administrativo.",407,{"$f":"+Hoja3!$B302","v":"ILEGALIDAD DEL ACTO ADMINISTRATIVO QUE NIEGA O ADMITE REGISTRO DE CONTRATO"}]
[{"$f":"+Hoja3!$F303","v":0},"ILEGALIDAD DEL ACTO ADMINISTRATIVO QUE NIEGA O ADMITE ACUERDO ANTICIPADO DE PRECIOS",{"$f":"IFERROR(FIND(UPPER('Causas nuevas'!$D$4),B303),0)","v":0},{"$f":"+IF(Hoja3!$C303=0,0,1)","v":0},{"$f":"+E302+Hoja3!$D303","v":1},{"$f":"+Hoja3!$E303*Hoja3!$D303","v":0},"MANTENER",null,"DIAN","ACTIVA","JUDICIAL","Acto administrativo presuntamente viciado de ilegalidad, que niega o admite un acuerdo con contribuyentes del impuesto sobre la renta, nacionales o extranjeros, en los cuales se determine el precio o margen de utilidad de las diferentes operaciones que realicen con sus vinculados económicos o partes relacionadas, en los términos establecidos en la ley. El vicio del acto puede ser la expedición con infracción de las normas en que debería fundarse, o sin competencia, o en forma irregular, o con desconocimiento del derecho de audiencia y defensa, o mediante falsa motivación, o con falta de motivación, o con desviación de las atribuciones propias de quien lo profirió, o con violación del debido proceso administrativo.",405,{"$f":"+Hoja3!$B303","v":"ILEGALIDAD DEL ACTO ADMINISTRATIVO QUE NIEGA O ADMITE ACUERDO ANTICIPADO DE PRECIOS"}]
[{"$f":"+Hoja3!$F304","v":0},"ILEGALIDAD DEL ACTO ADMINISTRATIVO QUE NIEGA O ADMITE CONTRATO DE ESTABILIDAD JURIDICA",{"$f":"IFERROR(FIND(UPPER('Causas nuevas'!$D$4),B304),0)","v":0},{"$f":"+IF(Hoja3!$C304=0,0,1)","v":0},{"$f":"+E303+Hoja3!$D304","v":1},{"$f":"+Hoja3!$E304*Hoja3!$D304","v":0},"MANTENER",null,"DIAN","ACTIVA","JUDICIAL","Acto administrativo presuntamente viciado de ilegalidad, que niega o admite una solicitud de contrato de estabilidad jurídica a inversionistas, para que, si durante su vigencia se modifica en forma adversa a estos alguna de las normas que haya sido identificada en los contratos como determinante de la inversión, tendrán derecho a que se les continúen aplicando dichas normas por el término de duración del contrato. El vicio del acto puede ser la expedición con infracción de las normas en que debería fundarse, o sin competencia, o en forma irregular, o con desconocimiento del derecho de audiencia y defensa, o mediante falsa motivación, o con falta de motivación, o con desviación de las atribuciones propias de quien lo profirió, o con violación del debido proceso administrativo.",406,{"$f":"+Hoja3!$B304","v":"ILEGALIDAD DEL ACTO ADMINISTRATIVO QUE NIEGA O ADMITE CONTRATO DE ESTABILIDAD JURIDICA"}]
[{"$f":"+Hoja3!$F305","v":0},"ILEGALIDAD DEL ACTO ADMINISTRATIVO QUE NIEGA O APRUEBA FACILIDAD DE PAGO",{"$f":"IFERROR(FIND(UPPER('Causas nuevas'!$D$4),B305),0)","v":0},{"$f":"+IF(Hoja3!$C305=0,0,1)","v":0},{"$f":"+E304+Hoja3!$D305","v":1},{"$f":"+Hoja3!$E305*Hoja3!$D305","v":0},"MANTENER",null,"DIAN","ACTIVA","JUDICIAL","Acto administrativo presuntamente viciado de ilegalidad, que se expide al deudor o a un tercero a su nombre a fin de concederle facilidades para el pago de impuestos, cancelación de intereses y sanciones, siempre que se constituya garantía que respalde suficientemente la deuda. El vicio del acto puede ser la expedición con infracción de las normas en que debería fundarse, o sin competencia, o en forma irregular, o con desconocimiento del derecho de audiencia y defensa, o mediante falsa motivación, o con falta de motivación, o con desviación de las atribuciones propias de quien lo profirió, o con violación del debido proceso administrativo.",411,{"$f":"+Hoja3!$B305","v":"ILEGALIDAD DEL ACTO ADMINISTRATIVO QUE NIEGA O APRUEBA FACILIDAD DE PAGO"}]
[{"$f":"+Hoja3!$F306","v":0},"ILEGALIDAD DEL ACTO ADMINISTRATIVO QUE DEJA SIN EFECTO FACILIDAD DE PAGO",{"$f":"IFERROR(FIND(UPPER('Causas nuevas'!$D$4),B306),0)","v":0},{"$f":"+IF(Hoja3!$C306=0,0,1)","v":0},{"$f":"+E305+Hoja3!$D306","v":1},{"$f":"+Hoja3!$E306*Hoja3!$D306","v":0},"MANTENER",null,"DIAN","ACTIVA","JUDICIAL","Acto administrativo presuntamente viciado de ilegalidad, que se expide al beneficiario de una facilidad para el pago, cuando deja de pagar alguna de las cuotas o incumple el pago de cualquiera otra obligación tributaria surgida con posterioridad a la notificación de la facilidad, para dejarla sin efecto, declarando sin vigencia el plazo concedido, ordenando hacer efectiva la garantía hasta concurrencia del saldo de la deuda garantizada. El vicio del acto puede ser la expedición con infracción de las normas en que debería fundarse, o sin competencia, o en forma irregular, o con desconocimiento del derecho de audiencia y defensa, o mediante falsa motivación, o con falta de motivación, o con desviación de las atribuciones propias de quien lo profirió, o con violación del debido proceso administrativo.",317,{"$f":"+Hoja3!$B306","v":"ILEGALIDAD DEL ACTO ADMINISTRATIVO QUE DEJA SIN EFECTO FACILIDAD DE PAGO"}]
[{"$f":"+Hoja3!$F307","v":0},"ILEGALIDAD DEL ACTO ADMINISTRATIVO QUE NIEGA O APRUEBA CONCILIACION",{"$f":"IFERROR(FIND(UPPER('Causas nuevas'!$D$4),B307),0)","v":0},{"$f":"+IF(Hoja3!$C307=0,0,1)","v":0},{"$f":"+E306+Hoja3!$D307","v":1},{"$f":"+Hoja3!$E307*Hoja3!$D307","v":0},"MANTENER",null,"DIAN","ACTIVA","JUDICIAL","Acto administrativo presuntamente viciado de ilegalidad, que se expide de forma previa o simultáneamente con el mandamiento de pago, mediante el cual se decreta el embargo y secuestro preventivo de los bienes del deudor que se hayan establecido como de su propiedad, en un proceso administrativo coactivo. El vicio del acto puede ser la expedición con infracción de las normas en que debería fundarse, o sin competencia, o en forma irregular, o con desconocimiento del derecho de audiencia y defensa, o mediante falsa motivación, o con falta de motivación, o con desviación de las atribuciones propias de quien lo profirió, o con violación del debido proceso administrativo.",408,{"$f":"+Hoja3!$B307","v":"ILEGALIDAD DEL ACTO ADMINISTRATIVO QUE NIEGA O APRUEBA CONCILIACION"}]
[{"$f":"+Hoja3!$F308","v":0},"ILEGALIDAD DEL ACTO ADMINISTRATIVO QUE NIEGA O APRUEBA DACION EN PAGO",{"$f":"IFERROR(FIND(UPPER('Causas nuevas'!$D$4),B308),0)","v":0},{"$f":"+IF(Hoja3!$C308=0,0,1)","v":0},{"$f":"+E307+Hoja3!$D308","v":1},{"$f":"+Hoja3!$E308*Hoja3!$D308","v":0},"MANTENER",null,"DIAN","ACTIVA","JUDICIAL","Acto administrativo presuntamente viciado de ilegalidad, que niega o aprueba la cancelación de obligaciones tributarias mediante la dación en pago de bienes muebles o inmuebles. La dación en pago es un modo de extinguir las obligaciones tributarias administradas por DIAN, por concepto de impuestos, anticipos, retenciones y sanciones junto con las actualizaciones e intereses a que hubiere lugar, a cargo de los deudores que se encuentren en procesos de extinción de dominio, en los cuales se adjudique la propiedad del bien a la Nación-DIAN, o en procesos concursales; de liquidación forzosa administrativa; de reestructuración empresarial; de insolvencia o de cruce de cuentas, que se encuentren en curso, de acuerdo con lo establecido en la Ley 550 de 1999. El vicio del acto puede ser la expedición con infracción de las normas en que debería fundarse, o sin competencia, o en forma irregular, o con desconocimiento del derecho de audiencia y defensa, o mediante falsa motivación, o con falta de motivación, o con desviación de las atribuciones propias de quien lo profirió, o con violación del debido proceso administrativo.",410,{"$f":"+Hoja3!$B308","v":"ILEGALIDAD DEL ACTO ADMINISTRATIVO QUE NIEGA O APRUEBA DACION EN PAGO"}]
[{"$f":"+Hoja3!$F309","v":0},"ILEGALIDAD DEL ACTO ADMINISTRATIVO QUE NIEGA O APRUEBA CRUCE DE CUENTAS",{"$f":"IFERROR(FIND(UPPER('Causas nuevas'!$D$4),B309),0)","v":0},{"$f":"+IF(Hoja3!$C309=0,0,1)","v":0},{"$f":"+E308+Hoja3!$D309","v":1},{"$f":"+Hoja3!$E309*Hoja3!$D309","v":0},"MANTENER",null,"DIAN","ACTIVA","JUDICIAL","Acto administrativo presuntamente viciado de ilegalidad, que niega o aprueba el cruce de cuentas como forma de extinguir las obligaciones de tributos nacionales administrados por la U.A.E DIAN a las personas naturales y jurídicas que a su vez sean acreedoras de entidades estatales del orden nacional que formen parte del Presupuesto General de la Nación y que reúnan todos los requisitos previstos en la Ley. El vicio del acto puede ser la expedición con infracción de las normas en que debería fundarse, o sin competencia, o en forma irregular, o con desconocimiento del derecho de audiencia y defensa, o mediante falsa motivación, o con falta de motivación, o con desviación de las atribuciones propias de quien lo profirió, o con violación del debido proceso administrativo.",409,{"$f":"+Hoja3!$B309","v":"ILEGALIDAD DEL ACTO ADMINISTRATIVO QUE NIEGA O APRUEBA CRUCE DE CUENTAS"}]
[{"$f":"+Hoja3!$F310","v":0},"ILEGALIDAD DEL ACTO ADMINISTRATIVO QUE DISPONE DECOMISO DE MERCANCIAS",{"$f":"IFERROR(FIND(UPPER('Causas nuevas'!$D$4),B310),0)","v":0},{"$f":"+IF(Hoja3!$C310=0,0,1)","v":0},{"$f":"+E309+Hoja3!$D310","v":1},{"$f":"+Hoja3!$E310*Hoja3!$D310","v":0},"MANTENER",null,"DIAN","ACTIVA","JUDICIAL","Acto administrativo presuntamente viciado de ilegalidad que decreta el decomiso de mercancías. El decomiso es el acto en virtud del cual pasan a poder de la Nación las mercancías, medios de transporte o unidades de carga, respecto de los cuales no se acredite el cumplimiento de los trámites previstos para su legal introducción, permanencia y circulación en el Territorio Aduanero Nacional. El vicio del acto puede ser la expedición con infracción de las normas en que debería fundarse, o sin competencia, o en forma irregular, o con desconocimiento del derecho de audiencia y defensa, o mediante falsa motivación, o con falta de motivación, o con desviación de las atribuciones propias de quien lo profirió, o con violación del debido proceso administrativo.",320,{"$f":"+Hoja3!$B310","v":"ILEGALIDAD DEL ACTO ADMINISTRATIVO QUE DISPONE DECOMISO DE MERCANCIAS"}]
[{"$f":"+Hoja3!$F311","v":0},"ILEGALIDAD DEL ACTO ADMINISTRATIVO QUE PROFIERE LIQUIDACION OFICIAL DE REVISION DE VALOR DEL IMPUESTO DE IMPORTACION",{"$f":"IFERROR(FIND(UPPER('Causas nuevas'!$D$4),B311),0)","v":0},{"$f":"+IF(Hoja3!$C311=0,0,1)","v":0},{"$f":"+E310+Hoja3!$D311","v":1},{"$f":"+Hoja3!$E311*Hoja3!$D311","v":0},"MANTENER",null,"DIAN","ACTIVA","JUDICIAL","Acto administrativo presuntamente viciado de ilegalidad que profiere liquidación oficial de revisión de valor del impuesto de importación. La liquidación oficial es el acto mediante el cual la autoridad aduanera determina el valor a pagar e impone las sanciones a que hubiere lugar, cuando en el proceso de importación o en desarrollo de programas de fiscalización se detecte que la liquidación de la declaración no se ajusta a las exigencias legales aduaneras. El vicio del acto puede ser la expedición con infracción de las normas en que debería fundarse, o sin competencia, o en forma irregular, o con desconocimiento del derecho de audiencia y defensa, o mediante falsa motivación, o con falta de motivación, o con desviación de las atribuciones propias de quien lo profirió, o con violación del debido proceso administrativo.",445,{"$f":"+Hoja3!$B311","v":"ILEGALIDAD DEL ACTO ADMINISTRATIVO QUE PROFIERE LIQUIDACION OFICIAL DE REVISION DE VALOR DEL IMPUESTO DE IMPORTACION"}]
[{"$f":"+Hoja3!$F312","v":0},"ILEGALIDAD DEL ACTO ADMINISTRATIVO QUE NIEGA LIQUIDACION OFICIAL PARA EFECTOS DE DEVOLUCION DE ARANCELES ADUANEROS",{"$f":"IFERROR(FIND(UPPER('Causas nuevas'!$D$4),B312),0)","v":0},{"$f":"+IF(Hoja3!$C312=0,0,1)","v":0},{"$f":"+E311+Hoja3!$D312","v":1},{"$f":"+Hoja3!$E312*Hoja3!$D312","v":0},"MANTENER",null,"DIAN","ACTIVA","JUDICIAL","Acto administrativo presuntamente viciado de ilegalidad que profiere liquidación oficial de revisión de valor del impuesto de importación. La liquidación oficial es el acto mediante el cual la autoridad determina un menor o mayor valor a pagar en los casos establecidos en la norma aduanera. El vicio del acto puede ser la expedición con infracción de las normas en que debería fundarse, o sin competencia, o en forma irregular, o con desconocimiento del derecho de audiencia y defensa, o mediante falsa motivación, o con falta de motivación, o con desviación de las atribuciones propias de quien lo profirió, o con violación del debido proceso administrativo.",404,{"$f":"+Hoja3!$B312","v":"ILEGALIDAD DEL ACTO ADMINISTRATIVO QUE NIEGA LIQUIDACION OFICIAL PARA EFECTOS DE DEVOLUCION DE ARANCELES ADUANEROS"}]
[{"$f":"+Hoja3!$F313","v":0},"ILEGALIDAD DEL ACTO ADMINISTRATIVO QUE IMPONE SANCION POR FALTA ADUANERA DE LOS DECLARANTES EN EL REGIMEN DE IMPORTACION",{"$f":"IFERROR(FIND(UPPER('Causas nuevas'!$D$4),B313),0)","v":0},{"$f":"+IF(Hoja3!$C313=0,0,1)","v":0},{"$f":"+E312+Hoja3!$D313","v":1},{"$f":"+Hoja3!$E313*Hoja3!$D313","v":0},"MANTENER",null,"DIAN","ACTIVA","JUDICIAL","Acto administrativo presuntamente viciado de ilegalidad que impone sanción por falta aduanera de los declarantes en el régimen de importación, por el cual las mercancías importadas desde el exterior o desde una zona franca pueden circular libremente en el territorio aduanero nacional, previo del pago de los derechos de aduana y del cumplimiento de las formalidades y obligaciones aduaneras. La infracción aduanera es toda acción u omisión que conlleva la transgresión de la legislación aduanera. El vicio del acto puede ser la expedición con infracción de las normas en que debería fundarse, o sin competencia, o en forma irregular, o con desconocimiento del derecho de audiencia y defensa, o mediante falsa motivación, o con falta de motivación, o con desviación de las atribuciones propias de quien lo profirió, o con violación del debido proceso administrativo.",344,{"$f":"+Hoja3!$B313","v":"ILEGALIDAD DEL ACTO ADMINISTRATIVO QUE IMPONE SANCION POR FALTA ADUANERA DE LOS DECLARANTES EN EL REGIMEN DE IMPORTACION"}]
[{"$f":"+Hoja3!$F314","v":0},"ILEGALIDAD DEL ACTO ADMINISTRATIVO QUE IMPONE SANCION POR FALTA ADUANERA DE LOS DECLARANTES EN EL REGIMEN DE EXPORTACION",{"$f":"IFERROR(FIND(UPPER('Causas nuevas'!$D$4),B314),0)","v":0},{"$f":"+IF(Hoja3!$C314=0,0,1)","v":0},{"$f":"+E313+Hoja3!$D314","v":1},{"$f":"+Hoja3!$E314*Hoja3!$D314","v":0},"MANTENER",null,"DIAN","ACTIVA","JUDICIAL","Acto administrativo presuntamente viciado de ilegalidad que impone sanción por falta aduanera de los declarantes en el régimen de exportación, por el cual se permite la salida de mercancías del territorio aduanero nacional para su uso o consumo definitivo en otro país o en una zona franca. La infracción aduanera es toda acción u omisión que conlleva la transgresión de la legislación aduanera. El vicio del acto puede ser la expedición con infracción de las normas en que debería fundarse, o sin competencia, o en forma irregular, o con desconocimiento del derecho de audiencia y defensa, o mediante falsa motivación, o con falta de motivación, o con desviación de las atribuciones propias de quien lo profirió, o con violación del debido proceso administrativo.",343,{"$f":"+Hoja3!$B314","v":"ILEGALIDAD DEL ACTO ADMINISTRATIVO QUE IMPONE SANCION POR FALTA ADUANERA DE LOS DECLARANTES EN EL REGIMEN DE EXPORTACION"}]
[{"$f":"+Hoja3!$F315","v":0},"ILEGALIDAD DEL ACTO ADMINISTRATIVO QUE IMPONE SANCION POR FALTA ADUANERA DE LOS DECLARANTES EN EL REGIMEN DE TRANSITO ADUANERO",{"$f":"IFERROR(FIND(UPPER('Causas nuevas'!$D$4),B315),0)","v":0},{"$f":"+IF(Hoja3!$C315=0,0,1)","v":0},{"$f":"+E314+Hoja3!$D315","v":1},{"$f":"+Hoja3!$E315*Hoja3!$D315","v":0},"MANTENER",null,"DIAN","ACTIVA","JUDICIAL","Acto administrativo presuntamente viciado de ilegalidad que impone sanción por falta aduanera de los declarantes en el régimen de tránsito aduanero, mediante el cual las mercancías son transportadas, bajo control aduanero, desde una aduana de partida hasta una aduana de destino en una misma operación en el curso de la cual se cruzan una o varias fronteras. La infracción aduanera es toda acción u omisión que conlleva la transgresión de la legislación aduanera. El vicio del acto puede ser la expedición con infracción de las normas en que debería fundarse, o sin competencia, o en forma irregular, o con desconocimiento del derecho de audiencia y defensa, o mediante falsa motivación, o con falta de motivación, o con desviación de las atribuciones propias de quien lo profirió, o con violación del debido proceso administrativo.",345,{"$f":"+Hoja3!$B315","v":"ILEGALIDAD DEL ACTO ADMINISTRATIVO QUE IMPONE SANCION POR FALTA ADUANERA DE LOS DECLARANTES EN EL REGIMEN DE TRANSITO ADUANERO"}]
[{"$f":"+Hoja3!$F316","v":0},"ILEGALIDAD DEL ACTO ADMINISTRATIVO QUE IMPONE SANCION POR FALTA ADUANERA DE LOS AGENTES DE ADUANAS",{"$f":"IFERROR(FIND(UPPER('Causas nuevas'!$D$4),B316),0)","v":0},{"$f":"+IF(Hoja3!$C316=0,0,1)","v":0},{"$f":"+E315+Hoja3!$D316","v":1},{"$f":"+Hoja3!$E316*Hoja3!$D316","v":0},"MANTENER",null,"DIAN","ACTIVA","JUDICIAL","Acto administrativo presuntamente viciado de ilegalidad que impone sanción por falta aduanera de los agentes de aduanas, que son las personas autorizadas por la Dirección de Impuestos y Aduanas Nacionales para ejercer actividades auxiliares de la función pública aduanera de naturaleza mercantil y de servicio, orientada a garantizar que los usuarios de comercio exterior que utilicen sus servicios cumplan con las normas legales existentes en materia de importación, exportación y tránsito aduanero y cualquier operación o procedimiento aduanero inherente a dichas actividades. La infracción aduanera es toda acción u omisión que conlleva la transgresión de la legislación aduanera. El vicio del acto puede ser la expedición con infracción de las normas en que debería fundarse, o sin competencia, o en forma irregular, o con desconocimiento del derecho de audiencia y defensa, o mediante falsa motivación, o con falta de motivación, o con desviación de las atribuciones propias de quien lo profirió, o con violación del debido proceso administrativo.",340,{"$f":"+Hoja3!$B316","v":"ILEGALIDAD DEL ACTO ADMINISTRATIVO QUE IMPONE SANCION POR FALTA ADUANERA DE LOS AGENTES DE ADUANAS"}]
[{"$f":"+Hoja3!$F317","v":0},"ILEGALIDAD DEL ACTO ADMINISTRATIVO QUE IMPONE SANCION POR FALTA ADUANERA DE LOS USUARIOS ADUANEROS PERMANENTES",{"$f":"IFERROR(FIND(UPPER('Causas nuevas'!$D$4),B317),0)","v":0},{"$f":"+IF(Hoja3!$C317=0,0,1)","v":0},{"$f":"+E316+Hoja3!$D317","v":1},{"$f":"+Hoja3!$E317*Hoja3!$D317","v":0},"MANTENER",null,"DIAN","ACTIVA","JUDICIAL","Acto administrativo presuntamente viciado de ilegalidad que impone sanción por falta aduanera de los usuarios aduaneros permanentes, considerados como la persona natural o jurídica reconocida e inscrita como tal por la Dirección de Impuestos y Aduanas Nacionales, previo el cumplimiento de los requisitos señalados por la norma aduanera. La infracción aduanera es toda acción u omisión que conlleva la transgresión de la legislación aduanera. El vicio del acto puede ser la expedición con infracción de las normas en que debería fundarse, o sin competencia, o en forma irregular, o con desconocimiento del derecho de audiencia y defensa, o mediante falsa motivación, o con falta de motivación, o con desviación de las atribuciones propias de quien lo profirió, o con violación del debido proceso administrativo.",349,{"$f":"+Hoja3!$B317","v":"ILEGALIDAD DEL ACTO ADMINISTRATIVO QUE IMPONE SANCION POR FALTA ADUANERA DE LOS USUARIOS ADUANEROS PERMANENTES"}]
[{"$f":"+Hoja3!$F318","v":0},"ILEGALIDAD DEL ACTO ADMINISTRATIVO QUE IMPONE SANCION POR FALTA ADUANERA DE LOS USUARIOS OPERADORES DE ZONA FRANCA",{"$f":"IFERROR(FIND(UPPER('Causas nuevas'!$D$4),B318),0)","v":0},{"$f":"+IF(Hoja3!$C318=0,0,1)","v":0},{"$f":"+E317+Hoja3!$D318","v":1},{"$f":"+Hoja3!$E318*Hoja3!$D318","v":0},"MANTENER",null,"DIAN","ACTIVA","JUDICIAL","Acto administrativo presuntamente viciado de ilegalidad que impone sanción por falta aduanera de los usuarios operadores de zona franca, que son las personas jurídicas autorizada para dirigir, administrar, supervisar, promocionar y desarrollar una o varias zonas francas, así como para calificar a sus usuarios. La infracción aduanera es toda acción u omisión que conlleva la transgresión de la legislación aduanera. El vicio del acto puede ser la expedición con infracción de las normas en que debería fundarse, o sin competencia, o en forma irregular, o con desconocimiento del derecho de audiencia y defensa, o mediante falsa motivación, o con falta de motivación, o con desviación de las atribuciones propias de quien lo profirió, o con violación del debido proceso administrativo.",351,{"$f":"+Hoja3!$B318","v":"ILEGALIDAD DEL ACTO ADMINISTRATIVO QUE IMPONE SANCION POR FALTA ADUANERA DE LOS USUARIOS OPERADORES DE ZONA FRANCA"}]
[{"$f":"+Hoja3!$F319","v":0},"ILEGALIDAD DEL ACTO ADMINISTRATIVO QUE IMPONE SANCION POR FALTA ADUANERA DE LOS USUARIOS INDUSTRIALES Y COMERCIALES DE ZONA FRANCA",{"$f":"IFERROR(FIND(UPPER('Causas nuevas'!$D$4),B319),0)","v":0},{"$f":"+IF(Hoja3!$C319=0,0,1)","v":0},{"$f":"+E318+Hoja3!$D319","v":1},{"$f":"+Hoja3!$E319*Hoja3!$D319","v":0},"MANTENER",null,"DIAN","ACTIVA","JUDICIAL","Acto administrativo presuntamente viciado de ilegalidad que impone sanción por falta aduanera de los usuarios industriales y comerciales de zona franca. El usuario industrial de bienes es la persona jurídica instalada exclusivamente en una o varias zonas francas, autorizada para producir, transformar o ensamblar bienes mediante el procesamiento de materias primas o de productos semielaborados y el usuario comercial es la persona jurídica autorizada para desarrollar actividades de mercadeo, comercialización, almacenamiento o conservación de bienes en una o varias zonas francas. La infracción aduanera es toda acción u omisión que conlleva la transgresión de la legislación aduanera. El vicio del acto puede ser la expedición con infracción de las normas en que debería fundarse, o sin competencia, o en forma irregular, o con desconocimiento del derecho de audiencia y defensa, o mediante falsa motivación, o con falta de motivación, o con desviación de las atribuciones propias de quien lo profirió, o con violación del debido proceso administrativo.",350,{"$f":"+Hoja3!$B319","v":"ILEGALIDAD DEL ACTO ADMINISTRATIVO QUE IMPONE SANCION POR FALTA ADUANERA DE LOS USUARIOS INDUSTRIALES Y COMERCIALES DE ZONA FRANCA"}]
[{"$f":"+Hoja3!$F320","v":2},"ILEGALIDAD DEL ACTO ADMINISTRATIVO QUE IMPONE SANCION POR FALTA ADUANERA DE LOS DEPOSITOS PUBLICOS Y PRIVADOS",{"$f":"IFERROR(FIND(UPPER('Causas nuevas'!$D$4),B320),0)","v":102},{"$f":"+IF(Hoja3!$C320=0,0,1)","v":1},{"$f":"+E319+Hoja3!$D320","v":2},{"$f":"+Hoja3!$E320*Hoja3!$D320","v":2},"MANTENER",null,"DIAN","ACTIVA","JUDICIAL","Acto administrativo presuntamente viciado de ilegalidad que impone sanción por falta aduanera de los depósitos públicos y privados, considerados como aquellos lugares autorizados por la autoridad aduanera para el almacenamiento de mercancías bajo control aduanero. La infracción aduanera es toda acción u omisión que conlleva la transgresión de la legislación aduanera. El vicio del acto puede ser la expedición con infracción de las normas en que debería fundarse, o sin competencia, o en forma irregular, o con desconocimiento del derecho de audiencia y defensa, o mediante falsa motivación, o con falta de motivación, o con desviación de las atribuciones propias de quien lo profirió, o con violación del debido proceso administrativo.",346,{"$f":"+Hoja3!$B320","v":"ILEGALIDAD DEL ACTO ADMINISTRATIVO QUE IMPONE SANCION POR FALTA ADUANERA DE LOS DEPOSITOS PUBLICOS Y PRIVADOS"}]
[{"$f":"+Hoja3!$F321","v":0},"ILEGALIDAD DEL ACTO ADMINISTRATIVO QUE IMPONE SANCION POR FALTA ADUANERA DE LOS INTERMEDIARIOS DE TRAFICO POSTAL Y ENVIOS URGENTES",{"$f":"IFERROR(FIND(UPPER('Causas nuevas'!$D$4),B321),0)","v":0},{"$f":"+IF(Hoja3!$C321=0,0,1)","v":0},{"$f":"+E320+Hoja3!$D321","v":2},{"$f":"+Hoja3!$E321*Hoja3!$D321","v":0},"MANTENER",null,"DIAN","ACTIVA","JUDICIAL","Acto administrativo presuntamente viciado de ilegalidad que impone sanción por falta aduanera de los intermediarios de tráfico postal y envíos urgentes. El operador postal oficial o concesionario de correos es quien permite la importación de los envíos de correspondencia y encomiendas que lleguen al territorio aduanero nacional por la red del operador postal oficial y por la modalidad de envíos de entrega rápida. La infracción aduanera es toda acción u omisión que conlleva la transgresión de la legislación aduanera. El vicio del acto puede ser la expedición con infracción de las normas en que debería fundarse, o sin competencia, o en forma irregular, o con desconocimiento del derecho de audiencia y defensa, o mediante falsa motivación, o con falta de motivación, o con desviación de las atribuciones propias de quien lo profirió, o con violación del debido proceso administrativo.",347,{"$f":"+Hoja3!$B321","v":"ILEGALIDAD DEL ACTO ADMINISTRATIVO QUE IMPONE SANCION POR FALTA ADUANERA DE LOS INTERMEDIARIOS DE TRAFICO POSTAL Y ENVIOS URGENTES"}]
[{"$f":"+Hoja3!$F322","v":0},"ILEGALIDAD DEL ACTO ADMINISTRATIVO QUE IMPONE SANCION POR FALTA ADUANERA DE LOS TRANSPORTADORES",{"$f":"IFERROR(FIND(UPPER('Causas nuevas'!$D$4),B322),0)","v":0},{"$f":"+IF(Hoja3!$C322=0,0,1)","v":0},{"$f":"+E321+Hoja3!$D322","v":2},{"$f":"+Hoja3!$E322*Hoja3!$D322","v":0},"MANTENER",null,"DIAN","ACTIVA","JUDICIAL","Acto administrativo presuntamente viciado de ilegalidad que impone sanción por falta aduanera de los transportadores. La infracción aduanera es toda acción u omisión que conlleva la transgresión de la legislación aduanera. El vicio del acto puede ser la expedición con infracción de las normas en que debería fundarse, o sin competencia, o en forma irregular, o con desconocimiento del derecho de audiencia y defensa, o mediante falsa motivación, o con falta de motivación, o con desviación de las atribuciones propias de quien lo profirió, o con violación del debido proceso administrativo.",348,{"$f":"+Hoja3!$B322","v":"ILEGALIDAD DEL ACTO ADMINISTRATIVO QUE IMPONE SANCION POR FALTA ADUANERA DE LOS TRANSPORTADORES"}]
[{"$f":"+Hoja3!$F323","v":0},"ILEGALIDAD DEL ACTO ADMINISTRATIVO QUE IMPONE SANCION POR FALTA ADUANERA DE LOS AGENTES DE CARGA INTERNACIONAL",{"$f":"IFERROR(FIND(UPPER('Causas nuevas'!$D$4),B323),0)","v":0},{"$f":"+IF(Hoja3!$C323=0,0,1)","v":0},{"$f":"+E322+Hoja3!$D323","v":2},{"$f":"+Hoja3!$E323*Hoja3!$D323","v":0},"MANTENER",null,"DIAN","ACTIVA","JUDICIAL","Acto administrativo presuntamente viciado de ilegalidad que impone sanción por falta aduanera de los agentes de carga internacional, que es la persona física o jurídica que presta servicios en el transporte internacional de mercancías. La infracción aduanera es toda acción u omisión que conlleva la transgresión de la legislación aduanera. El vicio del acto puede ser la expedición con infracción de las normas en que debería fundarse, o sin competencia, o en forma irregular, o con desconocimiento del derecho de audiencia y defensa, o mediante falsa motivación, o con falta de motivación, o con desviación de las atribuciones propias de quien lo profirió, o con violación del debido proceso administrativo.",341,{"$f":"+Hoja3!$B323","v":"ILEGALIDAD DEL ACTO ADMINISTRATIVO QUE IMPONE SANCION POR FALTA ADUANERA DE LOS AGENTES DE CARGA INTERNACIONAL"}]
[{"$f":"+Hoja3!$F324","v":0},"ILEGALIDAD DEL ACTO ADMINISTRATIVO QUE IMPONE SANCION POR FALTA ADUANERA EN MATERIA DE VALORACION DE MERCANCIAS",{"$f":"IFERROR(FIND(UPPER('Causas nuevas'!$D$4),B324),0)","v":0},{"$f":"+IF(Hoja3!$C324=0,0,1)","v":0},{"$f":"+E323+Hoja3!$D324","v":2},{"$f":"+Hoja3!$E324*Hoja3!$D324","v":0},"MANTENER",null,"DIAN","ACTIVA","JUDICIAL","Acto administrativo presuntamente viciado de ilegalidad que impone sanción por falta aduanera en materia de valoración de mercancías, considerado como el procedimiento aduanero aplicado para determinar el valor en aduana de las mercancías importadas. La infracción aduanera es toda acción u omisión que conlleva la transgresión de la legislación aduanera. El vicio del acto puede ser la expedición con infracción de las normas en que debería fundarse, o sin competencia, o en forma irregular, o con desconocimiento del derecho de audiencia y defensa, o mediante falsa motivación, o con falta de motivación, o con desviación de las atribuciones propias de quien lo profirió, o con violación del debido proceso administrativo.",352,{"$f":"+Hoja3!$B324","v":"ILEGALIDAD DEL ACTO ADMINISTRATIVO QUE IMPONE SANCION POR FALTA ADUANERA EN MATERIA DE VALORACION DE MERCANCIAS"}]
[{"$f":"+Hoja3!$F325","v":0},"CADUCIDAD DE LA ACCION SANCIONATORIA ADUANERA",{"$f":"IFERROR(FIND(UPPER('Causas nuevas'!$D$4),B325),0)","v":0},{"$f":"+IF(Hoja3!$C325=0,0,1)","v":0},{"$f":"+E324+Hoja3!$D325","v":2},{"$f":"+Hoja3!$E325*Hoja3!$D325","v":0},"MANTENER",null,"DIAN","ACTIVA","JUDICIAL","Acto administrativo presuntamente viciado de ilegalidad porque operó la caducidad de la acción sancionatoria aduanera. La acción administrativa sancionatoria prevista en el estatuto Aduanero, caduca en el término de tres (3) años contados a partir de la comisión del hecho u omisión constitutivo de infracción administrativa aduanera y cuando no fuere posible determinar la fecha de ocurrencia del hecho, se tomará como tal la fecha en que las autoridades aduaneras hubieren tenido conocimiento del mismo. Cuando se trate de hechos de ejecución sucesiva o permanente, el término de caducidad se contará a partir de la ocurrencia del último hecho u omisión. El vicio del acto puede ser la expedición con infracción de las normas en que debería fundarse, o sin competencia, o en forma irregular, o con desconocimiento del derecho de audiencia y defensa, o mediante falsa motivación, o con falta de motivación, o con desviación de las atribuciones propias de quien lo profirió, o con violación del debido proceso administrativo.",85,{"$f":"+Hoja3!$B325","v":"CADUCIDAD DE LA ACCION SANCIONATORIA ADUANERA"}]
[{"$f":"+Hoja3!$F326","v":0},"ILEGALIDAD DEL ACTO ADMINISTRATIVO QUE NIEGA EL RECONOCIMIENTO E INSCRIPCION O RENOVACION DE LOS USUARIOS ADUANEROS PERMANENTES",{"$f":"IFERROR(FIND(UPPER('Causas nuevas'!$D$4),B326),0)","v":0},{"$f":"+IF(Hoja3!$C326=0,0,1)","v":0},{"$f":"+E325+Hoja3!$D326","v":2},{"$f":"+Hoja3!$E326*Hoja3!$D326","v":0},"MANTENER",null,"DIAN","ACTIVA","JUDICIAL","Acto administrativo presuntamente viciado de ilegalidad que niega el reconocimiento e inscripción o renovación de los usuarios aduaneros permanentes. Para actuar como Usuario Aduanero Permanente se requiere estar inscrito, autorizado o haber obtenido la habilitación, según sea el caso, por parte de la Dirección de Impuestos y Aduanas Nacionales. El vicio del acto puede ser la expedición con infracción de las normas en que debería fundarse, o sin competencia, o en forma irregular, o con desconocimiento del derecho de audiencia y defensa, o mediante falsa motivación, o con falta de motivación, o con desviación de las atribuciones propias de quien lo profirió, o con violación del debido proceso administrativo.",392,{"$f":"+Hoja3!$B326","v":"ILEGALIDAD DEL ACTO ADMINISTRATIVO QUE NIEGA EL RECONOCIMIENTO E INSCRIPCION O RENOVACION DE LOS USUARIOS ADUANEROS PERMANENTES"}]
[{"$f":"+Hoja3!$F327","v":0},"ILEGALIDAD DEL ACTO ADMINISTRATIVO QUE NIEGA LA HABILITACION DE LUGARES PARA EL INGRESO Y SALIDA DE MERCANCIAS BAJO CONTROL ADUANERO",{"$f":"IFERROR(FIND(UPPER('Causas nuevas'!$D$4),B327),0)","v":0},{"$f":"+IF(Hoja3!$C327=0,0,1)","v":0},{"$f":"+E326+Hoja3!$D327","v":2},{"$f":"+Hoja3!$E327*Hoja3!$D327","v":0},"MANTENER",null,"DIAN","ACTIVA","JUDICIAL","Acto administrativo presuntamente viciado de ilegalidad que niega la habilitación. La habilitación es el acto administrativo por medio del cual la autoridad aduanera delimita los sitios que constituyen zona primaria aduanera y que corresponden a aquellos lugares por los cuales se permite el ingreso y salida de mercancías bajo control aduanero y para el cumplimiento de las formalidades aduaneras pertinentes. El vicio del acto puede ser la expedición con infracción de las normas en que debería fundarse, o sin competencia, o en forma irregular, o con desconocimiento del derecho de audiencia y defensa, o mediante falsa motivación, o con falta de motivación, o con desviación de las atribuciones propias de quien lo profirió, o con violación del debido proceso administrativo.",399,{"$f":"+Hoja3!$B327","v":"ILEGALIDAD DEL ACTO ADMINISTRATIVO QUE NIEGA LA HABILITACION DE LUGARES PARA EL INGRESO Y SALIDA DE MERCANCIAS BAJO CONTROL ADUANERO"}]
[{"$f":"+Hoja3!$F328","v":3},"ILEGALIDAD DEL ACTO ADMINISTRATIVO QUE NIEGA LA AUTORIZACION COMO DEPOSITO PUBLICO O PRIVADO DE MERCANCIAS BAJO CONTROL ADUANERO",{"$f":"IFERROR(FIND(UPPER('Causas nuevas'!$D$4),B328),0)","v":86},{"$f":"+IF(Hoja3!$C328=0,0,1)","v":1},{"$f":"+E327+Hoja3!$D328","v":3},{"$f":"+Hoja3!$E328*Hoja3!$D328","v":3},"MANTENER",null,"DIAN","ACTIVA","JUDICIAL","Acto administrativo presuntamente viciado de ilegalidad que niega la autorización como depósito público o privado de mercancías bajo control aduanero. La habilitación como depósito público o privado de mercancías bajo control aduanero es el acto administrativo por medio del cual la autoridad aduanera autoriza un lugar para el almacenamiento de mercancías bajo control aduanero. El vicio del acto puede ser la expedición con infracción de las normas en que debería fundarse, o sin competencia, o en forma irregular, o con desconocimiento del derecho de audiencia y defensa, o mediante falsa motivación, o con falta de motivación, o con desviación de las atribuciones propias de quien lo profirió, o con violación del debido proceso administrativo.",398,{"$f":"+Hoja3!$B328","v":"ILEGALIDAD DEL ACTO ADMINISTRATIVO QUE NIEGA LA AUTORIZACION COMO DEPOSITO PUBLICO O PRIVADO DE MERCANCIAS BAJO CONTROL ADUANERO"}]
[{"$f":"+Hoja3!$F329","v":0},"ILEGALIDAD DEL ACTO ADMINISTRATIVO QUE NIEGA LA DEVOLUCION O COMPENSACION DE OBLIGACIONES ADUANERAS",{"$f":"IFERROR(FIND(UPPER('Causas nuevas'!$D$4),B329),0)","v":0},{"$f":"+IF(Hoja3!$C329=0,0,1)","v":0},{"$f":"+E328+Hoja3!$D329","v":3},{"$f":"+Hoja3!$E329*Hoja3!$D329","v":0},"MANTENER",null,"DIAN","ACTIVA","JUDICIAL","Acto administrativo presuntamente viciado de ilegalidad que niega la devolución o compensación de obligaciones aduaneras. La devolución o compensación de obligaciones aduaneras corresponde a la decisión de compensar o devolver los pagos en exceso de derechos de impuestos a la importación, de sanciones o pagos de lo no debido por concepto de obligaciones aduaneras. El vicio del acto puede ser la expedición con infracción de las normas en que debería fundarse, o sin competencia, o en forma irregular, o con desconocimiento del derecho de audiencia y defensa, o mediante falsa motivación, o con falta de motivación, o con desviación de las atribuciones propias de quien lo profirió, o con violación del debido proceso administrativo.",955,{"$f":"+Hoja3!$B329","v":"ILEGALIDAD DEL ACTO ADMINISTRATIVO QUE NIEGA LA DEVOLUCION O COMPENSACION DE OBLIGACIONES ADUANERAS"}]
[{"$f":"+Hoja3!$F330","v":0},"ILEGALIDAD DEL ACTO ADMINISTRATIVO QUE EFECTUA CLASIFICACION ARANCELARIA MERCANCIAS",{"$f":"IFERROR(FIND(UPPER('Causas nuevas'!$D$4),B330),0)","v":0},{"$f":"+IF(Hoja3!$C330=0,0,1)","v":0},{"$f":"+E329+Hoja3!$D330","v":3},{"$f":"+Hoja3!$E330*Hoja3!$D330","v":0},"MANTENER",null,"DIAN","ACTIVA","JUDICIAL","Acto administrativo presuntamente viciado de ilegalidad que clasifica arancelariamente una mercancía. La resolución de clasificación arancelaria es el acto administrativo de carácter obligatorio, mediante el cual la DIAN, en aplicación a la nomenclatura arancelaria vigente, asigna a una mercancía un código numérico denominado subpartida arancelaria, atendiendo, entre otros aspectos, a sus características físicas, químicas y técnicas. El vicio del acto puede ser la expedición con infracción de las normas en que debería fundarse, o sin competencia, o en forma irregular, o mediante falsa motivación, o con falta de motivación, o con desviación de las atribuciones propias de quien lo profirió.",321,{"$f":"+Hoja3!$B330","v":"ILEGALIDAD DEL ACTO ADMINISTRATIVO QUE EFECTUA CLASIFICACION ARANCELARIA MERCANCIAS"}]
[{"$f":"+Hoja3!$F331","v":0},"OMISION EN LA DEVOLUCION OPORTUNA DE TRIBUTOS ADUANEROS PAGADOS EN EXCESO",{"$f":"IFERROR(FIND(UPPER('Causas nuevas'!$D$4),B331),0)","v":0},{"$f":"+IF(Hoja3!$C331=0,0,1)","v":0},{"$f":"+E330+Hoja3!$D331","v":3},{"$f":"+Hoja3!$E331*Hoja3!$D331","v":0},"MANTENER",null,"DIAN","ACTIVA","JUDICIAL","El trámite de las solicitudes de devolución o compensación de tributos aduaneros cuando se efectúan pagos en exceso de derechos e impuestos a la importación, de sanciones o pagos de lo no debido por concepto de obligaciones aduaneras, se encuentra previsto en la normatividad aduanera. Puede alegarse una omisión de la administración en el cumplimiento de las normas que regulan el trámite de devoluciones de los tributos aduaneros, ya sea porque no se resuelve o se resuelve de manera deficiente, defectuosa o tardía la solicitud de devolución.",860,{"$f":"+Hoja3!$B331","v":"OMISION EN LA DEVOLUCION OPORTUNA DE TRIBUTOS ADUANEROS PAGADOS EN EXCESO"}]
[{"$f":"+Hoja3!$F332","v":0},"APREHENSION ILEGAL DE MERCANCIAS",{"$f":"IFERROR(FIND(UPPER('Causas nuevas'!$D$4),B332),0)","v":0},{"$f":"+IF(Hoja3!$C332=0,0,1)","v":0},{"$f":"+E331+Hoja3!$D332","v":3},{"$f":"+Hoja3!$E332*Hoja3!$D332","v":0},"MANTENER",null,"DIAN","ACTIVA","JUDICIAL","La aprehensión es una medida cautelar consistente en la retención de mercancías, medios de transporte o unidades de carga, mientras la autoridad aduanera verifica su legal introducción, permanencia y circulación dentro del territorio aduanero nacional. La ilegalidad de la aprehensión se puede presentar por la demora de la administración en el trámite del proceso para establecer el cumplimiento de las formalidades aduaneras en la introducción y permanencia de las mercancías de procedencia extranjera en el país o por el incumplimiento de las normas que regulan el procedimiento administrativo de decomiso.",82,{"$f":"+Hoja3!$B332","v":"APREHENSION ILEGAL DE MERCANCIAS"}]
[{"$f":"+Hoja3!$F333","v":0},"ILEGALIDAD DEL ACTO ADMINISTRATIVO QUE DESVINCULA A SUPERNUMERARIO",{"$f":"IFERROR(FIND(UPPER('Causas nuevas'!$D$4),B333),0)","v":0},{"$f":"+IF(Hoja3!$C333=0,0,1)","v":0},{"$f":"+E332+Hoja3!$D333","v":3},{"$f":"+Hoja3!$E333*Hoja3!$D333","v":0},"MANTENER",null,"DIAN","ACTIVA","JUDICIAL","Acto administrativo presuntamente viciado de ilegalidad, que se expide a quienes suplen las vacancias temporales de los servidores públicos en carrera administrativa, por terminación del servicio. El vicio del acto puede ser la expedición con infracción de las normas en que debería fundarse, o sin competencia, o en forma irregular, o con desconocimiento del derecho de audiencia y defensa, o mediante falsa motivación, o con falta de motivación, o con desviación de las atribuciones propias de quien lo profirió, o con violación del debido proceso administrativo.",319,{"$f":"+Hoja3!$B333","v":"ILEGALIDAD DEL ACTO ADMINISTRATIVO QUE DESVINCULA A SUPERNUMERARIO"}]
[{"$f":"+Hoja3!$F334","v":0},"ILEGALIDAD DEL ACTO ADMINISTRATIVO QUE NIEGA INSCRIPCION DE FUNCIONARIO EN EL REGISTRO PUBLICO DE CARRERA ADMINISTRATIVA",{"$f":"IFERROR(FIND(UPPER('Causas nuevas'!$D$4),B334),0)","v":0},{"$f":"+IF(Hoja3!$C334=0,0,1)","v":0},{"$f":"+E333+Hoja3!$D334","v":3},{"$f":"+Hoja3!$E334*Hoja3!$D334","v":0},"MANTENER",null,null,"ACTIVA","JUDICIAL","Acto administrativo presuntamente viciado de ilegalidad que niega la inscripción, actualización o cancelación o corrección de los datos de un funcionario público en el Registro Público de Carrera Administrativa que es el registro que lleva la anotación formal, histórica y consecutiva, de aquellos datos relacionados con el servidor público que ha adquirido derechos de carrera. El vicio del acto puede ser la expedición con infracción de las normas en que debería fundarse, o sin competencia, o en forma irregular, o con desconocimiento del derecho de audiencia y defensa, o mediante falsa motivación, o con falta de motivación, o con desviación de las atribuciones propias de quien lo profirió, o con violación del debido proceso administrativo. Es el registro que lleva la anotación formal, histórica y consecutiva, de aquellos datos relacionados con el servidor público que ha adquirido derechos de carrera en uno de los sistemas administrados por la CNSC.",396,{"$f":"+Hoja3!$B334","v":"ILEGALIDAD DEL ACTO ADMINISTRATIVO QUE NIEGA INSCRIPCION DE FUNCIONARIO EN EL REGISTRO PUBLICO DE CARRERA ADMINISTRATIVA"}]
[{"$f":"+Hoja3!$F335","v":0},"CAUSA DIAN POR DEFINIR",{"$f":"IFERROR(FIND(UPPER('Causas nuevas'!$D$4),B335),0)","v":0},{"$f":"+IF(Hoja3!$C335=0,0,1)","v":0},{"$f":"+E334+Hoja3!$D335","v":3},{"$f":"+Hoja3!$E335*Hoja3!$D335","v":0},"MANTENER",null,null,"ACTIVA","JUDICIAL","Causa parametrizada por solicitud expresa de la DIAN y concertada con DGI, con el propósito de que los procesos por temas DIAN que registre la ANDJE sean hubicados provisionalmente en esta causa a efectos de que posteriormente la DIAN los migre a la causa adecuada.",88,{"$f":"+Hoja3!$B335","v":"CAUSA DIAN POR DEFINIR"}]
[{"$f":"+Hoja3!$F336","v":0},"EXCESO EN EL COBRO DE INTERESES",{"$f":"IFERROR(FIND(UPPER('Causas nuevas'!$D$4),B336),0)","v":0},{"$f":"+IF(Hoja3!$C336=0,0,1)","v":0},{"$f":"+E335+Hoja3!$D336","v":3},{"$f":"+Hoja3!$E336*Hoja3!$D336","v":0},"MANTENER",null,null,"ACTIVA","JUDICIAL","Cobro de intereses remuneratorios o moratorios liquidados por encima de las tasas máximas permitidas legalmente.",239,{"$f":"+Hoja3!$B336","v":"EXCESO EN EL COBRO DE INTERESES"}]
[{"$f":"+Hoja3!$F337","v":0},"ILEGALIDAD DEL ACTO ADMINISTRATIVO QUE DEFINE AVALUO CATASTRAL",{"$f":"IFERROR(FIND(UPPER('Causas nuevas'!$D$4),B337),0)","v":0},{"$f":"+IF(Hoja3!$C337=0,0,1)","v":0},{"$f":"+E336+Hoja3!$D337","v":3},{"$f":"+Hoja3!$E337*Hoja3!$D337","v":0},"MANTENER",null,null,"ACTIVA","JUDICIAL","Acto administrativo presuntamente viciado de ilegalidad define el valor de los inmuebles para efectos tributarios y de las relaciones fiscales con el Estado. El vicio del acto puede ser la expedición con infracción de las normas en que debería fundarse, o sin competencia, o en forma irregular, o con desconocimiento del derecho de audiencia y defensa, o mediante falsa motivación, o con falta de motivación, o con desviación de las atribuciones propias de quien lo profirió, o con violación del debido proceso administrativo.",313,{"$f":"+Hoja3!$B337","v":"ILEGALIDAD DEL ACTO ADMINISTRATIVO QUE DEFINE AVALUO CATASTRAL"}]
[{"$f":"+Hoja3!$F338","v":0},"HACINAMIENTO CARCELARIO",{"$f":"IFERROR(FIND(UPPER('Causas nuevas'!$D$4),B338),0)","v":0},{"$f":"+IF(Hoja3!$C338=0,0,1)","v":0},{"$f":"+E337+Hoja3!$D338","v":3},{"$f":"+Hoja3!$E338*Hoja3!$D338","v":0},"MANTENER",null,null,"ACTIVA","JUDICIAL","Ocupación de un espacio de reclusión por un número de individuos que excede la capacidad funcional de aquél.",257,{"$f":"+Hoja3!$B338","v":"HACINAMIENTO CARCELARIO"}]
[{"$f":"+Hoja3!$F339","v":0},"MUERTE DE MIEMBRO VOLUNTARIO DE LA FUERZA PUBLICA EN ENFRENTAMIENTO ENTRE TROPAS",{"$f":"IFERROR(FIND(UPPER('Causas nuevas'!$D$4),B339),0)","v":0},{"$f":"+IF(Hoja3!$C339=0,0,1)","v":0},{"$f":"+E338+Hoja3!$D339","v":3},{"$f":"+Hoja3!$E339*Hoja3!$D339","v":0},"MANTENER",null,null,"ACTIVA","JUDICIAL","Muerte de miembro voluntario de la fuerza pública (quien no presta servicio militar obligatorio) con ocasión de un enfrentamiento entre tropas o situación de \"fuego amigo\".",738,{"$f":"+Hoja3!$B339","v":"MUERTE DE MIEMBRO VOLUNTARIO DE LA FUERZA PUBLICA EN ENFRENTAMIENTO ENTRE TROPAS"}]
[{"$f":"+Hoja3!$F340","v":0},"VIOLACION O AMENAZA AL GOCE DE UN AMBIENTE SANO",{"$f":"IFERROR(FIND(UPPER('Causas nuevas'!$D$4),B340),0)","v":0},{"$f":"+IF(Hoja3!$C340=0,0,1)","v":0},{"$f":"+E339+Hoja3!$D340","v":3},{"$f":"+Hoja3!$E340*Hoja3!$D340","v":0},"MANTENER",null,null,"ACTIVA","JUDICIAL","Violación o amenaza al derecho e interés colectivo al goce de un ambiente sano.",948,{"$f":"+Hoja3!$B340","v":"VIOLACION O AMENAZA AL GOCE DE UN AMBIENTE SANO"}]
[{"$f":"+Hoja3!$F341","v":0},"ILEGALIDAD DEL ACTO ADMINISTRATIVO QUE NIEGA EXPEDICION DE HOJA DE SERVICIOS",{"$f":"IFERROR(FIND(UPPER('Causas nuevas'!$D$4),B341),0)","v":0},{"$f":"+IF(Hoja3!$C341=0,0,1)","v":0},{"$f":"+E340+Hoja3!$D341","v":3},{"$f":"+Hoja3!$E341*Hoja3!$D341","v":0},"MANTENER",null,null,"ACTIVA","JUDICIAL","Acto administrativo presuntamente viciado de ilegalidad que niega la expedición o conformación de la hoja de sevicios a los miembros de la fuerza pública. La hoja de servicios de los miembros de las fuerza pública es el documento oficial que acredita la historia laboral. El vicio del acto puede ser la expedición con infracción de las normas en que debería fundarse, o sin competencia, o en forma irregular, o con desconocimiento del derecho de audiencia y defensa, o mediante falsa motivación, o con falta de motivación, o con desviación de las atribuciones propias de quien lo profirió, o con violación del debido proceso administrativo.",394,{"$f":"+Hoja3!$B341","v":"ILEGALIDAD DEL ACTO ADMINISTRATIVO QUE NIEGA EXPEDICION DE HOJA DE SERVICIOS"}]
[{"$f":"+Hoja3!$F342","v":0},"MUERTE DE MIEMBRO VOLUNTARIO DE LA FUERZA PUBLICA CON ARMA DE USO PERSONAL",{"$f":"IFERROR(FIND(UPPER('Causas nuevas'!$D$4),B342),0)","v":0},{"$f":"+IF(Hoja3!$C342=0,0,1)","v":0},{"$f":"+E341+Hoja3!$D342","v":3},{"$f":"+Hoja3!$E342*Hoja3!$D342","v":0},"MANTENER",null,null,"ACTIVA","JUDICIAL","Muerte de miembro voluntario de la fuerza pública (quien no presta servicio militar obligatorio) con armas de uso personal. ",733,{"$f":"+Hoja3!$B342","v":"MUERTE DE MIEMBRO VOLUNTARIO DE LA FUERZA PUBLICA CON ARMA DE USO PERSONAL"}]
[{"$f":"+Hoja3!$F343","v":0},"PERDIDA DE POSESION O TENENCIA DE BIEN",{"$f":"IFERROR(FIND(UPPER('Causas nuevas'!$D$4),B343),0)","v":0},{"$f":"+IF(Hoja3!$C343=0,0,1)","v":0},{"$f":"+E342+Hoja3!$D343","v":3},{"$f":"+Hoja3!$E343*Hoja3!$D343","v":0},"MANTENER",null,null,"ACTIVA","JUDICIAL","Pérdida de la posesión o tenencia de un bien mueble o inmueble o parte él por lo que se solicita la reivindicación del derecho de dominio pleno.",867,{"$f":"+Hoja3!$B343","v":"PERDIDA DE POSESION O TENENCIA DE BIEN"}]
[{"$f":"+Hoja3!$F344","v":0},"DIVISION DE LA COSA COMUN POR PARTE DE COMUNEROS O COPROPIETARIOS",{"$f":"IFERROR(FIND(UPPER('Causas nuevas'!$D$4),B344),0)","v":0},{"$f":"+IF(Hoja3!$C344=0,0,1)","v":0},{"$f":"+E343+Hoja3!$D344","v":3},{"$f":"+Hoja3!$E344*Hoja3!$D344","v":0},"MANTENER",null,null,"ACTIVA","JUDICIAL","Solicitud de división jurídica y material, si el tipo de bien lo permite, de la cosa común por parte del comunero o copropietario.",228,{"$f":"+Hoja3!$B344","v":"DIVISION DE LA COSA COMUN POR PARTE DE COMUNEROS O COPROPIETARIOS"}]
[{"$f":"+Hoja3!$F345","v":0},"ILEGALIDAD DEL ACTO ADMINISTRATIVO QUE NIEGA PERMISO PARA PORTE O TENENCIA DE ARMAS",{"$f":"IFERROR(FIND(UPPER('Causas nuevas'!$D$4),B345),0)","v":0},{"$f":"+IF(Hoja3!$C345=0,0,1)","v":0},{"$f":"+E344+Hoja3!$D345","v":3},{"$f":"+Hoja3!$E345*Hoja3!$D345","v":0},"MANTENER",null,null,"ACTIVA","JUDICIAL","Acto administrativo presuntamente viciado de ilegalidad que niega permiso para porte o tenencia de armas. El vicio del acto puede ser la expedición con infracción de las normas en que debería fundarse, o sin competencia, o en forma irregular, o con desconocimiento del derecho de audiencia y defensa, o mediante falsa motivación, o con falta de motivación, o con desviación de las atribuciones propias de quien lo profirió, o con violación del debido proceso administrativo.",412,{"$f":"+Hoja3!$B345","v":"ILEGALIDAD DEL ACTO ADMINISTRATIVO QUE NIEGA PERMISO PARA PORTE O TENENCIA DE ARMAS"}]
[{"$f":"+Hoja3!$F346","v":0},"ILEGALIDAD DEL ACTO ADMINISTRATIVO QUE NIEGA FINANCIACION DE ESTUDIOS",{"$f":"IFERROR(FIND(UPPER('Causas nuevas'!$D$4),B346),0)","v":0},{"$f":"+IF(Hoja3!$C346=0,0,1)","v":0},{"$f":"+E345+Hoja3!$D346","v":3},{"$f":"+Hoja3!$E346*Hoja3!$D346","v":0},"MANTENER",null,null,"ACTIVA","JUDICIAL","Acto administrativo presuntamente viciado de ilegalidad que beca o crédito beca a quien cumple los requisitos establecidos para cada tipo de beneficio. El vicio del acto puede ser la expedición con infracción de las normas en que debería fundarse, o sin competencia, o en forma irregular, o con desconocimiento del derecho de audiencia y defensa, o mediante falsa motivación, o con falta de motivación, o con desviación de las atribuciones propias de quien lo profirió, o con violación del debido proceso administrativo.",395,{"$f":"+Hoja3!$B346","v":"ILEGALIDAD DEL ACTO ADMINISTRATIVO QUE NIEGA FINANCIACION DE ESTUDIOS"}]
[{"$f":"+Hoja3!$F347","v":0},"DENEGACION DE PETICION DE EXTENSION DE JURISPRUDENCIA",{"$f":"IFERROR(FIND(UPPER('Causas nuevas'!$D$4),B347),0)","v":0},{"$f":"+IF(Hoja3!$C347=0,0,1)","v":0},{"$f":"+E346+Hoja3!$D347","v":3},{"$f":"+Hoja3!$E347*Hoja3!$D347","v":0},"MANTENER",null,null,"ACTIVA","JUDICIAL","Denegación total o parcial de la petición de extensión de jurisprudencia o silencio frente a dicha petición, por lo que el interesado acude ante el Consejo de Estado a efectos de que se ordene la extensión de juriprudencia.",205,{"$f":"+Hoja3!$B347","v":"DENEGACION DE PETICION DE EXTENSION DE JURISPRUDENCIA"}]
[{"$f":"+Hoja3!$F348","v":0},"DESCUENTO DE NOMINA NO AUTORIZADO",{"$f":"IFERROR(FIND(UPPER('Causas nuevas'!$D$4),B348),0)","v":0},{"$f":"+IF(Hoja3!$C348=0,0,1)","v":0},{"$f":"+E347+Hoja3!$D348","v":3},{"$f":"+Hoja3!$E348*Hoja3!$D348","v":0},"MANTENER",null,null,"ACTIVA","JUDICIAL","Descuentos o deducciones salariales no autolizadas legalmente o por el asalariado.",216,{"$f":"+Hoja3!$B348","v":"DESCUENTO DE NOMINA NO AUTORIZADO"}]
[{"$f":"+Hoja3!$F349","v":0},"ILEGALIDAD DEL ACTO ADMINISTRATIVO QUE NOMBRA FUNCIONARIO PUBLICO DESCONOCIENDO EL REGIMEN DE CARRERA JUDICIAL",{"$f":"IFERROR(FIND(UPPER('Causas nuevas'!$D$4),B349),0)","v":0},{"$f":"+IF(Hoja3!$C349=0,0,1)","v":0},{"$f":"+E348+Hoja3!$D349","v":3},{"$f":"+Hoja3!$E349*Hoja3!$D349","v":0},"MANTENER",null,null,"ACTIVA","JUDICIAL","Acto administrativo que nombra a un servidor público con desconocimiento del régimen de carrera judicial.",431,{"$f":"+Hoja3!$B349","v":"ILEGALIDAD DEL ACTO ADMINISTRATIVO QUE NOMBRA FUNCIONARIO PUBLICO DESCONOCIENDO EL REGIMEN DE CARRERA JUDICIAL"}]
[{"$f":"+Hoja3!$F350","v":0},"ILEGALIDAD DEL ACTO ADMINISTRATIVO QUE NOMBRA FUNCIONARIO PUBLICO DESCONOCIENDO EL REGIMEN DE CARRERA ADMINISTRATIVA",{"$f":"IFERROR(FIND(UPPER('Causas nuevas'!$D$4),B350),0)","v":0},{"$f":"+IF(Hoja3!$C350=0,0,1)","v":0},{"$f":"+E349+Hoja3!$D350","v":3},{"$f":"+Hoja3!$E350*Hoja3!$D350","v":0},"MANTENER",null,null,"ACTIVA","JUDICIAL","Acto administrativo que nombra a un servidor público con desconocimiento del régimen de carrera administrativa.",429,{"$f":"+Hoja3!$B350","v":"ILEGALIDAD DEL ACTO ADMINISTRATIVO QUE NOMBRA FUNCIONARIO PUBLICO DESCONOCIENDO EL REGIMEN DE CARRERA ADMINISTRATIVA"}]
[{"$f":"+Hoja3!$F351","v":0},"VIA DE HECHO DE LA ADMINISTRACION",{"$f":"IFERROR(FIND(UPPER('Causas nuevas'!$D$4),B351),0)","v":0},{"$f":"+IF(Hoja3!$C351=0,0,1)","v":0},{"$f":"+E350+Hoja3!$D351","v":3},{"$f":"+Hoja3!$E351*Hoja3!$D351","v":0},"MANTENER",null,null,"ACTIVA","JUDICIAL","Perjuicios causados por vías de hecho de la administración. La vía de hecho es la actuación de la administración fuera de su ámbito de competencia (órgano manifiestamente incompetente) o realizada al margen del procedimiento establecido (prescindiendo total y absolutamente del procedimiento legalmente establecido). Nota: es una causa subsidiaria o residual.",934,{"$f":"+Hoja3!$B351","v":"VIA DE HECHO DE LA ADMINISTRACION"}]
[{"$f":"+Hoja3!$F352","v":0},"ILEGALIDAD DEL ACTO ADMINISTRATIVO QUE REGULA LOS SERVICIOS PUBLICOS DE ENERGIA, GAS NATURAL, GLP Y COMBUSTIBLES LIQUIDOS",{"$f":"IFERROR(FIND(UPPER('Causas nuevas'!$D$4),B352),0)","v":0},{"$f":"+IF(Hoja3!$C352=0,0,1)","v":0},{"$f":"+E351+Hoja3!$D352","v":3},{"$f":"+Hoja3!$E352*Hoja3!$D352","v":0},"MANTENER",null,null,"ACTIVA","JUDICIAL","Acto administrativo presuntamente viciado de ilegalidad que regula los servicios de energía eléctrica, gas natural, gas licuado de petróleo (GLP) y combustibles líquidos con el propósito de que se presten al mayor número posible de personas, al menor costo posible para los usuarios y con una remuneración adecuada para las empresas que permita garantizar calidad, cobertura y expansión; esta competencia asignada a la Comisión de Regulación de Energía y Gas - CREG por la Ley 143 de 1994. El vicio del acto puede ser la expedición con infracción de las normas en que debería fundarse, o sin competencia, o en forma irregular, o con desconocimiento del derecho de audiencia y defensa, o mediante falsa motivación, o con falta de motivación, o con desviación de las atribuciones propias de quien lo profirió, o con violación del debido proceso administrativo.",451,{"$f":"+Hoja3!$B352","v":"ILEGALIDAD DEL ACTO ADMINISTRATIVO QUE REGULA LOS SERVICIOS PUBLICOS DE ENERGIA, GAS NATURAL, GLP Y COMBUSTIBLES LIQUIDOS"}]
[{"$f":"+Hoja3!$F353","v":0},"ILEGALIDAD DEL ACTO ADMINISTRATIVO QUE APRUEBA TARIFAS DE ENERGIA Y GAS COMBUSTIBLE",{"$f":"IFERROR(FIND(UPPER('Causas nuevas'!$D$4),B353),0)","v":0},{"$f":"+IF(Hoja3!$C353=0,0,1)","v":0},{"$f":"+E352+Hoja3!$D353","v":3},{"$f":"+Hoja3!$E353*Hoja3!$D353","v":0},"MANTENER",null,null,"ACTIVA","JUDICIAL","Acto administrativo presuntamente viciado de ilegalidad que aprueba las tarifas de energía y gas. El artículo 23 de la Ley 143 de 1994 asignó a la Comisión de Regulación de Energía y Gas - CREG la función de aprobar las fórmulas tarifarias y las metodologías para el cálculo de las tarifas aplicables a los usuarios regulados. El vicio del acto puede ser la expedición con infracción de las normas en que debería fundarse, o sin competencia, o en forma irregular, o con desconocimiento del derecho de audiencia y defensa, o mediante falsa motivación, o con falta de motivación, o con desviación de las atribuciones propias de quien lo profirió, o con violación del debido proceso administrativo.",293,{"$f":"+Hoja3!$B353","v":"ILEGALIDAD DEL ACTO ADMINISTRATIVO QUE APRUEBA TARIFAS DE ENERGIA Y GAS COMBUSTIBLE"}]
[{"$f":"+Hoja3!$F354","v":0},"DESPOJO JURIDICO Y MATERIAL DE TIERRAS",{"$f":"IFERROR(FIND(UPPER('Causas nuevas'!$D$4),B354),0)","v":0},{"$f":"+IF(Hoja3!$C354=0,0,1)","v":0},{"$f":"+E353+Hoja3!$D354","v":3},{"$f":"+Hoja3!$E354*Hoja3!$D354","v":0},"MANTENER",null,null,"ACTIVA","JUDICIAL","Abandono forzado de un bien inmueble rural o urbano, por lo que solicita la inscripción en el registro de tierras despojadas y abandonadas y la consecuente gestión de la restitución jurídica y material del predio.",226,{"$f":"+Hoja3!$B354","v":"DESPOJO JURIDICO Y MATERIAL DE TIERRAS"}]
[{"$f":"+Hoja3!$F355","v":0},"PERJUICIOS OCASIONADOS POR DECLARATORIA DE ZONA DE RESERVA FORESTAL",{"$f":"IFERROR(FIND(UPPER('Causas nuevas'!$D$4),B355),0)","v":0},{"$f":"+IF(Hoja3!$C355=0,0,1)","v":0},{"$f":"+E354+Hoja3!$D355","v":3},{"$f":"+Hoja3!$E355*Hoja3!$D355","v":0},"MANTENER",null,null,"ACTIVA","JUDICIAL","Perjuicios ocasionados a los propietarios de inmuebles por declaratoria de zona de reserva forestal, lo que implica la imposibilidad o limitación de su explotación económica. La reserva forestal o natural es un terreno que se encuentra protegido por el Estado, ya que posee gran importancia para la vida silvestre, flora o la fauna del país, al mismo tiempo que ofrece al hombre la oportunidad de realizar investigaciones en pro a la conservación de las especies. ",874,{"$f":"+Hoja3!$B355","v":"PERJUICIOS OCASIONADOS POR DECLARATORIA DE ZONA DE RESERVA FORESTAL"}]
[{"$f":"+Hoja3!$F356","v":0},"ILEGALIDAD DEL ACTO ADMINISTRATIVO QUE IMPONE SANCION POR VIOLACION DE NORMAS DE DERECHO LABORAL INDIVIDUAL",{"$f":"IFERROR(FIND(UPPER('Causas nuevas'!$D$4),B356),0)","v":0},{"$f":"+IF(Hoja3!$C356=0,0,1)","v":0},{"$f":"+E355+Hoja3!$D356","v":3},{"$f":"+Hoja3!$E356*Hoja3!$D356","v":0},"MANTENER",null,null,"ACTIVA","JUDICIAL","Acto administrativo presuntamente viciado de ilegalidad que impone sanciones por violación de normas de derecho laboral individual. El derecho laboral individual es el conjunto de normas jurídicas que regulan las relaciones entre el empleador y uno o varios trabajadores a nivel individual. El vicio del acto puede ser la expedición con infracción de las normas en que debería fundarse, o sin competencia, o en forma irregular, o con desconocimiento del derecho de audiencia y defensa, o mediante falsa motivación, o con falta de motivación, o con desviación de las atribuciones propias de quien lo profirió, o con violación del debido proceso administrativo.",366,{"$f":"+Hoja3!$B356","v":"ILEGALIDAD DEL ACTO ADMINISTRATIVO QUE IMPONE SANCION POR VIOLACION DE NORMAS DE DERECHO LABORAL INDIVIDUAL"}]
[{"$f":"+Hoja3!$F357","v":0},"ILEGALIDAD DEL ACTO ADMINISTRATIVO QUE IMPONE SANCION POR VIOLACION DE NORMAS DE DERECHO LABORAL COLECTIVO",{"$f":"IFERROR(FIND(UPPER('Causas nuevas'!$D$4),B357),0)","v":0},{"$f":"+IF(Hoja3!$C357=0,0,1)","v":0},{"$f":"+E356+Hoja3!$D357","v":3},{"$f":"+Hoja3!$E357*Hoja3!$D357","v":0},"MANTENER",null,null,"ACTIVA","JUDICIAL","Acto administrativo presuntamente viciado de ilegalidad que impone sanciones por violación de normas de derecho laboral colectivo. El derecho laboral colectivo es el conjunto de normas jurídicas que regulan las relaciones entre patronos y trabajadores no de modo individual, sino en atención a los intereses comunes a todos ellos o a los grupos profesionales. El vicio del acto puede ser la expedición con infracción de las normas en que debería fundarse, o sin competencia, o en forma irregular, o con desconocimiento del derecho de audiencia y defensa, o mediante falsa motivación, o con falta de motivación, o con desviación de las atribuciones propias de quien lo profirió, o con violación del debido proceso administrativo.",365,{"$f":"+Hoja3!$B357","v":"ILEGALIDAD DEL ACTO ADMINISTRATIVO QUE IMPONE SANCION POR VIOLACION DE NORMAS DE DERECHO LABORAL COLECTIVO"}]
[{"$f":"+Hoja3!$F358","v":0},"ILEGALIDAD DEL ACTO ADMINISTRATIVO QUE IMPONE SANCION POR VIOLACION DE NORMAS DEL SISTEMA DE SEGURIDAD SOCIAL INTEGRAL",{"$f":"IFERROR(FIND(UPPER('Causas nuevas'!$D$4),B358),0)","v":0},{"$f":"+IF(Hoja3!$C358=0,0,1)","v":0},{"$f":"+E357+Hoja3!$D358","v":3},{"$f":"+Hoja3!$E358*Hoja3!$D358","v":0},"MANTENER",null,null,"ACTIVA","JUDICIAL","Acto administrativo presuntamente viciado de ilegalidad que impone sanciones por violación de normas del sistema de seguridad social integral. El sistema de seguridad social integral es el conjunto armónico de entidades públicas y privadas, normas y procedimientos y está conformado por los regímenes generales establecidos para pensiones, salud, riesgos profesionales y los servicios sociales complementarios que se definen en la Ley 100 de 1993 y las normas que modifiquén, complementen o desarrollen. El vicio del acto puede ser la expedición con infracción de las normas en que debería fundarse, o sin competencia, o en forma irregular, o con desconocimiento del derecho de audiencia y defensa, o mediante falsa motivación, o con falta de motivación, o con desviación de las atribuciones propias de quien lo profirió, o con violación del debido proceso administrativo.",368,{"$f":"+Hoja3!$B358","v":"ILEGALIDAD DEL ACTO ADMINISTRATIVO QUE IMPONE SANCION POR VIOLACION DE NORMAS DEL SISTEMA DE SEGURIDAD SOCIAL INTEGRAL"}]
[{"$f":"+Hoja3!$F359","v":0},"CUMPLIMIENTO DE REQUISITOS LEGALES PARA LEVANTAMIENTO DE FUERO SINDICAL",{"$f":"IFERROR(FIND(UPPER('Causas nuevas'!$D$4),B359),0)","v":0},{"$f":"+IF(Hoja3!$C359=0,0,1)","v":0},{"$f":"+E358+Hoja3!$D359","v":3},{"$f":"+Hoja3!$E359*Hoja3!$D359","v":0},"MANTENER",null,null,"ACTIVA","JUDICIAL","Solicitud de levantamiento del fuero sindical por cumplimiento de los requisitos legales para tal efecto. El fuero sindical es la garantía de que gozan algunos trabajadores oficiales o funcionarios públicos (fundadores de sindicato, miembros junta directiva del sindicato, etc.) de no ser despedidos, ni desmejorados en sus condiciones de trabajo, ni trasladados a otros establecimientos de la misma empresa o a un municipio distinto, sin justa causa, previamente calificada por el juez del trabajo. Nota: es subsidiaria a la causa CUMPLIMIENTO DE REQUISITOS LEGALES PARA LEVANTAMIENTO DE FUERO SINDICAL EN PROCESOS DE REESTRUCTURACION Y LIQUIDACION DE ENTIDADES PUBLICAS.",96,{"$f":"+Hoja3!$B359","v":"CUMPLIMIENTO DE REQUISITOS LEGALES PARA LEVANTAMIENTO DE FUERO SINDICAL"}]
[{"$f":"+Hoja3!$F360","v":0},"INCUMPLIMIENTO EN EL PAGO DE CUOTAS DE COPROPIEDAD",{"$f":"IFERROR(FIND(UPPER('Causas nuevas'!$D$4),B360),0)","v":0},{"$f":"+IF(Hoja3!$C360=0,0,1)","v":0},{"$f":"+E359+Hoja3!$D360","v":3},{"$f":"+Hoja3!$E360*Hoja3!$D360","v":0},"MANTENER",null,null,"ACTIVA","JUDICIAL","Mora o no pago de las cuotas de administración de la copropiedad.",498,{"$f":"+Hoja3!$B360","v":"INCUMPLIMIENTO EN EL PAGO DE CUOTAS DE COPROPIEDAD"}]
[{"$f":"+Hoja3!$F361","v":0},"ILEGALIDAD DEL ACTO ADMINISTRATIVO QUE NIEGA LA DEVOLUCION O COMPENSACION DE OBLIGACIONES TRIBUTARIAS",{"$f":"IFERROR(FIND(UPPER('Causas nuevas'!$D$4),B361),0)","v":0},{"$f":"+IF(Hoja3!$C361=0,0,1)","v":0},{"$f":"+E360+Hoja3!$D361","v":3},{"$f":"+Hoja3!$E361*Hoja3!$D361","v":0},"MANTENER",null,"DIAN","ACTIVA","JUDICIAL","Acto administrativo presuntamente viciado de ilegalidad, que se expide a los contribuyentes por la no procedencia de la solicitud de devolución y/o compensación de saldos a favor generados en impuestos. El vicio del acto puede ser la expedición con infracción de las normas en que debería fundarse, o sin competencia, o en forma irregular, o con desconocimiento del derecho de audiencia y defensa, o mediante falsa motivación, o con falta de motivación, o con desviación de las atribuciones propias de quien lo profirió, o con violación del debido proceso administrativo.",956,{"$f":"+Hoja3!$B361","v":"ILEGALIDAD DEL ACTO ADMINISTRATIVO QUE NIEGA LA DEVOLUCION O COMPENSACION DE OBLIGACIONES TRIBUTARIAS"}]
[{"$f":"+Hoja3!$F362","v":0},"SUBROGACION DE LOS DERECHOS DEL ASEGURADO POR RESPONSABILIDAD EN SINIESTRO",{"$f":"IFERROR(FIND(UPPER('Causas nuevas'!$D$4),B362),0)","v":0},{"$f":"+IF(Hoja3!$C362=0,0,1)","v":0},{"$f":"+E361+Hoja3!$D362","v":3},{"$f":"+Hoja3!$E362*Hoja3!$D362","v":0},"MANTENER",null,null,"ACTIVA","JUDICIAL","Pretensión del asegurador de subrogarse en los derechos del asegurado contra quien produjo el daño. Cuando el asegurador paga una indemnización en un seguro de daños se sustituye en los derechos del asegurado contra las personas comprometidas con la ocurrencia del siniestro; la subrogación del asegurador sobre los derechos del asegurado contra los responsables del siniestro, como lo expresa el artículo 1096 del Código de Comercio, se da por el ministerio de la ley hasta concurrencia de su importe.",924,{"$f":"+Hoja3!$B362","v":"SUBROGACION DE LOS DERECHOS DEL ASEGURADO POR RESPONSABILIDAD EN SINIESTRO"}]
[{"$f":"+Hoja3!$F363","v":0},"ILEGALIDAD DEL ACTO ADMINISTRATIVO QUE ORDENA LA DEVOLUCION DE VALORES POR REINTEGRO AL SERVICIO ACTIVO",{"$f":"IFERROR(FIND(UPPER('Causas nuevas'!$D$4),B363),0)","v":0},{"$f":"+IF(Hoja3!$C363=0,0,1)","v":0},{"$f":"+E362+Hoja3!$D363","v":3},{"$f":"+Hoja3!$E363*Hoja3!$D363","v":0},"MANTENER",null,null,"ACTIVA","JUDICIAL","Solicitud de devolución de los dineros pagados a los miembros de la fuerza pública por concepto de asignación de retiro, cuando han sido reintegrados al servicio en virtud de una decisión judicial que dispone su reintegro sin solución de continuidad, lo que implica que se le reconocen el salario y demás emolumentos derivados de este, los cuales  o pueden coexistir con la asignación de retiro dado que por mandato constitucional nadie podrá desempeñar simultáneamente más de un empleo público ni recibir más de una asignación que provenga del tesoro público.",437,{"$f":"+Hoja3!$B363","v":"ILEGALIDAD DEL ACTO ADMINISTRATIVO QUE ORDENA LA DEVOLUCION DE VALORES POR REINTEGRO AL SERVICIO ACTIVO"}]
[{"$f":"+Hoja3!$F364","v":0},"ILEGALIDAD DEL ACTO ADMINISTRATIVO QUE IMPONE SANCIONES DERIVADAS DE LA FACULTAD DE INSPECCION, VIGILANCIA Y CONTROL",{"$f":"IFERROR(FIND(UPPER('Causas nuevas'!$D$4),B364),0)","v":0},{"$f":"+IF(Hoja3!$C364=0,0,1)","v":0},{"$f":"+E363+Hoja3!$D364","v":3},{"$f":"+Hoja3!$E364*Hoja3!$D364","v":0},"MANTENER",null,null,"ACTIVA","JUDICIAL","Acto administrativo presuntamente viciado de ilegalidad, que impone sanciones en ejercicio de las funciones constitucionales presidenciales de inspección, vigilancia y control sobre los entes que realizan diversas actividades económicas, generalmente delegadas a las superintendencias. El vicio del acto puede ser la expedición con infracción de las normas en que debería fundarse, o sin competencia, o en forma irregular, o con desconocimiento del derecho de audiencia y defensa, o mediante falsa motivación, o con falta de motivación, o con desviación de las atribuciones propias de quien lo profirió, o con violación del debido proceso administrativo.",370,{"$f":"+Hoja3!$B364","v":"ILEGALIDAD DEL ACTO ADMINISTRATIVO QUE IMPONE SANCIONES DERIVADAS DE LA FACULTAD DE INSPECCION, VIGILANCIA Y CONTROL"}]
[{"$f":"+Hoja3!$F365","v":0},"RECLAMACIONES SOBRE ASPECTOS SIN SALVEDADES EN EL ACTA DE LIQUIDACION",{"$f":"IFERROR(FIND(UPPER('Causas nuevas'!$D$4),B365),0)","v":0},{"$f":"+IF(Hoja3!$C365=0,0,1)","v":0},{"$f":"+E364+Hoja3!$D365","v":3},{"$f":"+Hoja3!$E365*Hoja3!$D365","v":0},"NUEVA",null,null,"ACTIVA","JUDICIAL","Perjuicios derivados de aspectos respecto de los cuales no se efectuaron salvedades en el acta de liquidacion del contrato estatal.",64,{"$f":"+Hoja3!$B365","v":"RECLAMACIONES SOBRE ASPECTOS SIN SALVEDADES EN EL ACTA DE LIQUIDACION"}]
[{"$f":"+Hoja3!$F366","v":0},"ILEGALIDAD DEL ACTO ADMINISTRATIVO QUE DECLARA EL INCUMPLIMIENTO DEL CONTRATO",{"$f":"IFERROR(FIND(UPPER('Causas nuevas'!$D$4),B366),0)","v":0},{"$f":"+IF(Hoja3!$C366=0,0,1)","v":0},{"$f":"+E365+Hoja3!$D366","v":3},{"$f":"+Hoja3!$E366*Hoja3!$D366","v":0},"NUEVA",{"$nulls":3},"JUDICIAL","Acto administrativo presuntamente viciado de ilegalidad que declara el incumplimiento del contrato estatal. El vicio del acto puede ser la expedición con infracción de las normas en que debería fundarse, o sin competencia, o en forma irregular, o con desconocimiento del derecho de audiencia y defensa, o mediante falsa motivación, o con falta de motivación, o con desviación de las atribuciones propias de quien lo profirió, o con violación del debido proceso administrativo.",40,{"$f":"+Hoja3!$B366","v":"ILEGALIDAD DEL ACTO ADMINISTRATIVO QUE DECLARA EL INCUMPLIMIENTO DEL CONTRATO"}]
[{"$f":"+Hoja3!$F367","v":0},"INCUMPLIMIENTO DE LA OBLIGACION DE CONSTITUCION DE GARANTIAS CONTRACTUALES",{"$f":"IFERROR(FIND(UPPER('Causas nuevas'!$D$4),B367),0)","v":0},{"$f":"+IF(Hoja3!$C367=0,0,1)","v":0},{"$f":"+E366+Hoja3!$D367","v":3},{"$f":"+Hoja3!$E367*Hoja3!$D367","v":0},"NUEVA",{"$nulls":3},"JUDICIAL","Perjuicios derivados de la concresión de los riesgos que debían asegurarse, cuando no se constituyen las garantías contractuales correspondientes.",47,{"$f":"+Hoja3!$B367","v":"INCUMPLIMIENTO DE LA OBLIGACION DE CONSTITUCION DE GARANTIAS CONTRACTUALES"}]
[{"$f":"+Hoja3!$F368","v":0},"INCUMPLIMIENTO DEL CONTRATO POR EJECUCION PARCIAL DE PRESTACIONES",{"$f":"IFERROR(FIND(UPPER('Causas nuevas'!$D$4),B368),0)","v":0},{"$f":"+IF(Hoja3!$C368=0,0,1)","v":0},{"$f":"+E367+Hoja3!$D368","v":3},{"$f":"+Hoja3!$E368*Hoja3!$D368","v":0},"DESAGREGAR","INCUMPLIMIENTO CONTRACTUAL",null,null,"JUDICIAL","Perjuicios derivados del cumplimiento defectuoso o deficiente de las obligaciones pactadas en el contrato estatal, por cualquiera de las partes.",49,{"$f":"+Hoja3!$B368","v":"INCUMPLIMIENTO DEL CONTRATO POR EJECUCION PARCIAL DE PRESTACIONES"}]
[{"$f":"+Hoja3!$F369","v":0},"INCUMPLIMIENTO DEL CONTRATO POR EJECUCION TARDIA DE PRESTACIONES",{"$f":"IFERROR(FIND(UPPER('Causas nuevas'!$D$4),B369),0)","v":0},{"$f":"+IF(Hoja3!$C369=0,0,1)","v":0},{"$f":"+E368+Hoja3!$D369","v":3},{"$f":"+Hoja3!$E369*Hoja3!$D369","v":0},"DESAGREGAR","INCUMPLIMIENTO CONTRACTUAL",null,null,"JUDICIAL","Perjuicios derivados de la mora en el cumplimiento de las obligaciones pactadas en el contrato estatal, por cualquiera de las partes",50,{"$f":"+Hoja3!$B369","v":"INCUMPLIMIENTO DEL CONTRATO POR EJECUCION TARDIA DE PRESTACIONES"}]
[{"$f":"+Hoja3!$F370","v":0},"INCUMPLIMIENTO DEL CONTRATO POR INDEBIDA INTERPRETACION",{"$f":"IFERROR(FIND(UPPER('Causas nuevas'!$D$4),B370),0)","v":0},{"$f":"+IF(Hoja3!$C370=0,0,1)","v":0},{"$f":"+E369+Hoja3!$D370","v":3},{"$f":"+Hoja3!$E370*Hoja3!$D370","v":0},"DESAGREGAR","INCUMPLIMIENTO CONTRACTUAL",null,null,"JUDICIAL","Perjuicios derivados del no cumplimiento de las obligaciones pactadas en el contrato estatal, derivado de una interpretación errónea de las cláusulas contractuales. ",51,{"$f":"+Hoja3!$B370","v":"INCUMPLIMIENTO DEL CONTRATO POR INDEBIDA INTERPRETACION"}]
[{"$f":"+Hoja3!$F371","v":0},"INCUMPLIMIENTO DEL CONTRATO POR NO EJECUCION DE PRESTACIONES",{"$f":"IFERROR(FIND(UPPER('Causas nuevas'!$D$4),B371),0)","v":0},{"$f":"+IF(Hoja3!$C371=0,0,1)","v":0},{"$f":"+E370+Hoja3!$D371","v":3},{"$f":"+Hoja3!$E371*Hoja3!$D371","v":0},"DESAGREGAR","INCUMPLIMIENTO CONTRACTUAL",null,null,"JUDICIAL","Perjuicios derivados del no cumplimiento de las obligaciones pactadas en el contrato estatal, por cualquiera de las partes",52,{"$f":"+Hoja3!$B371","v":"INCUMPLIMIENTO DEL CONTRATO POR NO EJECUCION DE PRESTACIONES"}]
[{"$f":"+Hoja3!$F372","v":0},"INCUMPLIMIENTO DEL CONTRATO POR VIOLACION DEL PRINCIPIO DE PLANEACION POR PARTE DE LA ENTIDAD CONTRATANTE",{"$f":"IFERROR(FIND(UPPER('Causas nuevas'!$D$4),B372),0)","v":0},{"$f":"+IF(Hoja3!$C372=0,0,1)","v":0},{"$f":"+E371+Hoja3!$D372","v":3},{"$f":"+Hoja3!$E372*Hoja3!$D372","v":0},"DESAGREGAR","INCUMPLIMIENTO CONTRACTUAL",null,null,"JUDICIAL","Perjuicios derivados del no cumplimiento de las obligaciones pactadas en el contrato estatal, derivado de la violación del deber de planeación por parte de la entidad contratante. ",53,{"$f":"+Hoja3!$B372","v":"INCUMPLIMIENTO DEL CONTRATO POR VIOLACION DEL PRINCIPIO DE PLANEACION POR PARTE DE LA ENTIDAD CONTRATANTE"}]
[{"$f":"+Hoja3!$F373","v":0},"INCUMPLIMIENTO DEL CONTRATO POR VIOLACION DEL PRINCIPIO DE PLANEACION POR PARTE DEL CONTRATISTA",{"$f":"IFERROR(FIND(UPPER('Causas nuevas'!$D$4),B373),0)","v":0},{"$f":"+IF(Hoja3!$C373=0,0,1)","v":0},{"$f":"+E372+Hoja3!$D373","v":3},{"$f":"+Hoja3!$E373*Hoja3!$D373","v":0},"DESAGREGAR","INCUMPLIMIENTO CONTRACTUAL",null,null,"JUDICIAL","Perjuicios derivados del no cumplimiento de las obligaciones pactadas en el contrato estatal, derivado de la violación del deber de planeación por parte del contratista. ",54,{"$f":"+Hoja3!$B373","v":"INCUMPLIMIENTO DEL CONTRATO POR VIOLACION DEL PRINCIPIO DE PLANEACION POR PARTE DEL CONTRATISTA"}]
[{"$f":"+Hoja3!$F374","v":0},"REDUCCION DE LA CLAUSULA PENAL POR INCUMPLIMIENTO PARCIAL",{"$f":"IFERROR(FIND(UPPER('Causas nuevas'!$D$4),B374),0)","v":0},{"$f":"+IF(Hoja3!$C374=0,0,1)","v":0},{"$f":"+E373+Hoja3!$D374","v":3},{"$f":"+Hoja3!$E374*Hoja3!$D374","v":0},"NUEVA",{"$nulls":3},"JUDICIAL","Pretensión de reducción del monto de la cláusula penal de manera proporcional al incumplimiento parcial del contrato estatal.",65,{"$f":"+Hoja3!$B374","v":"REDUCCION DE LA CLAUSULA PENAL POR INCUMPLIMIENTO PARCIAL"}]
[{"$f":"+Hoja3!$F375","v":0},"DESEQUILIBRIO ECONOMICO DEL CONTRATO POR ACTOS O HECHOS DE LA ENTIDAD CONTRATANTE",{"$f":"IFERROR(FIND(UPPER('Causas nuevas'!$D$4),B375),0)","v":0},{"$f":"+IF(Hoja3!$C375=0,0,1)","v":0},{"$f":"+E374+Hoja3!$D375","v":3},{"$f":"+Hoja3!$E375*Hoja3!$D375","v":0},"DESAGREGAR","DESEQUILIBRIO ECONOMICO DEL CONTRATO",null,null,"JUDICIAL","Perjuicios derivados de la afectación anormal de la ecuación financiera del contrato estatal durante su ejecución, por actos o hechos de la entidad administrativa contratante, como cuando no cumple con las obligaciones derivadas del contrato o introduce modificaciones al mismo -ius variandi-, sean éstas abusivas o no.",1074,{"$f":"+Hoja3!$B375","v":"DESEQUILIBRIO ECONOMICO DEL CONTRATO POR ACTOS O HECHOS DE LA ENTIDAD CONTRATANTE"}]
[{"$f":"+Hoja3!$F376","v":0},"DESEQUILIBRIO ECONOMICO DEL CONTRATO POR ACTOS O HECHOS DEL CONTRATISTA",{"$f":"IFERROR(FIND(UPPER('Causas nuevas'!$D$4),B376),0)","v":0},{"$f":"+IF(Hoja3!$C376=0,0,1)","v":0},{"$f":"+E375+Hoja3!$D376","v":3},{"$f":"+Hoja3!$E376*Hoja3!$D376","v":0},"DESAGREGAR","DESEQUILIBRIO ECONOMICO DEL CONTRATO",null,null,"JUDICIAL","Perjuicios derivados de la afectación anormal de la ecuación financiera del contrato estatal durante su ejecución, por actos o hechos del contratista que no implican incumplimiento.",35,{"$f":"+Hoja3!$B376","v":"DESEQUILIBRIO ECONOMICO DEL CONTRATO POR ACTOS O HECHOS DEL CONTRATISTA"}]
[{"$f":"+Hoja3!$F377","v":0},"DESEQUILIBRIO ECONOMICO DEL CONTRATO POR EL HECHO DEL PRINCIPE",{"$f":"IFERROR(FIND(UPPER('Causas nuevas'!$D$4),B377),0)","v":0},{"$f":"+IF(Hoja3!$C377=0,0,1)","v":0},{"$f":"+E376+Hoja3!$D377","v":3},{"$f":"+Hoja3!$E377*Hoja3!$D377","v":0},"DESAGREGAR","DESEQUILIBRIO ECONOMICO DEL CONTRATO",null,null,"JUDICIAL","Perjuicios derivados de la afectación anormal de la ecuación financiera del contrato estatal durante su ejecución, por actos generales de la administración como Estado, o “teoría del hecho del príncipe”, como cuando en ejercicio de sus potestades constitucionales y legales, cuya voluntad se manifiesta mediante leyes o actos administrativos de carácter general, afecta negativamente el contrato.",36,{"$f":"+Hoja3!$B377","v":"DESEQUILIBRIO ECONOMICO DEL CONTRATO POR EL HECHO DEL PRINCIPE"}]
[{"$f":"+Hoja3!$F378","v":0},"DESEQUILIBRIO ECONOMICO DEL CONTRATO POR TEORIA DE LA IMPREVISION",{"$f":"IFERROR(FIND(UPPER('Causas nuevas'!$D$4),B378),0)","v":0},{"$f":"+IF(Hoja3!$C378=0,0,1)","v":0},{"$f":"+E377+Hoja3!$D378","v":3},{"$f":"+Hoja3!$E378*Hoja3!$D378","v":0},"DESAGREGAR","DESEQUILIBRIO ECONOMICO DEL CONTRATO",null,null,"JUDICIAL","Perjuicios derivados de la afectación anormal de la ecuación financiera del contrato estatal durante su ejecución por factores exógenos a las partes del negocio, o “teoría de la imprevisión”, que involucran circunstancias no imputables al Estado y externas al contrato, pero con incidencia en él.",37,{"$f":"+Hoja3!$B378","v":"DESEQUILIBRIO ECONOMICO DEL CONTRATO POR TEORIA DE LA IMPREVISION"}]
[{"$f":"+Hoja3!$F379","v":0},"NULIDAD ABSOLUTA DEL CONTRATO ESTATAL",{"$f":"IFERROR(FIND(UPPER('Causas nuevas'!$D$4),B379),0)","v":0},{"$f":"+IF(Hoja3!$C379=0,0,1)","v":0},{"$f":"+E378+Hoja3!$D379","v":3},{"$f":"+Hoja3!$E379*Hoja3!$D379","v":0},"DESAGREGAR","NULIDAD DEL CONTRATO ESTATAL",null,null,"JUDICIAL","Controversias suscitadas en torno a la validez del contrato estatal por configuración de vicios que generan nulidad absoluta.",62,{"$f":"+Hoja3!$B379","v":"NULIDAD ABSOLUTA DEL CONTRATO ESTATAL"}]
[{"$f":"+Hoja3!$F380","v":0},"NULIDAD RELATIVA DEL CONTRATO ESTATAL",{"$f":"IFERROR(FIND(UPPER('Causas nuevas'!$D$4),B380),0)","v":0},{"$f":"+IF(Hoja3!$C380=0,0,1)","v":0},{"$f":"+E379+Hoja3!$D380","v":3},{"$f":"+Hoja3!$E380*Hoja3!$D380","v":0},"DESAGREGAR","NULIDAD DEL CONTRATO ESTATAL",null,null,"JUDICIAL","Controversias suscitadas en torno a la validez del contrato estatal por configuración de vicios que constituyen nulidad relativa.",63,{"$f":"+Hoja3!$B380","v":"NULIDAD RELATIVA DEL CONTRATO ESTATAL"}]
[{"$f":"+Hoja3!$F381","v":0},"EXTENSION DE LAS GARANTIAS CONTRACTUALES",{"$f":"IFERROR(FIND(UPPER('Causas nuevas'!$D$4),B381),0)","v":0},{"$f":"+IF(Hoja3!$C381=0,0,1)","v":0},{"$f":"+E380+Hoja3!$D381","v":3},{"$f":"+Hoja3!$E381*Hoja3!$D381","v":0},"NUEVA",{"$nulls":3},"JUDICIAL","Perjuicios derivados de la extensión de las garantías contractuales a situaciones imprevisibles y por lo tanto no cubiertas dentro de los riesgos asegurados.",39,{"$f":"+Hoja3!$B381","v":"EXTENSION DE LAS GARANTIAS CONTRACTUALES"}]
[{"$f":"+Hoja3!$F382","v":0},"ILEGALIDAD DEL ACTO ADMINISTRATIVO QUE DECLARA LA TERMINACION UNILATERAL DEL CONTRATO",{"$f":"IFERROR(FIND(UPPER('Causas nuevas'!$D$4),B382),0)","v":0},{"$f":"+IF(Hoja3!$C382=0,0,1)","v":0},{"$f":"+E381+Hoja3!$D382","v":3},{"$f":"+Hoja3!$E382*Hoja3!$D382","v":0},"NUEVA",{"$nulls":3},"JUDICIAL","Acto administrativo presuntamente viciado de ilegalidad que declara la terminación unilateral del contrato estatal. El vicio del acto puede ser la expedición con infracción de las normas en que debería fundarse, o sin competencia, o en forma irregular, o con desconocimiento del derecho de audiencia y defensa, o mediante falsa motivación, o con falta de motivación, o con desviación de las atribuciones propias de quien lo profirió, o con violación del debido proceso administrativo.",43,{"$f":"+Hoja3!$B382","v":"ILEGALIDAD DEL ACTO ADMINISTRATIVO QUE DECLARA LA TERMINACION UNILATERAL DEL CONTRATO"}]
[{"$f":"+Hoja3!$F383","v":0},"MAYOR PERMANENCIA DE OBRA",{"$f":"IFERROR(FIND(UPPER('Causas nuevas'!$D$4),B383),0)","v":0},{"$f":"+IF(Hoja3!$C383=0,0,1)","v":0},{"$f":"+E382+Hoja3!$D383","v":3},{"$f":"+Hoja3!$E383*Hoja3!$D383","v":0},"NUEVA",{"$nulls":3},"JUDICIAL","Perjuicios ocasionados como consecuencia de la ampliación del plazo de ejecución del contrato.",56,{"$f":"+Hoja3!$B383","v":"MAYOR PERMANENCIA DE OBRA"}]
[{"$f":"+Hoja3!$F384","v":0},"MAYORES CANTIDADES, SOBRECOSTOS Y OBRAS ADICIONALES EN CONTRATO DE OBRA A PRECIO GLOBAL",{"$f":"IFERROR(FIND(UPPER('Causas nuevas'!$D$4),B384),0)","v":0},{"$f":"+IF(Hoja3!$C384=0,0,1)","v":0},{"$f":"+E383+Hoja3!$D384","v":3},{"$f":"+Hoja3!$E384*Hoja3!$D384","v":0},"NUEVA",{"$nulls":3},"JUDICIAL","Perjuicios derivados de haber incurrido en mayores cantidades, sobrecostos y obras adicionales en los contratos de obra por precio global, es decir, aquellos en los que el contratista, a cambio de las prestaciones a que se compromete, obtiene como remuneración una suma fija siendo el único responsable de la vinculación de personal, de la elaboración de subcontratos y de la obtención de materiales.",57,{"$f":"+Hoja3!$B384","v":"MAYORES CANTIDADES, SOBRECOSTOS Y OBRAS ADICIONALES EN CONTRATO DE OBRA A PRECIO GLOBAL"}]
[{"$f":"+Hoja3!$F385","v":0},"MAYORES CANTIDADES, SOBRECOSTOS Y OBRAS ADICIONALES EN CONTRATO DE OBRA A PRECIO UNITARIO",{"$f":"IFERROR(FIND(UPPER('Causas nuevas'!$D$4),B385),0)","v":0},{"$f":"+IF(Hoja3!$C385=0,0,1)","v":0},{"$f":"+E384+Hoja3!$D385","v":3},{"$f":"+Hoja3!$E385*Hoja3!$D385","v":0},"NUEVA",{"$nulls":3},"JUDICIAL","Perjuicios derivados de haber incurrido en mayores cantidades, sobrecostos y obras adicionales en los contratos de obra a precio unitario, es decir, aquellos en los que la forma de pago es por unidades o cantidades de obra y el valor total corresponde al que resulta de multiplicar las cantidades de obras ejecutadas por el precio de cada una de ellas comprometiéndose el contratista a realizar las obras especificadas en el contrato.",58,{"$f":"+Hoja3!$B385","v":"MAYORES CANTIDADES, SOBRECOSTOS Y OBRAS ADICIONALES EN CONTRATO DE OBRA A PRECIO UNITARIO"}]
[{"$f":"+Hoja3!$F386","v":0},"MAYORES CANTIDADES, SOBRECOSTOS Y OBRAS ADICIONALES POR EVENTO DE FUERZA MAYOR",{"$f":"IFERROR(FIND(UPPER('Causas nuevas'!$D$4),B386),0)","v":0},{"$f":"+IF(Hoja3!$C386=0,0,1)","v":0},{"$f":"+E385+Hoja3!$D386","v":3},{"$f":"+Hoja3!$E386*Hoja3!$D386","v":0},"NUEVA",{"$nulls":3},"JUDICIAL","Perjuicios derivados de haber incurrido en mayores cantidades, sobrecostos y obras adicionales, como consecuencia de un evento de fuerza mayor.",59,{"$f":"+Hoja3!$B386","v":"MAYORES CANTIDADES, SOBRECOSTOS Y OBRAS ADICIONALES POR EVENTO DE FUERZA MAYOR"}]
[{"$f":"+Hoja3!$F387","v":0},"MODIFICACION Y/O REVISION DE LAS PRESTACIONES CONTRACTUALES",{"$f":"IFERROR(FIND(UPPER('Causas nuevas'!$D$4),B387),0)","v":0},{"$f":"+IF(Hoja3!$C387=0,0,1)","v":0},{"$f":"+E386+Hoja3!$D387","v":3},{"$f":"+Hoja3!$E387*Hoja3!$D387","v":0},"NUEVA",{"$nulls":3},"JUDICIAL","Modificación o revisión de las prestaciones pactadas en el contrato.",60,{"$f":"+Hoja3!$B387","v":"MODIFICACION Y/O REVISION DE LAS PRESTACIONES CONTRACTUALES"}]
[{"$f":"+Hoja3!$F388","v":0},"MODIFICACION Y/O REVISION DEL PLAZO CONTRACTUAL",{"$f":"IFERROR(FIND(UPPER('Causas nuevas'!$D$4),B388),0)","v":0},{"$f":"+IF(Hoja3!$C388=0,0,1)","v":0},{"$f":"+E387+Hoja3!$D388","v":3},{"$f":"+Hoja3!$E388*Hoja3!$D388","v":0},"NUEVA",{"$nulls":3},"JUDICIAL","Modificación o revisión del plazo pactado para la ejecución del contrato.",61,{"$f":"+Hoja3!$B388","v":"MODIFICACION Y/O REVISION DEL PLAZO CONTRACTUAL"}]
[{"$f":"+Hoja3!$F389","v":0},"ILEGALIDAD DEL ACTO ADMINISTRATIVO QUE INTERPRETA UNILATERALMENTE EL CONTRATO",{"$f":"IFERROR(FIND(UPPER('Causas nuevas'!$D$4),B389),0)","v":0},{"$f":"+IF(Hoja3!$C389=0,0,1)","v":0},{"$f":"+E388+Hoja3!$D389","v":3},{"$f":"+Hoja3!$E389*Hoja3!$D389","v":0},"NUEVA",{"$nulls":3},"JUDICIAL","Acto administrativo presuntamente viciado de ilegalidad que interpreta unilateralmente el contrato estatal. El vicio del acto puede ser la expedición con infracción de las normas en que debería fundarse, o sin competencia, o en forma irregular, o con desconocimiento del derecho de audiencia y defensa, o mediante falsa motivación, o con falta de motivación, o con desviación de las atribuciones propias de quien lo profirió, o con violación del debido proceso administrativo.",373,{"$f":"+Hoja3!$B389","v":"ILEGALIDAD DEL ACTO ADMINISTRATIVO QUE INTERPRETA UNILATERALMENTE EL CONTRATO"}]
[{"$f":"+Hoja3!$F390","v":0},"EJECUCIONES EXTRAJUDICIALES PERPETRADAS POR AGENTES DEL ESTADO",{"$f":"IFERROR(FIND(UPPER('Causas nuevas'!$D$4),B390),0)","v":0},{"$f":"+IF(Hoja3!$C390=0,0,1)","v":0},{"$f":"+E389+Hoja3!$D390","v":3},{"$f":"+Hoja3!$E390*Hoja3!$D390","v":0},"DESAGREGAR","EJECUCION EXTRAJUDICIAL",null,null,"JUDICIAL","Perjuicios derivados del homicidio deliberado de una persona por parte de agentes del Estado, con apoyo en la potestad del Estado para justificar y perpetrar el crimen.",230,{"$f":"+Hoja3!$B390","v":"EJECUCIONES EXTRAJUDICIALES PERPETRADAS POR AGENTES DEL ESTADO"}]
[{"$f":"+Hoja3!$F391","v":0},"EJECUCIONES EXTRAJUDICIALES PERPETRADAS POR TERCEROS CON PARTICIPACION DE AGENTES DEL ESTADO",{"$f":"IFERROR(FIND(UPPER('Causas nuevas'!$D$4),B391),0)","v":0},{"$f":"+IF(Hoja3!$C391=0,0,1)","v":0},{"$f":"+E390+Hoja3!$D391","v":3},{"$f":"+Hoja3!$E391*Hoja3!$D391","v":0},"DESAGREGAR","EJECUCION EXTRAJUDICIAL",null,null,"JUDICIAL","Perjuicios derivados del homicidio deliberado de una persona por parte de terceros con participación de agentes del Estado, con apoyo en la potestad del Estado para justificar y perpetrar el crimen.",231,{"$f":"+Hoja3!$B391","v":"EJECUCIONES EXTRAJUDICIALES PERPETRADAS POR TERCEROS CON PARTICIPACION DE AGENTES DEL ESTADO"}]
[{"$f":"+Hoja3!$F392","v":0},"DAÑOS A BIENES CON VEHICULO OFICIAL",{"$f":"IFERROR(FIND(UPPER('Causas nuevas'!$D$4),B392),0)","v":0},{"$f":"+IF(Hoja3!$C392=0,0,1)","v":0},{"$f":"+E391+Hoja3!$D392","v":3},{"$f":"+Hoja3!$E392*Hoja3!$D392","v":0},"DESAGREGAR","DAÑOS CAUSADOS A CIVIL CON VEHICULO OFICIAL",null,null,"JUDICIAL","Daños a bienes muebles e inmuebles con ocasión de la actividad peligrosa de conducción de vehículos de uso oficial.",126,{"$f":"+Hoja3!$B392","v":"DAÑOS A BIENES CON VEHICULO OFICIAL"}]
[{"$f":"+Hoja3!$F393","v":0},"LESION A CIVIL CON AERONAVE OFICIAL",{"$f":"IFERROR(FIND(UPPER('Causas nuevas'!$D$4),B393),0)","v":0},{"$f":"+IF(Hoja3!$C393=0,0,1)","v":0},{"$f":"+E392+Hoja3!$D393","v":3},{"$f":"+Hoja3!$E393*Hoja3!$D393","v":0},"DESAGREGAR","DAÑOS CAUSADOS A CIVIL CON AERONAVE DE USO OFICIAL",null,null,"JUDICIAL","Lesión física o síquica a civil con ocasión de la actividad peligrosa de pilotaje de aeronaves de uso oficial.",595,{"$f":"+Hoja3!$B393","v":"LESION A CIVIL CON AERONAVE OFICIAL"}]
[{"$f":"+Hoja3!$F394","v":0},"MUERTE DE CIVIL CON AERONAVE OFICIAL",{"$f":"IFERROR(FIND(UPPER('Causas nuevas'!$D$4),B394),0)","v":0},{"$f":"+IF(Hoja3!$C394=0,0,1)","v":0},{"$f":"+E393+Hoja3!$D394","v":3},{"$f":"+Hoja3!$E394*Hoja3!$D394","v":0},"DESAGREGAR","DAÑOS CAUSADOS A CIVIL CON AERONAVE DE USO OFICIAL",null,null,"JUDICIAL","Muerte de civil con ocasión de la actividad peligrosa de pilotaje de aeronaves de uso oficial.",702,{"$f":"+Hoja3!$B394","v":"MUERTE DE CIVIL CON AERONAVE OFICIAL"}]
[{"$f":"+Hoja3!$F395","v":0},"DAÑOS A BIENES CON AERONAVE OFICIAL",{"$f":"IFERROR(FIND(UPPER('Causas nuevas'!$D$4),B395),0)","v":0},{"$f":"+IF(Hoja3!$C395=0,0,1)","v":0},{"$f":"+E394+Hoja3!$D395","v":3},{"$f":"+Hoja3!$E395*Hoja3!$D395","v":0},"DESAGREGAR","DAÑOS CAUSADOS A CIVIL CON AERONAVE DE USO OFICIAL",null,null,"JUDICIAL","Daños a bienes muebles e inmuebles con ocasión de la actividad peligrosa de pilotaje de aeronaves de uso oficial.",123,{"$f":"+Hoja3!$B395","v":"DAÑOS A BIENES CON AERONAVE OFICIAL"}]
[{"$f":"+Hoja3!$F396","v":0},"LESION A CIVIL CON NAVE OFICIAL",{"$f":"IFERROR(FIND(UPPER('Causas nuevas'!$D$4),B396),0)","v":0},{"$f":"+IF(Hoja3!$C396=0,0,1)","v":0},{"$f":"+E395+Hoja3!$D396","v":3},{"$f":"+Hoja3!$E396*Hoja3!$D396","v":0},"DESAGREGAR","DAÑOS CAUSADOS A CIVIL CON NAVE OFICIAL",null,null,"JUDICIAL","Lesión física o síquica a civil con ocasión de la actividad peligrosa de conducción de naves de uso oficial.",597,{"$f":"+Hoja3!$B396","v":"LESION A CIVIL CON NAVE OFICIAL"}]
[{"$f":"+Hoja3!$F397","v":0},"MUERTE DE CIVIL CON NAVE OFICIAL",{"$f":"IFERROR(FIND(UPPER('Causas nuevas'!$D$4),B397),0)","v":0},{"$f":"+IF(Hoja3!$C397=0,0,1)","v":0},{"$f":"+E396+Hoja3!$D397","v":3},{"$f":"+Hoja3!$E397*Hoja3!$D397","v":0},"DESAGREGAR","DAÑOS CAUSADOS A CIVIL CON NAVE OFICIAL",null,null,"JUDICIAL","Muerte de civil con ocasión de la actividad peligrosa de conducción de naves de uso oficial.",704,{"$f":"+Hoja3!$B397","v":"MUERTE DE CIVIL CON NAVE OFICIAL"}]
[{"$f":"+Hoja3!$F398","v":0},"DAÑOS A BIENES CON NAVE OFICIAL",{"$f":"IFERROR(FIND(UPPER('Causas nuevas'!$D$4),B398),0)","v":0},{"$f":"+IF(Hoja3!$C398=0,0,1)","v":0},{"$f":"+E397+Hoja3!$D398","v":3},{"$f":"+Hoja3!$E398*Hoja3!$D398","v":0},"DESAGREGAR","DAÑOS CAUSADOS A CIVIL CON NAVE OFICIAL",null,null,"JUDICIAL","Daños a bienes muebles e inmuebles con ocasión de la actividad peligrosa de conducción de naves de uso oficial.",125,{"$f":"+Hoja3!$B398","v":"DAÑOS A BIENES CON NAVE OFICIAL"}]
[{"$f":"+Hoja3!$F399","v":0},"LESION AUTO INFLIGIDA DE CONSCRIPTO",{"$f":"IFERROR(FIND(UPPER('Causas nuevas'!$D$4),B399),0)","v":0},{"$f":"+IF(Hoja3!$C399=0,0,1)","v":0},{"$f":"+E398+Hoja3!$D399","v":3},{"$f":"+Hoja3!$E399*Hoja3!$D399","v":0},"DESAGREGAR","DAÑO AUTO INFLIGIDO DE CONSCRIPTO",null,null,"JUDICIAL","Lesión física o síquica auto infligida por el conscripto (quien presta servicio militar obligatorio).",646,{"$f":"+Hoja3!$B399","v":"LESION AUTO INFLIGIDA DE CONSCRIPTO"}]
[{"$f":"+Hoja3!$F400","v":0},"MUERTE AUTO INFLIGIDA DE CONSCRIPTO",{"$f":"IFERROR(FIND(UPPER('Causas nuevas'!$D$4),B400),0)","v":0},{"$f":"+IF(Hoja3!$C400=0,0,1)","v":0},{"$f":"+E399+Hoja3!$D400","v":3},{"$f":"+Hoja3!$E400*Hoja3!$D400","v":0},"DESAGREGAR","DAÑO AUTO INFLIGIDO DE CONSCRIPTO",null,null,"JUDICIAL","Muerte auto infligida (suicidio) de conscripto (quien presta servicio militar obligatorio).",698,{"$f":"+Hoja3!$B400","v":"MUERTE AUTO INFLIGIDA DE CONSCRIPTO"}]
[{"$f":"+Hoja3!$F401","v":0},"LESION A CONSCRIPTO CON NAVE OFICIAL",{"$f":"IFERROR(FIND(UPPER('Causas nuevas'!$D$4),B401),0)","v":0},{"$f":"+IF(Hoja3!$C401=0,0,1)","v":0},{"$f":"+E400+Hoja3!$D401","v":3},{"$f":"+Hoja3!$E401*Hoja3!$D401","v":0},"NUEVA",{"$nulls":3},"JUDICIAL","Lesión física o síquica a conscripto (quien presta servicio militar obligatorio) con ocasión de la actividad peligrosa de conducción de naves de uso oficial.",610,{"$f":"+Hoja3!$B401","v":"LESION A CONSCRIPTO CON NAVE OFICIAL"}]
[{"$f":"+Hoja3!$F402","v":0},"LESION A CONSCRIPTO DERIVADA DE LA PRESTACION DEL SERVICIO DE SALUD",{"$f":"IFERROR(FIND(UPPER('Causas nuevas'!$D$4),B402),0)","v":0},{"$f":"+IF(Hoja3!$C402=0,0,1)","v":0},{"$f":"+E401+Hoja3!$D402","v":3},{"$f":"+Hoja3!$E402*Hoja3!$D402","v":0},"NUEVA",{"$nulls":3},"JUDICIAL","Lesión física o síquica a conscripto (quien presta servicio militar obligatorio) derivada de una falla en la prestación del servicio de salud.",612,{"$f":"+Hoja3!$B402","v":"LESION A CONSCRIPTO DERIVADA DE LA PRESTACION DEL SERVICIO DE SALUD"}]
[{"$f":"+Hoja3!$F403","v":0},"MUERTE DE CONSCRIPTO DERIVADA DE LA PRESTACION DEL SERVICIO DE SALUD",{"$f":"IFERROR(FIND(UPPER('Causas nuevas'!$D$4),B403),0)","v":0},{"$f":"+IF(Hoja3!$C403=0,0,1)","v":0},{"$f":"+E402+Hoja3!$D403","v":3},{"$f":"+Hoja3!$E403*Hoja3!$D403","v":0},"NUEVA",{"$nulls":3},"JUDICIAL","Muerte de conscripto (quien presta servicio militar obligatorio) derivada de una falla en la prestación del servicio de salud.",721,{"$f":"+Hoja3!$B403","v":"MUERTE DE CONSCRIPTO DERIVADA DE LA PRESTACION DEL SERVICIO DE SALUD"}]
[{"$f":"+Hoja3!$F404","v":0},"LESION A CONSCRIPTO EN OPERATIVO MILITAR",{"$f":"IFERROR(FIND(UPPER('Causas nuevas'!$D$4),B404),0)","v":0},{"$f":"+IF(Hoja3!$C404=0,0,1)","v":0},{"$f":"+E403+Hoja3!$D404","v":3},{"$f":"+Hoja3!$E404*Hoja3!$D404","v":0},"DESAGREGAR","LESION A CONSCRIPTO EN OPERATIVO MILITAR Y/O COMBATE O ENFRENTAMIENTO",null,null,"JUDICIAL","Lesión física o síquica a conscripto (quien presta servicio militar obligatorio) con ocasión de un operativo militar.",616,{"$f":"+Hoja3!$B404","v":"LESION A CONSCRIPTO EN OPERATIVO MILITAR"}]
[{"$f":"+Hoja3!$F405","v":0},"MUERTE DE CONSCRIPTO EN OPERATIVO MILITAR",{"$f":"IFERROR(FIND(UPPER('Causas nuevas'!$D$4),B405),0)","v":0},{"$f":"+IF(Hoja3!$C405=0,0,1)","v":0},{"$f":"+E404+Hoja3!$D405","v":3},{"$f":"+Hoja3!$E405*Hoja3!$D405","v":0},"DESAGREGAR","MUERTE DE CONSCRIPTO EN OPERATIVO MILITAR Y/O COMBATE O ENFRENTAMIENTO",null,null,"JUDICIAL","Muerte de conscripto (quien presta servicio militar obligatorio) con ocasión de un operativo militar.",725,{"$f":"+Hoja3!$B405","v":"MUERTE DE CONSCRIPTO EN OPERATIVO MILITAR"}]
[{"$f":"+Hoja3!$F406","v":0},"LESION A CONSCRIPTO EN COMBATE O ENFRENTAMIENTO",{"$f":"IFERROR(FIND(UPPER('Causas nuevas'!$D$4),B406),0)","v":0},{"$f":"+IF(Hoja3!$C406=0,0,1)","v":0},{"$f":"+E405+Hoja3!$D406","v":3},{"$f":"+Hoja3!$E406*Hoja3!$D406","v":0},"DESAGREGAR","LESION A CONSCRIPTO EN OPERATIVO MILITAR Y/O COMBATE O ENFRENTAMIENTO",null,null,"JUDICIAL","Lesión física o síquica a conscripto (quien presta servicio militar obligatorio) con ocasión de un combate con grupo armado ilegal o por enfrentamiento con la delincuencia común.",614,{"$f":"+Hoja3!$B406","v":"LESION A CONSCRIPTO EN COMBATE O ENFRENTAMIENTO"}]
[{"$f":"+Hoja3!$F407","v":0},"MUERTE DE CONSCRIPTO EN COMBATE O ENFRENTAMIENTO",{"$f":"IFERROR(FIND(UPPER('Causas nuevas'!$D$4),B407),0)","v":0},{"$f":"+IF(Hoja3!$C407=0,0,1)","v":0},{"$f":"+E406+Hoja3!$D407","v":3},{"$f":"+Hoja3!$E407*Hoja3!$D407","v":0},"DESAGREGAR","MUERTE DE CONSCRIPTO EN OPERATIVO MILITAR Y/O COMBATE O ENFRENTAMIENTO",null,null,"JUDICIAL","Muerte de conscripto (quien presta servicio militar obligatorio) con ocasión de un combate con grupo armado ilegal o por enfrentamiento con la delincuencia común.",722,{"$f":"+Hoja3!$B407","v":"MUERTE DE CONSCRIPTO EN COMBATE O ENFRENTAMIENTO"}]
[{"$f":"+Hoja3!$F408","v":0},"LESION A CONSCRIPTO EN ENFRENTAMIENTO ENTRE TROPAS",{"$f":"IFERROR(FIND(UPPER('Causas nuevas'!$D$4),B408),0)","v":0},{"$f":"+IF(Hoja3!$C408=0,0,1)","v":0},{"$f":"+E407+Hoja3!$D408","v":3},{"$f":"+Hoja3!$E408*Hoja3!$D408","v":0},"DESAGREGAR","LESION A CONSCRIPTO EN OPERATIVO MILITAR Y/O COMBATE O ENFRENTAMIENTO",null,null,"JUDICIAL","Lesión física o síquica a conscripto (quien presta servicio militar obligatorio) con ocasión de un enfrentamiento entre tropas o situación de \"fuego amigo\".",615,{"$f":"+Hoja3!$B408","v":"LESION A CONSCRIPTO EN ENFRENTAMIENTO ENTRE TROPAS"}]
[{"$f":"+Hoja3!$F409","v":0},"LESION A CONSCRIPTO EN PROCEDIMIENTO DE POLICIA",{"$f":"IFERROR(FIND(UPPER('Causas nuevas'!$D$4),B409),0)","v":0},{"$f":"+IF(Hoja3!$C409=0,0,1)","v":0},{"$f":"+E408+Hoja3!$D409","v":3},{"$f":"+Hoja3!$E409*Hoja3!$D409","v":0},"DESAGREGAR","LESION A CONSCRIPTO EN OPERATIVO MILITAR Y/O COMBATE O ENFRENTAMIENTO",null,null,"JUDICIAL","Lesión física o síquica a conscripto (quien presta servicio militar obligatorio)  en la ejecución material de las normas y actos que surgen del ejercicio del poder y la función de Policía.",618,{"$f":"+Hoja3!$B409","v":"LESION A CONSCRIPTO EN PROCEDIMIENTO DE POLICIA"}]
[{"$f":"+Hoja3!$F410","v":0},"MUERTE DE CONSCRIPTO EN PROCEDIMIENTO DE POLICIA",{"$f":"IFERROR(FIND(UPPER('Causas nuevas'!$D$4),B410),0)","v":0},{"$f":"+IF(Hoja3!$C410=0,0,1)","v":0},{"$f":"+E409+Hoja3!$D410","v":3},{"$f":"+Hoja3!$E410*Hoja3!$D410","v":0},"DESAGREGAR","MUERTE DE CONSCRIPTO EN OPERATIVO MILITAR Y/O COMBATE O ENFRENTAMIENTO",null,null,"JUDICIAL","Lesión física o síquica a conscripto (quien presta servicio militar obligatorio)  en la ejecución material de las normas y actos que surgen del ejercicio del poder y la función de Policía.",727,{"$f":"+Hoja3!$B410","v":"MUERTE DE CONSCRIPTO EN PROCEDIMIENTO DE POLICIA"}]
[{"$f":"+Hoja3!$F411","v":0},"MUERTE DE CONSCRIPTO EN ENFRENTAMIENTO ENTRE TROPAS",{"$f":"IFERROR(FIND(UPPER('Causas nuevas'!$D$4),B411),0)","v":0},{"$f":"+IF(Hoja3!$C411=0,0,1)","v":0},{"$f":"+E410+Hoja3!$D411","v":3},{"$f":"+Hoja3!$E411*Hoja3!$D411","v":0},"DESAGREGAR","MUERTE DE CONSCRIPTO EN OPERATIVO MILITAR Y/O COMBATE O ENFRENTAMIENTO",null,null,"JUDICIAL","Muerte de conscripto (quien presta servicio militar obligatorio)  con ocasión de un enfrentamiento entre tropas o situación de \"fuego amigo\".",723,{"$f":"+Hoja3!$B411","v":"MUERTE DE CONSCRIPTO EN ENFRENTAMIENTO ENTRE TROPAS"}]
[{"$f":"+Hoja3!$F412","v":0},"SECUESTRO DE CONSCRIPTO",{"$f":"IFERROR(FIND(UPPER('Causas nuevas'!$D$4),B412),0)","v":0},{"$f":"+IF(Hoja3!$C412=0,0,1)","v":0},{"$f":"+E411+Hoja3!$D412","v":3},{"$f":"+Hoja3!$E412*Hoja3!$D412","v":0},"DESAGREGAR","DAÑOS DERIVADOS DEL SECUESTRO",null,null,"JUDICIAL","Privación ilegal de la libertad de conscriptos (quien presta el servicio militar obligatorio) por parte de grupos armados ilegales o delincuencia común.",917,{"$f":"+Hoja3!$B412","v":"SECUESTRO DE CONSCRIPTO"}]
[{"$f":"+Hoja3!$F413","v":0},"LESION AUTO INFLIGIDA DE MIEMBRO VOLUNTARIO DE LA FUERZA PUBLICA",{"$f":"IFERROR(FIND(UPPER('Causas nuevas'!$D$4),B413),0)","v":0},{"$f":"+IF(Hoja3!$C413=0,0,1)","v":0},{"$f":"+E412+Hoja3!$D413","v":3},{"$f":"+Hoja3!$E413*Hoja3!$D413","v":0},"DESAGREGAR","DAÑO AUTO INFLIGIDO DE MIEMBRO VOLUNTARIO DE LA FUERZA PUBLICA",null,null,"JUDICIAL","Lesión física o síquica auto infligida por miembro voluntario de la fuerza pública (quien no presta servicio militar obligatorio).",647,{"$f":"+Hoja3!$B413","v":"LESION AUTO INFLIGIDA DE MIEMBRO VOLUNTARIO DE LA FUERZA PUBLICA"}]
[{"$f":"+Hoja3!$F414","v":0},"MUERTE AUTO INFLIGIDA DE MIEMBRO VOLUNTARIO DE LA FUERZA PUBLICA",{"$f":"IFERROR(FIND(UPPER('Causas nuevas'!$D$4),B414),0)","v":0},{"$f":"+IF(Hoja3!$C414=0,0,1)","v":0},{"$f":"+E413+Hoja3!$D414","v":3},{"$f":"+Hoja3!$E414*Hoja3!$D414","v":0},"DESAGREGAR","DAÑO AUTO INFLIGIDO DE MIEMBRO VOLUNTARIO DE LA FUERZA PUBLICA",null,null,"JUDICIAL","Muerte auto infligida (suicidio) de miembro voluntario de la fuerza pública (quien no presta servicio militar obligatorio).",699,{"$f":"+Hoja3!$B414","v":"MUERTE AUTO INFLIGIDA DE MIEMBRO VOLUNTARIO DE LA FUERZA PUBLICA"}]
[{"$f":"+Hoja3!$F415","v":0},"LESION A MIEMBRO VOLUNTARIO DE LA FUERZA PUBLICA DERIVADA DE LA PRESTACION DEL SERVICIO DE SALUD",{"$f":"IFERROR(FIND(UPPER('Causas nuevas'!$D$4),B415),0)","v":0},{"$f":"+IF(Hoja3!$C415=0,0,1)","v":0},{"$f":"+E414+Hoja3!$D415","v":3},{"$f":"+Hoja3!$E415*Hoja3!$D415","v":0},"NUEVA",{"$nulls":3},"JUDICIAL","Lesión física o síquica a miembro voluntario de la fuerza pública (quien no presta servicio militar obligatorio) derivada de una falla en la prestación del servicio de salud.",626,{"$f":"+Hoja3!$B415","v":"LESION A MIEMBRO VOLUNTARIO DE LA FUERZA PUBLICA DERIVADA DE LA PRESTACION DEL SERVICIO DE SALUD"}]
[{"$f":"+Hoja3!$F416","v":0},"MUERTE DE MIEMBRO VOLUNTARIO DE LA FUERZA PUBLICA DERIVADA DE LA PRESTACION DEL SERVICIO DE SALUD",{"$f":"IFERROR(FIND(UPPER('Causas nuevas'!$D$4),B416),0)","v":0},{"$f":"+IF(Hoja3!$C416=0,0,1)","v":0},{"$f":"+E415+Hoja3!$D416","v":3},{"$f":"+Hoja3!$E416*Hoja3!$D416","v":0},"NUEVA",{"$nulls":3},"JUDICIAL","Muerte de miembro voluntario de la fuerza pública (quien no presta servicio militar obligatorio) derivada de una falla en la prestación del servicio de salud.",736,{"$f":"+Hoja3!$B416","v":"MUERTE DE MIEMBRO VOLUNTARIO DE LA FUERZA PUBLICA DERIVADA DE LA PRESTACION DEL SERVICIO DE SALUD"}]
[{"$f":"+Hoja3!$F417","v":0},"LESION A MIEMBRO VOLUNTARIO DE LA FUERZA PUBLICA EN OPERATIVO MILITAR",{"$f":"IFERROR(FIND(UPPER('Causas nuevas'!$D$4),B417),0)","v":0},{"$f":"+IF(Hoja3!$C417=0,0,1)","v":0},{"$f":"+E416+Hoja3!$D417","v":3},{"$f":"+Hoja3!$E417*Hoja3!$D417","v":0},"DESAGREGAR","LESION A MIEMBRO VOLUNTARIO DE LA FUERZA PUBLICA EN OPERATIVO MILITAR Y/O COMBATE O ENFRENTAMIENTO",null,null,"JUDICIAL","Lesión física o síquica a miembro voluntario de la fuerza pública (quien no presta servicio militar obligatorio) con ocasión de un operativo militar.",630,{"$f":"+Hoja3!$B417","v":"LESION A MIEMBRO VOLUNTARIO DE LA FUERZA PUBLICA EN OPERATIVO MILITAR"}]
[{"$f":"+Hoja3!$F418","v":0},"MUERTE DE MIEMBRO VOLUNTARIO DE LA FUERZA PUBLICA EN OPERATIVO MILITAR",{"$f":"IFERROR(FIND(UPPER('Causas nuevas'!$D$4),B418),0)","v":0},{"$f":"+IF(Hoja3!$C418=0,0,1)","v":0},{"$f":"+E417+Hoja3!$D418","v":3},{"$f":"+Hoja3!$E418*Hoja3!$D418","v":0},"DESAGREGAR","MUERTE DE MIEMBRO VOLUNTARIO DE LA FUERZA PUBLICA EN OPERATIVO MILITAR Y/O COMBATE O ENFRENTAMIENTO",null,null,"JUDICIAL","Muerte demiembro voluntario de la fuerza pública (quien no presta servicio militar obligatorio) con ocasión de un operativo militar.",740,{"$f":"+Hoja3!$B418","v":"MUERTE DE MIEMBRO VOLUNTARIO DE LA FUERZA PUBLICA EN OPERATIVO MILITAR"}]
[{"$f":"+Hoja3!$F419","v":0},"LESION A MIEMBRO VOLUNTARIO DE LA FUERZA PUBLICA EN COMBATE O ENFRENTAMIENTO",{"$f":"IFERROR(FIND(UPPER('Causas nuevas'!$D$4),B419),0)","v":0},{"$f":"+IF(Hoja3!$C419=0,0,1)","v":0},{"$f":"+E418+Hoja3!$D419","v":3},{"$f":"+Hoja3!$E419*Hoja3!$D419","v":0},"DESAGREGAR","LESION A MIEMBRO VOLUNTARIO DE LA FUERZA PUBLICA EN OPERATIVO MILITAR Y/O COMBATE O ENFRENTAMIENTO",null,null,"JUDICIAL","Lesión física o síquica a miembro voluntario de la fuerza pública (quien no presta servicio militar obligatorio) con ocasión de un combate con grupo armado ilegal o por enfrentamiento con la delincuencia común.",628,{"$f":"+Hoja3!$B419","v":"LESION A MIEMBRO VOLUNTARIO DE LA FUERZA PUBLICA EN COMBATE O ENFRENTAMIENTO"}]
[{"$f":"+Hoja3!$F420","v":0},"MUERTE DE MIEMBRO VOLUNTARIO DE LA FUERZA PUBLICA EN COMBATE O ENFRENTAMIENTO",{"$f":"IFERROR(FIND(UPPER('Causas nuevas'!$D$4),B420),0)","v":0},{"$f":"+IF(Hoja3!$C420=0,0,1)","v":0},{"$f":"+E419+Hoja3!$D420","v":3},{"$f":"+Hoja3!$E420*Hoja3!$D420","v":0},"DESAGREGAR","MUERTE DE MIEMBRO VOLUNTARIO DE LA FUERZA PUBLICA EN OPERATIVO MILITAR Y/O COMBATE O ENFRENTAMIENTO",null,null,"JUDICIAL","Muerte de miembro voluntario de la fuerza pública (quien no presta servicio militar obligatorio) con ocasión de un combate con grupo armado ilegal o por enfrentamiento con la delincuencia común.",737,{"$f":"+Hoja3!$B420","v":"MUERTE DE MIEMBRO VOLUNTARIO DE LA FUERZA PUBLICA EN COMBATE O ENFRENTAMIENTO"}]
[{"$f":"+Hoja3!$F421","v":0},"LESION A MIEMBRO VOLUNTARIO DE LA FUERZA PUBLICA EN ENFRENTAMIENTO ENTRE TROPAS",{"$f":"IFERROR(FIND(UPPER('Causas nuevas'!$D$4),B421),0)","v":0},{"$f":"+IF(Hoja3!$C421=0,0,1)","v":0},{"$f":"+E420+Hoja3!$D421","v":3},{"$f":"+Hoja3!$E421*Hoja3!$D421","v":0},"DESAGREGAR","LESION A MIEMBRO VOLUNTARIO DE LA FUERZA PUBLICA EN OPERATIVO MILITAR Y/O COMBATE O ENFRENTAMIENTO",null,null,"JUDICIAL","Lesión física o síquica a miembro voluntario de la fuerza pública (quien no presta servicio militar obligatorio) con ocasión de un enfrentamiento entre tropas o situación de \"fuego amigo\".",629,{"$f":"+Hoja3!$B421","v":"LESION A MIEMBRO VOLUNTARIO DE LA FUERZA PUBLICA EN ENFRENTAMIENTO ENTRE TROPAS"}]
[{"$f":"+Hoja3!$F422","v":0},"LESION A MIEMBRO VOLUNTARIO DE LA FUERZA PUBLICA EN PROCEDIMIENTO DE POLICIA",{"$f":"IFERROR(FIND(UPPER('Causas nuevas'!$D$4),B422),0)","v":0},{"$f":"+IF(Hoja3!$C422=0,0,1)","v":0},{"$f":"+E421+Hoja3!$D422","v":3},{"$f":"+Hoja3!$E422*Hoja3!$D422","v":0},"DESAGREGAR","LESION A MIEMBRO VOLUNTARIO DE LA FUERZA PUBLICA EN OPERATIVO MILITAR Y/O COMBATE O ENFRENTAMIENTO",null,null,"JUDICIAL","Lesión física o síquica a miembro voluntario de la fuerza pública (quien no presta servicio militar obligatorio) en la ejecución material de las normas y actos que surgen del ejercicio del poder y la función de Policía.",632,{"$f":"+Hoja3!$B422","v":"LESION A MIEMBRO VOLUNTARIO DE LA FUERZA PUBLICA EN PROCEDIMIENTO DE POLICIA"}]
[{"$f":"+Hoja3!$F423","v":0},"MUERTE DE MIEMBRO VOLUNTARIO DE LA FUERZA PUBLICA EN PROCEDIMIENTO DE POLICIA",{"$f":"IFERROR(FIND(UPPER('Causas nuevas'!$D$4),B423),0)","v":0},{"$f":"+IF(Hoja3!$C423=0,0,1)","v":0},{"$f":"+E422+Hoja3!$D423","v":3},{"$f":"+Hoja3!$E423*Hoja3!$D423","v":0},"DESAGREGAR","MUERTE DE MIEMBRO VOLUNTARIO DE LA FUERZA PUBLICA EN OPERATIVO MILITAR Y/O COMBATE O ENFRENTAMIENTO",null,null,"JUDICIAL","Lesión física o síquica a miembro voluntario de la fuerza pública (quien no presta servicio militar obligatorio) en la ejecución material de las normas y actos que surgen del ejercicio del Poder y la Función de Policía.",742,{"$f":"+Hoja3!$B423","v":"MUERTE DE MIEMBRO VOLUNTARIO DE LA FUERZA PUBLICA EN PROCEDIMIENTO DE POLICIA"}]
[{"$f":"+Hoja3!$F424","v":0},"SECUESTRO DE MIEMBRO VOLUNTARIO DE LA FUERZA PUBLICA",{"$f":"IFERROR(FIND(UPPER('Causas nuevas'!$D$4),B424),0)","v":0},{"$f":"+IF(Hoja3!$C424=0,0,1)","v":0},{"$f":"+E423+Hoja3!$D424","v":3},{"$f":"+Hoja3!$E424*Hoja3!$D424","v":0},"DESAGREGAR","DAÑOS DERIVADOS DEL SECUESTRO",null,null,"JUDICIAL","Privación ilegal de la libertad de miembro voluntario de la fuerza pública (quien no presta servicio militar obligatorio) por parte de grupos armados ilegales o delincuencia común.",918,{"$f":"+Hoja3!$B424","v":"SECUESTRO DE MIEMBRO VOLUNTARIO DE LA FUERZA PUBLICA"}]
[{"$f":"+Hoja3!$F425","v":0},"LESION A MIEMBRO VOLUNTARIO DE LA FUERZA PUBLICA CON ARMA DE USO PERSONAL",{"$f":"IFERROR(FIND(UPPER('Causas nuevas'!$D$4),B425),0)","v":0},{"$f":"+IF(Hoja3!$C425=0,0,1)","v":0},{"$f":"+E424+Hoja3!$D425","v":3},{"$f":"+Hoja3!$E425*Hoja3!$D425","v":0},"NUEVA",{"$nulls":3},"JUDICIAL","Lesión física o síquica de miembro voluntario de la fuerza pública (quien no presta servicio militar obligatorio) con armas de uso personal. ",623,{"$f":"+Hoja3!$B425","v":"LESION A MIEMBRO VOLUNTARIO DE LA FUERZA PUBLICA CON ARMA DE USO PERSONAL"}]
[{"$f":"+Hoja3!$F426","v":0},"SECUESTRO DE CIVIL",{"$f":"IFERROR(FIND(UPPER('Causas nuevas'!$D$4),B426),0)","v":0},{"$f":"+IF(Hoja3!$C426=0,0,1)","v":0},{"$f":"+E425+Hoja3!$D426","v":3},{"$f":"+Hoja3!$E426*Hoja3!$D426","v":0},"DESAGREGAR","DAÑOS DERIVADOS DEL SECUESTRO",null,null,"JUDICIAL","Privación ilegal de la libertad de civiles por grupos armados ilegales o delincuencia común.",916,{"$f":"+Hoja3!$B426","v":"SECUESTRO DE CIVIL"}]
[{"$f":"+Hoja3!$F427","v":0},"LESION A CIVIL EN OPERATIVO MILITAR",{"$f":"IFERROR(FIND(UPPER('Causas nuevas'!$D$4),B427),0)","v":0},{"$f":"+IF(Hoja3!$C427=0,0,1)","v":0},{"$f":"+E426+Hoja3!$D427","v":3},{"$f":"+Hoja3!$E427*Hoja3!$D427","v":0},"DESAGREGAR","LESION A CIVIL EN DESARROLLO DE OPERATIVO MILITAR Y/O COMBATE O ENFRENTAMIENTO",null,null,"JUDICIAL","Lesión física o síquica causada a civil en desarrollo de un operativo militar. ",602,{"$f":"+Hoja3!$B427","v":"LESION A CIVIL EN OPERATIVO MILITAR"}]
[{"$f":"+Hoja3!$F428","v":0},"MUERTE DE CIVIL EN OPERATIVO MILITAR",{"$f":"IFERROR(FIND(UPPER('Causas nuevas'!$D$4),B428),0)","v":0},{"$f":"+IF(Hoja3!$C428=0,0,1)","v":0},{"$f":"+E427+Hoja3!$D428","v":3},{"$f":"+Hoja3!$E428*Hoja3!$D428","v":0},"DESAGREGAR","MUERTE DE CIVIL EN DESARROLLO DE OPERATIVO MILITAR Y/O COMBATE O ENFRENTAMIENTO",null,null,"JUDICIAL","Muerte de civil en desarrollo de un operativo militar.",709,{"$f":"+Hoja3!$B428","v":"MUERTE DE CIVIL EN OPERATIVO MILITAR"}]
[{"$f":"+Hoja3!$F429","v":0},"DAÑOS A BIENES EN OPERATIVO MILITAR",{"$f":"IFERROR(FIND(UPPER('Causas nuevas'!$D$4),B429),0)","v":0},{"$f":"+IF(Hoja3!$C429=0,0,1)","v":0},{"$f":"+E428+Hoja3!$D429","v":3},{"$f":"+Hoja3!$E429*Hoja3!$D429","v":0},"DESAGREGAR","DAÑOS CAUSADOS A BIENES EN OPERATIVO MILITAR Y/O COMBATE O ENFRENTAMIENTO",null,null,"JUDICIAL","Daños a bienes muebles e inmuebles causados en desarrollo de un operativo.",135,{"$f":"+Hoja3!$B429","v":"DAÑOS A BIENES EN OPERATIVO MILITAR"}]
[{"$f":"+Hoja3!$F430","v":0},"LESION A CIVIL EN COMBATE O ENFRENTAMIENTO",{"$f":"IFERROR(FIND(UPPER('Causas nuevas'!$D$4),B430),0)","v":0},{"$f":"+IF(Hoja3!$C430=0,0,1)","v":0},{"$f":"+E429+Hoja3!$D430","v":3},{"$f":"+Hoja3!$E430*Hoja3!$D430","v":0},"DESAGREGAR","LESION A CIVIL EN DESARROLLO DE OPERATIVO MILITAR Y/O COMBATE O ENFRENTAMIENTO",null,null,"JUDICIAL","Lesión física o síquica causada a civil con ocasión de un combate entre la fuerza pública y grupo armado ilegal o por enfrentamiento con la delincuencia común.",599,{"$f":"+Hoja3!$B430","v":"LESION A CIVIL EN COMBATE O ENFRENTAMIENTO"}]
[{"$f":"+Hoja3!$F431","v":0},"MUERTE DE CIVIL EN COMBATE O ENFRENTAMIENTO",{"$f":"IFERROR(FIND(UPPER('Causas nuevas'!$D$4),B431),0)","v":0},{"$f":"+IF(Hoja3!$C431=0,0,1)","v":0},{"$f":"+E430+Hoja3!$D431","v":3},{"$f":"+Hoja3!$E431*Hoja3!$D431","v":0},"DESAGREGAR","MUERTE DE CIVIL EN DESARROLLO DE OPERATIVO MILITAR Y/O COMBATE O ENFRENTAMIENTO",null,null,"JUDICIAL","Muerte de civil con ocasión de un combate entre la fuerza pública y grupo armado ilegal o por enfrentamiento con la delincuencia común.",706,{"$f":"+Hoja3!$B431","v":"MUERTE DE CIVIL EN COMBATE O ENFRENTAMIENTO"}]
[{"$f":"+Hoja3!$F432","v":0},"DAÑOS A BIENES EN COMBATE O ENFRENTAMIENTO",{"$f":"IFERROR(FIND(UPPER('Causas nuevas'!$D$4),B432),0)","v":0},{"$f":"+IF(Hoja3!$C432=0,0,1)","v":0},{"$f":"+E431+Hoja3!$D432","v":3},{"$f":"+Hoja3!$E432*Hoja3!$D432","v":0},"DESAGREGAR","DAÑOS CAUSADOS A BIENES EN OPERATIVO MILITAR Y/O COMBATE O ENFRENTAMIENTO",null,null,"JUDICIAL","Daños a bienes muebles e inmuebles causados en desarrollo de un combate entre la fuerza pública y grupo armado ilegal o por enfrentamiento con la delincuencia común.",130,{"$f":"+Hoja3!$B432","v":"DAÑOS A BIENES EN COMBATE O ENFRENTAMIENTO"}]
[{"$f":"+Hoja3!$F433","v":0},"LESION A CIVIL EN ENFRENTAMIENTO ENTRE TROPAS",{"$f":"IFERROR(FIND(UPPER('Causas nuevas'!$D$4),B433),0)","v":0},{"$f":"+IF(Hoja3!$C433=0,0,1)","v":0},{"$f":"+E432+Hoja3!$D433","v":3},{"$f":"+Hoja3!$E433*Hoja3!$D433","v":0},"DESAGREGAR","LESION A CIVIL EN DESARROLLO DE OPERATIVO MILITAR Y/O COMBATE O ENFRENTAMIENTO",null,null,"JUDICIAL","Lesión física o síquica causada a civil con ocasión de un enfrentamiento entre tropas de la fuerza pública o situación de \"fuego amigo\".",601,{"$f":"+Hoja3!$B433","v":"LESION A CIVIL EN ENFRENTAMIENTO ENTRE TROPAS"}]
[{"$f":"+Hoja3!$F434","v":0},"MUERTE DE CIVIL EN ENFRENTAMIENTO ENTRE TROPAS",{"$f":"IFERROR(FIND(UPPER('Causas nuevas'!$D$4),B434),0)","v":0},{"$f":"+IF(Hoja3!$C434=0,0,1)","v":0},{"$f":"+E433+Hoja3!$D434","v":3},{"$f":"+Hoja3!$E434*Hoja3!$D434","v":0},"DESAGREGAR","MUERTE DE CIVIL EN DESARROLLO DE OPERATIVO MILITAR Y/O COMBATE O ENFRENTAMIENTO",null,null,"JUDICIAL","Muerte de civil con ocasión de un enfrentamiento entre tropas de la fuerza pública o situación de \"fuego amigo\".",708,{"$f":"+Hoja3!$B434","v":"MUERTE DE CIVIL EN ENFRENTAMIENTO ENTRE TROPAS"}]
[{"$f":"+Hoja3!$F435","v":0},"DAÑOS A BIENES EN ENFRENTAMIENTO ENTRE TROPAS",{"$f":"IFERROR(FIND(UPPER('Causas nuevas'!$D$4),B435),0)","v":0},{"$f":"+IF(Hoja3!$C435=0,0,1)","v":0},{"$f":"+E434+Hoja3!$D435","v":3},{"$f":"+Hoja3!$E435*Hoja3!$D435","v":0},"DESAGREGAR","DAÑOS CAUSADOS A BIENES EN OPERATIVO MILITAR Y/O COMBATE O ENFRENTAMIENTO",null,null,"JUDICIAL","Daños a bienes muebles e inmuebles causados en desarrollo de un enfrentamiento entre tropas de la fuerza pública o situación de \"fuego amigo\".",131,{"$f":"+Hoja3!$B435","v":"DAÑOS A BIENES EN ENFRENTAMIENTO ENTRE TROPAS"}]
[{"$f":"+Hoja3!$F436","v":0},"LESION A RECLUSO CAUSADA POR AGENTES DEL ESTADO",{"$f":"IFERROR(FIND(UPPER('Causas nuevas'!$D$4),B436),0)","v":0},{"$f":"+IF(Hoja3!$C436=0,0,1)","v":0},{"$f":"+E435+Hoja3!$D436","v":3},{"$f":"+Hoja3!$E436*Hoja3!$D436","v":0},"DESAGREGAR","LESION A RECLUSO",null,null,"JUDICIAL","Lesión física o síquica causada por agentes del Estado a quienes se encuentran privados de la libertad en centros carcelarios o de detención en razón de una medida de aseguramiento o por una condena penal en firme.",638,{"$f":"+Hoja3!$B436","v":"LESION A RECLUSO CAUSADA POR AGENTES DEL ESTADO"}]
[{"$f":"+Hoja3!$F437","v":0},"LESION A RECLUSO CAUSADA POR TERCEROS",{"$f":"IFERROR(FIND(UPPER('Causas nuevas'!$D$4),B437),0)","v":0},{"$f":"+IF(Hoja3!$C437=0,0,1)","v":0},{"$f":"+E436+Hoja3!$D437","v":3},{"$f":"+Hoja3!$E437*Hoja3!$D437","v":0},"DESAGREGAR","LESION A RECLUSO",null,null,"JUDICIAL","Lesión física o síquica causada por terceros a quienes se encuentran privados de la libertad en centros carcelarios o de detención en razón de una medida de aseguramiento o por una condena penal en firme.",640,{"$f":"+Hoja3!$B437","v":"LESION A RECLUSO CAUSADA POR TERCEROS"}]
[{"$f":"+Hoja3!$F438","v":0},"LESION A RECLUSO CAUSADA POR OTRO RECLUSO",{"$f":"IFERROR(FIND(UPPER('Causas nuevas'!$D$4),B438),0)","v":0},{"$f":"+IF(Hoja3!$C438=0,0,1)","v":0},{"$f":"+E437+Hoja3!$D438","v":3},{"$f":"+Hoja3!$E438*Hoja3!$D438","v":0},"DESAGREGAR","LESION A RECLUSO",null,null,"JUDICIAL","Lesión física o síquica causada por otros reclusos a quienes se encuentran privados de la libertad en centros carcelarios o de detención en razón de una medida de aseguramiento o por una condena penal en firme.",639,{"$f":"+Hoja3!$B438","v":"LESION A RECLUSO CAUSADA POR OTRO RECLUSO"}]
[{"$f":"+Hoja3!$F439","v":0},"LESION AUTO INFLIGIDA DE RECLUSO",{"$f":"IFERROR(FIND(UPPER('Causas nuevas'!$D$4),B439),0)","v":0},{"$f":"+IF(Hoja3!$C439=0,0,1)","v":0},{"$f":"+E438+Hoja3!$D439","v":3},{"$f":"+Hoja3!$E439*Hoja3!$D439","v":0},"DESAGREGAR","LESION A RECLUSO",null,null,"JUDICIAL","Lesión física o síquica auto infligida de quienes se encuentran privados de la libertad en centros carcelarios o de detención en razón de una medida de aseguramiento o por una condena penal en firme.",648,{"$f":"+Hoja3!$B439","v":"LESION AUTO INFLIGIDA DE RECLUSO"}]
[{"$f":"+Hoja3!$F440","v":0},"LESION ACCIDENTAL O FORTUITA A RECLUSO",{"$f":"IFERROR(FIND(UPPER('Causas nuevas'!$D$4),B440),0)","v":0},{"$f":"+IF(Hoja3!$C440=0,0,1)","v":0},{"$f":"+E439+Hoja3!$D440","v":3},{"$f":"+Hoja3!$E440*Hoja3!$D440","v":0},"DESAGREGAR","LESION A RECLUSO",null,null,"JUDICIAL","Lesión física o síquica causada accidentalmente o de manera fortuita a quienes se encuentran privados de la libertad en centros carcelarios o de detención en razón de una medida de aseguramiento o por una condena penal en firme.",645,{"$f":"+Hoja3!$B440","v":"LESION ACCIDENTAL O FORTUITA A RECLUSO"}]
[{"$f":"+Hoja3!$F441","v":0},"LESION A RECLUSO DERIVADA DE LA PRESTACION DEL SERVICIO DE SALUD",{"$f":"IFERROR(FIND(UPPER('Causas nuevas'!$D$4),B441),0)","v":0},{"$f":"+IF(Hoja3!$C441=0,0,1)","v":0},{"$f":"+E440+Hoja3!$D441","v":3},{"$f":"+Hoja3!$E441*Hoja3!$D441","v":0},"DESAGREGAR","LESION A RECLUSO",null,null,"JUDICIAL","Lesión física o síquica derivada de una falla en la prestación del servicio de salud a quienes se encuentran privados de la libertad en centros carcelarios o de detención en razón de una medida de aseguramiento o por una condena penal en firme.",641,{"$f":"+Hoja3!$B441","v":"LESION A RECLUSO DERIVADA DE LA PRESTACION DEL SERVICIO DE SALUD"}]
[{"$f":"+Hoja3!$F442","v":0},"MUERTE DE RECLUSO CAUSADA POR AGENTES DEL ESTADO",{"$f":"IFERROR(FIND(UPPER('Causas nuevas'!$D$4),B442),0)","v":0},{"$f":"+IF(Hoja3!$C442=0,0,1)","v":0},{"$f":"+E441+Hoja3!$D442","v":3},{"$f":"+Hoja3!$E442*Hoja3!$D442","v":0},"DESAGREGAR","MUERTE DE RECLUSO",null,null,"JUDICIAL","Muerte de quienes se encuentran privados de la libertad en centros carcelarios o de detención en razón de una medida de aseguramiento o por una condena penal en firme, causada por agentes del Estado.",750,{"$f":"+Hoja3!$B442","v":"MUERTE DE RECLUSO CAUSADA POR AGENTES DEL ESTADO"}]
[{"$f":"+Hoja3!$F443","v":0},"MUERTE DE RECLUSO CAUSADA POR TERCEROS",{"$f":"IFERROR(FIND(UPPER('Causas nuevas'!$D$4),B443),0)","v":0},{"$f":"+IF(Hoja3!$C443=0,0,1)","v":0},{"$f":"+E442+Hoja3!$D443","v":3},{"$f":"+Hoja3!$E443*Hoja3!$D443","v":0},"DESAGREGAR","MUERTE DE RECLUSO",null,null,"JUDICIAL","Muerte de quienes se encuentran privados de la libertad en centros carcelarios o de detención en razón de una medida de aseguramiento o por una condena penal en firme, causada por terceros.",752,{"$f":"+Hoja3!$B443","v":"MUERTE DE RECLUSO CAUSADA POR TERCEROS"}]
[{"$f":"+Hoja3!$F444","v":0},"MUERTE DE RECLUSO CAUSADA POR OTRO RECLUSO",{"$f":"IFERROR(FIND(UPPER('Causas nuevas'!$D$4),B444),0)","v":0},{"$f":"+IF(Hoja3!$C444=0,0,1)","v":0},{"$f":"+E443+Hoja3!$D444","v":3},{"$f":"+Hoja3!$E444*Hoja3!$D444","v":0},"DESAGREGAR","MUERTE DE RECLUSO",null,null,"JUDICIAL","Muerte de quienes se encuentran privados de la libertad en centros carcelarios o de detención en razón de una medida de aseguramiento o por una condena penal en firme, causada por otro recluso.",751,{"$f":"+Hoja3!$B444","v":"MUERTE DE RECLUSO CAUSADA POR OTRO RECLUSO"}]
[{"$f":"+Hoja3!$F445","v":0},"MUERTE AUTO INFLIGIDA DE RECLUSO",{"$f":"IFERROR(FIND(UPPER('Causas nuevas'!$D$4),B445),0)","v":0},{"$f":"+IF(Hoja3!$C445=0,0,1)","v":0},{"$f":"+E444+Hoja3!$D445","v":3},{"$f":"+Hoja3!$E445*Hoja3!$D445","v":0},"DESAGREGAR","MUERTE DE RECLUSO",null,null,"JUDICIAL","Muerte auto infligida (suicidio) de quienes se encuentran privados de la libertad en centros carcelarios o de detención en razón de una medida de aseguramiento o por una condena penal en firme.",700,{"$f":"+Hoja3!$B445","v":"MUERTE AUTO INFLIGIDA DE RECLUSO"}]
[{"$f":"+Hoja3!$F446","v":0},"MUERTE ACCIDENTAL O FORTUITA A RECLUSO",{"$f":"IFERROR(FIND(UPPER('Causas nuevas'!$D$4),B446),0)","v":0},{"$f":"+IF(Hoja3!$C446=0,0,1)","v":0},{"$f":"+E445+Hoja3!$D446","v":3},{"$f":"+Hoja3!$E446*Hoja3!$D446","v":0},"DESAGREGAR","MUERTE DE RECLUSO",null,null,"JUDICIAL","Muerte de quienes se encuentran privados de la libertad en centros carcelarios o de detención en razón de una medida de aseguramiento o por una condena penal en firme, causada accidentalmente o de manera fortuita.",697,{"$f":"+Hoja3!$B446","v":"MUERTE ACCIDENTAL O FORTUITA A RECLUSO"}]
[{"$f":"+Hoja3!$F447","v":0},"MUERTE DE RECLUSO DERIVADA DE LA PRESTACION DEL SERVICIO DE SALUD",{"$f":"IFERROR(FIND(UPPER('Causas nuevas'!$D$4),B447),0)","v":0},{"$f":"+IF(Hoja3!$C447=0,0,1)","v":0},{"$f":"+E446+Hoja3!$D447","v":3},{"$f":"+Hoja3!$E447*Hoja3!$D447","v":0},"DESAGREGAR","MUERTE DE RECLUSO",null,null,"JUDICIAL","Muerte de quienes se encuentran privados de la libertad en centros carcelarios o de detención en razón de una medida de aseguramiento o por una condena penal en firme, derivada de una falla en la prestación del servicio de salud.",753,{"$f":"+Hoja3!$B447","v":"MUERTE DE RECLUSO DERIVADA DE LA PRESTACION DEL SERVICIO DE SALUD"}]
[{"$f":"+Hoja3!$F448","v":0},"LESION POR CONDUCCION DE ENERGIA ELECTRICA",{"$f":"IFERROR(FIND(UPPER('Causas nuevas'!$D$4),B448),0)","v":0},{"$f":"+IF(Hoja3!$C448=0,0,1)","v":0},{"$f":"+E447+Hoja3!$D448","v":3},{"$f":"+Hoja3!$E448*Hoja3!$D448","v":0},"DESAGREGAR","DAÑOS CAUSADOS POR CONDUCCION DE ENERGIA ELECTRICA",null,null,"JUDICIAL","Lesión física o síquica derivada de la actividad peligrosa de conducción de energía eléctrica.",663,{"$f":"+Hoja3!$B448","v":"LESION POR CONDUCCION DE ENERGIA ELECTRICA"}]
[{"$f":"+Hoja3!$F449","v":0},"MUERTE POR CONDUCCION DE ENERGIA ELECTRICA",{"$f":"IFERROR(FIND(UPPER('Causas nuevas'!$D$4),B449),0)","v":0},{"$f":"+IF(Hoja3!$C449=0,0,1)","v":0},{"$f":"+E448+Hoja3!$D449","v":3},{"$f":"+Hoja3!$E449*Hoja3!$D449","v":0},"DESAGREGAR","DAÑOS CAUSADOS POR CONDUCCION DE ENERGIA ELECTRICA",null,null,"JUDICIAL","Muerte derivada de la actividad peligrosa de conducción de energía eléctrica.",769,{"$f":"+Hoja3!$B449","v":"MUERTE POR CONDUCCION DE ENERGIA ELECTRICA"}]
[{"$f":"+Hoja3!$F450","v":0},"DAÑOS A BIENES POR CONDUCCION DE ENERGIA ELECTRICA",{"$f":"IFERROR(FIND(UPPER('Causas nuevas'!$D$4),B450),0)","v":0},{"$f":"+IF(Hoja3!$C450=0,0,1)","v":0},{"$f":"+E449+Hoja3!$D450","v":3},{"$f":"+Hoja3!$E450*Hoja3!$D450","v":0},"DESAGREGAR","DAÑOS CAUSADOS POR CONDUCCION DE ENERGIA ELECTRICA",null,null,"JUDICIAL","Daños a bienes muebles e inmuebles con ocasión de la actividad peligrosa de conducción de energía eléctrica.  ",143,{"$f":"+Hoja3!$B450","v":"DAÑOS A BIENES POR CONDUCCION DE ENERGIA ELECTRICA"}]
[{"$f":"+Hoja3!$F451","v":0},"LESION POR VIA PUBLICA EN MAL ESTADO",{"$f":"IFERROR(FIND(UPPER('Causas nuevas'!$D$4),B451),0)","v":0},{"$f":"+IF(Hoja3!$C451=0,0,1)","v":0},{"$f":"+E450+Hoja3!$D451","v":3},{"$f":"+Hoja3!$E451*Hoja3!$D451","v":0},"DESAGREGAR","DAÑOS CAUSADOS POR VIA EN MAL ESTADO",null,null,"JUDICIAL","Lesión física o síquica con ocasión de via pública en mal estado de mantenimiento.",677,{"$f":"+Hoja3!$B451","v":"LESION POR VIA PUBLICA EN MAL ESTADO"}]
[{"$f":"+Hoja3!$F452","v":0},"MUERTE POR VIA PUBLICA EN MAL ESTADO",{"$f":"IFERROR(FIND(UPPER('Causas nuevas'!$D$4),B452),0)","v":0},{"$f":"+IF(Hoja3!$C452=0,0,1)","v":0},{"$f":"+E451+Hoja3!$D452","v":3},{"$f":"+Hoja3!$E452*Hoja3!$D452","v":0},"DESAGREGAR","DAÑOS CAUSADOS POR VIA EN MAL ESTADO",null,null,"JUDICIAL","Muerte con ocasión de via pública en mal estado de mantenimiento.",784,{"$f":"+Hoja3!$B452","v":"MUERTE POR VIA PUBLICA EN MAL ESTADO"}]
[{"$f":"+Hoja3!$F453","v":0},"DAÑOS A BIENES POR VIA PUBLICA EN MAL ESTADO",{"$f":"IFERROR(FIND(UPPER('Causas nuevas'!$D$4),B453),0)","v":0},{"$f":"+IF(Hoja3!$C453=0,0,1)","v":0},{"$f":"+E452+Hoja3!$D453","v":3},{"$f":"+Hoja3!$E453*Hoja3!$D453","v":0},"DESAGREGAR","DAÑOS CAUSADOS POR VIA EN MAL ESTADO",null,null,"JUDICIAL","Daños a bienes muebles e inmuebles con ocasión de via pública en mal estado de mantenimiento.",154,{"$f":"+Hoja3!$B453","v":"DAÑOS A BIENES POR VIA PUBLICA EN MAL ESTADO"}]
[{"$f":"+Hoja3!$F454","v":0},"LESION POR FALTA DE SEÑALIZACION EN LA VIA PUBLICA",{"$f":"IFERROR(FIND(UPPER('Causas nuevas'!$D$4),B454),0)","v":0},{"$f":"+IF(Hoja3!$C454=0,0,1)","v":0},{"$f":"+E453+Hoja3!$D454","v":3},{"$f":"+Hoja3!$E454*Hoja3!$D454","v":0},"DESAGREGAR","DAÑOS CAUSADOS POR FALTA DE SEÑALIZACION EN LA VIA PUBLICA",null,null,"JUDICIAL","Lesión física o síquica con ocasión de vía pública con ausencia o deficiencia en la señalización.",666,{"$f":"+Hoja3!$B454","v":"LESION POR FALTA DE SEÑALIZACION EN LA VIA PUBLICA"}]
[{"$f":"+Hoja3!$F455","v":0},"MUERTE POR FALTA DE SEÑALIZACION EN LA VIA PUBLICA",{"$f":"IFERROR(FIND(UPPER('Causas nuevas'!$D$4),B455),0)","v":0},{"$f":"+IF(Hoja3!$C455=0,0,1)","v":0},{"$f":"+E454+Hoja3!$D455","v":3},{"$f":"+Hoja3!$E455*Hoja3!$D455","v":0},"DESAGREGAR","DAÑOS CAUSADOS POR FALTA DE SEÑALIZACION EN LA VIA PUBLICA",null,null,"JUDICIAL","Muerte con ocasión de vía pública con ausencia o deficiencia en la señalización.",772,{"$f":"+Hoja3!$B455","v":"MUERTE POR FALTA DE SEÑALIZACION EN LA VIA PUBLICA"}]
[{"$f":"+Hoja3!$F456","v":0},"DAÑOS A BIENES POR FALTA DE SEÑALIZACION EN LA VIA PUBLICA",{"$f":"IFERROR(FIND(UPPER('Causas nuevas'!$D$4),B456),0)","v":0},{"$f":"+IF(Hoja3!$C456=0,0,1)","v":0},{"$f":"+E455+Hoja3!$D456","v":3},{"$f":"+Hoja3!$E456*Hoja3!$D456","v":0},"DESAGREGAR","DAÑOS CAUSADOS POR FALTA DE SEÑALIZACION EN LA VIA PUBLICA",null,null,"JUDICIAL","Daños a bienes muebles e inmuebles con ocasión de vía pública con ausencia o deficiencia en la señalización.",147,{"$f":"+Hoja3!$B456","v":"DAÑOS A BIENES POR FALTA DE SEÑALIZACION EN LA VIA PUBLICA"}]
[{"$f":"+Hoja3!$F457","v":0},"LESION POR FALTA DE ILUMINACION EN LA VIA PUBLICA",{"$f":"IFERROR(FIND(UPPER('Causas nuevas'!$D$4),B457),0)","v":0},{"$f":"+IF(Hoja3!$C457=0,0,1)","v":0},{"$f":"+E456+Hoja3!$D457","v":3},{"$f":"+Hoja3!$E457*Hoja3!$D457","v":0},"DESAGREGAR","DAÑOS CAUSADOS POR FALTA DE SEÑALIZACION EN LA VIA PUBLICA",null,null,"JUDICIAL","Lesión física o síquica con ocasión de vía pública con ausencia o deficiencia de iluminación.",665,{"$f":"+Hoja3!$B457","v":"LESION POR FALTA DE ILUMINACION EN LA VIA PUBLICA"}]
[{"$f":"+Hoja3!$F458","v":0},"MUERTE POR FALTA DE ILUMINACION EN LA VIA PUBLICA",{"$f":"IFERROR(FIND(UPPER('Causas nuevas'!$D$4),B458),0)","v":0},{"$f":"+IF(Hoja3!$C458=0,0,1)","v":0},{"$f":"+E457+Hoja3!$D458","v":3},{"$f":"+Hoja3!$E458*Hoja3!$D458","v":0},"DESAGREGAR","DAÑOS CAUSADOS POR FALTA DE SEÑALIZACION EN LA VIA PUBLICA",null,null,"JUDICIAL","Muerte con ocasión de vía pública con ausencia o deficiencia de iluminación",771,{"$f":"+Hoja3!$B458","v":"MUERTE POR FALTA DE ILUMINACION EN LA VIA PUBLICA"}]
[{"$f":"+Hoja3!$F459","v":0},"DAÑOS A BIENES POR FALTA DE ILUMINACION EN LA VIA PUBLICA",{"$f":"IFERROR(FIND(UPPER('Causas nuevas'!$D$4),B459),0)","v":0},{"$f":"+IF(Hoja3!$C459=0,0,1)","v":0},{"$f":"+E458+Hoja3!$D459","v":3},{"$f":"+Hoja3!$E459*Hoja3!$D459","v":0},"DESAGREGAR","DAÑOS CAUSADOS POR FALTA DE SEÑALIZACION EN LA VIA PUBLICA",null,null,"JUDICIAL","Daños a bienes muebles e inmuebles con ocasión de vía pública con ausencia o deficiencia de iluminación.",146,{"$f":"+Hoja3!$B459","v":"DAÑOS A BIENES POR FALTA DE ILUMINACION EN LA VIA PUBLICA"}]
[{"$f":"+Hoja3!$F460","v":0},"LESION POR CAIDA DE ARBOL",{"$f":"IFERROR(FIND(UPPER('Causas nuevas'!$D$4),B460),0)","v":0},{"$f":"+IF(Hoja3!$C460=0,0,1)","v":0},{"$f":"+E459+Hoja3!$D460","v":3},{"$f":"+Hoja3!$E460*Hoja3!$D460","v":0},"DESAGREGAR","DAÑOS CAUSADOS POR CAIDA DE ARBOL",null,null,"JUDICIAL","Lesión física o síquica con ocasión de caida de arbol.",662,{"$f":"+Hoja3!$B460","v":"LESION POR CAIDA DE ARBOL"}]
[{"$f":"+Hoja3!$F461","v":0},"MUERTE POR CAIDA DE ARBOL",{"$f":"IFERROR(FIND(UPPER('Causas nuevas'!$D$4),B461),0)","v":0},{"$f":"+IF(Hoja3!$C461=0,0,1)","v":0},{"$f":"+E460+Hoja3!$D461","v":3},{"$f":"+Hoja3!$E461*Hoja3!$D461","v":0},"DESAGREGAR","DAÑOS CAUSADOS POR CAIDA DE ARBOL",null,null,"JUDICIAL","Muerte con ocasión de caida de arbol.",768,{"$f":"+Hoja3!$B461","v":"MUERTE POR CAIDA DE ARBOL"}]
[{"$f":"+Hoja3!$F462","v":0},"DAÑOS A BIENES POR CAIDA DE ARBOL",{"$f":"IFERROR(FIND(UPPER('Causas nuevas'!$D$4),B462),0)","v":0},{"$f":"+IF(Hoja3!$C462=0,0,1)","v":0},{"$f":"+E461+Hoja3!$D462","v":3},{"$f":"+Hoja3!$E462*Hoja3!$D462","v":0},"DESAGREGAR","DAÑOS CAUSADOS POR CAIDA DE ARBOL",null,null,"JUDICIAL","Daños a bienes muebles e inmuebles con ocasión de caida de arbol.",142,{"$f":"+Hoja3!$B462","v":"DAÑOS A BIENES POR CAIDA DE ARBOL"}]
[{"$f":"+Hoja3!$F463","v":0},"LESION POR RUINA DE EDIFICACION PUBLICA",{"$f":"IFERROR(FIND(UPPER('Causas nuevas'!$D$4),B463),0)","v":0},{"$f":"+IF(Hoja3!$C463=0,0,1)","v":0},{"$f":"+E462+Hoja3!$D463","v":3},{"$f":"+Hoja3!$E463*Hoja3!$D463","v":0},"DESAGREGAR","DAÑOS OCASIONADOS POR RUINA DE EDIFICIO",null,null,"JUDICIAL","Lesión física o síquica con ocasión de ruina de edificación pública.",674,{"$f":"+Hoja3!$B463","v":"LESION POR RUINA DE EDIFICACION PUBLICA"}]
[{"$f":"+Hoja3!$F464","v":0},"MUERTE POR RUINA DE EDIFICACION PUBLICA",{"$f":"IFERROR(FIND(UPPER('Causas nuevas'!$D$4),B464),0)","v":0},{"$f":"+IF(Hoja3!$C464=0,0,1)","v":0},{"$f":"+E463+Hoja3!$D464","v":3},{"$f":"+Hoja3!$E464*Hoja3!$D464","v":0},"DESAGREGAR","DAÑOS OCASIONADOS POR RUINA DE EDIFICIO",null,null,"JUDICIAL","Muerte con ocasión de ruina de edificación pública.",781,{"$f":"+Hoja3!$B464","v":"MUERTE POR RUINA DE EDIFICACION PUBLICA"}]
[{"$f":"+Hoja3!$F465","v":0},"DAÑOS A BIENES POR RUINA DE EDIFICACION PUBLICA",{"$f":"IFERROR(FIND(UPPER('Causas nuevas'!$D$4),B465),0)","v":0},{"$f":"+IF(Hoja3!$C465=0,0,1)","v":0},{"$f":"+E464+Hoja3!$D465","v":3},{"$f":"+Hoja3!$E465*Hoja3!$D465","v":0},"DESAGREGAR","DAÑOS OCASIONADOS POR RUINA DE EDIFICIO",null,null,"JUDICIAL","Daños a bienes muebles e inmuebles con ocasión de ruina de edificación pública.",151,{"$f":"+Hoja3!$B465","v":"DAÑOS A BIENES POR RUINA DE EDIFICACION PUBLICA"}]
[{"$f":"+Hoja3!$F466","v":0},"LESION EN ACCIDENTE AEREO",{"$f":"IFERROR(FIND(UPPER('Causas nuevas'!$D$4),B466),0)","v":0},{"$f":"+IF(Hoja3!$C466=0,0,1)","v":0},{"$f":"+E465+Hoja3!$D466","v":3},{"$f":"+Hoja3!$E466*Hoja3!$D466","v":0},"DESAGREGAR","DAÑOS CAUSADOS POR ACCIDENTE AEREO",null,null,"JUDICIAL","Lesión física o síquica con ocasión de accidentes aéreos en los que no esté comprometida una aeronave oficial.",653,{"$f":"+Hoja3!$B466","v":"LESION EN ACCIDENTE AEREO"}]
[{"$f":"+Hoja3!$F467","v":0},"MUERTE EN ACCIDENTE AEREO",{"$f":"IFERROR(FIND(UPPER('Causas nuevas'!$D$4),B467),0)","v":0},{"$f":"+IF(Hoja3!$C467=0,0,1)","v":0},{"$f":"+E466+Hoja3!$D467","v":3},{"$f":"+Hoja3!$E467*Hoja3!$D467","v":0},"DESAGREGAR","DAÑOS CAUSADOS POR ACCIDENTE AEREO",null,null,"JUDICIAL","Muerte con ocasión de accidentes aéreos en los que no esté comprometida una aeronave oficial.",756,{"$f":"+Hoja3!$B467","v":"MUERTE EN ACCIDENTE AEREO"}]
[{"$f":"+Hoja3!$F468","v":0},"DAÑOS A BIENES EN ACCIDENTE AEREO",{"$f":"IFERROR(FIND(UPPER('Causas nuevas'!$D$4),B468),0)","v":0},{"$f":"+IF(Hoja3!$C468=0,0,1)","v":0},{"$f":"+E467+Hoja3!$D468","v":3},{"$f":"+Hoja3!$E468*Hoja3!$D468","v":0},"DESAGREGAR","DAÑOS CAUSADOS POR ACCIDENTE AEREO",null,null,"JUDICIAL","Daños a bienes muebles e inmuebles con ocasión de accidentes aéreos en los que no esté comprometida una aeronave oficial.",127,{"$f":"+Hoja3!$B468","v":"DAÑOS A BIENES EN ACCIDENTE AEREO"}]
[{"$f":"+Hoja3!$F469","v":0},"LESION EN ACCIDENTE FLUVIAL",{"$f":"IFERROR(FIND(UPPER('Causas nuevas'!$D$4),B469),0)","v":0},{"$f":"+IF(Hoja3!$C469=0,0,1)","v":0},{"$f":"+E468+Hoja3!$D469","v":3},{"$f":"+Hoja3!$E469*Hoja3!$D469","v":0},"DESAGREGAR","DAÑOS CAUSADOS POR ACCIDENTE FLUVIAL-MARITIMO",null,null,"JUDICIAL","Lesión física o síquica con ocasión de accidentes fluviales en los que no esté comprometida una nave oficial.",654,{"$f":"+Hoja3!$B469","v":"LESION EN ACCIDENTE FLUVIAL"}]
[{"$f":"+Hoja3!$F470","v":0},"MUERTE EN ACCIDENTE FLUVIAL",{"$f":"IFERROR(FIND(UPPER('Causas nuevas'!$D$4),B470),0)","v":0},{"$f":"+IF(Hoja3!$C470=0,0,1)","v":0},{"$f":"+E469+Hoja3!$D470","v":3},{"$f":"+Hoja3!$E470*Hoja3!$D470","v":0},"DESAGREGAR","DAÑOS CAUSADOS POR ACCIDENTE FLUVIAL-MARITIMO",null,null,"JUDICIAL","Muerte con ocasión de accidentes fluviales en los que no esté comprometida una nave oficial.",757,{"$f":"+Hoja3!$B470","v":"MUERTE EN ACCIDENTE FLUVIAL"}]
[{"$f":"+Hoja3!$F471","v":0},"DAÑOS A BIENES EN ACCIDENTE FLUVIAL",{"$f":"IFERROR(FIND(UPPER('Causas nuevas'!$D$4),B471),0)","v":0},{"$f":"+IF(Hoja3!$C471=0,0,1)","v":0},{"$f":"+E470+Hoja3!$D471","v":3},{"$f":"+Hoja3!$E471*Hoja3!$D471","v":0},"DESAGREGAR","DAÑOS CAUSADOS POR ACCIDENTE FLUVIAL-MARITIMO",null,null,"JUDICIAL","Daños a bienes muebles e inmuebles con ocasión de accidentes fluviales o marítimos en los que no esté comprometida una nave oficial.",128,{"$f":"+Hoja3!$B471","v":"DAÑOS A BIENES EN ACCIDENTE FLUVIAL"}]
[{"$f":"+Hoja3!$F472","v":0},"LESION EN ACCIDENTE MARITIMO",{"$f":"IFERROR(FIND(UPPER('Causas nuevas'!$D$4),B472),0)","v":0},{"$f":"+IF(Hoja3!$C472=0,0,1)","v":0},{"$f":"+E471+Hoja3!$D472","v":3},{"$f":"+Hoja3!$E472*Hoja3!$D472","v":0},"DESAGREGAR","DAÑOS CAUSADOS POR ACCIDENTE FLUVIAL-MARITIMO",null,null,"JUDICIAL","Lesión física o síquica con ocasión de accidentes marítimos en los que no esté comprometida una nave oficial.",655,{"$f":"+Hoja3!$B472","v":"LESION EN ACCIDENTE MARITIMO"}]
[{"$f":"+Hoja3!$F473","v":0},"MUERTE EN ACCIDENTE MARITIMO",{"$f":"IFERROR(FIND(UPPER('Causas nuevas'!$D$4),B473),0)","v":0},{"$f":"+IF(Hoja3!$C473=0,0,1)","v":0},{"$f":"+E472+Hoja3!$D473","v":3},{"$f":"+Hoja3!$E473*Hoja3!$D473","v":0},"DESAGREGAR","DAÑOS CAUSADOS POR ACCIDENTE FLUVIAL-MARITIMO",null,null,"JUDICIAL","Muerte con ocasión de accidentes marítimos en los que no esté comprometida una nave oficial.",758,{"$f":"+Hoja3!$B473","v":"MUERTE EN ACCIDENTE MARITIMO"}]
[{"$f":"+Hoja3!$F474","v":0},"DAÑOS A BIENES EN ACCIDENTE MARITIMO",{"$f":"IFERROR(FIND(UPPER('Causas nuevas'!$D$4),B474),0)","v":0},{"$f":"+IF(Hoja3!$C474=0,0,1)","v":0},{"$f":"+E473+Hoja3!$D474","v":3},{"$f":"+Hoja3!$E474*Hoja3!$D474","v":0},"DESAGREGAR","DAÑOS CAUSADOS POR ACCIDENTE FLUVIAL-MARITIMO",null,null,"JUDICIAL","Daños a bienes muebles e inmuebles con ocasión de accidentes marítimos o marítimos en los que no esté comprometida una nave oficial.",129,{"$f":"+Hoja3!$B474","v":"DAÑOS A BIENES EN ACCIDENTE MARITIMO"}]
[{"$f":"+Hoja3!$F475","v":0},"LESION POR ALUD DE TIERRA",{"$f":"IFERROR(FIND(UPPER('Causas nuevas'!$D$4),B475),0)","v":0},{"$f":"+IF(Hoja3!$C475=0,0,1)","v":0},{"$f":"+E474+Hoja3!$D475","v":3},{"$f":"+Hoja3!$E475*Hoja3!$D475","v":0},"DESAGREGAR","DAÑO CAUSADO POR ALUD DE TIERRA",null,null,"JUDICIAL","Lesión física o síquica como consecuencia de deslizamientos de tierra.",661,{"$f":"+Hoja3!$B475","v":"LESION POR ALUD DE TIERRA"}]
[{"$f":"+Hoja3!$F476","v":0},"MUERTE POR ALUD DE TIERRA",{"$f":"IFERROR(FIND(UPPER('Causas nuevas'!$D$4),B476),0)","v":0},{"$f":"+IF(Hoja3!$C476=0,0,1)","v":0},{"$f":"+E475+Hoja3!$D476","v":3},{"$f":"+Hoja3!$E476*Hoja3!$D476","v":0},"DESAGREGAR","DAÑO CAUSADO POR ALUD DE TIERRA",null,null,"JUDICIAL","Muerte como consecuencia de deslizamientos de tierra.",766,{"$f":"+Hoja3!$B476","v":"MUERTE POR ALUD DE TIERRA"}]
[{"$f":"+Hoja3!$F477","v":0},"DAÑOS A BIENES POR ALUD DE TIERRA",{"$f":"IFERROR(FIND(UPPER('Causas nuevas'!$D$4),B477),0)","v":0},{"$f":"+IF(Hoja3!$C477=0,0,1)","v":0},{"$f":"+E476+Hoja3!$D477","v":3},{"$f":"+Hoja3!$E477*Hoja3!$D477","v":0},"DESAGREGAR","DAÑO CAUSADO POR ALUD DE TIERRA",null,null,"JUDICIAL","Daños a bienes muebles e inmuebles como consecuencia de deslizamientos de tierra.",141,{"$f":"+Hoja3!$B477","v":"DAÑOS A BIENES POR ALUD DE TIERRA"}]
[{"$f":"+Hoja3!$F478","v":0},"LESION POR INUNDACION",{"$f":"IFERROR(FIND(UPPER('Causas nuevas'!$D$4),B478),0)","v":0},{"$f":"+IF(Hoja3!$C478=0,0,1)","v":0},{"$f":"+E477+Hoja3!$D478","v":3},{"$f":"+Hoja3!$E478*Hoja3!$D478","v":0},"DESAGREGAR","DAÑOS CAUSADOS POR INUNDACION",null,null,"JUDICIAL","Lesión física o síquica como consecuencia de inundaciones.  ",672,{"$f":"+Hoja3!$B478","v":"LESION POR INUNDACION"}]
[{"$f":"+Hoja3!$F479","v":0},"MUERTE POR INUNDACION",{"$f":"IFERROR(FIND(UPPER('Causas nuevas'!$D$4),B479),0)","v":0},{"$f":"+IF(Hoja3!$C479=0,0,1)","v":0},{"$f":"+E478+Hoja3!$D479","v":3},{"$f":"+Hoja3!$E479*Hoja3!$D479","v":0},"DESAGREGAR","DAÑOS CAUSADOS POR INUNDACION",null,null,"JUDICIAL","Muerte como consecuencia de inundaciones.  ",779,{"$f":"+Hoja3!$B479","v":"MUERTE POR INUNDACION"}]
[{"$f":"+Hoja3!$F480","v":0},"DAÑOS A BIENES POR INUNDACION",{"$f":"IFERROR(FIND(UPPER('Causas nuevas'!$D$4),B480),0)","v":0},{"$f":"+IF(Hoja3!$C480=0,0,1)","v":0},{"$f":"+E479+Hoja3!$D480","v":3},{"$f":"+Hoja3!$E480*Hoja3!$D480","v":0},"DESAGREGAR","DAÑOS CAUSADOS POR INUNDACION",null,null,"JUDICIAL","Daños a bienes muebles e inmuebles como consecuencia de inundaciones.  ",149,{"$f":"+Hoja3!$B480","v":"DAÑOS A BIENES POR INUNDACION"}]
[{"$f":"+Hoja3!$F481","v":0},"LESION A CIVIL POR ACTO TERRORISTA CONTRA INSTALACIONES, PERSONAJES O ELEMENTOS REPRESENTATIVOS DEL ESTADO",{"$f":"IFERROR(FIND(UPPER('Causas nuevas'!$D$4),B481),0)","v":0},{"$f":"+IF(Hoja3!$C481=0,0,1)","v":0},{"$f":"+E480+Hoja3!$D481","v":3},{"$f":"+Hoja3!$E481*Hoja3!$D481","v":0},"DESAGREGAR","DAÑOS CAUSADOS A CIVILES POR ACTO TERRORISTA CONTRA INSTALACIONES, PERSONAJES O ELEMENTOS REPRESENTATIVOS DEL ESTADO",null,null,"JUDICIAL","Lesión física o síquica a civil por un acto terrorista (acto cuya finalidad es la de generar sosobra en la población civil y desestabilización del estamento militar o gubernamental) en contra de instalaciones (estación de polícia, CAI, etc.), personajes (Fiscal, Ministro, Alcalde, etc.) o elementos (torre de energía eléctrica, etc.) representativos del Estado.",604,{"$f":"+Hoja3!$B481","v":"LESION A CIVIL POR ACTO TERRORISTA CONTRA INSTALACIONES, PERSONAJES O ELEMENTOS REPRESENTATIVOS DEL ESTADO"}]
[{"$f":"+Hoja3!$F482","v":0},"MUERTE DE CIVIL POR ACTO TERRORISTA CONTRA INSTALACIONES, PERSONAJES O ELEMENTOS REPRESENTATIVOS DEL ESTADO",{"$f":"IFERROR(FIND(UPPER('Causas nuevas'!$D$4),B482),0)","v":0},{"$f":"+IF(Hoja3!$C482=0,0,1)","v":0},{"$f":"+E481+Hoja3!$D482","v":3},{"$f":"+Hoja3!$E482*Hoja3!$D482","v":0},"DESAGREGAR","DAÑOS CAUSADOS A CIVILES POR ACTO TERRORISTA CONTRA INSTALACIONES, PERSONAJES O ELEMENTOS REPRESENTATIVOS DEL ESTADO",null,null,"JUDICIAL","Muerte de civil por un acto terrorista (acto cuya finalidad es la de generar sosobra en la población civil y desestabilización del estamento militar o gubernamental) en contra de instalaciones (estación de polícia, CAI, etc.), personajes (Fiscal, Ministro, Alcalde, etc.) o elementos (torre de energía eléctrica, etc.) representativos del Estado.",711,{"$f":"+Hoja3!$B482","v":"MUERTE DE CIVIL POR ACTO TERRORISTA CONTRA INSTALACIONES, PERSONAJES O ELEMENTOS REPRESENTATIVOS DEL ESTADO"}]
[{"$f":"+Hoja3!$F483","v":0},"DAÑOS A BIENES POR ACTO TERRORISTA CONTRA INSTALACIONES, PERSONAJES O ELEMENTOS REPRESENTATIVOS DEL ESTADO",{"$f":"IFERROR(FIND(UPPER('Causas nuevas'!$D$4),B483),0)","v":0},{"$f":"+IF(Hoja3!$C483=0,0,1)","v":0},{"$f":"+E482+Hoja3!$D483","v":3},{"$f":"+Hoja3!$E483*Hoja3!$D483","v":0},"DESAGREGAR","DAÑOS CAUSADOS A CIVILES POR ACTO TERRORISTA CONTRA INSTALACIONES, PERSONAJES O ELEMENTOS REPRESENTATIVOS DEL ESTADO",null,null,"JUDICIAL","Daños a bienes muebles e inmuebles por un acto terrorista (acto cuya finalidad es la de generar sosobra en la población civil y desestabilización del estamento militar o gubernamental) en contra de instalaciones (estación de polícia, CAI, etc.), personajes (Fiscal, Ministro, Alcalde, etc.) o elementos (torre de energía eléctrica, etc.) representativos del Estado.",139,{"$f":"+Hoja3!$B483","v":"DAÑOS A BIENES POR ACTO TERRORISTA CONTRA INSTALACIONES, PERSONAJES O ELEMENTOS REPRESENTATIVOS DEL ESTADO"}]
[{"$f":"+Hoja3!$F484","v":0},"LESION A CIVIL POR ACTO TERRORISTA CONTRA POBLACION CIVIL",{"$f":"IFERROR(FIND(UPPER('Causas nuevas'!$D$4),B484),0)","v":0},{"$f":"+IF(Hoja3!$C484=0,0,1)","v":0},{"$f":"+E483+Hoja3!$D484","v":3},{"$f":"+Hoja3!$E484*Hoja3!$D484","v":0},"DESAGREGAR","DAÑOS CAUSADOS A CIVILES POR ACTO TERRORISTA CONTRA POBLACION CIVIL",null,null,"JUDICIAL","Lesión física o síquica a civil por un acto terrorista (acto cuya finalidad es la de generar sosobra en la población civil y desestabilización del estamento militar o gubernamental) en contra de la población civil.",605,{"$f":"+Hoja3!$B484","v":"LESION A CIVIL POR ACTO TERRORISTA CONTRA POBLACION CIVIL"}]
[{"$f":"+Hoja3!$F485","v":0},"MUERTE DE CIVIL POR ACTO TERRORISTA CONTRA POBLACION CIVIL",{"$f":"IFERROR(FIND(UPPER('Causas nuevas'!$D$4),B485),0)","v":0},{"$f":"+IF(Hoja3!$C485=0,0,1)","v":0},{"$f":"+E484+Hoja3!$D485","v":3},{"$f":"+Hoja3!$E485*Hoja3!$D485","v":0},"DESAGREGAR","DAÑOS CAUSADOS A CIVILES POR ACTO TERRORISTA CONTRA POBLACION CIVIL",null,null,"JUDICIAL","Muerte de civil por un acto terrorista (acto cuya finalidad es la de generar sosobra en la población civil y desestabilización del estamento militar o gubernamental) en contra de la población civil.",712,{"$f":"+Hoja3!$B485","v":"MUERTE DE CIVIL POR ACTO TERRORISTA CONTRA POBLACION CIVIL"}]
[{"$f":"+Hoja3!$F486","v":0},"DAÑOS A BIENES POR ACTO TERRORISTA CONTRA POBLACION CIVIL",{"$f":"IFERROR(FIND(UPPER('Causas nuevas'!$D$4),B486),0)","v":0},{"$f":"+IF(Hoja3!$C486=0,0,1)","v":0},{"$f":"+E485+Hoja3!$D486","v":3},{"$f":"+Hoja3!$E486*Hoja3!$D486","v":0},"DESAGREGAR","DAÑOS CAUSADOS A CIVILES POR ACTO TERRORISTA CONTRA POBLACION CIVIL",null,null,"JUDICIAL","Daños a bienes muebles e inmuebles por un acto terrorista (acto cuya finalidad es la de generar sosobra en la población civil y desestabilización del estamento militar o gubernamental)en contra de la población civil.",140,{"$f":"+Hoja3!$B486","v":"DAÑOS A BIENES POR ACTO TERRORISTA CONTRA POBLACION CIVIL"}]
[{"$f":"+Hoja3!$F487","v":0},"LESION EN MANIFESTACION PUBLICA",{"$f":"IFERROR(FIND(UPPER('Causas nuevas'!$D$4),B487),0)","v":0},{"$f":"+IF(Hoja3!$C487=0,0,1)","v":0},{"$f":"+E486+Hoja3!$D487","v":3},{"$f":"+Hoja3!$E487*Hoja3!$D487","v":0},"DESAGREGAR","DAÑOS CAUSADOS EN MANIFESTACION PUBLICA",null,null,"JUDICIAL","Lesión física o síquica causada en manifestaciones, marchas o reuniones públicas. ",656,{"$f":"+Hoja3!$B487","v":"LESION EN MANIFESTACION PUBLICA"}]
[{"$f":"+Hoja3!$F488","v":0},"MUERTE EN MANIFESTACION PUBLICA",{"$f":"IFERROR(FIND(UPPER('Causas nuevas'!$D$4),B488),0)","v":0},{"$f":"+IF(Hoja3!$C488=0,0,1)","v":0},{"$f":"+E487+Hoja3!$D488","v":3},{"$f":"+Hoja3!$E488*Hoja3!$D488","v":0},"DESAGREGAR","DAÑOS CAUSADOS EN MANIFESTACION PUBLICA",null,null,"JUDICIAL","Muerte causada en manifestaciones, marchas o reuniones públicas. ",760,{"$f":"+Hoja3!$B488","v":"MUERTE EN MANIFESTACION PUBLICA"}]
[{"$f":"+Hoja3!$F489","v":0},"DAÑOS A BIENES EN MANIFESTACION PUBLICA",{"$f":"IFERROR(FIND(UPPER('Causas nuevas'!$D$4),B489),0)","v":0},{"$f":"+IF(Hoja3!$C489=0,0,1)","v":0},{"$f":"+E488+Hoja3!$D489","v":3},{"$f":"+Hoja3!$E489*Hoja3!$D489","v":0},"DESAGREGAR","DAÑOS CAUSADOS EN MANIFESTACION PUBLICA",null,null,"JUDICIAL","Daños a bienes muebles e inmuebles con ocasión de manifestaciones, marchas o reuniones públicas. ",133,{"$f":"+Hoja3!$B489","v":"DAÑOS A BIENES EN MANIFESTACION PUBLICA"}]
[{"$f":"+Hoja3!$F490","v":0},"OCUPACION TEMPORAL DE INMUEBLE",{"$f":"IFERROR(FIND(UPPER('Causas nuevas'!$D$4),B490),0)","v":0},{"$f":"+IF(Hoja3!$C490=0,0,1)","v":0},{"$f":"+E489+Hoja3!$D490","v":3},{"$f":"+Hoja3!$E490*Hoja3!$D490","v":0},"DESAGREGAR","OCUPACION TEMPORAL O PERMANENTE DE INMUEBLE",null,null,"JUDICIAL","Ocupación temporal de un bien inmueble por trabajos públicos o por cualquier otra causa.",855,{"$f":"+Hoja3!$B490","v":"OCUPACION TEMPORAL DE INMUEBLE"}]
[{"$f":"+Hoja3!$F491","v":0},"OCUPACION PERMANENTE DE INMUEBLE",{"$f":"IFERROR(FIND(UPPER('Causas nuevas'!$D$4),B491),0)","v":0},{"$f":"+IF(Hoja3!$C491=0,0,1)","v":0},{"$f":"+E490+Hoja3!$D491","v":3},{"$f":"+Hoja3!$E491*Hoja3!$D491","v":0},"DESAGREGAR","OCUPACION TEMPORAL O PERMANENTE DE INMUEBLE",null,null,"JUDICIAL","Ocupación permanente de un bien inmueble por trabajos públicos o por cualquier otra causa.",854,{"$f":"+Hoja3!$B491","v":"OCUPACION PERMANENTE DE INMUEBLE"}]
[{"$f":"+Hoja3!$F492","v":0},"INCUMPLIMIENTO DE SENTENCIA JUDICIAL",{"$f":"IFERROR(FIND(UPPER('Causas nuevas'!$D$4),B492),0)","v":0},{"$f":"+IF(Hoja3!$C492=0,0,1)","v":0},{"$f":"+E491+Hoja3!$D492","v":3},{"$f":"+Hoja3!$E492*Hoja3!$D492","v":0},"DESAGREGAR","INCUMPLIMIENTO DE SENTENCIA JUDICIAL O ACUERDO CONCILIATORIO",null,null,"JUDICIAL","Mora o no pago de una obligación contenida en una sentencia judicial. Nota: incluye el no pago de costas procesales y/o agencias en derecho.",484,{"$f":"+Hoja3!$B492","v":"INCUMPLIMIENTO DE SENTENCIA JUDICIAL"}]
[{"$f":"+Hoja3!$F493","v":0},"INCUMPLIMIENTO DE ACUERDO CONCILIATORIO",{"$f":"IFERROR(FIND(UPPER('Causas nuevas'!$D$4),B493),0)","v":0},{"$f":"+IF(Hoja3!$C493=0,0,1)","v":0},{"$f":"+E492+Hoja3!$D493","v":3},{"$f":"+Hoja3!$E493*Hoja3!$D493","v":0},"DESAGREGAR","INCUMPLIMIENTO DE SENTENCIA JUDICIAL O ACUERDO CONCILIATORIO",null,null,"JUDICIAL","Mora o no pago de una obligación contenida en un acuerdo conciliatorio aprobado judicialmente.",476,{"$f":"+Hoja3!$B493","v":"INCUMPLIMIENTO DE ACUERDO CONCILIATORIO"}]
[{"$f":"+Hoja3!$F494","v":0},"INCUMPLIMIENTO DE LAUDO ARBITRAL",{"$f":"IFERROR(FIND(UPPER('Causas nuevas'!$D$4),B494),0)","v":0},{"$f":"+IF(Hoja3!$C494=0,0,1)","v":0},{"$f":"+E493+Hoja3!$D494","v":3},{"$f":"+Hoja3!$E494*Hoja3!$D494","v":0},"DESAGREGAR","INCUMPLIMIENTO DE SENTENCIA JUDICIAL O ACUERDO CONCILIATORIO",null,null,"JUDICIAL","Mora o no pago de una obligación contenida en un laudo arbitral. Nota: incluye el no pago de costas procesales y/o agencias en derecho.",481,{"$f":"+Hoja3!$B494","v":"INCUMPLIMIENTO DE LAUDO ARBITRAL"}]
[{"$f":"+Hoja3!$F495","v":0},"LESION A ALUMNO EN ESTABLECIMIENTO EDUCATIVO",{"$f":"IFERROR(FIND(UPPER('Causas nuevas'!$D$4),B495),0)","v":0},{"$f":"+IF(Hoja3!$C495=0,0,1)","v":0},{"$f":"+E494+Hoja3!$D495","v":3},{"$f":"+Hoja3!$E495*Hoja3!$D495","v":0},"DESAGREGAR","DAÑO EN ESTABLECIMIENTO EDUCATIVO",null,null,"JUDICIAL","Lesión física o síquica a alumno en establecimiento educativo, hogar comunitario, centro de bienestar familiar o en actividades relacionadas con la jornada escolar. ",594,{"$f":"+Hoja3!$B495","v":"LESION A ALUMNO EN ESTABLECIMIENTO EDUCATIVO"}]
[{"$f":"+Hoja3!$F496","v":0},"MUERTE DE ALUMNO EN ESTABLECIMIENTO EDUCATIVO",{"$f":"IFERROR(FIND(UPPER('Causas nuevas'!$D$4),B496),0)","v":0},{"$f":"+IF(Hoja3!$C496=0,0,1)","v":0},{"$f":"+E495+Hoja3!$D496","v":3},{"$f":"+Hoja3!$E496*Hoja3!$D496","v":0},"DESAGREGAR","DAÑO EN ESTABLECIMIENTO EDUCATIVO",null,null,"JUDICIAL","Muerte de alumno en establecimiento educativo, hogar comunitario, centro de bienestar familiar o en actividades relacionadas con la jornada escolar. ",701,{"$f":"+Hoja3!$B496","v":"MUERTE DE ALUMNO EN ESTABLECIMIENTO EDUCATIVO"}]
[{"$f":"+Hoja3!$F497","v":0},"LESION A PERSONAL DOCENTE O ADMINISTRATIVO EN ESTABLECIMIENTO EDUCATIVO",{"$f":"IFERROR(FIND(UPPER('Causas nuevas'!$D$4),B497),0)","v":0},{"$f":"+IF(Hoja3!$C497=0,0,1)","v":0},{"$f":"+E496+Hoja3!$D497","v":3},{"$f":"+Hoja3!$E497*Hoja3!$D497","v":0},"DESAGREGAR","DAÑO EN ESTABLECIMIENTO EDUCATIVO",null,null,"JUDICIAL","Lesión física o síquica a personal docente o administrativo en establecimiento educativo, hogar comunitario, centro de bienestar familiar o en actividades relacionadas con la jornada escolar. ",636,{"$f":"+Hoja3!$B497","v":"LESION A PERSONAL DOCENTE O ADMINISTRATIVO EN ESTABLECIMIENTO EDUCATIVO"}]
[{"$f":"+Hoja3!$F498","v":0},"MUERTE DE PERSONAL DOCENTE O ADMINISTRATIVO EN ESTABLECIMIENTO EDUCATIVO",{"$f":"IFERROR(FIND(UPPER('Causas nuevas'!$D$4),B498),0)","v":0},{"$f":"+IF(Hoja3!$C498=0,0,1)","v":0},{"$f":"+E497+Hoja3!$D498","v":3},{"$f":"+Hoja3!$E498*Hoja3!$D498","v":0},"DESAGREGAR","DAÑO EN ESTABLECIMIENTO EDUCATIVO",null,null,"JUDICIAL","Muerte de personal docente o administrativo en establecimiento educativo, hogar comunitario, centro de bienestar familiar o en actividades relacionadas con la jornada escolar. ",748,{"$f":"+Hoja3!$B498","v":"MUERTE DE PERSONAL DOCENTE O ADMINISTRATIVO EN ESTABLECIMIENTO EDUCATIVO"}]
[{"$f":"+Hoja3!$F499","v":0},"DAÑOS A BIENES EN ESTABLECIMIENTO EDUCATIVO",{"$f":"IFERROR(FIND(UPPER('Causas nuevas'!$D$4),B499),0)","v":0},{"$f":"+IF(Hoja3!$C499=0,0,1)","v":0},{"$f":"+E498+Hoja3!$D499","v":3},{"$f":"+Hoja3!$E499*Hoja3!$D499","v":0},"DESAGREGAR","DAÑO EN ESTABLECIMIENTO EDUCATIVO",null,null,"JUDICIAL","Daño a bienes muebles o inmuebles en establecimiento educativo, hogar comunitario, centro de bienestar familiar o en actividades relacionadas con la jornada escolar. ",132,{"$f":"+Hoja3!$B499","v":"DAÑOS A BIENES EN ESTABLECIMIENTO EDUCATIVO"}]
[{"$f":"+Hoja3!$F500","v":0},"LESION POR USO EXCESIVO DE LA FUERZA",{"$f":"IFERROR(FIND(UPPER('Causas nuevas'!$D$4),B500),0)","v":0},{"$f":"+IF(Hoja3!$C500=0,0,1)","v":0},{"$f":"+E499+Hoja3!$D500","v":3},{"$f":"+Hoja3!$E500*Hoja3!$D500","v":0},"DESAGREGAR","DAÑOS CAUSADOS POR USO EXCESIVO DE LA FUERZA",null,null,"JUDICIAL","Lesión física o síquica derivada del exceso en el uso de la fuerza por parte de miembros de la fuerza pública. ",676,{"$f":"+Hoja3!$B500","v":"LESION POR USO EXCESIVO DE LA FUERZA"}]
[{"$f":"+Hoja3!$F501","v":0},"MUERTE POR USO EXCESIVO DE LA FUERZA",{"$f":"IFERROR(FIND(UPPER('Causas nuevas'!$D$4),B501),0)","v":0},{"$f":"+IF(Hoja3!$C501=0,0,1)","v":0},{"$f":"+E500+Hoja3!$D501","v":3},{"$f":"+Hoja3!$E501*Hoja3!$D501","v":0},"DESAGREGAR","DAÑOS CAUSADOS POR USO EXCESIVO DE LA FUERZA",null,null,"JUDICIAL","Muerte derivada del exceso en el uso de la fuerza por parte de miembros de la fuerza pública. ",783,{"$f":"+Hoja3!$B501","v":"MUERTE POR USO EXCESIVO DE LA FUERZA"}]
[{"$f":"+Hoja3!$F502","v":0},"DAÑOS A BIENES POR USO EXCESIVO DE LA FUERZA",{"$f":"IFERROR(FIND(UPPER('Causas nuevas'!$D$4),B502),0)","v":0},{"$f":"+IF(Hoja3!$C502=0,0,1)","v":0},{"$f":"+E501+Hoja3!$D502","v":3},{"$f":"+Hoja3!$E502*Hoja3!$D502","v":0},"DESAGREGAR","DAÑOS CAUSADOS POR USO EXCESIVO DE LA FUERZA",null,null,"JUDICIAL","Daños a bienes muebles o inmuebles derivados del exceso en el uso de la fuerza por parte de miembros de la fuerza pública. ",153,{"$f":"+Hoja3!$B502","v":"DAÑOS A BIENES POR USO EXCESIVO DE LA FUERZA"}]
[{"$f":"+Hoja3!$F503","v":0},"DECRETO INJUSTO DE MEDIDAS CAUTELARES SOBRE BIENES SUSCEPTIBLES DE COMISO EN PROCESOS PENALES",{"$f":"IFERROR(FIND(UPPER('Causas nuevas'!$D$4),B503),0)","v":0},{"$f":"+IF(Hoja3!$C503=0,0,1)","v":0},{"$f":"+E502+Hoja3!$D503","v":3},{"$f":"+Hoja3!$E503*Hoja3!$D503","v":0},"NUEVA",{"$nulls":3},"JUDICIAL","Decreto injusto de la medida cautelar de incautación u ocupación de bienes muebles o inmuebles, en el trámite de procesos penales,  que posteriormente es levantada porque no se demostró que los bienes provinieran de un delito o fueran utilizados como medio para la ejecución de este.",202,{"$f":"+Hoja3!$B503","v":"DECRETO INJUSTO DE MEDIDAS CAUTELARES SOBRE BIENES SUSCEPTIBLES DE COMISO EN PROCESOS PENALES"}]
[{"$f":"+Hoja3!$F504","v":0},"MORA EN LA ENTREGA DE BIEN INCAUTADO U OCUPADO EN UN PROCESO PENAL",{"$f":"IFERROR(FIND(UPPER('Causas nuevas'!$D$4),B504),0)","v":0},{"$f":"+IF(Hoja3!$C504=0,0,1)","v":0},{"$f":"+E503+Hoja3!$D504","v":3},{"$f":"+Hoja3!$E504*Hoja3!$D504","v":0},"NUEVA",{"$nulls":3},"JUDICIAL","Mora en la entrega de bienes muebles o inmuebles incautados u ocupados en el trámite de un proceso penal cuando ya se ha ordenado judicialmente la entrega.",692,{"$f":"+Hoja3!$B504","v":"MORA EN LA ENTREGA DE BIEN INCAUTADO U OCUPADO EN UN PROCESO PENAL"}]
[{"$f":"+Hoja3!$F505","v":0},"LESION POR SEMOVIENTE DE PROPIEDAD DEL ESTADO",{"$f":"IFERROR(FIND(UPPER('Causas nuevas'!$D$4),B505),0)","v":0},{"$f":"+IF(Hoja3!$C505=0,0,1)","v":0},{"$f":"+E504+Hoja3!$D505","v":3},{"$f":"+Hoja3!$E505*Hoja3!$D505","v":0},"DESAGREGAR","LESION DE CIVIL CAUSADA POR SEMOVIENTE (EQUINO) DE PROPIEDAD DE FFMM",null,null,"JUDICIAL","Lesion causada por semoviente (equino, canino, etc.) de propiedad del Estado.",675,{"$f":"+Hoja3!$B505","v":"LESION POR SEMOVIENTE DE PROPIEDAD DEL ESTADO"}]
[{"$f":"+Hoja3!$F506","v":0},"MUERTE POR SEMOVIENTE DE PROPIEDAD DEL ESTADO",{"$f":"IFERROR(FIND(UPPER('Causas nuevas'!$D$4),B506),0)","v":0},{"$f":"+IF(Hoja3!$C506=0,0,1)","v":0},{"$f":"+E505+Hoja3!$D506","v":3},{"$f":"+Hoja3!$E506*Hoja3!$D506","v":0},"NUEVA",{"$nulls":3},"JUDICIAL","Muerte causada por semoviente (equino, canino, etc.) de propiedad del Estado.",782,{"$f":"+Hoja3!$B506","v":"MUERTE POR SEMOVIENTE DE PROPIEDAD DEL ESTADO"}]
[{"$f":"+Hoja3!$F507","v":0},"DAÑOS A BIENES POR SEMOVIENTE DE PROPIEDAD DEL ESTADO",{"$f":"IFERROR(FIND(UPPER('Causas nuevas'!$D$4),B507),0)","v":0},{"$f":"+IF(Hoja3!$C507=0,0,1)","v":0},{"$f":"+E506+Hoja3!$D507","v":3},{"$f":"+Hoja3!$E507*Hoja3!$D507","v":0},"NUEVA",{"$nulls":3},"JUDICIAL","Daños a bienes muebles e inmuebles causados por semoviente (equino, canino, etc.) de propiedad del Estado.",152,{"$f":"+Hoja3!$B507","v":"DAÑOS A BIENES POR SEMOVIENTE DE PROPIEDAD DEL ESTADO"}]
[{"$f":"+Hoja3!$F508","v":0},"DAÑOS DERIVADOS DE LA ACTIVIDAD LEGISLATIVA",{"$f":"IFERROR(FIND(UPPER('Causas nuevas'!$D$4),B508),0)","v":0},{"$f":"+IF(Hoja3!$C508=0,0,1)","v":0},{"$f":"+E507+Hoja3!$D508","v":3},{"$f":"+Hoja3!$E508*Hoja3!$D508","v":0},"DESAGREGAR","DAÑO ESPECIAL POR EXPEDICION DE LEY CONSTITUCIONAL Y/O ACTO ADMINISTRATIVO LICITO","En esta causa se integran las causas (ID 270) DAÑO ESPECIAL POR EXPEDICION DE LEY CONSTITUCIONAL Y/O ACTO ADMINISTRATIVO LICITO y (ID 1876) FALLA DEL SERVICIO POR EL HECHO DEL LEGISLADOR",null,"JUDICIAL","Daños derivados de la función legislativa, tanto si se trata de disposiciones legales declaradas inexequibles, como de la aplicación de disposiciones legales amparadas por la presunción de constitucionalidad o declaradas exequibles.",186,{"$f":"+Hoja3!$B508","v":"DAÑOS DERIVADOS DE LA ACTIVIDAD LEGISLATIVA"}]
[{"$f":"+Hoja3!$F509","v":0},"DAÑOS DERIVADOS DE ACTO ADMINISTRATIVO LICITO",{"$f":"IFERROR(FIND(UPPER('Causas nuevas'!$D$4),B509),0)","v":0},{"$f":"+IF(Hoja3!$C509=0,0,1)","v":0},{"$f":"+E508+Hoja3!$D509","v":3},{"$f":"+Hoja3!$E509*Hoja3!$D509","v":0},"DESAGREGAR","DAÑO ESPECIAL POR EXPEDICION DE LEY CONSTITUCIONAL Y/O ACTO ADMINISTRATIVO LICITO",null,null,"JUDICIAL","Daños ocasionados por la expedición de actos administrativos lícitos (su legalidad no es cuestionada).",185,{"$f":"+Hoja3!$B509","v":"DAÑOS DERIVADOS DE ACTO ADMINISTRATIVO LICITO"}]
[{"$f":"+Hoja3!$F510","v":0},"IMPOSICION INJUSTA DE MEDIDA DE ASEGURAMIENTO NO PRIVATIVA DE LA LIBERTAD",{"$f":"IFERROR(FIND(UPPER('Causas nuevas'!$D$4),B510),0)","v":0},{"$f":"+IF(Hoja3!$C510=0,0,1)","v":0},{"$f":"+E509+Hoja3!$D510","v":3},{"$f":"+Hoja3!$E510*Hoja3!$D510","v":0},"NUEVA",{"$nulls":3},"JUDICIAL","Perjuicios derivados de la imposición de medidas de aseguramiento no privativas de la libertad, cuando el proceso penal termina con sentencia absolutoria o su equivalente.",470,{"$f":"+Hoja3!$B510","v":"IMPOSICION INJUSTA DE MEDIDA DE ASEGURAMIENTO NO PRIVATIVA DE LA LIBERTAD"}]
[{"$f":"+Hoja3!$F511","v":0},"LESION POR FALTA DE ADOPCION DE MEDIDAS DE PROTECCION Y SEGURIDAD",{"$f":"IFERROR(FIND(UPPER('Causas nuevas'!$D$4),B511),0)","v":0},{"$f":"+IF(Hoja3!$C511=0,0,1)","v":0},{"$f":"+E510+Hoja3!$D511","v":3},{"$f":"+Hoja3!$E511*Hoja3!$D511","v":0},"DESAGREGAR","INCUMPLIMIENTO DEL DEBER DE PROTECCION Y SEGURIDAD POR PARTE DEL ESTADO",null,null,"JUDICIAL","Lesión física o síquica derivada del no suministro de medidas de protección o seguridad a quienes las han solicitado o a quienes se encuentran en una notoria condición de amenaza o riesgo personal. Nota: es subsidiaria a aquellas causas que hacen referencia a los daños derivados de secuestro, acto terrorista, entre otros. ",664,{"$f":"+Hoja3!$B511","v":"LESION POR FALTA DE ADOPCION DE MEDIDAS DE PROTECCION Y SEGURIDAD"}]
[{"$f":"+Hoja3!$F512","v":0},"MUERTE POR FALTA DE ADOPCION DE MEDIDAS DE PROTECCION Y SEGURIDAD",{"$f":"IFERROR(FIND(UPPER('Causas nuevas'!$D$4),B512),0)","v":0},{"$f":"+IF(Hoja3!$C512=0,0,1)","v":0},{"$f":"+E511+Hoja3!$D512","v":3},{"$f":"+Hoja3!$E512*Hoja3!$D512","v":0},"DESAGREGAR","INCUMPLIMIENTO DEL DEBER DE PROTECCION Y SEGURIDAD POR PARTE DEL ESTADO",null,null,"JUDICIAL","Muerte derivada del no suministro de medidas de protección o seguridad a quienes las han solicitado o a quienes se encuentran en una notoria condición de amenaza o riesgo personal. Nota: es subsidiaria a aquellas causas que hacen referencia a los daños derivados de secuestro, acto terrorista, entre otros. ",770,{"$f":"+Hoja3!$B512","v":"MUERTE POR FALTA DE ADOPCION DE MEDIDAS DE PROTECCION Y SEGURIDAD"}]
[{"$f":"+Hoja3!$F513","v":0},"DAÑOS A BIENES POR FALTA DE ADOPCION DE MEDIDAS DE PROTECCION Y SEGURIDAD",{"$f":"IFERROR(FIND(UPPER('Causas nuevas'!$D$4),B513),0)","v":0},{"$f":"+IF(Hoja3!$C513=0,0,1)","v":0},{"$f":"+E512+Hoja3!$D513","v":3},{"$f":"+Hoja3!$E513*Hoja3!$D513","v":0},"DESAGREGAR","INCUMPLIMIENTO DEL DEBER DE PROTECCION Y SEGURIDAD POR PARTE DEL ESTADO",null,null,"JUDICIAL","Daños a bienes derivados del no suministro de medidas de protección o seguridad a quienes las han solicitado o a quienes se encuentran en una notoria condición de amenaza o riesgo personal. Nota: es subsidiaria a aquellas causas que hacen referencia a los daños derivados de secuestro, acto terrorista, entre otros. ",145,{"$f":"+Hoja3!$B513","v":"DAÑOS A BIENES POR FALTA DE ADOPCION DE MEDIDAS DE PROTECCION Y SEGURIDAD"}]
[{"$f":"+Hoja3!$F514","v":0},"LESION POR INDEBIDA O INSUFICIENTE ADOPCION DE MEDIDAS DE PROTECCION Y SEGURIDAD",{"$f":"IFERROR(FIND(UPPER('Causas nuevas'!$D$4),B514),0)","v":0},{"$f":"+IF(Hoja3!$C514=0,0,1)","v":0},{"$f":"+E513+Hoja3!$D514","v":3},{"$f":"+Hoja3!$E514*Hoja3!$D514","v":0},"DESAGREGAR","INCUMPLIMIENTO DEL DEBER DE PROTECCION Y SEGURIDAD POR PARTE DEL ESTADO",null,null,"JUDICIAL","Lesión física o síquica derivada de un indebido o insuficiente suministro de medidas de protección o seguridad a quienes las han solicitado o a quienes se encuentran en una notoria condición de amenaza o riesgo personal. Nota: es subsidiaria a aquellas causas que hacen referencia a los daños derivados de secuestro, acto terrorista, entre otros. ",668,{"$f":"+Hoja3!$B514","v":"LESION POR INDEBIDA O INSUFICIENTE ADOPCION DE MEDIDAS DE PROTECCION Y SEGURIDAD"}]
[{"$f":"+Hoja3!$F515","v":0},"MUERTE POR INDEBIDA O INSUFICIENTE ADOPCION DE MEDIDAS DE PROTECCION Y SEGURIDAD",{"$f":"IFERROR(FIND(UPPER('Causas nuevas'!$D$4),B515),0)","v":0},{"$f":"+IF(Hoja3!$C515=0,0,1)","v":0},{"$f":"+E514+Hoja3!$D515","v":3},{"$f":"+Hoja3!$E515*Hoja3!$D515","v":0},"DESAGREGAR","INCUMPLIMIENTO DEL DEBER DE PROTECCION Y SEGURIDAD POR PARTE DEL ESTADO",null,null,"JUDICIAL","Muerte derivada de un indebido o insuficiente suministro de medidas de protección o seguridad a quienes las han solicitado o a quienes se encuentran en una notoria condición de amenaza o riesgo personal. Nota: es subsidiaria a aquellas causas que hacen referencia a los daños derivados de secuestro, acto terrorista, entre otros. ",775,{"$f":"+Hoja3!$B515","v":"MUERTE POR INDEBIDA O INSUFICIENTE ADOPCION DE MEDIDAS DE PROTECCION Y SEGURIDAD"}]
[{"$f":"+Hoja3!$F516","v":0},"DAÑOS A BIENES POR INDEBIDA O INSUFICIENTE ADOPCION DE MEDIDAS DE PROTECCION Y SEGURIDAD",{"$f":"IFERROR(FIND(UPPER('Causas nuevas'!$D$4),B516),0)","v":0},{"$f":"+IF(Hoja3!$C516=0,0,1)","v":0},{"$f":"+E515+Hoja3!$D516","v":3},{"$f":"+Hoja3!$E516*Hoja3!$D516","v":0},"DESAGREGAR","INCUMPLIMIENTO DEL DEBER DE PROTECCION Y SEGURIDAD POR PARTE DEL ESTADO",null,null,"JUDICIAL","Daños a bienes derivados de un indebido o insuficiente suministro de medidas de protección o seguridad a quienes las han solicitado o a quienes se encuentran en una notoria condición de amenaza o riesgo personal. Nota: es subsidiaria a aquellas causas que hacen referencia a los daños derivados de secuestro, acto terrorista, entre otros. ",148,{"$f":"+Hoja3!$B516","v":"DAÑOS A BIENES POR INDEBIDA O INSUFICIENTE ADOPCION DE MEDIDAS DE PROTECCION Y SEGURIDAD"}]
[{"$f":"+Hoja3!$F517","v":0},"LESION POR MODIFICACION O REDUCCION DE LAS MEDIDAS DE PROTECCION Y SEGURIDAD",{"$f":"IFERROR(FIND(UPPER('Causas nuevas'!$D$4),B517),0)","v":0},{"$f":"+IF(Hoja3!$C517=0,0,1)","v":0},{"$f":"+E516+Hoja3!$D517","v":3},{"$f":"+Hoja3!$E517*Hoja3!$D517","v":0},"DESAGREGAR","INCUMPLIMIENTO DEL DEBER DE PROTECCION Y SEGURIDAD POR PARTE DEL ESTADO",null,null,"JUDICIAL","Lesión física o síquica derivada de la modificación o reducción de medidas de protección o seguridad a quienes las han solicitado o a quienes se encuentran en una notoria condición de amenaza o riesgo personal. Nota: es subsidiaria a aquellas causas que hacen referencia a los daños derivados de secuestro, acto terrorista, entre otros. ",673,{"$f":"+Hoja3!$B517","v":"LESION POR MODIFICACION O REDUCCION DE LAS MEDIDAS DE PROTECCION Y SEGURIDAD"}]
[{"$f":"+Hoja3!$F518","v":0},"MUERTE POR MODIFICACION O REDUCCION DE LAS MEDIDAS DE PROTECCION Y SEGURIDAD",{"$f":"IFERROR(FIND(UPPER('Causas nuevas'!$D$4),B518),0)","v":0},{"$f":"+IF(Hoja3!$C518=0,0,1)","v":0},{"$f":"+E517+Hoja3!$D518","v":3},{"$f":"+Hoja3!$E518*Hoja3!$D518","v":0},"DESAGREGAR","INCUMPLIMIENTO DEL DEBER DE PROTECCION Y SEGURIDAD POR PARTE DEL ESTADO",null,null,"JUDICIAL","Muerte derivada de la modificación o reducción de medidas de protección o seguridad a quienes las han solicitado o a quienes se encuentran en una notoria condición de amenaza o riesgo personal. Nota: es subsidiaria a aquellas causas que hacen referencia a los daños derivados de secuestro, acto terrorista, entre otros. ",780,{"$f":"+Hoja3!$B518","v":"MUERTE POR MODIFICACION O REDUCCION DE LAS MEDIDAS DE PROTECCION Y SEGURIDAD"}]
[{"$f":"+Hoja3!$F519","v":0},"DAÑOS A BIENES POR MODIFICACION O REDUCCION DE LAS MEDIDAS DE PROTECCION Y SEGURIDAD",{"$f":"IFERROR(FIND(UPPER('Causas nuevas'!$D$4),B519),0)","v":0},{"$f":"+IF(Hoja3!$C519=0,0,1)","v":0},{"$f":"+E518+Hoja3!$D519","v":3},{"$f":"+Hoja3!$E519*Hoja3!$D519","v":0},"DESAGREGAR","INCUMPLIMIENTO DEL DEBER DE PROTECCION Y SEGURIDAD POR PARTE DEL ESTADO",null,null,"JUDICIAL","Daños a bienes derivados de la modificación o reducción de medidas de protección o seguridad a quienes las han solicitado o a quienes se encuentran en una notoria condición de amenaza o riesgo personal. Nota: es subsidiaria a aquellas causas que hacen referencia a los daños derivados de secuestro, acto terrorista, entre otros. ",150,{"$f":"+Hoja3!$B519","v":"DAÑOS A BIENES POR MODIFICACION O REDUCCION DE LAS MEDIDAS DE PROTECCION Y SEGURIDAD"}]
[{"$f":"+Hoja3!$F520","v":0},"LESION POR INDEBIDA PRESTACION DEL SERVICIO DE SALUD GINECO OBSTETRICO",{"$f":"IFERROR(FIND(UPPER('Causas nuevas'!$D$4),B520),0)","v":0},{"$f":"+IF(Hoja3!$C520=0,0,1)","v":0},{"$f":"+E519+Hoja3!$D520","v":3},{"$f":"+Hoja3!$E520*Hoja3!$D520","v":0},"DESAGREGAR","FALLA EN LA PRESTACION DEL SERVICIO DE SALUD",null,null,"JUDICIAL","Lesión fisica o síquica (de la madre o del hijo) derivada de una indebida prestación del servicio de salud gineco obstétrico.",670,{"$f":"+Hoja3!$B520","v":"LESION POR INDEBIDA PRESTACION DEL SERVICIO DE SALUD GINECO OBSTETRICO"}]
[{"$f":"+Hoja3!$F521","v":0},"MUERTE POR INDEBIDA PRESTACION DEL SERVICIO DE SALUD GINECO OBSTETRICO",{"$f":"IFERROR(FIND(UPPER('Causas nuevas'!$D$4),B521),0)","v":0},{"$f":"+IF(Hoja3!$C521=0,0,1)","v":0},{"$f":"+E520+Hoja3!$D521","v":3},{"$f":"+Hoja3!$E521*Hoja3!$D521","v":0},"DESAGREGAR","FALLA EN LA PRESTACION DEL SERVICIO DE SALUD",null,null,"JUDICIAL","Muerte (de la madre o del hijo) derivada de una indebida prestación del servicio de salud gineco obstétrico.",777,{"$f":"+Hoja3!$B521","v":"MUERTE POR INDEBIDA PRESTACION DEL SERVICIO DE SALUD GINECO OBSTETRICO"}]
[{"$f":"+Hoja3!$F522","v":0},"LESION POR INDEBIDO CONSENTIMIENTO INFORMADO EN LA PRESTACION DEL SERVICIO DE SALUD",{"$f":"IFERROR(FIND(UPPER('Causas nuevas'!$D$4),B522),0)","v":0},{"$f":"+IF(Hoja3!$C522=0,0,1)","v":0},{"$f":"+E521+Hoja3!$D522","v":3},{"$f":"+Hoja3!$E522*Hoja3!$D522","v":0},"DESAGREGAR","FALLA EN LA PRESTACION DEL SERVICIO DE SALUD",null,null,"JUDICIAL","Lesión fisica o síquica derivada de una indebida ilustración e información, previa e idónea, al paciente sobre las condiciones y consecuencias del acto médico a efectos de obtener su consentimiento.",671,{"$f":"+Hoja3!$B522","v":"LESION POR INDEBIDO CONSENTIMIENTO INFORMADO EN LA PRESTACION DEL SERVICIO DE SALUD"}]
[{"$f":"+Hoja3!$F523","v":0},"MUERTE POR INDEBIDO CONSENTIMIENTO INFORMADO EN LA PRESTACION DEL SERVICIO DE SALUD",{"$f":"IFERROR(FIND(UPPER('Causas nuevas'!$D$4),B523),0)","v":0},{"$f":"+IF(Hoja3!$C523=0,0,1)","v":0},{"$f":"+E522+Hoja3!$D523","v":3},{"$f":"+Hoja3!$E523*Hoja3!$D523","v":0},"DESAGREGAR","FALLA EN LA PRESTACION DEL SERVICIO DE SALUD",null,null,"JUDICIAL","Muerte derivada de una indebida ilustración e información, previa e idónea, al paciente sobre las condiciones y consecuencias del acto médico a efectos de obtener su consentimiento.",778,{"$f":"+Hoja3!$B523","v":"MUERTE POR INDEBIDO CONSENTIMIENTO INFORMADO EN LA PRESTACION DEL SERVICIO DE SALUD"}]
[{"$f":"+Hoja3!$F524","v":0},"LESION POR INCUMPLIMIENTO DEL DEBER DE SEGURIDAD EN LA ATENCION HOSPITALARIA",{"$f":"IFERROR(FIND(UPPER('Causas nuevas'!$D$4),B524),0)","v":0},{"$f":"+IF(Hoja3!$C524=0,0,1)","v":0},{"$f":"+E523+Hoja3!$D524","v":3},{"$f":"+Hoja3!$E524*Hoja3!$D524","v":0},"DESAGREGAR","FALLA EN LA PRESTACION DEL SERVICIO DE SALUD",null,null,"JUDICIAL","Lesión física o síquica derivada del incumplimiento del deber de vigilancia, custodia y seguridad en la atención hospitalaria.",667,{"$f":"+Hoja3!$B524","v":"LESION POR INCUMPLIMIENTO DEL DEBER DE SEGURIDAD EN LA ATENCION HOSPITALARIA"}]
[{"$f":"+Hoja3!$F525","v":0},"MUERTE POR INCUMPLIMIENTO DEL DEBER DE SEGURIDAD EN LA ATENCION HOSPITALARIA",{"$f":"IFERROR(FIND(UPPER('Causas nuevas'!$D$4),B525),0)","v":0},{"$f":"+IF(Hoja3!$C525=0,0,1)","v":0},{"$f":"+E524+Hoja3!$D525","v":3},{"$f":"+Hoja3!$E525*Hoja3!$D525","v":0},"DESAGREGAR","FALLA EN LA PRESTACION DEL SERVICIO DE SALUD",null,null,"JUDICIAL","Muerte derivada del incumplimiento del deber de vigilancia, custodia y seguridad en la atención hospitalaria.",774,{"$f":"+Hoja3!$B525","v":"MUERTE POR INCUMPLIMIENTO DEL DEBER DE SEGURIDAD EN LA ATENCION HOSPITALARIA"}]
[{"$f":"+Hoja3!$F526","v":0},"LESION POR INDEBIDA PRESTACION DEL SERVICIO DE SALUD",{"$f":"IFERROR(FIND(UPPER('Causas nuevas'!$D$4),B526),0)","v":0},{"$f":"+IF(Hoja3!$C526=0,0,1)","v":0},{"$f":"+E525+Hoja3!$D526","v":3},{"$f":"+Hoja3!$E526*Hoja3!$D526","v":0},"DESAGREGAR","FALLA EN LA PRESTACION DEL SERVICIO DE SALUD",null,null,"JUDICIAL","Lesión fisica o síquica derivada de una indebida prestación del servicio de salud (diagnóstico, acto quirúrgico, acto anestésico, tratamiento).",669,{"$f":"+Hoja3!$B526","v":"LESION POR INDEBIDA PRESTACION DEL SERVICIO DE SALUD"}]
[{"$f":"+Hoja3!$F527","v":0},"MUERTE POR INDEBIDA PRESTACION DEL SERVICIO DE SALUD",{"$f":"IFERROR(FIND(UPPER('Causas nuevas'!$D$4),B527),0)","v":0},{"$f":"+IF(Hoja3!$C527=0,0,1)","v":0},{"$f":"+E526+Hoja3!$D527","v":3},{"$f":"+Hoja3!$E527*Hoja3!$D527","v":0},"DESAGREGAR","FALLA EN LA PRESTACION DEL SERVICIO DE SALUD",null,null,"JUDICIAL","Muerte (de la madre o del hijo) de una indebida prestación del servicio de salud (diagnóstico, acto quirúrgico, acto anestésico, tratamiento).",776,{"$f":"+Hoja3!$B527","v":"MUERTE POR INDEBIDA PRESTACION DEL SERVICIO DE SALUD"}]
[{"$f":"+Hoja3!$F528","v":0},"LESION EN OPERACION ADMINISTRATIVA",{"$f":"IFERROR(FIND(UPPER('Causas nuevas'!$D$4),B528),0)","v":0},{"$f":"+IF(Hoja3!$C528=0,0,1)","v":0},{"$f":"+E527+Hoja3!$D528","v":3},{"$f":"+Hoja3!$E528*Hoja3!$D528","v":0},"DESAGREGAR","DAÑOS CAUSADOS POR OPERACION ADMINISTRATIVA",null,null,"JUDICIAL","Lesión física o síquica con ocasión de la ejecución material de un acto administrativo (no incluye aquellos ejecutados por la Policía). ",657,{"$f":"+Hoja3!$B528","v":"LESION EN OPERACION ADMINISTRATIVA"}]
[{"$f":"+Hoja3!$F529","v":0},"MUERTE EN OPERACION ADMINISTRATIVA",{"$f":"IFERROR(FIND(UPPER('Causas nuevas'!$D$4),B529),0)","v":0},{"$f":"+IF(Hoja3!$C529=0,0,1)","v":0},{"$f":"+E528+Hoja3!$D529","v":3},{"$f":"+Hoja3!$E529*Hoja3!$D529","v":0},"DESAGREGAR","DAÑOS CAUSADOS POR OPERACION ADMINISTRATIVA",null,null,"JUDICIAL","Muerte con ocasión de la ejecución material de un acto administrativo (no incluye aquellos ejecutados por la Policía). ",761,{"$f":"+Hoja3!$B529","v":"MUERTE EN OPERACION ADMINISTRATIVA"}]
[{"$f":"+Hoja3!$F530","v":0},"DAÑOS A BIENES EN OPERACION ADMINISTRATIVA",{"$f":"IFERROR(FIND(UPPER('Causas nuevas'!$D$4),B530),0)","v":0},{"$f":"+IF(Hoja3!$C530=0,0,1)","v":0},{"$f":"+E529+Hoja3!$D530","v":3},{"$f":"+Hoja3!$E530*Hoja3!$D530","v":0},"DESAGREGAR","DAÑOS CAUSADOS POR OPERACION ADMINISTRATIVA",null,null,"JUDICIAL","Daño a bien mueble o inmueble con ocasión de la ejecución material de un acto administrativo (no incluye aquellos ejecutados por la Policía). ",134,{"$f":"+Hoja3!$B530","v":"DAÑOS A BIENES EN OPERACION ADMINISTRATIVA"}]
[{"$f":"+Hoja3!$F531","v":0},"LESION DE MIEMBRO VOLUNTARIO DE LA FUERZA PUBLICA POR DESCONOCIDOS",{"$f":"IFERROR(FIND(UPPER('Causas nuevas'!$D$4),B531),0)","v":0},{"$f":"+IF(Hoja3!$C531=0,0,1)","v":0},{"$f":"+E530+Hoja3!$D531","v":3},{"$f":"+Hoja3!$E531*Hoja3!$D531","v":0},"NUEVA",{"$nulls":3},"JUDICIAL","Lesión física o síquica de miembro voluntario de la fuerza pública (quien no presta servicio militar obligatorio) por terceros desconocidos, con ocación de su calidad de miembro de la fuerza pública.",652,{"$f":"+Hoja3!$B531","v":"LESION DE MIEMBRO VOLUNTARIO DE LA FUERZA PUBLICA POR DESCONOCIDOS"}]
[{"$f":"+Hoja3!$F532","v":0},"LESION DE CONSCRIPTO POR DESCONOCIDOS",{"$f":"IFERROR(FIND(UPPER('Causas nuevas'!$D$4),B532),0)","v":0},{"$f":"+IF(Hoja3!$C532=0,0,1)","v":0},{"$f":"+E531+Hoja3!$D532","v":3},{"$f":"+Hoja3!$E532*Hoja3!$D532","v":0},"NUEVA",{"$nulls":3},"JUDICIAL","Lesión física o síquica a conscripto (quien presta servicio militar obligatorio) por terceros desconocidos, con ocación de su calidad de conscripto.",651,{"$f":"+Hoja3!$B532","v":"LESION DE CONSCRIPTO POR DESCONOCIDOS"}]
[{"$f":"+Hoja3!$F533","v":0},"MUERTE DE CONSCRIPTO POR DESCONOCIDOS",{"$f":"IFERROR(FIND(UPPER('Causas nuevas'!$D$4),B533),0)","v":0},{"$f":"+IF(Hoja3!$C533=0,0,1)","v":0},{"$f":"+E532+Hoja3!$D533","v":3},{"$f":"+Hoja3!$E533*Hoja3!$D533","v":0},"NUEVA",{"$nulls":3},"JUDICIAL","Muerte de conscripto (quien presta servicio militar obligatorio) por terceros desconocidos, con ocación de su calidad de conscripto.",729,{"$f":"+Hoja3!$B533","v":"MUERTE DE CONSCRIPTO POR DESCONOCIDOS"}]
[{"$f":"+Hoja3!$F534","v":0},"LESION EN ZONA DE DISTENSION",{"$f":"IFERROR(FIND(UPPER('Causas nuevas'!$D$4),B534),0)","v":0},{"$f":"+IF(Hoja3!$C534=0,0,1)","v":0},{"$f":"+E533+Hoja3!$D534","v":3},{"$f":"+Hoja3!$E534*Hoja3!$D534","v":0},"DESAGREGAR","DAÑOS CAUSADOS EN ZONA DE DISTENSION",null,null,"JUDICIAL","Lesión física o síquica en una zona de distensión (zona geográfica libre de presencia de la fuerza pública) y con ocación de la implementación de dicha medida.",658,{"$f":"+Hoja3!$B534","v":"LESION EN ZONA DE DISTENSION"}]
[{"$f":"+Hoja3!$F535","v":0},"MUERTE EN ZONA DE DISTENSION",{"$f":"IFERROR(FIND(UPPER('Causas nuevas'!$D$4),B535),0)","v":0},{"$f":"+IF(Hoja3!$C535=0,0,1)","v":0},{"$f":"+E534+Hoja3!$D535","v":3},{"$f":"+Hoja3!$E535*Hoja3!$D535","v":0},"DESAGREGAR","DAÑOS CAUSADOS EN ZONA DE DISTENSION",null,null,"JUDICIAL","Muerte en una zona de distensión (zona geográfica libre de presencia de la fuerza pública) y con ocación de la implementación de dicha medida.",762,{"$f":"+Hoja3!$B535","v":"MUERTE EN ZONA DE DISTENSION"}]
[{"$f":"+Hoja3!$F536","v":0},"DAÑOS A BIENES EN ZONA DE DISTENSION",{"$f":"IFERROR(FIND(UPPER('Causas nuevas'!$D$4),B536),0)","v":0},{"$f":"+IF(Hoja3!$C536=0,0,1)","v":0},{"$f":"+E535+Hoja3!$D536","v":3},{"$f":"+Hoja3!$E536*Hoja3!$D536","v":0},"DESAGREGAR","DAÑOS CAUSADOS EN ZONA DE DISTENSION",null,null,"JUDICIAL","Daños a bienes muebles e inmuebles en una zona de distensión (zona geográfica libre de presencia de la fuerza pública) y con ocación de la implementación de dicha medida.",136,{"$f":"+Hoja3!$B536","v":"DAÑOS A BIENES EN ZONA DE DISTENSION"}]
[{"$f":"+Hoja3!$F537","v":0},"LESION POR ACTIVIDAD MINERA",{"$f":"IFERROR(FIND(UPPER('Causas nuevas'!$D$4),B537),0)","v":0},{"$f":"+IF(Hoja3!$C537=0,0,1)","v":0},{"$f":"+E536+Hoja3!$D537","v":3},{"$f":"+Hoja3!$E537*Hoja3!$D537","v":0},"DESAGREGAR","DAÑOS CAUSADOS POR EXPLORACION Y/O EXPLOTACION MINERA Y DE HIDROCARBUROS",null,null,"JUDICIAL","Lesión física o síquica con ocasión de la actividad minera, comprende las etapas de cateo y prospección, exploración, explotación, beneficio, labor general, transporte, comercialización, cierre y post cierre.",660,{"$f":"+Hoja3!$B537","v":"LESION POR ACTIVIDAD MINERA"}]
[{"$f":"+Hoja3!$F538","v":0},"MUERTE POR ACTIVIDAD MINERA",{"$f":"IFERROR(FIND(UPPER('Causas nuevas'!$D$4),B538),0)","v":0},{"$f":"+IF(Hoja3!$C538=0,0,1)","v":0},{"$f":"+E537+Hoja3!$D538","v":3},{"$f":"+Hoja3!$E538*Hoja3!$D538","v":0},"DESAGREGAR","DAÑOS CAUSADOS POR EXPLORACION Y/O EXPLOTACION MINERA Y DE HIDROCARBUROS",null,null,"JUDICIAL","Muerte con ocasión de la actividad minera, comprende las etapas de cateo y prospección, exploración, explotación, beneficio, labor general, transporte, comercialización, cierre y post cierre.",765,{"$f":"+Hoja3!$B538","v":"MUERTE POR ACTIVIDAD MINERA"}]
[{"$f":"+Hoja3!$F539","v":0},"DAÑOS A BIENES POR ACTIVIDAD MINERA",{"$f":"IFERROR(FIND(UPPER('Causas nuevas'!$D$4),B539),0)","v":0},{"$f":"+IF(Hoja3!$C539=0,0,1)","v":0},{"$f":"+E538+Hoja3!$D539","v":3},{"$f":"+Hoja3!$E539*Hoja3!$D539","v":0},"DESAGREGAR","DAÑOS CAUSADOS POR EXPLORACION Y/O EXPLOTACION MINERA Y DE HIDROCARBUROS",null,null,"JUDICIAL","Daños a bienes muebles e inmuebles con ocasión de la actividad minera, comprende las etapas de cateo y prospección, exploración, explotación, beneficio, labor general, transporte, comercialización, cierre y post cierre.",138,{"$f":"+Hoja3!$B539","v":"DAÑOS A BIENES POR ACTIVIDAD MINERA"}]
[{"$f":"+Hoja3!$F540","v":0},"LESION POR ACTIVIDAD DEL SECTOR DE HIDROCARBUROS",{"$f":"IFERROR(FIND(UPPER('Causas nuevas'!$D$4),B540),0)","v":0},{"$f":"+IF(Hoja3!$C540=0,0,1)","v":0},{"$f":"+E539+Hoja3!$D540","v":3},{"$f":"+Hoja3!$E540*Hoja3!$D540","v":0},"DESAGREGAR","DAÑOS CAUSADOS POR EXPLORACION Y/O EXPLOTACION MINERA Y DE HIDROCARBUROS",null,null,"JUDICIAL","Lesión física o síquica con ocasión de la actividad del sector de hidrocarburos (material orgánico compuesto principalmente por hidrógeno y carbono), comprende las actividades de exploración sísmica, exploración perforatoria, producción, refinación, transporte y comercialización.",659,{"$f":"+Hoja3!$B540","v":"LESION POR ACTIVIDAD DEL SECTOR DE HIDROCARBUROS"}]
[{"$f":"+Hoja3!$F541","v":0},"MUERTE POR ACTIVIDAD DEL SECTOR DE HIDROCARBUROS",{"$f":"IFERROR(FIND(UPPER('Causas nuevas'!$D$4),B541),0)","v":0},{"$f":"+IF(Hoja3!$C541=0,0,1)","v":0},{"$f":"+E540+Hoja3!$D541","v":3},{"$f":"+Hoja3!$E541*Hoja3!$D541","v":0},"DESAGREGAR","DAÑOS CAUSADOS POR EXPLORACION Y/O EXPLOTACION MINERA Y DE HIDROCARBUROS",null,null,"JUDICIAL","Muerte con ocasión de la actividad del sector de hidrocarburos (material orgánico compuesto principalmente por hidrógeno y carbono), comprende las actividades de exploración sísmica, exploración perforatoria, producción, refinación, transporte y comercialización.",764,{"$f":"+Hoja3!$B541","v":"MUERTE POR ACTIVIDAD DEL SECTOR DE HIDROCARBUROS"}]
[{"$f":"+Hoja3!$F542","v":0},"DAÑOS A BIENES POR ACTIVIDAD DEL SECTOR DE HIDROCARBUROS",{"$f":"IFERROR(FIND(UPPER('Causas nuevas'!$D$4),B542),0)","v":0},{"$f":"+IF(Hoja3!$C542=0,0,1)","v":0},{"$f":"+E541+Hoja3!$D542","v":3},{"$f":"+Hoja3!$E542*Hoja3!$D542","v":0},"DESAGREGAR","DAÑOS CAUSADOS POR EXPLORACION Y/O EXPLOTACION MINERA Y DE HIDROCARBUROS",null,null,"JUDICIAL","Daños a bienes muebles e inmuebles con ocasión de la actividad del sector de hidrocarburos (material orgánico compuesto principalmente por hidrógeno y carbono), comprende las actividades de exploración sísmica, exploración perforatoria, producción, refinación, transporte y comercialización.",137,{"$f":"+Hoja3!$B542","v":"DAÑOS A BIENES POR ACTIVIDAD DEL SECTOR DE HIDROCARBUROS"}]
[{"$f":"+Hoja3!$F543","v":0},"PERDIDA O DAÑOS A BIENES EMBARGADOS O SECUESTRADOS",{"$f":"IFERROR(FIND(UPPER('Causas nuevas'!$D$4),B543),0)","v":0},{"$f":"+IF(Hoja3!$C543=0,0,1)","v":0},{"$f":"+E542+Hoja3!$D543","v":3},{"$f":"+Hoja3!$E543*Hoja3!$D543","v":0},"NUEVA",{"$nulls":3},"JUDICIAL","Pérdida o deterioro de bienes muebles o inmuebles embargados o secuestrados.",868,{"$f":"+Hoja3!$B543","v":"PERDIDA O DAÑOS A BIENES EMBARGADOS O SECUESTRADOS"}]
[{"$f":"+Hoja3!$F544","v":0},"MORA EN LA ENTREGA DE BIEN EMBARGADO O SECUESTRADO",{"$f":"IFERROR(FIND(UPPER('Causas nuevas'!$D$4),B544),0)","v":0},{"$f":"+IF(Hoja3!$C544=0,0,1)","v":0},{"$f":"+E543+Hoja3!$D544","v":3},{"$f":"+Hoja3!$E544*Hoja3!$D544","v":0},"NUEVA",{"$nulls":3},"JUDICIAL","Mora en la entrega de bienes muebles o inmuebles embargados o secuestrados cuando ya se ha ordenado la entrega.",691,{"$f":"+Hoja3!$B544","v":"MORA EN LA ENTREGA DE BIEN EMBARGADO O SECUESTRADO"}]
[{"$f":"+Hoja3!$F545","v":0},"DESPIDO INDIRECTO DE FUNCIONARIO PUBLICO",{"$f":"IFERROR(FIND(UPPER('Causas nuevas'!$D$4),B545),0)","v":0},{"$f":"+IF(Hoja3!$C545=0,0,1)","v":0},{"$f":"+E544+Hoja3!$D545","v":3},{"$f":"+Hoja3!$E545*Hoja3!$D545","v":0},"NUEVA",{"$nulls":3},"JUDICIAL","El funcionario público pone término a la relación laboral legal y reglamentaria con el Estado mediante renuncia motivada, por considerar que el empleador ha incurrido en un grave incumplimiento de sus obligaciones legales, contractuales o convencionales.",221,{"$f":"+Hoja3!$B545","v":"DESPIDO INDIRECTO DE FUNCIONARIO PUBLICO"}]
[{"$f":"+Hoja3!$F546","v":0},"INDEBIDA LIQUIDACION DE PENSION DE VEJEZ",{"$f":"IFERROR(FIND(UPPER('Causas nuevas'!$D$4),B546),0)","v":0},{"$f":"+IF(Hoja3!$C546=0,0,1)","v":0},{"$f":"+E545+Hoja3!$D546","v":3},{"$f":"+Hoja3!$E546*Hoja3!$D546","v":0},"DESAGREGAR","ILEGALIDAD DEL ACTO ADMINISTRATIVO QUE LIQUIDA PENSION",null,null,"JUDICIAL","Liquidación irregular de la pensión de vejez por: no contabilización del número total de semanas, indebido cálculo de la tasa de retorno, desconocimiento de régimen de transición, nuevos factores salariales, entre otros, por lo que se pretende su reliquidación. La pensión de vejez es una prestación económica que consiste en obtener una renta mensual que se otorga en forma vitalicia a partir del cumplimiento de los requisitos de edad y tiempo cotizado.",562,{"$f":"+Hoja3!$B546","v":"INDEBIDA LIQUIDACION DE PENSION DE VEJEZ"}]
[{"$f":"+Hoja3!$F547","v":0},"INDEBIDA LIQUIDACION DE PENSION DE INVALIDEZ",{"$f":"IFERROR(FIND(UPPER('Causas nuevas'!$D$4),B547),0)","v":0},{"$f":"+IF(Hoja3!$C547=0,0,1)","v":0},{"$f":"+E546+Hoja3!$D547","v":3},{"$f":"+Hoja3!$E547*Hoja3!$D547","v":0},"DESAGREGAR","ILEGALIDAD DEL ACTO ADMINISTRATIVO QUE LIQUIDA PENSION",null,null,"JUDICIAL","Liquidación irregular de la pensión de invalidez por no contabilización del número total de semanas, indebido cálculo de la tasa de retorno, desconocimiento de régimen de transición, nuevos factores salariales, entre otros, por lo que se pretende su reliquidación. La pensión de invalidez es una prestación económica que consiste en el pago de una renta mensual denominada pensión a una persona que ha sido calificada como inválida y cuya enfermedad o patología es de origen común.",560,{"$f":"+Hoja3!$B547","v":"INDEBIDA LIQUIDACION DE PENSION DE INVALIDEZ"}]
[{"$f":"+Hoja3!$F548","v":0},"INDEBIDA LIQUIDACION DE PENSION DE SOBREVIVIENTE",{"$f":"IFERROR(FIND(UPPER('Causas nuevas'!$D$4),B548),0)","v":0},{"$f":"+IF(Hoja3!$C548=0,0,1)","v":0},{"$f":"+E547+Hoja3!$D548","v":3},{"$f":"+Hoja3!$E548*Hoja3!$D548","v":0},"DESAGREGAR","ILEGALIDAD DEL ACTO ADMINISTRATIVO QUE LIQUIDA PENSION",null,null,"JUDICIAL","Liquidación irregular de la pensión de sobreviviente por no contabilización del número total de semanas, indebido cálculo de la tasa de retorno, desconocimiento de régimen de transición, nuevos factores salariales, entre otros, por lo que se pretende su reliquidación. La pensión de sobrevivientes es una prestación económica que se causa por la muerte de un afiliado activo al sistema de seguridad social.",561,{"$f":"+Hoja3!$B548","v":"INDEBIDA LIQUIDACION DE PENSION DE SOBREVIVIENTE"}]
[{"$f":"+Hoja3!$F549","v":0},"INCUMPLIMIENTO EN EL PAGO DE PENSION DE VEJEZ",{"$f":"IFERROR(FIND(UPPER('Causas nuevas'!$D$4),B549),0)","v":0},{"$f":"+IF(Hoja3!$C549=0,0,1)","v":0},{"$f":"+E548+Hoja3!$D549","v":3},{"$f":"+Hoja3!$E549*Hoja3!$D549","v":0},"DESAGREGAR","INCUMPLIMIENTO EN EL PAGO DE LA PENSION",null,null,"JUDICIAL","Mora o no pago de la pensión de vejez ya reconocida. La pensión de vejez es una prestación económica que consiste en obtener una renta mensual que se otorga en forma vitalicia a partir del cumplimiento de los requisitos de edad y tiempo cotizado.",516,{"$f":"+Hoja3!$B549","v":"INCUMPLIMIENTO EN EL PAGO DE PENSION DE VEJEZ"}]
[{"$f":"+Hoja3!$F550","v":0},"INCUMPLIMIENTO EN EL PAGO DE PENSION DE INVALIDEZ",{"$f":"IFERROR(FIND(UPPER('Causas nuevas'!$D$4),B550),0)","v":0},{"$f":"+IF(Hoja3!$C550=0,0,1)","v":0},{"$f":"+E549+Hoja3!$D550","v":3},{"$f":"+Hoja3!$E550*Hoja3!$D550","v":0},"DESAGREGAR","INCUMPLIMIENTO EN EL PAGO DE LA PENSION",null,null,"JUDICIAL","Mora o no pago de la pensión de invalidez ya reconocida. La pensión de invalidez es una prestación económica que consiste en el pago de una renta mensual denominada pensión a una persona que ha sido calificada como inválida y cuya enfermedad o patología es de origen común.",514,{"$f":"+Hoja3!$B550","v":"INCUMPLIMIENTO EN EL PAGO DE PENSION DE INVALIDEZ"}]
[{"$f":"+Hoja3!$F551","v":0},"INCUMPLIMIENTO EN EL PAGO DE PENSION DE SOBREVIVIENTE",{"$f":"IFERROR(FIND(UPPER('Causas nuevas'!$D$4),B551),0)","v":0},{"$f":"+IF(Hoja3!$C551=0,0,1)","v":0},{"$f":"+E550+Hoja3!$D551","v":3},{"$f":"+Hoja3!$E551*Hoja3!$D551","v":0},"DESAGREGAR","INCUMPLIMIENTO EN EL PAGO DE LA PENSION",null,null,"JUDICIAL","Mora o no pago de la pensión de sobreviviente ya reconocida. La pensión de sobrevivientes es una prestación económica que se causa por la muerte de un afiliado activo al sistema de seguridad social.",515,{"$f":"+Hoja3!$B551","v":"INCUMPLIMIENTO EN EL PAGO DE PENSION DE SOBREVIVIENTE"}]
[{"$f":"+Hoja3!$F552","v":0},"INDEBIDA LIQUIDACION DEL AUXILIO FUNERARIO",{"$f":"IFERROR(FIND(UPPER('Causas nuevas'!$D$4),B552),0)","v":0},{"$f":"+IF(Hoja3!$C552=0,0,1)","v":0},{"$f":"+E551+Hoja3!$D552","v":3},{"$f":"+Hoja3!$E552*Hoja3!$D552","v":0},"NUEVA",{"$nulls":3},"JUDICIAL","Liquidación irregular del auxilio funerario, por lo que se pretende su reliquidación. El auxilio funerario es una prestación económica que se genera cuando fallece el afiliado o pensionado por vejez o invalidez y, se paga a la persona que demuestre haber sufragado los gastos fúnebres o de entierro.",579,{"$f":"+Hoja3!$B552","v":"INDEBIDA LIQUIDACION DEL AUXILIO FUNERARIO"}]
[{"$f":"+Hoja3!$F553","v":0},"INCUMPLIMIENTO EN EL PAGO DEL AUXILIO FUNERARIO",{"$f":"IFERROR(FIND(UPPER('Causas nuevas'!$D$4),B553),0)","v":0},{"$f":"+IF(Hoja3!$C553=0,0,1)","v":0},{"$f":"+E552+Hoja3!$D553","v":3},{"$f":"+Hoja3!$E553*Hoja3!$D553","v":0},"NUEVA",{"$nulls":3},"JUDICIAL","Mora o no pago del auxilio funerario ya reconocido. El auxilio funerario es una prestación económica que se genera cuando fallece el afiliado o pensionado por vejez o invalidez y, se paga a la persona que demuestre haber sufragado los gastos fúnebres o de entierro.",535,{"$f":"+Hoja3!$B553","v":"INCUMPLIMIENTO EN EL PAGO DEL AUXILIO FUNERARIO"}]
[{"$f":"+Hoja3!$F554","v":0},"NO RECONOCIMIENTO DE INCREMENTO DE PENSION DE VEJEZ",{"$f":"IFERROR(FIND(UPPER('Causas nuevas'!$D$4),B554),0)","v":0},{"$f":"+IF(Hoja3!$C554=0,0,1)","v":0},{"$f":"+E553+Hoja3!$D554","v":3},{"$f":"+Hoja3!$E554*Hoja3!$D554","v":0},"DESAGREGAR","NO RECONOCIMIENTO DE INCREMENTO PENSIONAL",null,null,"JUDICIAL","Desconocimiento del derecho al incremento de la pensión de vejez por cónyuge, compañero o compañera permanente y cada uno de los hijos e hijas dependientes que establece el Decreto 758 de 1990. La pensión de vejez es una prestación económica que consiste en obtener una renta mensual que se otorga en forma vitalicia a partir del cumplimiento de los requisitos de edad y tiempo cotizado.",802,{"$f":"+Hoja3!$B554","v":"NO RECONOCIMIENTO DE INCREMENTO DE PENSION DE VEJEZ"}]
[{"$f":"+Hoja3!$F555","v":0},"NO RECONOCIMIENTO DE INCREMENTO DE PENSION DE INVALIDEZ",{"$f":"IFERROR(FIND(UPPER('Causas nuevas'!$D$4),B555),0)","v":0},{"$f":"+IF(Hoja3!$C555=0,0,1)","v":0},{"$f":"+E554+Hoja3!$D555","v":3},{"$f":"+Hoja3!$E555*Hoja3!$D555","v":0},"DESAGREGAR","NO RECONOCIMIENTO DE INCREMENTO PENSIONAL",null,null,"JUDICIAL","Desconocimiento del derecho al incremento de la pensión de invalidez por cónyuge, compañero o compañera permanente y cada uno de los hijos e hijas dependientes que establece el Decreto 758 de 1990. La pensión de invalidez es una prestación económica que consiste en el pago de una renta mensual denominada pensión a una persona que ha sido calificada como inválida y cuya enfermedad o patología es de origen común.",801,{"$f":"+Hoja3!$B555","v":"NO RECONOCIMIENTO DE INCREMENTO DE PENSION DE INVALIDEZ"}]
[{"$f":"+Hoja3!$F556","v":0},"INDEBIDA LIQUIDACION DE INCREMENTO DE PENSION DE VEJEZ",{"$f":"IFERROR(FIND(UPPER('Causas nuevas'!$D$4),B556),0)","v":0},{"$f":"+IF(Hoja3!$C556=0,0,1)","v":0},{"$f":"+E555+Hoja3!$D556","v":3},{"$f":"+Hoja3!$E556*Hoja3!$D556","v":0},"NUEVA",{"$nulls":3},"JUDICIAL","Liquidación irregular de incremento de la pensión de vejez por cónyuge, compañero o compañera permanente o hijos e hijas dependientes que establece el Decreto 758 de 1990, por lo que se pretende su reliquidación. La pensión de vejez es una prestación económica que consiste en obtener una renta mensual que se otorga en forma vitalicia a partir del cumplimiento de los requisitos de edad y tiempo cotizado.",551,{"$f":"+Hoja3!$B556","v":"INDEBIDA LIQUIDACION DE INCREMENTO DE PENSION DE VEJEZ"}]
[{"$f":"+Hoja3!$F557","v":0},"INDEBIDA LIQUIDACION DE INCREMENTO DE PENSION DE INVALIDEZ",{"$f":"IFERROR(FIND(UPPER('Causas nuevas'!$D$4),B557),0)","v":0},{"$f":"+IF(Hoja3!$C557=0,0,1)","v":0},{"$f":"+E556+Hoja3!$D557","v":3},{"$f":"+Hoja3!$E557*Hoja3!$D557","v":0},"NUEVA",{"$nulls":3},"JUDICIAL","Liquidación irregular de incremento de la pensión de invalidez por cónyuge, compañero o compañera permanente o hijos e hijas dependientes que establece el Decreto 758 de 1990, por lo que se pretende su reliquidación. La pensión de invalidez es una prestación económica que consiste en el pago de una renta mensual denominada pensión a una persona que ha sido calificada como inválida y cuya enfermedad o patología es de origen común.",550,{"$f":"+Hoja3!$B557","v":"INDEBIDA LIQUIDACION DE INCREMENTO DE PENSION DE INVALIDEZ"}]
[{"$f":"+Hoja3!$F558","v":0},"INCUMPLIMIENTO EN EL PAGO DE INCREMENTO DE PENSION DE VEJEZ",{"$f":"IFERROR(FIND(UPPER('Causas nuevas'!$D$4),B558),0)","v":0},{"$f":"+IF(Hoja3!$C558=0,0,1)","v":0},{"$f":"+E557+Hoja3!$D558","v":3},{"$f":"+Hoja3!$E558*Hoja3!$D558","v":0},"NUEVA",{"$nulls":3},"JUDICIAL","Mora o no pago de incremento de la pensión de vejez por cónyuge, compañero o compañera permanente o hijos e hijas dependientes que establece el Decreto 758 de 1990, ya reconocido. La pensión de vejez es una prestación económica que consiste en obtener una renta mensual que se otorga en forma vitalicia a partir del cumplimiento de los requisitos de edad y tiempo cotizado. ",502,{"$f":"+Hoja3!$B558","v":"INCUMPLIMIENTO EN EL PAGO DE INCREMENTO DE PENSION DE VEJEZ"}]
[{"$f":"+Hoja3!$F559","v":0},"INCUMPLIMIENTO EN EL PAGO DE INCREMENTO DE PENSION DE INVALIDEZ",{"$f":"IFERROR(FIND(UPPER('Causas nuevas'!$D$4),B559),0)","v":0},{"$f":"+IF(Hoja3!$C559=0,0,1)","v":0},{"$f":"+E558+Hoja3!$D559","v":3},{"$f":"+Hoja3!$E559*Hoja3!$D559","v":0},"NUEVA",{"$nulls":3},"JUDICIAL","Mora o no pago de incremento de la pensión de invalidez por cónyuge, compañero o compañera permanente o hijos e hijas dependientes que establece el Decreto 758 de 1990, ya reconocido. La pensión de invalidez es una prestación económica que consiste en el pago de una renta mensual denominada pensión a una persona que ha sido calificada como inválida y cuya enfermedad o patología es de origen común.",501,{"$f":"+Hoja3!$B559","v":"INCUMPLIMIENTO EN EL PAGO DE INCREMENTO DE PENSION DE INVALIDEZ"}]
[{"$f":"+Hoja3!$F560","v":0},"NO RECONOCIMIENTO DE RETROACTIVO DE PENSION DE VEJEZ",{"$f":"IFERROR(FIND(UPPER('Causas nuevas'!$D$4),B560),0)","v":0},{"$f":"+IF(Hoja3!$C560=0,0,1)","v":0},{"$f":"+E559+Hoja3!$D560","v":3},{"$f":"+Hoja3!$E560*Hoja3!$D560","v":0},"DESAGREGAR","NO RECONOCIMIENTO DE RETROACTIVO PENSIONAL",null,null,"JUDICIAL","Desconocimiento del derecho a percibir el retroactivo de la pensión de vejez. El retroactivo de la pensión de vejez corresponde a las mesadas causadas entre el momento del cumplimiento de requisitos para acceder a una prestación pensional de vejez y el ingreso efectivo a la nómina de pensionados. La pensión de vejez es una prestación económica que consiste en obtener una renta mensual que se otorga en forma vitalicia a partir del cumplimiento de los requisitos de edad y tiempo cotizado.",832,{"$f":"+Hoja3!$B560","v":"NO RECONOCIMIENTO DE RETROACTIVO DE PENSION DE VEJEZ"}]
[{"$f":"+Hoja3!$F561","v":0},"NO RECONOCIMIENTO DE RETROACTIVO DE PENSION DE INVALIDEZ",{"$f":"IFERROR(FIND(UPPER('Causas nuevas'!$D$4),B561),0)","v":0},{"$f":"+IF(Hoja3!$C561=0,0,1)","v":0},{"$f":"+E560+Hoja3!$D561","v":3},{"$f":"+Hoja3!$E561*Hoja3!$D561","v":0},"DESAGREGAR","NO RECONOCIMIENTO DE RETROACTIVO PENSIONAL",null,null,"JUDICIAL","Desconocimiento del derecho a percibir el retroactivo de la pensión de invalidez. El retroactivo de la pensión de invalidez corresponde a las mesadas causadas entre el momento en que se declara la pérdida de la capacidad laboral y el ingreso efectivo a la nómina de pensionados. La pensión de invalidez es una prestación económica que consiste en el pago de una renta mensual denominada pensión a una persona que ha sido calificada como inválida y cuya enfermedad o patología es de origen común.",831,{"$f":"+Hoja3!$B561","v":"NO RECONOCIMIENTO DE RETROACTIVO DE PENSION DE INVALIDEZ"}]
[{"$f":"+Hoja3!$F562","v":0},"INDEBIDA LIQUIDACION DE RETROACTIVO DE PENSION DE VEJEZ",{"$f":"IFERROR(FIND(UPPER('Causas nuevas'!$D$4),B562),0)","v":0},{"$f":"+IF(Hoja3!$C562=0,0,1)","v":0},{"$f":"+E561+Hoja3!$D562","v":3},{"$f":"+Hoja3!$E562*Hoja3!$D562","v":0},"NUEVA",{"$nulls":3},"JUDICIAL","Liquidación irregular del retroactivo de la pensión de vejez, por lo que se pretende su reliquidación. El retroactivo de la pensión de vejez corresponde a las mesadas causadas entre el momento del cumplimiento de requisitos para acceder a una prestación pensional de vejez y el ingreso efectivo a la nómina de pensionados. La pensión de vejez es una prestación económica que consiste en obtener una renta mensual que se otorga en forma vitalicia a partir del cumplimiento de los requisitos de edad y tiempo cotizado.",574,{"$f":"+Hoja3!$B562","v":"INDEBIDA LIQUIDACION DE RETROACTIVO DE PENSION DE VEJEZ"}]
[{"$f":"+Hoja3!$F563","v":0},"INDEBIDA LIQUIDACION DE RETROACTIVO DE PENSION DE INVALIDEZ",{"$f":"IFERROR(FIND(UPPER('Causas nuevas'!$D$4),B563),0)","v":0},{"$f":"+IF(Hoja3!$C563=0,0,1)","v":0},{"$f":"+E562+Hoja3!$D563","v":3},{"$f":"+Hoja3!$E563*Hoja3!$D563","v":0},"NUEVA",{"$nulls":3},"JUDICIAL","Liquidación irregular del retroactivo de la pensión de invalidez, por lo que se pretende su reliquidación. El retroactivo de la pensión de invalidez corresponde a las mesadas causadas entre el momento en que se declara la pérdida de la capacidad laboral y el ingreso efectivo a la nómina de pensionados. La pensión de invalidez es una prestación económica que consiste en el pago de una renta mensual denominada pensión a una persona que ha sido calificada como inválida y cuya enfermedad o patología es de origen común.",573,{"$f":"+Hoja3!$B563","v":"INDEBIDA LIQUIDACION DE RETROACTIVO DE PENSION DE INVALIDEZ"}]
[{"$f":"+Hoja3!$F564","v":0},"INCUMPLIMIENTO EN EL PAGO DE RETROACTIVO DE PENSION DE VEJEZ",{"$f":"IFERROR(FIND(UPPER('Causas nuevas'!$D$4),B564),0)","v":0},{"$f":"+IF(Hoja3!$C564=0,0,1)","v":0},{"$f":"+E563+Hoja3!$D564","v":3},{"$f":"+Hoja3!$E564*Hoja3!$D564","v":0},"NUEVA",{"$nulls":3},"JUDICIAL","Mora o no pago del retroactivo de la pensión de vejez ya reconocido. El retroactivo de la pensión de vejez corresponde a las mesadas causadas entre el momento del cumplimiento de requisitos para acceder a una prestación pensional de vejez y el ingreso efectivo a la nómina de pensionados. La pensión de vejez es una prestación económica que consiste en obtener una renta mensual que se otorga en forma vitalicia a partir del cumplimiento de los requisitos de edad y tiempo cotizado.",528,{"$f":"+Hoja3!$B564","v":"INCUMPLIMIENTO EN EL PAGO DE RETROACTIVO DE PENSION DE VEJEZ"}]
[{"$f":"+Hoja3!$F565","v":0},"INCUMPLIMIENTO EN EL PAGO DE RETROACTIVO DE PENSION DE INVALIDEZ",{"$f":"IFERROR(FIND(UPPER('Causas nuevas'!$D$4),B565),0)","v":0},{"$f":"+IF(Hoja3!$C565=0,0,1)","v":0},{"$f":"+E564+Hoja3!$D565","v":3},{"$f":"+Hoja3!$E565*Hoja3!$D565","v":0},"NUEVA",{"$nulls":3},"JUDICIAL","Mora o no pago del retroactivo de la pensión de invalidez ya reconocida. El retroactivo de la pensión de invalidez corresponde a las mesadas causadas entre el momento en que se declara la pérdida de la capacidad laboral y el ingreso efectivo a la nómina de pensionados. La pensión de invalidez es una prestación económica que consiste en el pago de una renta mensual denominada pensión a una persona que ha sido calificada como inválida y cuya enfermedad o patología es de origen común.",527,{"$f":"+Hoja3!$B565","v":"INCUMPLIMIENTO EN EL PAGO DE RETROACTIVO DE PENSION DE INVALIDEZ"}]
[{"$f":"+Hoja3!$F566","v":0},"NO RECONOCIMIENTO DE LA INDEXACION Y REAJUSTE DE LA PENSION DE VEJEZ",{"$f":"IFERROR(FIND(UPPER('Causas nuevas'!$D$4),B566),0)","v":0},{"$f":"+IF(Hoja3!$C566=0,0,1)","v":0},{"$f":"+E565+Hoja3!$D566","v":3},{"$f":"+Hoja3!$E566*Hoja3!$D566","v":0},"DESAGREGAR","ILEGALIDAD DEL ACTO ADMINISTRATIVO QUE NO RECONOCE LA INDEXACION Y REAJUSTE DE LA PENSION",null,null,"JUDICIAL","Desconocimiento del derecho a que la pensión de vejez mantenga su poder adquisitivo constante, mediante el reajuste anual de oficio, según la variación porcentual del Indice de Precios al Consumidor, certificado por el DANE para el año inmediatamente anterior o si la pensión de vejez mensual es igual al salario mínimo legal mensual vigente, el reajuste de oficio corresponde al mismo porcentaje en que se incremente dicho salario por el Gobierno Nacional. La pensión de vejez es una prestación económica que consiste en obtener una renta mensual que se otorga en forma vitalicia a partir del cumplimiento de los requisitos de edad y tiempo cotizado.",813,{"$f":"+Hoja3!$B566","v":"NO RECONOCIMIENTO DE LA INDEXACION Y REAJUSTE DE LA PENSION DE VEJEZ"}]
[{"$f":"+Hoja3!$F567","v":0},"NO RECONOCIMIENTO DE LA INDEXACION Y REAJUSTE DE LA PENSION DE INVALIDEZ",{"$f":"IFERROR(FIND(UPPER('Causas nuevas'!$D$4),B567),0)","v":0},{"$f":"+IF(Hoja3!$C567=0,0,1)","v":0},{"$f":"+E566+Hoja3!$D567","v":3},{"$f":"+Hoja3!$E567*Hoja3!$D567","v":0},"DESAGREGAR","ILEGALIDAD DEL ACTO ADMINISTRATIVO QUE NO RECONOCE LA INDEXACION Y REAJUSTE DE LA PENSION",null,null,"JUDICIAL","Desconocimiento del derecho a que la pensión de invalidez mantenga su poder adquisitivo constante, mediante el reajuste anual de oficio, según la variación porcentual del Indice de Precios al Consumidor, certificado por el DANE para el año inmediatamente anterior o si la pensión de vejez mensual es igual al salario mínimo legal mensual vigente, el reajuste de oficio corresponde al mismo porcentaje en que se incremente dicho salario por el Gobierno Nacional. La pensión de invalidez es una prestación económica que consiste en el pago de una renta mensual denominada pensión a una persona que ha sido calificada como inválida y cuya enfermedad o patología es de origen común.",811,{"$f":"+Hoja3!$B567","v":"NO RECONOCIMIENTO DE LA INDEXACION Y REAJUSTE DE LA PENSION DE INVALIDEZ"}]
[{"$f":"+Hoja3!$F568","v":0},"NO RECONOCIMIENTO DE LA INDEXACION Y REAJUSTE DE LA PENSION DE SOBREVIVIENTE",{"$f":"IFERROR(FIND(UPPER('Causas nuevas'!$D$4),B568),0)","v":0},{"$f":"+IF(Hoja3!$C568=0,0,1)","v":0},{"$f":"+E567+Hoja3!$D568","v":3},{"$f":"+Hoja3!$E568*Hoja3!$D568","v":0},"DESAGREGAR","ILEGALIDAD DEL ACTO ADMINISTRATIVO QUE NO RECONOCE LA INDEXACION Y REAJUSTE DE LA PENSION",null,null,"JUDICIAL","Desconocimiento del derecho a que la pensión de sobreviviente mantenga su poder adquisitivo constante, mediante el reajuste anual de oficio, según la variación porcentual del Indice de Precios al Consumidor, certificado por el DANE para el año inmediatamente anterior o si la pensión de vejez mensual es igual al salario mínimo legal mensual vigente, el reajuste de oficio corresponde al mismo porcentaje en que se incremente dicho salario por el Gobierno Nacional. La pensión de sobrevivientes es una prestación económica que se causa por la muerte de un pensionado o un afiliado activo al sistema de seguridad social.",812,{"$f":"+Hoja3!$B568","v":"NO RECONOCIMIENTO DE LA INDEXACION Y REAJUSTE DE LA PENSION DE SOBREVIVIENTE"}]
[{"$f":"+Hoja3!$F569","v":0},"INCUMPLIMIENTO EN EL PAGO DE LA INDEXACION Y REAJUSTE DE LA PENSION DE VEJEZ",{"$f":"IFERROR(FIND(UPPER('Causas nuevas'!$D$4),B569),0)","v":0},{"$f":"+IF(Hoja3!$C569=0,0,1)","v":0},{"$f":"+E568+Hoja3!$D569","v":3},{"$f":"+Hoja3!$E569*Hoja3!$D569","v":0},"DESAGREGAR","ILEGALIDAD DEL ACTO ADMINISTRATIVO QUE NO RECONOCE LA INDEXACION Y REAJUSTE DE LA PENSION",null,null,"JUDICIAL","Mora o no pago de la indexación o reajuste anual de la pensión de vejez ya reconocida. La indexación o reajuste anual permite que la pensión de vejez mantenga su poder adquisitivo constante, mediante el reajuste anual de oficio, según la variación porcentual del Indice de Precios al Consumidor, certificado por el DANE para el año inmediatamente anterior o si la pensión de vejez mensual es igual al salario mínimo legal mensual vigente, el reajuste de oficio corresponde al mismo porcentaje en que se incremente dicho salario por el Gobierno Nacional. La pensión de vejez es una prestación económica que consiste en obtener una renta mensual que se otorga en forma vitalicia a partir del cumplimiento de los requisitos de edad y tiempo cotizado.",510,{"$f":"+Hoja3!$B569","v":"INCUMPLIMIENTO EN EL PAGO DE LA INDEXACION Y REAJUSTE DE LA PENSION DE VEJEZ"}]
[{"$f":"+Hoja3!$F570","v":0},"INCUMPLIMIENTO EN EL PAGO DE LA INDEXACION Y REAJUSTE DE LA PENSION DE INVALIDEZ",{"$f":"IFERROR(FIND(UPPER('Causas nuevas'!$D$4),B570),0)","v":0},{"$f":"+IF(Hoja3!$C570=0,0,1)","v":0},{"$f":"+E569+Hoja3!$D570","v":3},{"$f":"+Hoja3!$E570*Hoja3!$D570","v":0},"DESAGREGAR","ILEGALIDAD DEL ACTO ADMINISTRATIVO QUE NO RECONOCE LA INDEXACION Y REAJUSTE DE LA PENSION",null,null,"JUDICIAL","Mora o no pago de la indexación o reajuste anual de la pensión deinvalidez ya renocida. La indexación o reajuste anual permite que la pensión de invalidez mantenga su poder adquisitivo constante, mediante el reajuste anual de oficio, según la variación porcentual del Indice de Precios al Consumidor, certificado por el DANE para el año inmediatamente anterior o si la pensión de vejez mensual es igual al salario mínimo legal mensual vigente, el reajuste de oficio corresponde al mismo porcentaje en que se incremente dicho salario por el Gobierno Nacional. La pensión de invalidez es una prestación económica que consiste en el pago de una renta mensual denominada pensión a una persona que ha sido calificada como inválida y cuya enfermedad o patología es de origen común.",508,{"$f":"+Hoja3!$B570","v":"INCUMPLIMIENTO EN EL PAGO DE LA INDEXACION Y REAJUSTE DE LA PENSION DE INVALIDEZ"}]
[{"$f":"+Hoja3!$F571","v":0},"INCUMPLIMIENTO EN EL PAGO DE LA INDEXACION Y REAJUSTE DE LA PENSION DE SOBREVIVIENTE",{"$f":"IFERROR(FIND(UPPER('Causas nuevas'!$D$4),B571),0)","v":0},{"$f":"+IF(Hoja3!$C571=0,0,1)","v":0},{"$f":"+E570+Hoja3!$D571","v":3},{"$f":"+Hoja3!$E571*Hoja3!$D571","v":0},"DESAGREGAR","ILEGALIDAD DEL ACTO ADMINISTRATIVO QUE NO RECONOCE LA INDEXACION Y REAJUSTE DE LA PENSION",null,null,"JUDICIAL","Mora o no pago de la indexación o reajuste anual de la pensión de sobreviviente ya reconocida. La indexación o reajuste anual permite que la pensión de sobreviviente mantenga su poder adquisitivo constante, mediante el reajuste anual de oficio, según la variación porcentual del Indice de Precios al Consumidor, certificado por el DANE para el año inmediatamente anterior o si la pensión de vejez mensual es igual al salario mínimo legal mensual vigente, el reajuste de oficio corresponde al mismo porcentaje en que se incremente dicho salario por el Gobierno Nacional. La pensión de sobrevivientes es una prestación económica que se causa por la muerte de un pensionado o un afiliado activo al sistema de seguridad social.",509,{"$f":"+Hoja3!$B571","v":"INCUMPLIMIENTO EN EL PAGO DE LA INDEXACION Y REAJUSTE DE LA PENSION DE SOBREVIVIENTE"}]
[{"$f":"+Hoja3!$F572","v":0},"NO RECONOCIMIENTO DE REAJUSTE DE LA PENSION POR LEY 4 DE 1992",{"$f":"IFERROR(FIND(UPPER('Causas nuevas'!$D$4),B572),0)","v":0},{"$f":"+IF(Hoja3!$C572=0,0,1)","v":0},{"$f":"+E571+Hoja3!$D572","v":3},{"$f":"+Hoja3!$E572*Hoja3!$D572","v":0},"DESAGREGAR","REAJUSTE PENSIONAL POR LEY 4 DE 1992",null,null,"JUDICIAL","Desconocimiento del derecho al reajuste pensional contemplado en la Ley 4 de 1992.",828,{"$f":"+Hoja3!$B572","v":"NO RECONOCIMIENTO DE REAJUSTE DE LA PENSION POR LEY 4 DE 1992"}]
[{"$f":"+Hoja3!$F573","v":0},"INDEBIDA LIQUIDACION DE REAJUSTE DE LA PENSION POR LEY 4 DE 1992",{"$f":"IFERROR(FIND(UPPER('Causas nuevas'!$D$4),B573),0)","v":0},{"$f":"+IF(Hoja3!$C573=0,0,1)","v":0},{"$f":"+E572+Hoja3!$D573","v":3},{"$f":"+Hoja3!$E573*Hoja3!$D573","v":0},"DESAGREGAR","REAJUSTE PENSIONAL POR LEY 4 DE 1992",null,null,"JUDICIAL","Liquidación irregular del reajuste pensional contemplado en la Ley 4 de 1992, por lo que se pretende su reliquidación.",571,{"$f":"+Hoja3!$B573","v":"INDEBIDA LIQUIDACION DE REAJUSTE DE LA PENSION POR LEY 4 DE 1992"}]
[{"$f":"+Hoja3!$F574","v":0},"INCUMPLIMIENTO EN EL PAGO DE REAJUSTE DE LA PENSION POR LEY 4 DE 1992",{"$f":"IFERROR(FIND(UPPER('Causas nuevas'!$D$4),B574),0)","v":0},{"$f":"+IF(Hoja3!$C574=0,0,1)","v":0},{"$f":"+E573+Hoja3!$D574","v":3},{"$f":"+Hoja3!$E574*Hoja3!$D574","v":0},"DESAGREGAR","REAJUSTE PENSIONAL POR LEY 4 DE 1992",null,null,"JUDICIAL","Mora o no pago del reajuste pensional contemplado en la Ley 4 de 1992, ya reconocido.",525,{"$f":"+Hoja3!$B574","v":"INCUMPLIMIENTO EN EL PAGO DE REAJUSTE DE LA PENSION POR LEY 4 DE 1992"}]
[{"$f":"+Hoja3!$F575","v":0},"INDEBIDA LIQUIDACION DE PENSION FAMILIAR",{"$f":"IFERROR(FIND(UPPER('Causas nuevas'!$D$4),B575),0)","v":0},{"$f":"+IF(Hoja3!$C575=0,0,1)","v":0},{"$f":"+E574+Hoja3!$D575","v":3},{"$f":"+Hoja3!$E575*Hoja3!$D575","v":0},"NUEVA",{"$nulls":3},"JUDICIAL","Liquidación irregular de pensión familiar, por lo que se pretende su reliquidación. La pensión familiar fue creada por la Ley 1580 de 2012 y es aquella que se reconoce por la suma de esfuerzos de cotización o aportes de cada uno de los cónyuges o cada uno de los compañeros permanentes, cuyo resultado es el cumplimiento de los requisitos establecidos para la pensión de vejez.",563,{"$f":"+Hoja3!$B575","v":"INDEBIDA LIQUIDACION DE PENSION FAMILIAR"}]
[{"$f":"+Hoja3!$F576","v":0},"INCUMPLIMIENTO EN EL PAGO DE PENSION FAMILIAR",{"$f":"IFERROR(FIND(UPPER('Causas nuevas'!$D$4),B576),0)","v":0},{"$f":"+IF(Hoja3!$C576=0,0,1)","v":0},{"$f":"+E575+Hoja3!$D576","v":3},{"$f":"+Hoja3!$E576*Hoja3!$D576","v":0},"NUEVA",{"$nulls":3},"JUDICIAL","Mora o no pago de pensión familiar ya reconocida. La pensión familiar fue creada por la Ley 1580 de 2012 y es aquella que se reconoce por la suma de esfuerzos de cotización o aportes de cada uno de los cónyuges o cada uno de los compañeros permanentes, cuyo resultado es el cumplimiento de los requisitos establecidos para la pensión de vejez.",517,{"$f":"+Hoja3!$B576","v":"INCUMPLIMIENTO EN EL PAGO DE PENSION FAMILIAR"}]
[{"$f":"+Hoja3!$F577","v":0},"NO RECONOCIMIENTO DEL AUXILIO DE CESANTIAS",{"$f":"IFERROR(FIND(UPPER('Causas nuevas'!$D$4),B577),0)","v":0},{"$f":"+IF(Hoja3!$C577=0,0,1)","v":0},{"$f":"+E576+Hoja3!$D577","v":3},{"$f":"+Hoja3!$E577*Hoja3!$D577","v":0},"DESAGREGAR","ILEGALIDAD DEL ACTO ADMINISTRATIVO QUE LIQUIDA EL AUXILIO DE CESANTIAS",null,null,"JUDICIAL","Desconocimiento del derecho a percibir el auxilio de cesantías. El auxilio de cesantías es una prestación social a cargo del empleador y a favor del trabajador que corresponde en un mes de salario por cada año de servicios prestados o proporcionalmente al tiempo de servicio y tiene como objetivo principal dar un auxilio monetario cuando la persona termine su relación laboral. Nota: es subsidiaria a las causas particulares sobre otras prestaciones sociales, como el auxilio de cesantías o la prima de servicios.",839,{"$f":"+Hoja3!$B577","v":"NO RECONOCIMIENTO DEL AUXILIO DE CESANTIAS"}]
[{"$f":"+Hoja3!$F578","v":0},"INDEBIDA LIQUIDACION DEL AUXILIO DE CESANTIAS",{"$f":"IFERROR(FIND(UPPER('Causas nuevas'!$D$4),B578),0)","v":0},{"$f":"+IF(Hoja3!$C578=0,0,1)","v":0},{"$f":"+E577+Hoja3!$D578","v":3},{"$f":"+Hoja3!$E578*Hoja3!$D578","v":0},"DESAGREGAR","ILEGALIDAD DEL ACTO ADMINISTRATIVO QUE LIQUIDA EL AUXILIO DE CESANTIAS",null,null,"JUDICIAL","Liquidación irregular del auxilio de cesantías, por lo que se pretende su reliquidación. El auxilio de cesantías es una prestación social a cargo del empleador y a favor del trabajador que corresponde en un mes de salario por cada año de servicios prestados o proporcionalmente al tiempo de servicio y tiene como objetivo principal dar un auxilio monetario cuando la persona termine su relación laboral.",578,{"$f":"+Hoja3!$B578","v":"INDEBIDA LIQUIDACION DEL AUXILIO DE CESANTIAS"}]
[{"$f":"+Hoja3!$F579","v":0},"NO RECONOCIMIENTO DE INTERESES SOBRE AUXILIO DE CESANTIAS",{"$f":"IFERROR(FIND(UPPER('Causas nuevas'!$D$4),B579),0)","v":0},{"$f":"+IF(Hoja3!$C579=0,0,1)","v":0},{"$f":"+E578+Hoja3!$D579","v":3},{"$f":"+Hoja3!$E579*Hoja3!$D579","v":0},"DESAGREGAR","ILEGALIDAD DEL ACTO ADMINISTRATIVO QUE LIQUIDA INTERESES SOBRE EL AUXILIO DE CESANTIA",null,null,"JUDICIAL","Desconocimiento del derecho a percibir los intereses sobre el auxilio de cesantías. El auxilio de cesantías es una prestación social a cargo del empleador y a favor del trabajador que corresponde en un mes de salario por cada año de servicios prestados o proporcionalmente al tiempo de servicio y tiene como objetivo principal dar un auxilio monetario cuando la persona termine su relación laboral.",808,{"$f":"+Hoja3!$B579","v":"NO RECONOCIMIENTO DE INTERESES SOBRE AUXILIO DE CESANTIAS"}]
[{"$f":"+Hoja3!$F580","v":0},"INDEBIDA LIQUIDACION DE INTERESES SOBRE AUXILIO DE CESANTIAS",{"$f":"IFERROR(FIND(UPPER('Causas nuevas'!$D$4),B580),0)","v":0},{"$f":"+IF(Hoja3!$C580=0,0,1)","v":0},{"$f":"+E579+Hoja3!$D580","v":3},{"$f":"+Hoja3!$E580*Hoja3!$D580","v":0},"DESAGREGAR","ILEGALIDAD DEL ACTO ADMINISTRATIVO QUE LIQUIDA INTERESES SOBRE EL AUXILIO DE CESANTIA",null,null,"JUDICIAL","Liquidación irregular de los intereses sobre el auxilio de cesantías, por lo que se pretende su reliquidación. Los intereses sobre el auxilio de cesantías son la utilidad sobre el valor de las cesantías acumuladas al 31 de diciembre que corresponde al 12%.",556,{"$f":"+Hoja3!$B580","v":"INDEBIDA LIQUIDACION DE INTERESES SOBRE AUXILIO DE CESANTIAS"}]
[{"$f":"+Hoja3!$F581","v":0},"ILEGALIDAD DEL ACTO ADMINISTRATIVO QUE SANCIONA DISCIPLINARIAMENTE A FUNCIONARIO PUBLICO POR ABANDONO DEL CARGO",{"$f":"IFERROR(FIND(UPPER('Causas nuevas'!$D$4),B581),0)","v":0},{"$f":"+IF(Hoja3!$C581=0,0,1)","v":0},{"$f":"+E580+Hoja3!$D581","v":3},{"$f":"+Hoja3!$E581*Hoja3!$D581","v":0},"DESAGREGAR","ILEGALIDAD DEL ACTO ADMINISTRATIVO QUE RETIRA A SERVIDOR PUBLICO POR ABANDONO DEL CARGO",null,null,"JUDICIAL","Acto administrativo presuntamente viciado de ilegalidad que sanciona a funcionario público por abandono del cargo, funciones o servicio. El abandono del cargo, funciones o servicio es la dejación voluntaria, injustificada, definitiva y no transitoria de los deberes y responsabilidades que exige el empleo del cual es titular el funcionario público, durante el término mínimo señalado en las normas. El vicio del acto puede ser la expedición con infracción de las normas en que debería fundarse, o sin competencia, o en forma irregular, o con desconocimiento del derecho de audiencia y defensa, o mediante falsa motivación, o con falta de motivación, o con desviación de las atribuciones propias de quien lo profirió, o con violación del debido proceso administrativo.",459,{"$f":"+Hoja3!$B581","v":"ILEGALIDAD DEL ACTO ADMINISTRATIVO QUE SANCIONA DISCIPLINARIAMENTE A FUNCIONARIO PUBLICO POR ABANDONO DEL CARGO"}]
[{"$f":"+Hoja3!$F582","v":0},"ILEGALIDAD DEL ACTO ADMINISTRATIVO QUE SANCIONA DISCIPLINARIAMENTE A TRABAJADOR OFICIAL POR ABANDONO DEL SERVICIO",{"$f":"IFERROR(FIND(UPPER('Causas nuevas'!$D$4),B582),0)","v":0},{"$f":"+IF(Hoja3!$C582=0,0,1)","v":0},{"$f":"+E581+Hoja3!$D582","v":3},{"$f":"+Hoja3!$E582*Hoja3!$D582","v":0},"DESAGREGAR","ILEGALIDAD DEL ACTO ADMINISTRATIVO QUE RETIRA A SERVIDOR PUBLICO POR ABANDONO DEL CARGO",null,null,"JUDICIAL","Acto administrativo presuntamente viciado de ilegalidad que sanciona a trabajador oficial por abandono del cargo, funciones o servicio. El abandono del cargo o servicio es la dejación voluntaria, injustificada, definitiva y no transitoria de los deberes y responsabilidades que exige el empleo del cual es titular el trabajador oficial, durante el término mínimo señalado en las normas. El vicio del acto puede ser la expedición con infracción de las normas en que debería fundarse, o sin competencia, o en forma irregular, o con desconocimiento del derecho de audiencia y defensa, o mediante falsa motivación, o con falta de motivación, o con desviación de las atribuciones propias de quien lo profirió, o con violación del debido proceso administrativo.",460,{"$f":"+Hoja3!$B582","v":"ILEGALIDAD DEL ACTO ADMINISTRATIVO QUE SANCIONA DISCIPLINARIAMENTE A TRABAJADOR OFICIAL POR ABANDONO DEL SERVICIO"}]
[{"$f":"+Hoja3!$F583","v":0},"INCUMPLIMIENTO EN EL PAGO DE ASIGNACION DE RETIRO",{"$f":"IFERROR(FIND(UPPER('Causas nuevas'!$D$4),B583),0)","v":0},{"$f":"+IF(Hoja3!$C583=0,0,1)","v":0},{"$f":"+E582+Hoja3!$D583","v":3},{"$f":"+Hoja3!$E583*Hoja3!$D583","v":0},"NUEVA",{"$nulls":3},"JUDICIAL","Mora o no pago de la asignación de retiro ya reconocida. La asignación de retiro es una prestación económica a la que tienen derecho los miembros de la Fuerza Pública a partir de su retiro del servicio activo y tras el cumplimiento de determinados requisitos; se asemeja a la pensión de vejez.",495,{"$f":"+Hoja3!$B583","v":"INCUMPLIMIENTO EN EL PAGO DE ASIGNACION DE RETIRO"}]
[{"$f":"+Hoja3!$F584","v":0},"INDEBIDA LIQUIDACION DE SUSTITUCION DE LA ASIGNACION DE RETIRO",{"$f":"IFERROR(FIND(UPPER('Causas nuevas'!$D$4),B584),0)","v":0},{"$f":"+IF(Hoja3!$C584=0,0,1)","v":0},{"$f":"+E583+Hoja3!$D584","v":3},{"$f":"+Hoja3!$E584*Hoja3!$D584","v":0},"NUEVA",{"$nulls":3},"JUDICIAL","Liquidación irregular de la sustitución de la asignación de retiro, por lo que se pretende su reliquidación. La asignación de retiro es una prestación económica cuya finalidad es asimilable a la de la pensión de sobrevivientes reconocida en el Sistema General de Pensiones y se causa por la muerte del beneficiario directo de la asignación de retiro. ",577,{"$f":"+Hoja3!$B584","v":"INDEBIDA LIQUIDACION DE SUSTITUCION DE LA ASIGNACION DE RETIRO"}]
[{"$f":"+Hoja3!$F585","v":0},"INCUMPLIMIENTO EN EL PAGO DE SUSTITUCION DE LA ASIGNACION DE RETIRO",{"$f":"IFERROR(FIND(UPPER('Causas nuevas'!$D$4),B585),0)","v":0},{"$f":"+IF(Hoja3!$C585=0,0,1)","v":0},{"$f":"+E584+Hoja3!$D585","v":3},{"$f":"+Hoja3!$E585*Hoja3!$D585","v":0},"NUEVA",{"$nulls":3},"JUDICIAL","Mora o no pago de la sustitución de la asignación de retiro ya reconocida. La asignación de retiro es una prestación económica cuya finalidad es asimilable a la de la pensión de sobrevivientes reconocida en el Sistema General de Pensiones y se causa por la muerte del beneficiario directo de la asignación de retiro. ",533,{"$f":"+Hoja3!$B585","v":"INCUMPLIMIENTO EN EL PAGO DE SUSTITUCION DE LA ASIGNACION DE RETIRO"}]
[{"$f":"+Hoja3!$F586","v":0},"NO RECONOCIMIENTO DE PRIMA DE SERVICIOS",{"$f":"IFERROR(FIND(UPPER('Causas nuevas'!$D$4),B586),0)","v":0},{"$f":"+IF(Hoja3!$C586=0,0,1)","v":0},{"$f":"+E585+Hoja3!$D586","v":3},{"$f":"+Hoja3!$E586*Hoja3!$D586","v":0},"DESAGREGAR","ILEGALIDAD DEL ACTO ADMINISTRATIVO QUE NO RECONOCE PAGO DE PRIMA DE SERVICIOS",null,null,"JUDICIAL","Desconocimiento del derecho a percibir la prima de servicios. La prima de servicios es una prestación social que corresponde a un pago que hace el empleador al trabajador, para que de alguna forma el empleado también disfrute de las utilidades arrojadas por la empresa, su reconocimiento es obligatorio aun cuando la empresa no obtenga utilidades en algún período y corresponde al pago de 15 días de trabajo, por cada semestre laborado.",826,{"$f":"+Hoja3!$B586","v":"NO RECONOCIMIENTO DE PRIMA DE SERVICIOS"}]
[{"$f":"+Hoja3!$F587","v":0},"INDEBIDA LIQUIDACION DE PRIMA DE SERVICIOS",{"$f":"IFERROR(FIND(UPPER('Causas nuevas'!$D$4),B587),0)","v":0},{"$f":"+IF(Hoja3!$C587=0,0,1)","v":0},{"$f":"+E586+Hoja3!$D587","v":3},{"$f":"+Hoja3!$E587*Hoja3!$D587","v":0},"DESAGREGAR","ILEGALIDAD DEL ACTO ADMINISTRATIVO QUE NO RECONOCE PAGO DE PRIMA DE SERVICIOS",null,null,"JUDICIAL","Liquidación irregular de la prima de servicios, por lo que se pretende su reliquidación. La prima de servicios es una prestación social que corresponde a un pago que hace el empleador al trabajador, para que de alguna forma el empleado también disfrute de las utilidades arrojadas por la empresa, su reconocimiento es obligatorio aun cuando la empresa no obtenga utilidades en algún período y corresponde al pago de 15 días de trabajo, por cada semestre laborado.",569,{"$f":"+Hoja3!$B587","v":"INDEBIDA LIQUIDACION DE PRIMA DE SERVICIOS"}]
[{"$f":"+Hoja3!$F588","v":0},"INCUMPLIMIENTO EN EL PAGO DE PRIMA DE SERVICIOS",{"$f":"IFERROR(FIND(UPPER('Causas nuevas'!$D$4),B588),0)","v":0},{"$f":"+IF(Hoja3!$C588=0,0,1)","v":0},{"$f":"+E587+Hoja3!$D588","v":3},{"$f":"+Hoja3!$E588*Hoja3!$D588","v":0},"DESAGREGAR","ILEGALIDAD DEL ACTO ADMINISTRATIVO QUE NO RECONOCE PAGO DE PRIMA DE SERVICIOS",null,null,"JUDICIAL","Mora o no pago de prima de servicios ya reconocida. La prima de servicios es una prestación social que corresponde a un pago que hace el empleador al trabajador, para que de alguna forma el empleado también disfrute de las utilidades arrojadas por la empresa, su reconocimiento es obligatorio aun cuando la empresa no obtenga utilidades en algún período y corresponde al pago de 15 días de trabajo, por cada semestre laborado.",523,{"$f":"+Hoja3!$B588","v":"INCUMPLIMIENTO EN EL PAGO DE PRIMA DE SERVICIOS"}]
[{"$f":"+Hoja3!$F589","v":0},"INDEBIDA LIQUIDACION DE PRIMA DE ACTUALIZACION",{"$f":"IFERROR(FIND(UPPER('Causas nuevas'!$D$4),B589),0)","v":0},{"$f":"+IF(Hoja3!$C589=0,0,1)","v":0},{"$f":"+E588+Hoja3!$D589","v":3},{"$f":"+Hoja3!$E589*Hoja3!$D589","v":0},"NUEVA",{"$nulls":3},"JUDICIAL","Liquidación irregular de la prima de actualización, por lo que se pretende su reliquidación. La prima de actualización pretende la nivelación de la remuneración del personal activo y retirado de la Fuerza Pública.",567,{"$f":"+Hoja3!$B589","v":"INDEBIDA LIQUIDACION DE PRIMA DE ACTUALIZACION"}]
[{"$f":"+Hoja3!$F590","v":0},"INCUMPLIMIENTO EN EL PAGO DE PRIMA DE ACTUALIZACION",{"$f":"IFERROR(FIND(UPPER('Causas nuevas'!$D$4),B590),0)","v":0},{"$f":"+IF(Hoja3!$C590=0,0,1)","v":0},{"$f":"+E589+Hoja3!$D590","v":3},{"$f":"+Hoja3!$E590*Hoja3!$D590","v":0},"NUEVA",{"$nulls":3},"JUDICIAL","Mora o no pago de prima de actualización ya reconocida. La prima de actualización pretende la nivelación de la remuneración del personal activo y retirado de la Fuerza Pública.",521,{"$f":"+Hoja3!$B590","v":"INCUMPLIMIENTO EN EL PAGO DE PRIMA DE ACTUALIZACION"}]
[{"$f":"+Hoja3!$F591","v":0},"INCUMPLIMIENTO EN EL PAGO DE PRIMA DE ACTIVIDAD",{"$f":"IFERROR(FIND(UPPER('Causas nuevas'!$D$4),B591),0)","v":0},{"$f":"+IF(Hoja3!$C591=0,0,1)","v":0},{"$f":"+E590+Hoja3!$D591","v":3},{"$f":"+Hoja3!$E591*Hoja3!$D591","v":0},"NUEVA",{"$nulls":3},"JUDICIAL","Mora o no pago de la prima de actividad ya reconocida, propia de los miembros de la fuerza pública.  La prima de actividad es una partida que el titular devenga durante el tiempo que permanezca en actividad y será estimada en los términos señalados por el artículo 141 del Decreto 1212 de 1990 (Dec. 1793 y 1794 de 2000 uniformados) es reconocida a los miembros de la fuerza pública y a personal no uniformado o civil que laboran para el Ministerio de Defensa.",520,{"$f":"+Hoja3!$B591","v":"INCUMPLIMIENTO EN EL PAGO DE PRIMA DE ACTIVIDAD"}]
[{"$f":"+Hoja3!$F592","v":0},"INDEBIDA LIQUIDACION DE PRIMA DE ANTIGUEDAD",{"$f":"IFERROR(FIND(UPPER('Causas nuevas'!$D$4),B592),0)","v":0},{"$f":"+IF(Hoja3!$C592=0,0,1)","v":0},{"$f":"+E591+Hoja3!$D592","v":3},{"$f":"+Hoja3!$E592*Hoja3!$D592","v":0},"NUEVA",{"$nulls":3},"JUDICIAL","Liquidación irregular de la prima de antiguedad propia de los miembros de la fuerza pública, por lo que se pretende su reliquidación. Desconocimiento del derecho a percibir la prima de antiguedad. El artículo 46 del Decreto 1214 de 1990 establece el pago de una prima de servicios, más conocida como prima de antigüedad a los empleados públicos del Ministerio de Defensa y de la Policía Nacional, a partir de la fecha en que cumplan 15 años de servicios continuos o discontinuos como tales en el Ministerio de Defensa, en las Fuerzas Militares o en la Policía Nacional, su pago es mensual y se liquidara sobre el sueldo básico.",568,{"$f":"+Hoja3!$B592","v":"INDEBIDA LIQUIDACION DE PRIMA DE ANTIGUEDAD"}]
[{"$f":"+Hoja3!$F593","v":0},"INCUMPLIMIENTO EN EL PAGO DE PRIMA DE ANTIGUEDAD",{"$f":"IFERROR(FIND(UPPER('Causas nuevas'!$D$4),B593),0)","v":0},{"$f":"+IF(Hoja3!$C593=0,0,1)","v":0},{"$f":"+E592+Hoja3!$D593","v":3},{"$f":"+Hoja3!$E593*Hoja3!$D593","v":0},"NUEVA",{"$nulls":3},"JUDICIAL","Mora o no pago de la prima de antiguedad ya reconocida, propia de los miembros de la fuerza pública. Desconocimiento del derecho a percibir la prima de antiguedad. El artículo 46 del Decreto 1214 de 1990 establece el pago de una prima de servicios, más conocida como prima de antigüedad a los empleados públicos del Ministerio de Defensa y de la Policía Nacional, a partir de la fecha en que cumplan 15 años de servicios continuos o discontinuos como tales en el Ministerio de Defensa, en las Fuerzas Militares o en la Policía Nacional, su pago es mensual y se liquidara sobre el sueldo básico.",522,{"$f":"+Hoja3!$B593","v":"INCUMPLIMIENTO EN EL PAGO DE PRIMA DE ANTIGUEDAD"}]
[{"$f":"+Hoja3!$F594","v":0},"INDEBIDA LIQUIDACION DE PRIMA TECNICA",{"$f":"IFERROR(FIND(UPPER('Causas nuevas'!$D$4),B594),0)","v":0},{"$f":"+IF(Hoja3!$C594=0,0,1)","v":0},{"$f":"+E593+Hoja3!$D594","v":3},{"$f":"+Hoja3!$E594*Hoja3!$D594","v":0},"NUEVA",{"$nulls":3},"JUDICIAL","Liquidación irregular de la prima técnica, por lo que se pretende su reliquidación. La prima técnica puede reconocerse por formación avanzada o altamente calificada o, por evaluación del desempeño.",570,{"$f":"+Hoja3!$B594","v":"INDEBIDA LIQUIDACION DE PRIMA TECNICA"}]
[{"$f":"+Hoja3!$F595","v":0},"INCUMPLIMIENTO EN EL PAGO DE PRIMA TECNICA",{"$f":"IFERROR(FIND(UPPER('Causas nuevas'!$D$4),B595),0)","v":0},{"$f":"+IF(Hoja3!$C595=0,0,1)","v":0},{"$f":"+E594+Hoja3!$D595","v":3},{"$f":"+Hoja3!$E595*Hoja3!$D595","v":0},"NUEVA",{"$nulls":3},"JUDICIAL","Mora o no pago de la prima técnica ya reconocida. La prima técnica puede reconocerse por formación avanzada o altamente calificada o, por evaluación del desempeño.",524,{"$f":"+Hoja3!$B595","v":"INCUMPLIMIENTO EN EL PAGO DE PRIMA TECNICA"}]
[{"$f":"+Hoja3!$F596","v":0},"INDEBIDA LIQUIDACION DE SUBSIDIO FAMILIAR",{"$f":"IFERROR(FIND(UPPER('Causas nuevas'!$D$4),B596),0)","v":0},{"$f":"+IF(Hoja3!$C596=0,0,1)","v":0},{"$f":"+E595+Hoja3!$D596","v":3},{"$f":"+Hoja3!$E596*Hoja3!$D596","v":0},"NUEVA",{"$nulls":3},"JUDICIAL","Liquidación irregular del subsidio familiar, por lo que se pretende su reliquidación. El subsidio familiar es una prestación social pagadera en dinero, especie y servicios. El subsidio familiar en dinero, denominado cuota monetaria, se paga mensualmente a los trabajadores por cada una de las personas que tengan a su cargo con derecho a este.",576,{"$f":"+Hoja3!$B596","v":"INDEBIDA LIQUIDACION DE SUBSIDIO FAMILIAR"}]
[{"$f":"+Hoja3!$F597","v":0},"INCUMPLIMIENTO EN EL PAGO DE SUBSIDIO FAMILIAR",{"$f":"IFERROR(FIND(UPPER('Causas nuevas'!$D$4),B597),0)","v":0},{"$f":"+IF(Hoja3!$C597=0,0,1)","v":0},{"$f":"+E596+Hoja3!$D597","v":3},{"$f":"+Hoja3!$E597*Hoja3!$D597","v":0},"NUEVA",{"$nulls":3},"JUDICIAL","Mora o no pago de subsidio familiar ya reconocido. El subsidio familiar es una prestación social pagadera en dinero, especie y servicios. El subsidio familiar en dinero, denominado cuota monetaria, se paga mensualmente a los trabajadores por cada una de las personas que tengan a su cargo con derecho a este.",532,{"$f":"+Hoja3!$B597","v":"INCUMPLIMIENTO EN EL PAGO DE SUBSIDIO FAMILIAR"}]
[{"$f":"+Hoja3!$F598","v":0},"NO RECONOCIMIENTO DE SUBSIDIO DE VIVIENDA",{"$f":"IFERROR(FIND(UPPER('Causas nuevas'!$D$4),B598),0)","v":0},{"$f":"+IF(Hoja3!$C598=0,0,1)","v":0},{"$f":"+E597+Hoja3!$D598","v":3},{"$f":"+Hoja3!$E598*Hoja3!$D598","v":0},"DESAGREGAR","ILEGALIDAD DEL ACTO ADMINISTRATIVO QUE NIEGA EL SUBSIDIO DE VIVIENDA",null,null,"JUDICIAL","Desconocimiento del derecho a ser beneficiario del subsidio de vivienda. El subsidio de vivienda es un aporte en dinero que se entrega (por parte de la Caja de Compensación Familiar o la Caja Promotora de Vivienda Militar y de Policía, entre otras) por una sola vez al beneficiario, sin cargo de restitución por parte de este y que constituye un complemento del ahorro del afiliado, para facilitar la adquisición, construcción de vivienda o liberación de hipoteca.",834,{"$f":"+Hoja3!$B598","v":"NO RECONOCIMIENTO DE SUBSIDIO DE VIVIENDA"}]
[{"$f":"+Hoja3!$F599","v":0},"INDEBIDA LIQUIDACION DE SUBSIDIO DE VIVIENDA",{"$f":"IFERROR(FIND(UPPER('Causas nuevas'!$D$4),B599),0)","v":0},{"$f":"+IF(Hoja3!$C599=0,0,1)","v":0},{"$f":"+E598+Hoja3!$D599","v":3},{"$f":"+Hoja3!$E599*Hoja3!$D599","v":0},"DESAGREGAR","ILEGALIDAD DEL ACTO ADMINISTRATIVO QUE NIEGA EL SUBSIDIO DE VIVIENDA",null,null,"JUDICIAL","Liquidación irregular del subsidio de vivienda, por lo que se pretende su reliquidación. El subsidio de vivienda es un aporte en dinero que se entrega (por parte de la Caja de Compensación Familiar o la Caja Promotora de Vivienda Militar y de Policía, entre otras) por una sola vez al beneficiario, sin cargo de restitución por parte de este y que constituye un complemento del ahorro del afiliado, para facilitar la adquisición, construcción de vivienda o liberación de hipoteca.",575,{"$f":"+Hoja3!$B599","v":"INDEBIDA LIQUIDACION DE SUBSIDIO DE VIVIENDA"}]
[{"$f":"+Hoja3!$F600","v":0},"INCUMPLIMIENTO EN EL PAGO DE SUBSIDIO DE VIVIENDA",{"$f":"IFERROR(FIND(UPPER('Causas nuevas'!$D$4),B600),0)","v":0},{"$f":"+IF(Hoja3!$C600=0,0,1)","v":0},{"$f":"+E599+Hoja3!$D600","v":3},{"$f":"+Hoja3!$E600*Hoja3!$D600","v":0},"DESAGREGAR","ILEGALIDAD DEL ACTO ADMINISTRATIVO QUE NIEGA EL SUBSIDIO DE VIVIENDA",null,null,"JUDICIAL","Mora o no pago del subsidio de vivienda ya reconocido. El subsidio de vivienda es un aporte en dinero que se entrega (por parte de la Caja de Compensación Familiar o la Caja Promotora de Vivienda Militar y de Policía, entre otras) por una sola vez al beneficiario, sin cargo de restitución por parte de este y que constituye un complemento del ahorro del afiliado, para facilitar la adquisición, construcción de vivienda o liberación de hipoteca.",531,{"$f":"+Hoja3!$B600","v":"INCUMPLIMIENTO EN EL PAGO DE SUBSIDIO DE VIVIENDA"}]
[{"$f":"+Hoja3!$F601","v":0},"NO RECONOCIMIENTO DE PRESTACIONES SOCIALES",{"$f":"IFERROR(FIND(UPPER('Causas nuevas'!$D$4),B601),0)","v":0},{"$f":"+IF(Hoja3!$C601=0,0,1)","v":0},{"$f":"+E600+Hoja3!$D601","v":3},{"$f":"+Hoja3!$E601*Hoja3!$D601","v":0},"DESAGREGAR","NO RECONOCIMIENTO EN DERECHO DE PRESTACIONES SOCIALES",null,null,"JUDICIAL","Desconocimiento del derecho a percibir prestaciones sociales. Las prestaciones sociales son los dineros adicionales al salario que el empleador debe reconocer al trabajador oficial o al funcionario público por sus servicios prestados, es el reconociendo a su aporte en la generación de ingresos y utilidad en la empresa o unidad económica.",822,{"$f":"+Hoja3!$B601","v":"NO RECONOCIMIENTO DE PRESTACIONES SOCIALES"}]
[{"$f":"+Hoja3!$F602","v":0},"INDEBIDA LIQUIDACION DE PRESTACIONES SOCIALES",{"$f":"IFERROR(FIND(UPPER('Causas nuevas'!$D$4),B602),0)","v":0},{"$f":"+IF(Hoja3!$C602=0,0,1)","v":0},{"$f":"+E601+Hoja3!$D602","v":3},{"$f":"+Hoja3!$E602*Hoja3!$D602","v":0},"DESAGREGAR","NO RECONOCIMIENTO EN DERECHO DE PRESTACIONES SOCIALES",null,null,"JUDICIAL","Liquidación irregular de prestaciones sociales, por lo que se pretende su reliquidación. Las prestaciones sociales son los dineros adicionales al salario que el empleador debe reconocer al trabajador oficial o al funcionario público por sus servicios prestados, es el reconociendo a su aporte en la generación de ingresos y utilidad en la empresa o unidad económica.",565,{"$f":"+Hoja3!$B602","v":"INDEBIDA LIQUIDACION DE PRESTACIONES SOCIALES"}]
[{"$f":"+Hoja3!$F603","v":0},"NO RECONOCIMIENTO DE HONORARIOS",{"$f":"IFERROR(FIND(UPPER('Causas nuevas'!$D$4),B603),0)","v":0},{"$f":"+IF(Hoja3!$C603=0,0,1)","v":0},{"$f":"+E602+Hoja3!$D603","v":3},{"$f":"+Hoja3!$E603*Hoja3!$D603","v":0},"DESAGREGAR","NO RECONOCIMIENTO EN DERECHO DE HONORARIOS",null,null,"JUDICIAL","Desconocimiento del derecho a percibir la remuneración pactada en un contrato de prestación de servicios.",800,{"$f":"+Hoja3!$B603","v":"NO RECONOCIMIENTO DE HONORARIOS"}]
[{"$f":"+Hoja3!$F604","v":0},"INDEBIDA LIQUIDACION DE HONORARIOS",{"$f":"IFERROR(FIND(UPPER('Causas nuevas'!$D$4),B604),0)","v":0},{"$f":"+IF(Hoja3!$C604=0,0,1)","v":0},{"$f":"+E603+Hoja3!$D604","v":3},{"$f":"+Hoja3!$E604*Hoja3!$D604","v":0},"DESAGREGAR","NO RECONOCIMIENTO EN DERECHO DE HONORARIOS",null,null,"JUDICIAL","Liquidación irregular de honorarios, por lo que se pretende su reliquidación. Los honorarios son la remuneración pactada en un contrato de prestación de servicios.",549,{"$f":"+Hoja3!$B604","v":"INDEBIDA LIQUIDACION DE HONORARIOS"}]
[{"$f":"+Hoja3!$F605","v":0},"INCUMPLIMIENTO EN EL PAGO DE HONORARIOS",{"$f":"IFERROR(FIND(UPPER('Causas nuevas'!$D$4),B605),0)","v":0},{"$f":"+IF(Hoja3!$C605=0,0,1)","v":0},{"$f":"+E604+Hoja3!$D605","v":3},{"$f":"+Hoja3!$E605*Hoja3!$D605","v":0},"DESAGREGAR","NO RECONOCIMIENTO EN DERECHO DE HONORARIOS",null,null,"JUDICIAL","Mora o no pago de honorarios ya reconocidos. Los honorarios son la remuneración pactada en un contrato de prestación de servicios.",499,{"$f":"+Hoja3!$B605","v":"INCUMPLIMIENTO EN EL PAGO DE HONORARIOS"}]
[{"$f":"+Hoja3!$F606","v":0},"ILEGALIDAD DEL ACTO ADMINISTRATIVO QUE RETIRA DEL SERVICIO A MIEMBRO DE LA FUERZA PUBLICA POR PERDIDA DE LA CAPACIDAD LABORAL",{"$f":"IFERROR(FIND(UPPER('Causas nuevas'!$D$4),B606),0)","v":0},{"$f":"+IF(Hoja3!$C606=0,0,1)","v":0},{"$f":"+E605+Hoja3!$D606","v":3},{"$f":"+Hoja3!$E606*Hoja3!$D606","v":0},"DESAGREGAR","ILEGALIDAD DEL ACTO ADMINISTRATIVO QUE RETIRA DEL SERVICIO A MIEMBRO DE LA FUERZA PUBLICA",null,null,"JUDICIAL","Acto administrativo presuntamente viciado de ilegalidad que de retira del servicio a miembro de la fuerza pública por perdida o disminución de la capacidad laboral. El vicio del acto administrativo puede ser la expedición con infracción de las normas en que debería fundarse, o sin competencia, o en forma irregular, o con desconocimiento del derecho de audiencia y defensa, o mediante falsa motivación, o con falta de motivación, o con desviación de las atribuciones propias de quien lo profirió, o con violación del debido proceso administrativo.",456,{"$f":"+Hoja3!$B606","v":"ILEGALIDAD DEL ACTO ADMINISTRATIVO QUE RETIRA DEL SERVICIO A MIEMBRO DE LA FUERZA PUBLICA POR PERDIDA DE LA CAPACIDAD LABORAL"}]
[{"$f":"+Hoja3!$F607","v":0},"ILEGALIDAD DEL ACTO ADMINISTRATIVO DE DESVINCULACION DE LOS MIEMBROS DE LA FUERZA PUBLICA POR LLAMAMIENTO A CALIFICAR SERVICIOS",{"$f":"IFERROR(FIND(UPPER('Causas nuevas'!$D$4),B607),0)","v":0},{"$f":"+IF(Hoja3!$C607=0,0,1)","v":0},{"$f":"+E606+Hoja3!$D607","v":3},{"$f":"+Hoja3!$E607*Hoja3!$D607","v":0},"DESAGREGAR","ILEGALIDAD DEL ACTO ADMINISTRATIVO QUE RETIRA DEL SERVICIO A MIEMBRO DE LA FUERZA PUBLICA",null,null,"JUDICIAL","Acto administrativo presuntamente viciado de ilegalidad que de desvincula a miembro de la fuerza pública por llamamiento a calificar servicios. El llamamiento a calificar servicios es la facultad de disponer el retiro de los miembros de la fuerza pública, una vez se ha cumplido con el tiempo mínimo de servicio para hacerse acreedor de una asignación de retiro; es una forma normal de culminación de la carrera profesional como uniformado de la institución  y permite la renovación generacional de la estructura y jerarquía. El vicio del acto administrativo puede ser la expedición con infracción de las normas en que debería fundarse, o sin competencia, o en forma irregular, o con desconocimiento del derecho de audiencia y defensa, o mediante falsa motivación, o con falta de motivación, o con desviación de las atribuciones propias de quien lo profirió, o con violación del debido proceso administrativo.",259,{"$f":"+Hoja3!$B607","v":"ILEGALIDAD DEL ACTO ADMINISTRATIVO DE DESVINCULACION DE LOS MIEMBROS DE LA FUERZA PUBLICA POR LLAMAMIENTO A CALIFICAR SERVICIOS"}]
[{"$f":"+Hoja3!$F608","v":0},"ILEGALIDAD DEL ACTO ADMINISTRATIVO DE DESVINCULACION DE LOS MIEMBROS DE LA FUERZA PUBLICA POR RETIRO DISCRECIONAL",{"$f":"IFERROR(FIND(UPPER('Causas nuevas'!$D$4),B608),0)","v":0},{"$f":"+IF(Hoja3!$C608=0,0,1)","v":0},{"$f":"+E607+Hoja3!$D608","v":3},{"$f":"+Hoja3!$E608*Hoja3!$D608","v":0},"DESAGREGAR","ILEGALIDAD DEL ACTO ADMINISTRATIVO QUE RETIRA DEL SERVICIO A MIEMBRO DE LA FUERZA PUBLICA",null,null,"JUDICIAL","Acto administrativo presuntamente viciado de ilegalidad que desvincula a miembro de la fuerza pública por retiro discrecional. El retiro discrecional es la facultad, por razones del servicio y en forma discrecional, de disponer el retiro de los miembros de la fuerza pública con cualquier tiempo de servicio. El vicio del acto administrativo puede ser la expedición con infracción de las normas en que debería fundarse, o sin competencia, o en forma irregular, o con desconocimiento del derecho de audiencia y defensa, o mediante falsa motivación, o con falta de motivación, o con desviación de las atribuciones propias de quien lo profirió, o con violación del debido proceso administrativo.",260,{"$f":"+Hoja3!$B608","v":"ILEGALIDAD DEL ACTO ADMINISTRATIVO DE DESVINCULACION DE LOS MIEMBROS DE LA FUERZA PUBLICA POR RETIRO DISCRECIONAL"}]
[{"$f":"+Hoja3!$F609","v":0},"DESCONOCIMIENTO DEL FUERO SINDICAL",{"$f":"IFERROR(FIND(UPPER('Causas nuevas'!$D$4),B609),0)","v":0},{"$f":"+IF(Hoja3!$C609=0,0,1)","v":0},{"$f":"+E608+Hoja3!$D609","v":3},{"$f":"+Hoja3!$E609*Hoja3!$D609","v":0},"DESAGREGAR","ILEGALIDAD DEL ACTO ADMINISTRATIVO QUE DESCONOCE EL FUERO SINDICAL",null,null,"JUDICIAL","Desconocimiento del fuero sindical, por lo que se pretende el reintegro del servidor público. El fuero sindical es la garantía de que gozan algunos trabajadores oficiales o funcionarios públicos (fundadores de sindicato, miembros junta directiva del sindicato, etc.) de no ser despedidos, ni desmejorados en sus condiciones de trabajo, ni trasladados a otros establecimientos de la misma empresa o a un municipio distinto, sin justa causa, previamente calificada por el juez del trabajo. Nota: es subsidiaria a la causa DESCONOCIMIENTO DEL FUERO SINDICAL EN LOS PROCESOS DE REESTRUCTURACION Y LIQUIDACION DE ENTIDADES PUBLICAS.",214,{"$f":"+Hoja3!$B609","v":"DESCONOCIMIENTO DEL FUERO SINDICAL"}]
[{"$f":"+Hoja3!$F610","v":0},"DESCONOCIMIENTO DEL FUERO SINDICAL EN LOS PROCESOS DE REESTRUCTURACION Y LIQUIDACION DE ENTIDADES PUBLICAS",{"$f":"IFERROR(FIND(UPPER('Causas nuevas'!$D$4),B610),0)","v":0},{"$f":"+IF(Hoja3!$C610=0,0,1)","v":0},{"$f":"+E609+Hoja3!$D610","v":3},{"$f":"+Hoja3!$E610*Hoja3!$D610","v":0},"DESAGREGAR","ILEGALIDAD DEL ACTO ADMINISTRATIVO QUE DESCONOCE EL FUERO SINDICAL",null,null,"JUDICIAL","Desconocimiento del fuero sindical en procesos de reestructuración y liquidación de estidades públicas, por lo que se pretende el reintegro del servidor público. El fuero sindical es la garantía de que gozan algunos trabajadores oficiales o funcionarios públicos (fundadores de sindicato, miembros junta directiva del sindicato, etc.) de no ser despedidos, ni desmejorados en sus condiciones de trabajo, ni trasladados a otros establecimientos de la misma empresa o a un municipio distinto, sin justa causa, previamente calificada por el juez del trabajo.",215,{"$f":"+Hoja3!$B610","v":"DESCONOCIMIENTO DEL FUERO SINDICAL EN LOS PROCESOS DE REESTRUCTURACION Y LIQUIDACION DE ENTIDADES PUBLICAS"}]
[{"$f":"+Hoja3!$F611","v":0},"DAÑOS CAUSADOS A FUNCIONARIO DE CARRERA ADMINISTRATIVA DURANTE LOS PROCESOS DE REESTRUCTURACION Y LIQUIDACION DE ENTIDADES PUBLICAS",{"$f":"IFERROR(FIND(UPPER('Causas nuevas'!$D$4),B611),0)","v":0},{"$f":"+IF(Hoja3!$C611=0,0,1)","v":0},{"$f":"+E610+Hoja3!$D611","v":3},{"$f":"+Hoja3!$E611*Hoja3!$D611","v":0},"DESAGREGAR","ILEGALIDAD DEL ACTO ADMINISTRATIVO QUE SUPRIME EL CARGO",null,null,"JUDICIAL","Daños causados a funcionario público de carrera durante los procesos de reestructuración y liquidación de entidades publicas. Es funcionario público de carrera quien tiene una relación legal y regamentaria con el Estado e ingresó a la función pública mediante concurso de méritos.",165,{"$f":"+Hoja3!$B611","v":"DAÑOS CAUSADOS A FUNCIONARIO DE CARRERA ADMINISTRATIVA DURANTE LOS PROCESOS DE REESTRUCTURACION Y LIQUIDACION DE ENTIDADES PUBLICAS"}]
[{"$f":"+Hoja3!$F612","v":0},"DAÑOS CAUSADOS A FUNCIONARIO DE LIBRE NOMBRAMIENTO Y REMOCION DURANTE LOS PROCESOS DE REESTRUCTURACION Y LIQUIDACION DE ENTIDADES PUBLICAS",{"$f":"IFERROR(FIND(UPPER('Causas nuevas'!$D$4),B612),0)","v":0},{"$f":"+IF(Hoja3!$C612=0,0,1)","v":0},{"$f":"+E611+Hoja3!$D612","v":3},{"$f":"+Hoja3!$E612*Hoja3!$D612","v":0},"DESAGREGAR","ILEGALIDAD DEL ACTO ADMINISTRATIVO QUE SUPRIME EL CARGO",null,null,"JUDICIAL","Daños causados a funcionario público de libre nombramiento y remoción durante los procesos de reestructuración y liquidación de entidades publicas. Es funcionario público de libre nombramiento y remoción quien tiene una relación legal y regamentaria con el Estado y respecto de ellos el nominador puede proceder a su nombramiento y remoción en forma discrecional.",166,{"$f":"+Hoja3!$B612","v":"DAÑOS CAUSADOS A FUNCIONARIO DE LIBRE NOMBRAMIENTO Y REMOCION DURANTE LOS PROCESOS DE REESTRUCTURACION Y LIQUIDACION DE ENTIDADES PUBLICAS"}]
[{"$f":"+Hoja3!$F613","v":0},"DAÑOS CAUSADOS A FUNCIONARIO EN PROVISIONALIDAD DURANTE LOS PROCESOS DE REESTRUCTURACION Y LIQUIDACION DE ENTIDADES PUBLICAS",{"$f":"IFERROR(FIND(UPPER('Causas nuevas'!$D$4),B613),0)","v":0},{"$f":"+IF(Hoja3!$C613=0,0,1)","v":0},{"$f":"+E612+Hoja3!$D613","v":3},{"$f":"+Hoja3!$E613*Hoja3!$D613","v":0},"DESAGREGAR","ILEGALIDAD DEL ACTO ADMINISTRATIVO QUE SUPRIME EL CARGO",null,null,"JUDICIAL","Daños causados a funcionario público en provisionalidad durante los procesos de reestructuración y liquidación de entidades publicas. Es funcionario público en provisionalidad quien tiene una relación legal y regamentaria con el Estado y ocupa transitoriamente un empleo de carrera cuando este no está provisto de manera definitiva.",167,{"$f":"+Hoja3!$B613","v":"DAÑOS CAUSADOS A FUNCIONARIO EN PROVISIONALIDAD DURANTE LOS PROCESOS DE REESTRUCTURACION Y LIQUIDACION DE ENTIDADES PUBLICAS"}]
[{"$f":"+Hoja3!$F614","v":0},"CUMPLIMIENTO DE REQUISITOS LEGALES PARA LEVANTAMIENTO DE FUERO SINDICAL EN PROCESOS DE REESTRUCTURACION Y LIQUIDACION DE ENTIDADES PUBLICAS",{"$f":"IFERROR(FIND(UPPER('Causas nuevas'!$D$4),B614),0)","v":0},{"$f":"+IF(Hoja3!$C614=0,0,1)","v":0},{"$f":"+E613+Hoja3!$D614","v":3},{"$f":"+Hoja3!$E614*Hoja3!$D614","v":0},"DESAGREGAR","ILEGALIDAD DEL ACTO ADMINISTRATIVO QUE SUPRIME EL CARGO",null,null,"JUDICIAL","Solicitud de levantamiento del fuero sindical en procesos de reestructuración y liquidación de estidades públicas. El fuero sindical es la garantía de que gozan algunos trabajadores oficiales o funcionarios públicos (fundadores de sindicato, miembros junta directiva del sindicato, etc.) de no ser despedidos, ni desmejorados en sus condiciones de trabajo, ni trasladados a otros establecimientos de la misma empresa o a un municipio distinto, sin justa causa, previamente calificada por el juez del trabajo. Nota: es subsidiaria a la causa CUMPLIMIENTO DE REQUISITOS LEGALES PARA LEVANTAMIENTO DE FUERO SINDICAL EN PROCESOS DE REESTRUCTURACION Y LIQUIDACION DE ENTIDADES PUBLICAS.",97,{"$f":"+Hoja3!$B614","v":"CUMPLIMIENTO DE REQUISITOS LEGALES PARA LEVANTAMIENTO DE FUERO SINDICAL EN PROCESOS DE REESTRUCTURACION Y LIQUIDACION DE ENTIDADES PUBLICAS"}]
[{"$f":"+Hoja3!$F615","v":0},"ILEGALIDAD DEL ACTO ADMINISTRATIVO QUE ORDENA EL RETIRO DE SERVIDOR PUBLICO POR CUMPLIMIENTO DE LA EDAD DE RETIRO FORZOSO",{"$f":"IFERROR(FIND(UPPER('Causas nuevas'!$D$4),B615),0)","v":0},{"$f":"+IF(Hoja3!$C615=0,0,1)","v":0},{"$f":"+E614+Hoja3!$D615","v":3},{"$f":"+Hoja3!$E615*Hoja3!$D615","v":0},"DESAGREGAR","ILEGALIDAD DEL ACTO ADMINISTRATIVO QUE ORDENA EL RETIRO FORZOSO",null,null,"JUDICIAL","Acto administrativo presuntamente viciado de ilegalidad que ordena el retiro de un servidor público por cumplimiento de la edad de retiro forzoso, tanto para hombres como para mujeres es de 65 años de edad. El vicio del acto puede ser la expedición con infracción de las normas en que debería fundarse, o sin competencia, o en forma irregular, o con desconocimiento del derecho de audiencia y defensa, o mediante falsa motivación, o con falta de motivación, o con desviación de las atribuciones propias de quien lo profirió, o con violación del debido proceso administrativo.",435,{"$f":"+Hoja3!$B615","v":"ILEGALIDAD DEL ACTO ADMINISTRATIVO QUE ORDENA EL RETIRO DE SERVIDOR PUBLICO POR CUMPLIMIENTO DE LA EDAD DE RETIRO FORZOSO"}]
[{"$f":"+Hoja3!$F616","v":0},"NO RECONOCIMIENTO DE PAGO DE INCAPACIDAD MEDICA",{"$f":"IFERROR(FIND(UPPER('Causas nuevas'!$D$4),B616),0)","v":0},{"$f":"+IF(Hoja3!$C616=0,0,1)","v":0},{"$f":"+E615+Hoja3!$D616","v":3},{"$f":"+Hoja3!$E616*Hoja3!$D616","v":0},"DESAGREGAR","NO RECONOCIMIENTO EN DERECHO DEL PAGO DE INCAPACIDAD MEDICA",null,null,"JUDICIAL","Desconocimiento del derecho a percibir el pago de incapacidad médica originada por enfermedad general o profesional o por accidente común o de trabajo.",816,{"$f":"+Hoja3!$B616","v":"NO RECONOCIMIENTO DE PAGO DE INCAPACIDAD MEDICA"}]
[{"$f":"+Hoja3!$F617","v":0},"INDEBIDA LIQUIDACION DE PAGO DE INCAPACIDAD MEDICA",{"$f":"IFERROR(FIND(UPPER('Causas nuevas'!$D$4),B617),0)","v":0},{"$f":"+IF(Hoja3!$C617=0,0,1)","v":0},{"$f":"+E616+Hoja3!$D617","v":3},{"$f":"+Hoja3!$E617*Hoja3!$D617","v":0},"DESAGREGAR","NO RECONOCIMIENTO EN DERECHO DEL PAGO DE INCAPACIDAD MEDICA",null,null,"JUDICIAL","Liquidación irregular de pago de incapacidad médica originada por enfermedad general o profesional o por accidente común o de trabajo, por lo que se pretende su reliquidación.",559,{"$f":"+Hoja3!$B617","v":"INDEBIDA LIQUIDACION DE PAGO DE INCAPACIDAD MEDICA"}]
[{"$f":"+Hoja3!$F618","v":0},"INCUMPLIMIENTO EN EL PAGO DE INCAPACIDAD MEDICA",{"$f":"IFERROR(FIND(UPPER('Causas nuevas'!$D$4),B618),0)","v":0},{"$f":"+IF(Hoja3!$C618=0,0,1)","v":0},{"$f":"+E617+Hoja3!$D618","v":3},{"$f":"+Hoja3!$E618*Hoja3!$D618","v":0},"DESAGREGAR","NO RECONOCIMIENTO EN DERECHO DEL PAGO DE INCAPACIDAD MEDICA",null,null,"JUDICIAL","Mora o no pago de incapacidad médica originada por enfermedad general o profesional o por accidente común o de trabajo, ya reconocida.",500,{"$f":"+Hoja3!$B618","v":"INCUMPLIMIENTO EN EL PAGO DE INCAPACIDAD MEDICA"}]
[{"$f":"+Hoja3!$F619","v":0},"INDEBIDA LIQUIDACION DE INDEMNIZACION POR DISMINUCION DE CAPACIDAD LABORAL",{"$f":"IFERROR(FIND(UPPER('Causas nuevas'!$D$4),B619),0)","v":0},{"$f":"+IF(Hoja3!$C619=0,0,1)","v":0},{"$f":"+E618+Hoja3!$D619","v":3},{"$f":"+Hoja3!$E619*Hoja3!$D619","v":0},"NUEVA",{"$nulls":3},"JUDICIAL","Liquidación irregular de indemnización en caso de disminución permanenete de la capacidad laboral ocasionada por accidente de trabajo o enfermedad laboral, por lo que se pretende su reliquidación. La incapacidad permanente parcial se presenta cuando el afiliado al Sistema General de Riesgos Profesionales, como consecuencia de un accidente de trabajo o de una enfermedad profesional, sufre una disminución parcial, pero definitiva en alguna o algunas de sus facultades para realizar su trabajo habitual.",553,{"$f":"+Hoja3!$B619","v":"INDEBIDA LIQUIDACION DE INDEMNIZACION POR DISMINUCION DE CAPACIDAD LABORAL"}]
[{"$f":"+Hoja3!$F620","v":0},"INCUMPLIMIENTO EN EL PAGO DE INDEMNIZACION POR DISMINUCION DE CAPACIDAD LABORAL",{"$f":"IFERROR(FIND(UPPER('Causas nuevas'!$D$4),B620),0)","v":0},{"$f":"+IF(Hoja3!$C620=0,0,1)","v":0},{"$f":"+E619+Hoja3!$D620","v":3},{"$f":"+Hoja3!$E620*Hoja3!$D620","v":0},"NUEVA",{"$nulls":3},"JUDICIAL","Mora o no pago de indemnización en caso de disminución permanenete de la capacidad laboral ocasionada por accidente de trabajo o enfermedad laboral, ya reconocida. La incapacidad permanente parcial se presenta cuando el afiliado al Sistema General de Riesgos Profesionales, como consecuencia de un accidente de trabajo o de una enfermedad profesional, sufre una disminución parcial, pero definitiva en alguna o algunas de sus facultades para realizar su trabajo habitual.",504,{"$f":"+Hoja3!$B620","v":"INCUMPLIMIENTO EN EL PAGO DE INDEMNIZACION POR DISMINUCION DE CAPACIDAD LABORAL"}]
[{"$f":"+Hoja3!$F621","v":0},"INDEBIDO TRASLADO DE FUNCIONARIO PUBLICO",{"$f":"IFERROR(FIND(UPPER('Causas nuevas'!$D$4),B621),0)","v":0},{"$f":"+IF(Hoja3!$C621=0,0,1)","v":0},{"$f":"+E620+Hoja3!$D621","v":3},{"$f":"+Hoja3!$E621*Hoja3!$D621","v":0},"DESAGREGAR","ILEGALIDAD DEL ACTO ADMINISTRATIVO QUE ORDENA UN TRASLADO",null,null,"JUDICIAL","Indebido traslado de funcionario público. El traslado es la situación administrativa que implica el traslado de manera permanente del funcionario público a otro lugar de trabajo. Es funcionario público quien tiene una relación legal y regamentaria con el Estado",585,{"$f":"+Hoja3!$B621","v":"INDEBIDO TRASLADO DE FUNCIONARIO PUBLICO"}]
[{"$f":"+Hoja3!$F622","v":0},"INDEBIDO TRASLADO DE TRABAJADOR OFICIAL",{"$f":"IFERROR(FIND(UPPER('Causas nuevas'!$D$4),B622),0)","v":0},{"$f":"+IF(Hoja3!$C622=0,0,1)","v":0},{"$f":"+E621+Hoja3!$D622","v":3},{"$f":"+Hoja3!$E622*Hoja3!$D622","v":0},"DESAGREGAR","ILEGALIDAD DEL ACTO ADMINISTRATIVO QUE ORDENA UN TRASLADO",null,null,"JUDICIAL","Indebido traslado de trabajador oficial. El traslado es la situación administrativa que implica el traslado de manera permanente del trabajador oficial a otro lugar de trabajo. Es trabajador oficial quien tiene una relación contractual laboral con el Estado.",586,{"$f":"+Hoja3!$B622","v":"INDEBIDO TRASLADO DE TRABAJADOR OFICIAL"}]
[{"$f":"+Hoja3!$F623","v":0},"INDEBIDA LIQUIDACION DE INDEMNIZACION POR MUERTE EN ACCIDENTE DE TRABAJO",{"$f":"IFERROR(FIND(UPPER('Causas nuevas'!$D$4),B623),0)","v":0},{"$f":"+IF(Hoja3!$C623=0,0,1)","v":0},{"$f":"+E622+Hoja3!$D623","v":3},{"$f":"+Hoja3!$E623*Hoja3!$D623","v":0},"NUEVA",{"$nulls":3},"JUDICIAL","Liquidación irregular de la indemnización en caso de muerte del servidor público ocasionada por accidente de trabajo o enfermedad laboral, por lo que se pretende su reliquidación.",554,{"$f":"+Hoja3!$B623","v":"INDEBIDA LIQUIDACION DE INDEMNIZACION POR MUERTE EN ACCIDENTE DE TRABAJO"}]
[{"$f":"+Hoja3!$F624","v":0},"INCUMPLIMIENTO EN EL PAGO DE INDEMNIZACION POR MUERTE EN ACCIDENTE DE TRABAJO",{"$f":"IFERROR(FIND(UPPER('Causas nuevas'!$D$4),B624),0)","v":0},{"$f":"+IF(Hoja3!$C624=0,0,1)","v":0},{"$f":"+E623+Hoja3!$D624","v":3},{"$f":"+Hoja3!$E624*Hoja3!$D624","v":0},"NUEVA",{"$nulls":3},"JUDICIAL","Mora o no pago de la indemnización en caso de muerte del servidor público ocasionada por accidente de trabajo o enfermedad laboral, ya reconocida.",505,{"$f":"+Hoja3!$B624","v":"INCUMPLIMIENTO EN EL PAGO DE INDEMNIZACION POR MUERTE EN ACCIDENTE DE TRABAJO"}]
[{"$f":"+Hoja3!$F625","v":0},"INDEBIDA LIQUIDACION DE LA BONIFICACION POR COMPENSACION",{"$f":"IFERROR(FIND(UPPER('Causas nuevas'!$D$4),B625),0)","v":0},{"$f":"+IF(Hoja3!$C625=0,0,1)","v":0},{"$f":"+E624+Hoja3!$D625","v":3},{"$f":"+Hoja3!$E625*Hoja3!$D625","v":0},"NUEVA",{"$nulls":3},"JUDICIAL","Liquidación irregular de la bonificación por compensación, por lo que se pretende su reliquidación. La bonificación por compensación pretende compensar la diferencia salarial  proporcional del salario mensual en relación con el salario de otros funcionarios de superior jerarquía.",557,{"$f":"+Hoja3!$B625","v":"INDEBIDA LIQUIDACION DE LA BONIFICACION POR COMPENSACION"}]
[{"$f":"+Hoja3!$F626","v":0},"INCUMPLIMIENTO EN EL PAGO DE LA BONIFICACION POR COMPENSACION",{"$f":"IFERROR(FIND(UPPER('Causas nuevas'!$D$4),B626),0)","v":0},{"$f":"+IF(Hoja3!$C626=0,0,1)","v":0},{"$f":"+E625+Hoja3!$D626","v":3},{"$f":"+Hoja3!$E626*Hoja3!$D626","v":0},"NUEVA",{"$nulls":3},"JUDICIAL","Mora o no pago de la bonificación por compensación ya reconocida. La bonificación por compensación pretende compensar la diferencia salarial  proporcional del salario mensual en relación con el salario de otros funcionarios de superior jerarquía.",507,{"$f":"+Hoja3!$B626","v":"INCUMPLIMIENTO EN EL PAGO DE LA BONIFICACION POR COMPENSACION"}]
[{"$f":"+Hoja3!$F627","v":0},"INCUMPLIMIENTO EN EL PAGO DE REGALIAS",{"$f":"IFERROR(FIND(UPPER('Causas nuevas'!$D$4),B627),0)","v":0},{"$f":"+IF(Hoja3!$C627=0,0,1)","v":0},{"$f":"+E626+Hoja3!$D627","v":3},{"$f":"+Hoja3!$E627*Hoja3!$D627","v":0},"NUEVA",{"$nulls":3},"JUDICIAL","Mora o no pago de regalías ya reconocidas. La explotación de un recurso natural no renovable causará, a favor del Estado, una contraprestación económica a título de regalía, cuya distribución, objetivos, fines, administración, ejecución, control, uso eficiente y destinación, precisando las condiciones de participación de sus beneficiarios se hace a través del Sistema General de Regalías. El vicio del acto puede ser la expedición con infracción de las normas en que debería fundarse, o sin competencia, o en forma irregular, o con desconocimiento del derecho de audiencia y defensa, o mediante falsa motivación, o con falta de motivación, o con desviación de las atribuciones propias de quien lo profirió, o con violación del debido proceso administrativo.",526,{"$f":"+Hoja3!$B627","v":"INCUMPLIMIENTO EN EL PAGO DE REGALIAS"}]
[{"$f":"+Hoja3!$F628","v":0},"NO OTORGAMIENTO DE LICENCIAS AMBIENTALES",{"$f":"IFERROR(FIND(UPPER('Causas nuevas'!$D$4),B628),0)","v":0},{"$f":"+IF(Hoja3!$C628=0,0,1)","v":0},{"$f":"+E627+Hoja3!$D628","v":3},{"$f":"+Hoja3!$E628*Hoja3!$D628","v":0},"DESAGREGAR","NO OTORGAMIENTO DE LICENCIAS Y PERMISOS AMBIENTALES",null,null,"JUDICIAL","No otorgamiento o retardo en el otorgamiento de licencias ambientales. Se entiende por licencia ambiental la autorización que otorga la autoridad ambiental competente para la ejecución de una obra o actividad, sujeta al cumplimiento por el beneficiario de la licencia de los requisitos que la misma establezca en relación con la prevención, mitigación, corrección, compensación y manejo de los efectos ambientales de la obra o actividad autorizada. El vicio del acto que no otorga la licencia puede ser la expedición con infracción de las normas en que debería fundarse, o sin competencia, o en forma irregular, o con desconocimiento del derecho de audiencia y defensa, o mediante falsa motivación, o con falta de motivación, o con desviación de las atribuciones propias de quien lo profirió, o con violación del debido proceso administrativo.",790,{"$f":"+Hoja3!$B628","v":"NO OTORGAMIENTO DE LICENCIAS AMBIENTALES"}]
[{"$f":"+Hoja3!$F629","v":0},"REVOCATORIA DE LICENCIAS AMBIENTALES",{"$f":"IFERROR(FIND(UPPER('Causas nuevas'!$D$4),B629),0)","v":0},{"$f":"+IF(Hoja3!$C629=0,0,1)","v":0},{"$f":"+E628+Hoja3!$D629","v":3},{"$f":"+Hoja3!$E629*Hoja3!$D629","v":0},"DESAGREGAR","NO OTORGAMIENTO DE LICENCIAS Y PERMISOS AMBIENTALES",null,null,"JUDICIAL","Revocatoria o cancelación de licencias ambientales. Se entiende por licencia ambiental la autorización que otorga la autoridad ambiental competente para la ejecución de una obra o actividad, sujeta al cumplimiento por el beneficiario de la licencia de los requisitos que la misma establezca en relación con la prevención, mitigación, corrección, compensación y manejo de los efectos ambientales de la obra o actividad autorizada. El vicio del acto que revoca o cancela la licencia puede ser la expedición con infracción de las normas en que debería fundarse, o sin competencia, o en forma irregular, o con desconocimiento del derecho de audiencia y defensa, o mediante falsa motivación, o con falta de motivación, o con desviación de las atribuciones propias de quien lo profirió, o con violación del debido proceso administrativo.",910,{"$f":"+Hoja3!$B629","v":"REVOCATORIA DE LICENCIAS AMBIENTALES"}]
[{"$f":"+Hoja3!$F630","v":0},"SUSPENSION DE LICENCIAS AMBIENTALES",{"$f":"IFERROR(FIND(UPPER('Causas nuevas'!$D$4),B630),0)","v":0},{"$f":"+IF(Hoja3!$C630=0,0,1)","v":0},{"$f":"+E629+Hoja3!$D630","v":3},{"$f":"+Hoja3!$E630*Hoja3!$D630","v":0},"DESAGREGAR","NO OTORGAMIENTO DE LICENCIAS Y PERMISOS AMBIENTALES",null,null,"JUDICIAL","Suspención indebida de licencias ambientales. Se entiende por licencia ambiental la autorización que otorga la autoridad ambiental competente para la ejecución de una obra o actividad, sujeta al cumplimiento por el beneficiario de la licencia de los requisitos que la misma establezca en relación con la prevención, mitigación, corrección, compensación y manejo de los efectos ambientales de la obra o actividad autorizada. El vicio del acto que suspende la licencia puede ser la expedición con infracción de las normas en que debería fundarse, o sin competencia, o en forma irregular, o con desconocimiento del derecho de audiencia y defensa, o mediante falsa motivación, o con falta de motivación, o con desviación de las atribuciones propias de quien lo profirió, o con violación del debido proceso administrativo.",928,{"$f":"+Hoja3!$B630","v":"SUSPENSION DE LICENCIAS AMBIENTALES"}]
[{"$f":"+Hoja3!$F631","v":0},"SUSPENSION DE LICENCIA DE FUNCIONAMIENTO",{"$f":"IFERROR(FIND(UPPER('Causas nuevas'!$D$4),B631),0)","v":0},{"$f":"+IF(Hoja3!$C631=0,0,1)","v":0},{"$f":"+E630+Hoja3!$D631","v":3},{"$f":"+Hoja3!$E631*Hoja3!$D631","v":0},"NUEVA",{"$nulls":3},"JUDICIAL","Suspención indebida de licencias de funcionamiento. El vicio del acto que suspende la licencia puede ser la expedición con infracción de las normas en que debería fundarse, o sin competencia, o en forma irregular, o con desconocimiento del derecho de audiencia y defensa, o mediante falsa motivación, o con falta de motivación, o con desviación de las atribuciones propias de quien lo profirió, o con violación del debido proceso administrativo.",927,{"$f":"+Hoja3!$B631","v":"SUSPENSION DE LICENCIA DE FUNCIONAMIENTO"}]
[{"$f":"+Hoja3!$F632","v":0},"ILEGALIDAD DEL ACTO ADMINISTRATIVO QUE NIEGA LICENCIA DE EXPLORACION MINERA",{"$f":"IFERROR(FIND(UPPER('Causas nuevas'!$D$4),B632),0)","v":0},{"$f":"+IF(Hoja3!$C632=0,0,1)","v":0},{"$f":"+E631+Hoja3!$D632","v":3},{"$f":"+Hoja3!$E632*Hoja3!$D632","v":0},"NUEVA",{"$nulls":3},"JUDICIAL","Acto administrativo presuntamente viciado de ilegalidad que niega licencia de exploración minera. La licencia de exploración es el título que confiere a una persona el derecho exclusivo a realizar trabajos para establecer existencia de yacimientos de minerales y reservas, dentro de una zona determinada. El vicio del acto puede ser la expedición con infracción de las normas en que debería fundarse, o sin competencia, o en forma irregular, o con desconocimiento del derecho de audiencia y defensa, o mediante falsa motivación, o con falta de motivación, o con desviación de las atribuciones propias de quien lo profirió, o con violación del debido proceso administrativo.",402,{"$f":"+Hoja3!$B632","v":"ILEGALIDAD DEL ACTO ADMINISTRATIVO QUE NIEGA LICENCIA DE EXPLORACION MINERA"}]
[{"$f":"+Hoja3!$F633","v":0},"ILEGALIDAD DEL ACTO ADMINISTRATIVO QUE NIEGA LICENCIA DE EXPLOTACION MINERA",{"$f":"IFERROR(FIND(UPPER('Causas nuevas'!$D$4),B633),0)","v":0},{"$f":"+IF(Hoja3!$C633=0,0,1)","v":0},{"$f":"+E632+Hoja3!$D633","v":3},{"$f":"+Hoja3!$E633*Hoja3!$D633","v":0},"NUEVA",{"$nulls":3},"JUDICIAL","Acto administrativo presuntamente viciado de ilegalidad que niega licencia de explotación minera. La licencia de explotación es el título que le otorga a una persona la facultad exclusiva de explotar los depósitos o yacimientos de minerales en un área determinada (máximo 10 años). El vicio del acto puede ser la expedición con infracción de las normas en que debería fundarse, o sin competencia, o en forma irregular, o con desconocimiento del derecho de audiencia y defensa, o mediante falsa motivación, o con falta de motivación, o con desviación de las atribuciones propias de quien lo profirió, o con violación del debido proceso administrativo.",403,{"$f":"+Hoja3!$B633","v":"ILEGALIDAD DEL ACTO ADMINISTRATIVO QUE NIEGA LICENCIA DE EXPLOTACION MINERA"}]
[{"$f":"+Hoja3!$F634","v":0},"ILEGALIDAD DEL ACTO ADMINISTRATIVO QUE NIEGA APORTES MINEROS",{"$f":"IFERROR(FIND(UPPER('Causas nuevas'!$D$4),B634),0)","v":0},{"$f":"+IF(Hoja3!$C634=0,0,1)","v":0},{"$f":"+E633+Hoja3!$D634","v":3},{"$f":"+Hoja3!$E634*Hoja3!$D634","v":0},"NUEVA",{"$nulls":3},"JUDICIAL","Acto administrativo presuntamente viciado de ilegalidad que niega aporte minero. El aporte minero otorga a las entidades adscritas o vinculadas al Ministerio de Minas y Energía la facultad exclusiva y temporal de explorar y explotar los yacimientos de uno o varios minerales que existan en un área determinada. El vicio del acto puede ser la expedición con infracción de las normas en que debería fundarse, o sin competencia, o en forma irregular, o con desconocimiento del derecho de audiencia y defensa, o mediante falsa motivación, o con falta de motivación, o con desviación de las atribuciones propias de quien lo profirió, o con violación del debido proceso administrativo.",384,{"$f":"+Hoja3!$B634","v":"ILEGALIDAD DEL ACTO ADMINISTRATIVO QUE NIEGA APORTES MINEROS"}]
[{"$f":"+Hoja3!$F635","v":0},"ILEGALIDAD DEL ACTO ADMINISTRATIVO QUE RECHAZA PROPUESTA DE CONTRATO DE CONCESION MINERA",{"$f":"IFERROR(FIND(UPPER('Causas nuevas'!$D$4),B635),0)","v":0},{"$f":"+IF(Hoja3!$C635=0,0,1)","v":0},{"$f":"+E634+Hoja3!$D635","v":3},{"$f":"+Hoja3!$E635*Hoja3!$D635","v":0},"NUEVA",{"$nulls":3},"JUDICIAL","Acto administrativo presuntamente viciado de ilegalidad que rechaza propuesta de contrato de concesión minera. Los contratos de concesión minera son contratos celebrados por el Ministerio de Minas y Energía y confieren al concesionario el derecho exclusivo a extraer los minerales y a realizar obras y labores de montaje y desarrollo de la explotación y transporte del mineral (máximo 30 años). El vicio del acto puede ser la expedición con infracción de las normas en que debería fundarse, o sin competencia, o en forma irregular, o con desconocimiento del derecho de audiencia y defensa, o mediante falsa motivación, o con falta de motivación, o con desviación de las atribuciones propias de quien lo profirió, o con violación del debido proceso administrativo.",447,{"$f":"+Hoja3!$B635","v":"ILEGALIDAD DEL ACTO ADMINISTRATIVO QUE RECHAZA PROPUESTA DE CONTRATO DE CONCESION MINERA"}]
[{"$f":"+Hoja3!$F636","v":0},"ILEGALIDAD DEL ACTO ADMINISTRATIVO QUE RECHAZA PROPUESTA DE CONTRATO MINERO CON LAS ENTIDADES DESCENTRALIZADAS",{"$f":"IFERROR(FIND(UPPER('Causas nuevas'!$D$4),B636),0)","v":0},{"$f":"+IF(Hoja3!$C636=0,0,1)","v":0},{"$f":"+E635+Hoja3!$D636","v":3},{"$f":"+Hoja3!$E636*Hoja3!$D636","v":0},"NUEVA",{"$nulls":3},"JUDICIAL","Acto administrativo presuntamente viciado de ilegalidad que rechaza propuesta de contrato minero con las entidades descentratizadas. Los contratos mineros con las entidades descentralizadas son contratos que celebran los establecimientos públicos y las empresas industriales vinculadas y adscritas al Ministerio de Minas y Energía para explorar y explotar áreas que sean recibidas en aporte. El vicio del acto puede ser la expedición con infracción de las normas en que debería fundarse, o sin competencia, o en forma irregular, o con desconocimiento del derecho de audiencia y defensa, o mediante falsa motivación, o con falta de motivación, o con desviación de las atribuciones propias de quien lo profirió, o con violación del debido proceso administrativo.",448,{"$f":"+Hoja3!$B636","v":"ILEGALIDAD DEL ACTO ADMINISTRATIVO QUE RECHAZA PROPUESTA DE CONTRATO MINERO CON LAS ENTIDADES DESCENTRALIZADAS"}]
[{"$f":"+Hoja3!$F637","v":0},"ILEGALIDAD DEL ACTO ADMINISTRATIVO QUE NIEGA INSCRIPCION DE TITULO MINERO EN EL REGISTRO MINERO",{"$f":"IFERROR(FIND(UPPER('Causas nuevas'!$D$4),B637),0)","v":0},{"$f":"+IF(Hoja3!$C637=0,0,1)","v":0},{"$f":"+E636+Hoja3!$D637","v":3},{"$f":"+Hoja3!$E637*Hoja3!$D637","v":0},"NUEVA",{"$nulls":3},"JUDICIAL","Acto administrativo presuntamente viciado de ilegalidad que niega la inscripción de título minero en el registro minero. El registro minero es un sistema de inscripción, autenticidad y publicidad de los títulos mineros con el derecho a explorar y explotar el suelo y subsuelo de acuerdo al Código de Minas. Son títulos mineros: las licencias de exploración y explotación, los aportes mineros y los contratos mineros. El vicio del acto puede ser la expedición con infracción de las normas en que debería fundarse, o sin competencia, o en forma irregular, o con desconocimiento del derecho de audiencia y defensa, o mediante falsa motivación, o con falta de motivación, o con desviación de las atribuciones propias de quien lo profirió, o con violación del debido proceso administrativo.",397,{"$f":"+Hoja3!$B637","v":"ILEGALIDAD DEL ACTO ADMINISTRATIVO QUE NIEGA INSCRIPCION DE TITULO MINERO EN EL REGISTRO MINERO"}]
[{"$f":"+Hoja3!$F638","v":0},"ILEGALIDAD DEL ACTO ADMINISTRATIVO QUE CREA UN IMPUESTO",{"$f":"IFERROR(FIND(UPPER('Causas nuevas'!$D$4),B638),0)","v":0},{"$f":"+IF(Hoja3!$C638=0,0,1)","v":0},{"$f":"+E637+Hoja3!$D638","v":3},{"$f":"+Hoja3!$E638*Hoja3!$D638","v":0},"DESAGREGAR","ILEGALIDAD DEL ACTO ADMINISTRATIVO QUE IMPONE TASA, IMPUESTO O TRIBUTO",null,null,"JUDICIAL","Acto administrativo presuntamente viciado de ilegalidad que crea un impuesto. Los impuestos son las cantidades económicas que deben ser tributadas al Estado por ley sin proporcionar contraprestación directa alguna en el momento del pago. El vicio del acto puede ser la expedición con infracción de las normas en que debería fundarse, o sin competencia, o en forma irregular, o con desconocimiento del derecho de audiencia y defensa, o mediante falsa motivación, o con falta de motivación, o con desviación de las atribuciones propias de quien lo profirió, o con violación del debido proceso administrativo. Nota: es subsidiaria a las causas parametrizadas a solicitud de la DIAN que hacen referencia a impuestos específicos.",302,{"$f":"+Hoja3!$B638","v":"ILEGALIDAD DEL ACTO ADMINISTRATIVO QUE CREA UN IMPUESTO"}]
[{"$f":"+Hoja3!$F639","v":0},"ILEGALIDAD DEL ACTO ADMINISTRATIVO QUE LIQUIDA UN IMPUESTO",{"$f":"IFERROR(FIND(UPPER('Causas nuevas'!$D$4),B639),0)","v":0},{"$f":"+IF(Hoja3!$C639=0,0,1)","v":0},{"$f":"+E638+Hoja3!$D639","v":3},{"$f":"+Hoja3!$E639*Hoja3!$D639","v":0},"DESAGREGAR","ILEGALIDAD DEL ACTO ADMINISTRATIVO QUE IMPONE TASA, IMPUESTO O TRIBUTO",null,null,"JUDICIAL","Acto administrativo presuntamente viciado de ilegalidad que liquida irregularmente un impuesto, por lo que se pretende su reliquidación. Los impuestos son las cantidades económicas que deben ser tributadas al Estado por ley sin proporcionar contraprestación directa alguna en el momento del pago. El vicio del acto puede ser la expedición con infracción de las normas en que debería fundarse, o sin competencia, o en forma irregular, o con desconocimiento del derecho de audiencia y defensa, o mediante falsa motivación, o con falta de motivación, o con desviación de las atribuciones propias de quien lo profirió, o con violación del debido proceso administrativo. Nota: es subsidiaria a las causas parametrizadas a solicitud de la DIAN que hacen referencia a impuestos específicos.",380,{"$f":"+Hoja3!$B639","v":"ILEGALIDAD DEL ACTO ADMINISTRATIVO QUE LIQUIDA UN IMPUESTO"}]
[{"$f":"+Hoja3!$F640","v":0},"ILEGALIDAD DEL ACTO ADMINISTRATIVO QUE CREA UNA TASA",{"$f":"IFERROR(FIND(UPPER('Causas nuevas'!$D$4),B640),0)","v":0},{"$f":"+IF(Hoja3!$C640=0,0,1)","v":0},{"$f":"+E639+Hoja3!$D640","v":3},{"$f":"+Hoja3!$E640*Hoja3!$D640","v":0},"DESAGREGAR","ILEGALIDAD DEL ACTO ADMINISTRATIVO QUE IMPONE TASA, IMPUESTO O TRIBUTO",null,null,"JUDICIAL","Acto administrativo presuntamente viciado de ilegalidad que crea una tasa. La tasa es un tributo que se caracteriza porque la actividad asumida por el Estado y que genera la obligación tributaria del contribuyente afecta o beneficia especialmente a determinado sujetos, la cuantía de la tasa no depende de la renta del afectado, sino que se relaciona con el costo del servicio o con la valoración del beneficio que se obtiene por la cesión del aprovechamiento especial del patrimonio o las inversiones públicas. El vicio del acto puede ser la expedición con infracción de las normas en que debería fundarse, o sin competencia, o en forma irregular, o con desconocimiento del derecho de audiencia y defensa, o mediante falsa motivación, o con falta de motivación, o con desviación de las atribuciones propias de quien lo profirió, o con violación del debido proceso administrativo.",304,{"$f":"+Hoja3!$B640","v":"ILEGALIDAD DEL ACTO ADMINISTRATIVO QUE CREA UNA TASA"}]
[{"$f":"+Hoja3!$F641","v":0},"ILEGALIDAD DEL ACTO ADMINISTRATIVO QUE LIQUIDA UNA TASA",{"$f":"IFERROR(FIND(UPPER('Causas nuevas'!$D$4),B641),0)","v":0},{"$f":"+IF(Hoja3!$C641=0,0,1)","v":0},{"$f":"+E640+Hoja3!$D641","v":3},{"$f":"+Hoja3!$E641*Hoja3!$D641","v":0},"DESAGREGAR","ILEGALIDAD DEL ACTO ADMINISTRATIVO QUE IMPONE TASA, IMPUESTO O TRIBUTO",null,null,"JUDICIAL","Acto administrativo presuntamente viciado de ilegalidad que liquida irregularmente una tasa, por lo que se pretende su reliquidación. La tasa es un tributo que se caracteriza porque la actividad asumida por el Estado y que genera la obligación tributaria del contribuyente afecta o beneficia especialmente a determinado sujetos, la cuantía de la tasa no depende de la renta del afectado, sino que se relaciona con el costo del servicio o con la valoración del beneficio que se obtiene por la cesión del aprovechamiento especial del patrimonio o las inversiones públicas. El vicio del acto puede ser la expedición con infracción de las normas en que debería fundarse, o sin competencia, o en forma irregular, o con desconocimiento del derecho de audiencia y defensa, o mediante falsa motivación, o con falta de motivación, o con desviación de las atribuciones propias de quien lo profirió, o con violación del debido proceso administrativo.",382,{"$f":"+Hoja3!$B641","v":"ILEGALIDAD DEL ACTO ADMINISTRATIVO QUE LIQUIDA UNA TASA"}]
[{"$f":"+Hoja3!$F642","v":0},"ILEGALIDAD DEL ACTO ADMINISTRATIVO QUE CREA UNA CONTRIBUCION ESPECIAL",{"$f":"IFERROR(FIND(UPPER('Causas nuevas'!$D$4),B642),0)","v":0},{"$f":"+IF(Hoja3!$C642=0,0,1)","v":0},{"$f":"+E641+Hoja3!$D642","v":3},{"$f":"+Hoja3!$E642*Hoja3!$D642","v":0},"DESAGREGAR","ILEGALIDAD DEL ACTO ADMINISTRATIVO QUE IMPONE TASA, IMPUESTO O TRIBUTO",null,null,"JUDICIAL","Acto administrativo presuntamente viciado de ilegalidad que crea una contribución especial. La contribucuón es un tributo cuya obligación se deriva de la obtención de beneficios especiales individualizados derivados de las inversiones del Estado en obras públicas, prestaciones sociales, salud y otras actividades; con estas acciones públicas se produce un aumento de valor de la propiedad del contribuyente, y es a cambio de ello que el Estado exige el pago de la contribución. El vicio del acto puede ser la expedición con infracción de las normas en que debería fundarse, o sin competencia, o en forma irregular, o con desconocimiento del derecho de audiencia y defensa, o mediante falsa motivación, o con falta de motivación, o con desviación de las atribuciones propias de quien lo profirió, o con violación del debido proceso administrativo.",303,{"$f":"+Hoja3!$B642","v":"ILEGALIDAD DEL ACTO ADMINISTRATIVO QUE CREA UNA CONTRIBUCION ESPECIAL"}]
[{"$f":"+Hoja3!$F643","v":0},"ILEGALIDAD DEL ACTO ADMINISTRATIVO QUE LIQUIDA UNA CONTRIBUCION ESPECIAL",{"$f":"IFERROR(FIND(UPPER('Causas nuevas'!$D$4),B643),0)","v":0},{"$f":"+IF(Hoja3!$C643=0,0,1)","v":0},{"$f":"+E642+Hoja3!$D643","v":3},{"$f":"+Hoja3!$E643*Hoja3!$D643","v":0},"DESAGREGAR","ILEGALIDAD DEL ACTO ADMINISTRATIVO QUE IMPONE TASA, IMPUESTO O TRIBUTO",null,null,"JUDICIAL","Acto administrativo presuntamente viciado de ilegalidad que liquida irregularmente una contribución especial, por lo que se pretende su reliquidación. La contribucuón es un tributo cuya obligación se deriva de la obtención de beneficios especiales individualizados derivados de las inversiones del Estado en obras públicas, prestaciones sociales, salud y otras actividades; con estas acciones públicas se produce un aumento de valor de la propiedad del contribuyente, y es a cambio de ello que el Estado exige el pago de la contribución. El vicio del acto puede ser la expedición con infracción de las normas en que debería fundarse, o sin competencia, o en forma irregular, o con desconocimiento del derecho de audiencia y defensa, o mediante falsa motivación, o con falta de motivación, o con desviación de las atribuciones propias de quien lo profirió, o con violación del debido proceso administrativo.",381,{"$f":"+Hoja3!$B643","v":"ILEGALIDAD DEL ACTO ADMINISTRATIVO QUE LIQUIDA UNA CONTRIBUCION ESPECIAL"}]
[{"$f":"+Hoja3!$F644","v":0},"NO RECONOCIMIENTO DE COSTO ACUMULADO DE ASCENSOS EN EL ESCALAFON DOCENTE",{"$f":"IFERROR(FIND(UPPER('Causas nuevas'!$D$4),B644),0)","v":0},{"$f":"+IF(Hoja3!$C644=0,0,1)","v":0},{"$f":"+E643+Hoja3!$D644","v":3},{"$f":"+Hoja3!$E644*Hoja3!$D644","v":0},"DESAGREGAR","NULIDAD DEL ACTO ADMINISTRATIVO QUE RECONOCE RETROACTIVIDAD EN EL PAGO DEL ESCALAFON DOCENTE",null,null,"JUDICIAL","Desconocimiento del derecho a percibir los costos acumulados por ascensos en los grados de escalafón docente. El escalafón docente es el sistema de clasificación de los docentes y directivos docentes de acuerdo con su formación académica, experiencia, responsabilidad, desempeño y superación de competencias, constituyendo los distintos grados y niveles que pueden ir alcanzando durante su vida laboral y que garantizan la permanencia en la carrera docente con base en la idoneidad demostrada en su labor y permitiendo asignar el correspondiente salario profesional. ",796,{"$f":"+Hoja3!$B644","v":"NO RECONOCIMIENTO DE COSTO ACUMULADO DE ASCENSOS EN EL ESCALAFON DOCENTE"}]
[{"$f":"+Hoja3!$F645","v":0},"INDEBIDA LIQUIDACION DE DE COSTO ACUMULADO DE ASCENSOS EN EL ESCALAFON DOCENTE",{"$f":"IFERROR(FIND(UPPER('Causas nuevas'!$D$4),B645),0)","v":0},{"$f":"+IF(Hoja3!$C645=0,0,1)","v":0},{"$f":"+E644+Hoja3!$D645","v":3},{"$f":"+Hoja3!$E645*Hoja3!$D645","v":0},"DESAGREGAR","NULIDAD DEL ACTO ADMINISTRATIVO QUE RECONOCE RETROACTIVIDAD EN EL PAGO DEL ESCALAFON DOCENTE",null,null,"JUDICIAL","Liquidación irregular de los costos acumulados por ascensos en los grados de escalafón docente, por lo que se pretende su reliquidación. El escalafón docente es el sistema de clasificación de los docentes y directivos docentes de acuerdo con su formación académica, experiencia, responsabilidad, desempeño y superación de competencias, constituyendo los distintos grados y niveles que pueden ir alcanzando durante su vida laboral y que garantizan la permanencia en la carrera docente con base en la idoneidad demostrada en su labor y permitiendo asignar el correspondiente salario profesional. ",548,{"$f":"+Hoja3!$B645","v":"INDEBIDA LIQUIDACION DE DE COSTO ACUMULADO DE ASCENSOS EN EL ESCALAFON DOCENTE"}]
[{"$f":"+Hoja3!$F646","v":0},"INCUMPLIMIENTO EN EL PAGO DE COSTO ACUMULADO DE ASCENSOS EN EL ESCALAFON DOCENTE",{"$f":"IFERROR(FIND(UPPER('Causas nuevas'!$D$4),B646),0)","v":0},{"$f":"+IF(Hoja3!$C646=0,0,1)","v":0},{"$f":"+E645+Hoja3!$D646","v":3},{"$f":"+Hoja3!$E646*Hoja3!$D646","v":0},"DESAGREGAR","NULIDAD DEL ACTO ADMINISTRATIVO QUE RECONOCE RETROACTIVIDAD EN EL PAGO DEL ESCALAFON DOCENTE",null,null,"JUDICIAL","Mora o no pago de los costos acumulados por ascensos en los grados de escalafón docente, ya reconocidos. Los honorarios son la remuneración pactada en un contrato de prestación de servicios. El escalafón docente es el sistema de clasificación de los docentes y directivos docentes de acuerdo con su formación académica, experiencia, responsabilidad, desempeño y superación de competencias, constituyendo los distintos grados y niveles que pueden ir alcanzando durante su vida laboral y que garantizan la permanencia en la carrera docente con base en la idoneidad demostrada en su labor y permitiendo asignar el correspondiente salario profesional. ",497,{"$f":"+Hoja3!$B646","v":"INCUMPLIMIENTO EN EL PAGO DE COSTO ACUMULADO DE ASCENSOS EN EL ESCALAFON DOCENTE"}]
[{"$f":"+Hoja3!$F647","v":0},"INCUMPLIMIENTO DE REQUISITOS PARA DESIGNACION DE LIQUIDADOR",{"$f":"IFERROR(FIND(UPPER('Causas nuevas'!$D$4),B647),0)","v":0},{"$f":"+IF(Hoja3!$C647=0,0,1)","v":0},{"$f":"+E646+Hoja3!$D647","v":3},{"$f":"+Hoja3!$E647*Hoja3!$D647","v":0},"NUEVA",{"$nulls":3},"JUDICIAL","Designación de liquidador de una entidad sometida a un proceso de reestructuración o liquidación, sin el cumplimiento de los requisitos legalmente previstos.",483,{"$f":"+Hoja3!$B647","v":"INCUMPLIMIENTO DE REQUISITOS PARA DESIGNACION DE LIQUIDADOR"}]
[{"$f":"+Hoja3!$F648","v":0},"INCUMPLIMIENTO DEL DEBER DE SEGUIMIENTO A LOS PROCESOS DE LIQUIDACION DE ENTIDADES FINANCIERAS",{"$f":"IFERROR(FIND(UPPER('Causas nuevas'!$D$4),B648),0)","v":0},{"$f":"+IF(Hoja3!$C648=0,0,1)","v":0},{"$f":"+E647+Hoja3!$D648","v":3},{"$f":"+Hoja3!$E648*Hoja3!$D648","v":0},"NUEVA",{"$nulls":3},"JUDICIAL","De acuerdo con el artículo 11.3.15.1.1 del Decreto 2555 de 2010 le corresponde a Fogafín realizar el seguimiento a la actividad del liquidador y evaluar su gestión y eficacia, contribuyendo así a la consecución de los objetivos estratégicos de la liquidación, tendientes a recuperar el mayor nivel de activos, venderlos al mejor valor posible para pagar a los acreedores en la mayor proporción.",491,{"$f":"+Hoja3!$B648","v":"INCUMPLIMIENTO DEL DEBER DE SEGUIMIENTO A LOS PROCESOS DE LIQUIDACION DE ENTIDADES FINANCIERAS"}]
[{"$f":"+Hoja3!$F649","v":0},"INDEBIDA OFICIALIZACION DE ENTIDAD FINANCIERA",{"$f":"IFERROR(FIND(UPPER('Causas nuevas'!$D$4),B649),0)","v":0},{"$f":"+IF(Hoja3!$C649=0,0,1)","v":0},{"$f":"+E648+Hoja3!$D649","v":3},{"$f":"+Hoja3!$E649*Hoja3!$D649","v":0},"NUEVA",{"$nulls":3},"JUDICIAL","El numeral 4 del artículo 320 del EOSF faculta a Fogafín a suscribir ampliaciones de capital necesarias para restablecer la situación patrimonial de la entidad financiera, en el supuesto de que dichas ampliaciones no sean cubiertas por los accionistas de la entidad o haya Incumplimiento de una orden de capitalización de la Superintendencia Financiera, por parte de una institución inscrita.",580,{"$f":"+Hoja3!$B649","v":"INDEBIDA OFICIALIZACION DE ENTIDAD FINANCIERA"}]
[{"$f":"+Hoja3!$F650","v":0},"INDEBIDA LIQUIDACION DE LA PRIMA DE SEGURO DE DEPOSITO",{"$f":"IFERROR(FIND(UPPER('Causas nuevas'!$D$4),B650),0)","v":0},{"$f":"+IF(Hoja3!$C650=0,0,1)","v":0},{"$f":"+E649+Hoja3!$D650","v":3},{"$f":"+Hoja3!$E650*Hoja3!$D650","v":0},"NUEVA",{"$nulls":3},"JUDICIAL","Liquidación irregular de la prima de seguro de depósitos, por lo que se pretende su reliquidacón. El artículo 319 del EOSF dispone que los recursos que conforman la reserva del seguro de depósitos, administrada exclusivamnete por Fogafín, provienen de las primas que pagan las entidades inscritas, los cuales están destinados exclusivamente para atender el pago de los siniestros o para realizar operaciones de apoyo respecto de las referidas entidades inscritas, correponde a Fogafin calcular la prima que pagan las entidades financieras por este concepto.",558,{"$f":"+Hoja3!$B650","v":"INDEBIDA LIQUIDACION DE LA PRIMA DE SEGURO DE DEPOSITO"}]
[{"$f":"+Hoja3!$F651","v":0},"ACCESION POR ALUVION",{"$f":"IFERROR(FIND(UPPER('Causas nuevas'!$D$4),B651),0)","v":0},{"$f":"+IF(Hoja3!$C651=0,0,1)","v":0},{"$f":"+E650+Hoja3!$D651","v":3},{"$f":"+Hoja3!$E651*Hoja3!$D651","v":0},"NUEVA",null,"Parametrizada a solicitud de EPON",null,"JUDICIAL","La accesión por aluvión es un modo de adquirir la propiedad por el cual el dueño de una heredad riberana dquiere el terreno de aluvión que es aquel que forma por el lento e imperceptible retiro de las aguas.",71,{"$f":"+Hoja3!$B651","v":"ACCESION POR ALUVION"}]
[{"$f":"+Hoja3!$F652","v":0},"ILEGALIDAD DEL ACTO ADMINISTRATIVO QUE APRUEBA CALCULO ACTUARIAL",{"$f":"IFERROR(FIND(UPPER('Causas nuevas'!$D$4),B652),0)","v":0},{"$f":"+IF(Hoja3!$C652=0,0,1)","v":0},{"$f":"+E651+Hoja3!$D652","v":3},{"$f":"+Hoja3!$E652*Hoja3!$D652","v":0},"NUEVA",null,"Parametrizada a solicitud de EPON",null,"JUDICIAL","Acto administrativo presuntamente viciado de ilegalidad que aprueba cálculo actuarial. El cálculo actuarial es una modalidad de matemáticas aplicadas que sirve para predecir o simular determinados hechos económicos atendiendo a sus posibles consecuencias y los costes que estas supondrían, de modo que puedan ser calculadas posibles compensaciones. Esta modalidad es aplicada entre otros, en el mercado de seguros, hipotecas o en planes de pensiones. El vicio del acto puede ser la expedición con infracción de las normas en que debería fundarse, o sin competencia, o en forma irregular, o con desconocimiento del derecho de audiencia y defensa, o mediante falsa motivación, o con falta de motivación, o con desviación de las atribuciones propias de quien lo profirió, o con violación del debido proceso administrativo.",292,{"$f":"+Hoja3!$B652","v":"ILEGALIDAD DEL ACTO ADMINISTRATIVO QUE APRUEBA CALCULO ACTUARIAL"}]
[{"$f":"+Hoja3!$F653","v":0},"COBRO INDEBIDO DE OBLIGACION",{"$f":"IFERROR(FIND(UPPER('Causas nuevas'!$D$4),B653),0)","v":0},{"$f":"+IF(Hoja3!$C653=0,0,1)","v":0},{"$f":"+E652+Hoja3!$D653","v":3},{"$f":"+Hoja3!$E653*Hoja3!$D653","v":0},"NUEVA",null,"Parametrizada a solicitud de EPON",null,"JUDICIAL","Puede ocurrir en alguno de los siguientes eventos: (i) cuando el acreedor percibe del deudor un pago (suma de dinero, bien o servicio) sin que previamente exista el deber jurídico de pagar, por lo que el deudor tiene derecho a exigir al acreedor la devolución de lo indebidamente percibido; o (ii) cuando el acreedor persigue del deudor un pago (suma de dinero, bien o servicio) respecto del cual ha operado el fenómeno jurídico de la prescripción.",89,{"$f":"+Hoja3!$B653","v":"COBRO INDEBIDO DE OBLIGACION"}]
[{"$f":"+Hoja3!$F654","v":0},"INDEBIDA LIQUIDACION DE PENSION SUSTITUTIVA",{"$f":"IFERROR(FIND(UPPER('Causas nuevas'!$D$4),B654),0)","v":0},{"$f":"+IF(Hoja3!$C654=0,0,1)","v":0},{"$f":"+E653+Hoja3!$D654","v":3},{"$f":"+Hoja3!$E654*Hoja3!$D654","v":0},"DESAGREGAR","ILEGALIDAD DEL ACTO ADMINISTRATIVO QUE LIQUIDA PENSION",null,null,"JUDICIAL","Liquidación irregular de la pensión sustitutiva. La pensión sustitutiva es una prestación económica que se causa por la muerte de un pensionado.",564,{"$f":"+Hoja3!$B654","v":"INDEBIDA LIQUIDACION DE PENSION SUSTITUTIVA"}]
[{"$f":"+Hoja3!$F655","v":0},"INCUMPLIMIENTO EN EL PAGO DE PENSION SUSTITUTIVA",{"$f":"IFERROR(FIND(UPPER('Causas nuevas'!$D$4),B655),0)","v":0},{"$f":"+IF(Hoja3!$C655=0,0,1)","v":0},{"$f":"+E654+Hoja3!$D655","v":3},{"$f":"+Hoja3!$E655*Hoja3!$D655","v":0},"DESAGREGAR","INCUMPLIMIENTO EN EL PAGO DE LA PENSION",null,null,"JUDICIAL","Mora o no pago de la pensión sustitutiva ya reconocida. La pensión sustitutiva es una prestación económica que se causa por la muerte de un pensionado.",518,{"$f":"+Hoja3!$B655","v":"INCUMPLIMIENTO EN EL PAGO DE PENSION SUSTITUTIVA"}]
[{"$f":"+Hoja3!$F656","v":0},"INDEBIDO SUMINISTRO DE PROGRAMAS, MEDIDAS O ACCIONES AFIRMATIVAS QUE PERMITAN LA INCLUSION DE LAS PERSONAS CON ALGUNA DISCAPACIDAD",{"$f":"IFERROR(FIND(UPPER('Causas nuevas'!$D$4),B656),0)","v":0},{"$f":"+IF(Hoja3!$C656=0,0,1)","v":0},{"$f":"+E655+Hoja3!$D656","v":3},{"$f":"+Hoja3!$E656*Hoja3!$D656","v":0},"NUEVA",{"$nulls":3},"JUDICIAL","No suministro de programas, medidas o acciones afirmativas que permitan la inclusión de la población con algún tipo de discapacidad a la sociedad, y con ello proteger el principio de no discriminación. Ejemplo: no suministro de intérpretes de lenguaje de señas para personas con discapacidad auditiva, encontrándose obligado a ello por ley o reglamento.",584,{"$f":"+Hoja3!$B656","v":"INDEBIDO SUMINISTRO DE PROGRAMAS, MEDIDAS O ACCIONES AFIRMATIVAS QUE PERMITAN LA INCLUSION DE LAS PERSONAS CON ALGUNA DISCAPACIDAD"}]
[{"$f":"+Hoja3!$F657","v":0},"NO RECONOCIMIENTO DE INDEMNIZACION POR DESPIDO SIN JUSTA CAUSA",{"$f":"IFERROR(FIND(UPPER('Causas nuevas'!$D$4),B657),0)","v":0},{"$f":"+IF(Hoja3!$C657=0,0,1)","v":0},{"$f":"+E656+Hoja3!$D657","v":3},{"$f":"+Hoja3!$E657*Hoja3!$D657","v":0},"NUEVA",{"$nulls":3},"JUDICIAL","Desconocimiento del derecho a percibir la indemnización por despido sin justa causa. La indemnización por despido sin justa causa es aquella que se causa en caso de terminación unilateral del contrato de trabajo sin justa causa comprobada, por parte del empleador o si éste da lugar a la terminación unilateral por parte del trabajador por alguna de las justas causas contempladas en la ley (artículos 62 y 63 del CST literal B).",804,{"$f":"+Hoja3!$B657","v":"NO RECONOCIMIENTO DE INDEMNIZACION POR DESPIDO SIN JUSTA CAUSA"}]
[{"$f":"+Hoja3!$F658","v":0},"INCUMPLIMIENTO EN EL PAGO DE INDEMNIZACION POR DESPIDO SIN JUSTA CAUSA",{"$f":"IFERROR(FIND(UPPER('Causas nuevas'!$D$4),B658),0)","v":0},{"$f":"+IF(Hoja3!$C658=0,0,1)","v":0},{"$f":"+E657+Hoja3!$D658","v":3},{"$f":"+Hoja3!$E658*Hoja3!$D658","v":0},"NUEVA",{"$nulls":3},"JUDICIAL","Mora o no pago de la indemnización por despido sin justa causa ya reconocida. La indemnización por despido sin justa causa es aquella que se causa en caso de terminación unilateral del contrato de trabajo sin justa causa comprobada, por parte del empleador o si éste da lugar a la terminación unilateral por parte del trabajador por alguna de las justas causas contempladas en la ley (artículos 62 y 63 del CST literal B).",503,{"$f":"+Hoja3!$B658","v":"INCUMPLIMIENTO EN EL PAGO DE INDEMNIZACION POR DESPIDO SIN JUSTA CAUSA"}]
[{"$f":"+Hoja3!$F659","v":0},"INCUMPLIMIENTO DEL DEBER DE PROTECCION A LA HONRA Y BUEN NOMBRE",{"$f":"IFERROR(FIND(UPPER('Causas nuevas'!$D$4),B659),0)","v":0},{"$f":"+IF(Hoja3!$C659=0,0,1)","v":0},{"$f":"+E658+Hoja3!$D659","v":3},{"$f":"+Hoja3!$E659*Hoja3!$D659","v":0},"NUEVA",null,"Parametrizada a solicitud de EPON",null,"JUDICIAL","Perjuicios derivados de la vulneración del derecho al buen nombre y la honra. El buen nombre es la reputación o el concepto que de una persona tienen los demás y que se configura como derecho frente al detrimento que pueda sufrir como producto de expresiones ofensivas o injuriosas o informaciones falsas o tendenciosas. El derecho al buen nombre, como expresión de la reputación o la fama que tiene una persona, se lesiona por las informaciones falsas o erróneas que se difundan sin fundamento y que distorsionan el concepto público que se tiene del individuo. La honra es la estimación o deferencia con la que, en razón a su dignidad humana, cada persona debe ser tenida por los demás miembros de la colectividad que le conocen y le tratan.",489,{"$f":"+Hoja3!$B659","v":"INCUMPLIMIENTO DEL DEBER DE PROTECCION A LA HONRA Y BUEN NOMBRE"}]
[{"$f":"+Hoja3!$F660","v":0},"NO RECONOCIMIENTO DEL 20% DE INCREMENTO DE ASIGNACION SALARIAL MENSUAL PARA SOLDADOS PROFESIONALES SEGUN DECRETO 1794 DE 2000",{"$f":"IFERROR(FIND(UPPER('Causas nuevas'!$D$4),B660),0)","v":0},{"$f":"+IF(Hoja3!$C660=0,0,1)","v":0},{"$f":"+E659+Hoja3!$D660","v":3},{"$f":"+Hoja3!$E660*Hoja3!$D660","v":0},"NUEVA",null,"Mindefensa",null,"JUDICIAL","Desconocimiento del derecho a percibir un 20% de incremento en la asignación salarial mensual, correspondiente a la diferencia entre el incremento del 40% para soldados profesionales y el incremento del 60% para quienes al 31 de diciembre del año 2000 se encontraban como soldados de acuerdo con la Ley 131 de 1985; lo anterior en los términos del artículo 1° del Decreto 1794 de 2000.",970,{"$f":"+Hoja3!$B660","v":"NO RECONOCIMIENTO DEL 20% DE INCREMENTO DE ASIGNACION SALARIAL MENSUAL PARA SOLDADOS PROFESIONALES SEGUN DECRETO 1794 DE 2000"}]
[{"$f":"+Hoja3!$F661","v":0},"ILEGALIDAD DEL ACTO ADMINISTRATIVO QUE NIEGA INSCRIPCION EN EL REGISTRO UNICO DE VICTIMAS",{"$f":"IFERROR(FIND(UPPER('Causas nuevas'!$D$4),B661),0)","v":0},{"$f":"+IF(Hoja3!$C661=0,0,1)","v":0},{"$f":"+E660+Hoja3!$D661","v":3},{"$f":"+Hoja3!$E661*Hoja3!$D661","v":0},"NUEVA",{"$nulls":3},"JUDICIAL","Acto administrativo presuntamente viciado de ilegalidad que niega la inscripción en el Registro Único de Víctimas (RUV). El Registro Único de Víctimas (RUV) es el registro en donde se incluye las declaraciones de víctimas, que se maneja a través del Formato Único de Declaración (FUD), para luego responder a esta población con la asistencia a que tienen derecho según la Ley 1448 de 2011. El vicio del acto puede ser la expedición con infracción de las normas en que debería fundarse, o sin competencia, o en forma irregular, o con desconocimiento del derecho de audiencia y defensa, o mediante falsa motivación, o con falta de motivación, o con desviación de las atribuciones propias de quien lo profirió, o con violación del debido proceso administrativo.",969,{"$f":"+Hoja3!$B661","v":"ILEGALIDAD DEL ACTO ADMINISTRATIVO QUE NIEGA INSCRIPCION EN EL REGISTRO UNICO DE VICTIMAS"}]
[{"$f":"+Hoja3!$F662","v":0},"ILEGALIDAD DEL ACTO ADMINISTRATIVO QUE IMPONE SANCION POR INDEBIDA CANALIZACION DE DIVISAS",{"$f":"IFERROR(FIND(UPPER('Causas nuevas'!$D$4),B662),0)","v":0},{"$f":"+IF(Hoja3!$C662=0,0,1)","v":0},{"$f":"+E661+Hoja3!$D662","v":3},{"$f":"+Hoja3!$E662*Hoja3!$D662","v":0},"NUEVA",null,"DIAN",null,"JUDICIAL","Acto administrativo presuntamente viciado de ilegalidad que impone sanción por indebida canalización de divisas. La sanción por indebida canalización de divisas se impone cuando: i) se canaliza a través del mercado cambiario como importaciones o exportaciones de bienes, o como desembolsos o amortizaciones de financiaciones de estas o aquellas, montos que no se deriven de las mencionadas operaciones obligatoriamente canalizables, ii) cuando se canaliza a través del mercado cambiario un valor superior al consignado en los documentos de aduana o los que hagan sus veces, iii) cuando se canaliza a través del mercado cambiario el valor consignado en los documentos de aduana o los que hagan sus veces, cuando este valor sea superior al valor real de la operación o, iv) se paga o reintegra a través del mercado cambiario por concepto de servicios, montos que no se deriven de las mencionadas operaciones. El vicio del acto puede ser la expedición con infracción de las normas en que debería fundarse, o sin competencia, o en forma irregular, o con desconocimiento del derecho de audiencia y defensa, o mediante falsa motivación, o con falta de motivación, o con desviación de las atribuciones propias de quien lo profirió, o con violación del debido proceso administrativo.",957,{"$f":"+Hoja3!$B662","v":"ILEGALIDAD DEL ACTO ADMINISTRATIVO QUE IMPONE SANCION POR INDEBIDA CANALIZACION DE DIVISAS"}]
[{"$f":"+Hoja3!$F663","v":0},"ILEGALIDAD DEL ACTO ADMINISTRATIVO QUE IMPONE SANCION POR NO CANALIZACION DE DIVISAS",{"$f":"IFERROR(FIND(UPPER('Causas nuevas'!$D$4),B663),0)","v":0},{"$f":"+IF(Hoja3!$C663=0,0,1)","v":0},{"$f":"+E662+Hoja3!$D663","v":3},{"$f":"+Hoja3!$E663*Hoja3!$D663","v":0},"NUEVA",null,"DIAN",null,"JUDICIAL","Acto administrativo presuntamente viciado de ilegalidad que impone sanción por no canalizar las divisas a través del mercado cambiario. La sanción por no canalización de divisas se impone cuando no se canaliza a través del mercado cambiario el valor de una operación que deba obligatoriamente canalizarse a través del mismo, o cuando no se canaliza el valor real de una operación efectivamente realizada. El vicio del acto puede ser la expedición con infracción de las normas en que debería fundarse, o sin competencia, o en forma irregular, o con desconocimiento del derecho de audiencia y defensa, o mediante falsa motivación, o con falta de motivación, o con desviación de las atribuciones propias de quien lo profirió, o con violación del debido proceso administrativo.",958,{"$f":"+Hoja3!$B663","v":"ILEGALIDAD DEL ACTO ADMINISTRATIVO QUE IMPONE SANCION POR NO CANALIZACION DE DIVISAS"}]
[{"$f":"+Hoja3!$F664","v":0},"ILEGALIDAD DEL ACTO ADMINISTRATIVO QUE IMPONE SANCION RELACIONADA CON CUENTAS DE COMPENSACION",{"$f":"IFERROR(FIND(UPPER('Causas nuevas'!$D$4),B664),0)","v":0},{"$f":"+IF(Hoja3!$C664=0,0,1)","v":0},{"$f":"+E663+Hoja3!$D664","v":3},{"$f":"+Hoja3!$E664*Hoja3!$D664","v":0},"NUEVA",null,"DIAN",null,"JUDICIAL","Acto administrativo presuntamente viciado de ilegalidad que impone sanción relacionada con cuentas de compensación. Los residentes que manejen ingresos y/o egresos por concepto de operaciones sujetas al requisito de canalización por conducto del mercado cambiario o del cumplimiento de obligaciones derivadas de operaciones internas, pueden hacerlo a través de cuentas bancarias en moneda extranjera abiertas ante entidades financieras del exterior, las cuales deberán ser registradas ante el Banco de la República bajo el mecanismo de compensación. Del manejo de estas cuentas se pueden derivar sanciones por: i) no presentar o no transmitir al Banco de la República la relación de operaciones efectuadas a través de una cuenta de compensación o de una cuenta de compensación especial teniendo la obligación de hacerlo, ii) presentar o transmitir al Banco de la República en forma extemporánea la relación de las operaciones efectuadas a través de una cuenta de compensación o de una cuenta de compensación especial teniendo la obligación de hacerlo, iii) por canalizar a través de la cuenta de compensación operaciones diferentes a las del titular de la cuenta, sin que dicha operación se encuentre autorizada por el régimen cambiario. El vicio del acto puede ser la expedición con infracción de las normas en que debería fundarse, o sin competencia, o en forma irregular, o con desconocimiento del derecho de audiencia y defensa, o mediante falsa motivación, o con falta de motivación, o con desviación de las atribuciones propias de quien lo profirió, o con violación del debido proceso administrativo.",1077,{"$f":"+Hoja3!$B664","v":"ILEGALIDAD DEL ACTO ADMINISTRATIVO QUE IMPONE SANCION RELACIONADA CON CUENTAS DE COMPENSACION"}]
[{"$f":"+Hoja3!$F665","v":0},"ILEGALIDAD DEL ACTO ADMINISTRATIVO QUE IMPONE SANCION POR OPERACIONES DE MERCADO LIBRE",{"$f":"IFERROR(FIND(UPPER('Causas nuevas'!$D$4),B665),0)","v":0},{"$f":"+IF(Hoja3!$C665=0,0,1)","v":0},{"$f":"+E664+Hoja3!$D665","v":3},{"$f":"+Hoja3!$E665*Hoja3!$D665","v":0},"NUEVA",null,"DIAN",null,"JUDICIAL","Acto administrativo presuntamente viciado de ilegalidad que impone sanción por operaciones de mercado libre. El mercado libre o mercado no cambiario está conformado por todas las divisas generadas por operaciones que no tengan la obligación de ser canalizadas, transferidas o negociadas por medio del mercado cambiario. El vicio del acto puede ser la expedición con infracción de las normas en que debería fundarse, o sin competencia, o en forma irregular, o con desconocimiento del derecho de audiencia y defensa, o mediante falsa motivación, o con falta de motivación, o con desviación de las atribuciones propias de quien lo profirió, o con violación del debido proceso administrativo.",1076,{"$f":"+Hoja3!$B665","v":"ILEGALIDAD DEL ACTO ADMINISTRATIVO QUE IMPONE SANCION POR OPERACIONES DE MERCADO LIBRE"}]
[{"$f":"+Hoja3!$F666","v":0},"ILEGALIDAD DEL ACTO ADMINISTRATIVO QUE IMPONE SANCION POR INFRACCIONES CAMBIARIAS",{"$f":"IFERROR(FIND(UPPER('Causas nuevas'!$D$4),B666),0)","v":0},{"$f":"+IF(Hoja3!$C666=0,0,1)","v":0},{"$f":"+E665+Hoja3!$D666","v":3},{"$f":"+Hoja3!$E666*Hoja3!$D666","v":0},"NUEVA",null,"DIAN",null,"JUDICIAL","Acto administrativo presuntamente viciado de ilegalidad que impone sanción por otras infracciones cambiarias. La DIAN tiene como función la de dirigir, administrar, controlar y vigilar a nivel nacional el cumplimiento de las obligaciones cambiarias derivadas de importación y exportación de bienes y servicios y de financiación en moneda extranjera de estas operaciones, y la de controlar y vigilar las operaciones derivadas del régimen cambiario que no sean de competencia de otra entidad, en ejercicio de la cual impone sanciones por su incumplimiento. El vicio del acto puede ser la expedición con infracción de las normas en que debería fundarse, o sin competencia, o en forma irregular, o con desconocimiento del derecho de audiencia y defensa, o mediante falsa motivación, o con falta de motivación, o con desviación de las atribuciones propias de quien lo profirió, o con violación del debido proceso administrativo.",959,{"$f":"+Hoja3!$B666","v":"ILEGALIDAD DEL ACTO ADMINISTRATIVO QUE IMPONE SANCION POR INFRACCIONES CAMBIARIAS"}]
[{"$f":"+Hoja3!$F667","v":0},"ILEGALIDAD DEL ACTO ADMINISTRATIVO QUE DECLARA EL INCUMPLIMIENTO DE UNA OBLIGACION ADUANERA Y ORDENA HACER EFECTIVA LA GARANTIA",{"$f":"IFERROR(FIND(UPPER('Causas nuevas'!$D$4),B667),0)","v":0},{"$f":"+IF(Hoja3!$C667=0,0,1)","v":0},{"$f":"+E666+Hoja3!$D667","v":3},{"$f":"+Hoja3!$E667*Hoja3!$D667","v":0},"NUEVA",null,"DIAN",null,"JUDICIAL","Acto administrativo presuntamente viciado de ilegalidad que declara el incumplimiento de una obligación aduanera y ordena hacer efectiva la garantía por el monto correspondiente. La declaratoria de incumplimiento de una obligación aduanera y la orden de hacer efectiva una garantía es la decisión que se adopta cuando un obligado aduanero incumple una obligación respecto de la cual, a través de una garantía se ha asegurado el pago de los derechos e impuestos, las sanciones y los intereses que resulten de su incumplimiento. El vicio del acto puede ser la expedición con infracción de las normas en que debería fundarse, o sin competencia, o en forma irregular, o con desconocimiento del derecho de audiencia y defensa, o mediante falsa motivación, o con falta de motivación, o con desviación de las atribuciones propias de quien lo profirió, o con violación del debido proceso administrativo.",960,{"$f":"+Hoja3!$B667","v":"ILEGALIDAD DEL ACTO ADMINISTRATIVO QUE DECLARA EL INCUMPLIMIENTO DE UNA OBLIGACION ADUANERA Y ORDENA HACER EFECTIVA LA GARANTIA"}]
[{"$f":"+Hoja3!$F668","v":0},"ILEGALIDAD DEL ACTO ADMINISTRATIVO QUE DECLARA LA PERDIDA O NO ACCESO A BENEFICIOS TRIBUTARIOS",{"$f":"IFERROR(FIND(UPPER('Causas nuevas'!$D$4),B668),0)","v":0},{"$f":"+IF(Hoja3!$C668=0,0,1)","v":0},{"$f":"+E667+Hoja3!$D668","v":3},{"$f":"+Hoja3!$E668*Hoja3!$D668","v":0},"NUEVA",null,"DIAN",null,"JUDICIAL","Acto administrativo presuntamente viciado de ilegalidad que resuelve no acceder a solicitudes de beneficios tributarios en los términos y condiciones previstos en la Ley y el reglamento respectivo o que decida la pérdida de aquellos. El vicio del acto puede ser la expedición con infracción de las normas en que debería fundarse, o sin competencia, o en forma irregular, o con desconocimiento del derecho de audiencia y defensa, o mediante falsa motivación, o con falta de motivación, o con desviación de las atribuciones propias de quien lo profirió, o con violación del debido proceso administrativo.",961,{"$f":"+Hoja3!$B668","v":"ILEGALIDAD DEL ACTO ADMINISTRATIVO QUE DECLARA LA PERDIDA O NO ACCESO A BENEFICIOS TRIBUTARIOS"}]
[{"$f":"+Hoja3!$F669","v":0},"ILEGALIDAD DEL ACTO ADMINISTRATIVO QUE LIQUIDA IMPUESTO ARMAS, MUNICIONES Y EXPLOSIVOS",{"$f":"IFERROR(FIND(UPPER('Causas nuevas'!$D$4),B669),0)","v":0},{"$f":"+IF(Hoja3!$C669=0,0,1)","v":0},{"$f":"+E668+Hoja3!$D669","v":3},{"$f":"+Hoja3!$E669*Hoja3!$D669","v":0},"NUEVA",null,"DIAN",null,"JUDICIAL","Acto administrativo presuntamente viciado de ilegalidad, en el que se determinó el impuesto social a las armas, municiones y explosivos. El vicio del acto puede ser la expedición con infracción de las normas en que debería fundarse, o sin competencia, o en forma irregular, o con desconocimiento del derecho de audiencia y defensa, o mediante falsa motivación, o con falta de motivación, o con desviación de las atribuciones propias de quien lo profirió, o con violación del debido proceso administrativo.",962,{"$f":"+Hoja3!$B669","v":"ILEGALIDAD DEL ACTO ADMINISTRATIVO QUE LIQUIDA IMPUESTO ARMAS, MUNICIONES Y EXPLOSIVOS"}]
[{"$f":"+Hoja3!$F670","v":0},"ILEGALIDAD DEL ACTO ADMINISTRATIVO QUE LIQUIDA UNA CONTRIBUCION DE OBRA PUBLICA",{"$f":"IFERROR(FIND(UPPER('Causas nuevas'!$D$4),B670),0)","v":0},{"$f":"+IF(Hoja3!$C670=0,0,1)","v":0},{"$f":"+E669+Hoja3!$D670","v":3},{"$f":"+Hoja3!$E670*Hoja3!$D670","v":0},"NUEVA",null,"DIAN",null,"JUDICIAL","Acto administrativo presuntamente viciado de ilegalidad, que liquida la contribución especial de obra pública sobre contratos o concesiones de obra pública. El vicio del acto puede ser la expedición con infracción de las normas en que debería fundarse, o sin competencia, o en forma irregular, o con desconocimiento del derecho de audiencia y defensa, o mediante falsa motivación, o con falta de motivación, o con desviación de las atribuciones propias de quien lo profirió, o con violación del debido proceso administrativo.",1078,{"$f":"+Hoja3!$B670","v":"ILEGALIDAD DEL ACTO ADMINISTRATIVO QUE LIQUIDA UNA CONTRIBUCION DE OBRA PUBLICA"}]
[{"$f":"+Hoja3!$F671","v":0},"ILEGALIDAD DEL ACTO ADMINISTRATIVO QUE DECIDE SOBRE TERMINACION POR MUTUO ACUERDO DE PROCESOS ADMINISTRATIVOS TRIBUTARIOS, ADUANEROS O CAMBIARIOS",{"$f":"IFERROR(FIND(UPPER('Causas nuevas'!$D$4),B671),0)","v":0},{"$f":"+IF(Hoja3!$C671=0,0,1)","v":0},{"$f":"+E670+Hoja3!$D671","v":3},{"$f":"+Hoja3!$E671*Hoja3!$D671","v":0},"NUEVA",null,"DIAN",null,"JUDICIAL","Acto administrativo presuntamente viciado de ilegalidad, que decide sobre solicitudes de terminación por mutuo acuerdo de procesos administrativos, en materia tributaria, aduanera y cambiaria, de acuerdo con los términos y condiciones previstos en la Ley y el reglamento respectivo. El vicio del acto puede ser la expedición con infracción de las normas en que debería fundarse, o sin competencia, o en forma irregular, o con desconocimiento del derecho de audiencia y defensa, o mediante falsa motivación, o con falta de motivación, o con desviación de las atribuciones propias de quien lo profirió, o con violación del debido proceso administrativo.",963,{"$f":"+Hoja3!$B671","v":"ILEGALIDAD DEL ACTO ADMINISTRATIVO QUE DECIDE SOBRE TERMINACION POR MUTUO ACUERDO DE PROCESOS ADMINISTRATIVOS TRIBUTARIOS, ADUANEROS O CAMBIARIOS"}]
[{"$f":"+Hoja3!$F672","v":0},"ILEGALIDAD DEL ACTO ADMINISTRATIVO QUE RECHAZA SOLICITUD DEVOLUCION POR PAGO DE LO NO DEBIDO",{"$f":"IFERROR(FIND(UPPER('Causas nuevas'!$D$4),B672),0)","v":0},{"$f":"+IF(Hoja3!$C672=0,0,1)","v":0},{"$f":"+E671+Hoja3!$D672","v":3},{"$f":"+Hoja3!$E672*Hoja3!$D672","v":0},"NUEVA",null,"DIAN",null,"JUDICIAL","Acto administrativo presuntamente viciado de ilegalidad, que se expide a quienes solicitan el reintegro de pagos efectuados a favor de la Administración sin causa jurídica que los justifique. El pago de lo no debido se verifica por no tener una causa legal exigible en el cumplimiento de obligaciones con la administración. El vicio del acto puede ser la expedición con infracción de las normas en que debería fundarse, o sin competencia, o en forma irregular, o con desconocimiento del derecho de audiencia y defensa, o mediante falsa motivación, o con falta de motivación, o con desviación de las atribuciones propias de quien lo profirió, o con violación del debido proceso administrativo.",964,{"$f":"+Hoja3!$B672","v":"ILEGALIDAD DEL ACTO ADMINISTRATIVO QUE RECHAZA SOLICITUD DEVOLUCION POR PAGO DE LO NO DEBIDO"}]
[{"$f":"+Hoja3!$F673","v":0},"ILEGALIDAD DEL ACTO ADMINISTRATIVO QUE DA COMO NO PRESENTADA UNA DECLARACION TRIBUTARIA",{"$f":"IFERROR(FIND(UPPER('Causas nuevas'!$D$4),B673),0)","v":0},{"$f":"+IF(Hoja3!$C673=0,0,1)","v":0},{"$f":"+E672+Hoja3!$D673","v":3},{"$f":"+Hoja3!$E673*Hoja3!$D673","v":0},"NUEVA",null,"DIAN",null,"JUDICIAL","Acto administrativo presuntamente viciado de ilegalidad, que declara como no presentada una declaración tributaria por las causales contempladas en la ley. El vicio del acto puede ser la expedición con infracción de las normas en que debería fundarse, o sin competencia, o en forma irregular, o con desconocimiento del derecho de audiencia y defensa, o mediante falsa motivación, o con falta de motivación, o con desviación de las atribuciones propias de quien lo profirió, o con violación del debido proceso administrativo.",965,{"$f":"+Hoja3!$B673","v":"ILEGALIDAD DEL ACTO ADMINISTRATIVO QUE DA COMO NO PRESENTADA UNA DECLARACION TRIBUTARIA"}]
[{"$f":"+Hoja3!$F674","v":0},"ILEGALIDAD DEL ACTO ADMINISTRATIVO QUE IMPONE SANCION POR NO PRESENTAR DECLARACION TRIBUTARIA",{"$f":"IFERROR(FIND(UPPER('Causas nuevas'!$D$4),B674),0)","v":0},{"$f":"+IF(Hoja3!$C674=0,0,1)","v":0},{"$f":"+E673+Hoja3!$D674","v":3},{"$f":"+Hoja3!$E674*Hoja3!$D674","v":0},"NUEVA",null,"DIAN",null,"JUDICIAL","Acto administrativo presuntamente viciado de ilegalidad, que se expide a los contribuyentes, agentes retenedores o responsables obligados a declarar, que omiten la presentación de las declaraciones tributarias. El vicio del acto puede ser la expedición con infracción de las normas en que debería fundarse, o sin competencia, o en forma irregular, o con desconocimiento del derecho de audiencia y defensa, o mediante falsa motivación, o con falta de motivación, o con desviación de las atribuciones propias de quien lo profirió, o con violación del debido proceso administrativo.",966,{"$f":"+Hoja3!$B674","v":"ILEGALIDAD DEL ACTO ADMINISTRATIVO QUE IMPONE SANCION POR NO PRESENTAR DECLARACION TRIBUTARIA"}]
[{"$f":"+Hoja3!$F675","v":0},"INDEBIDA INSCRIPCION EN EL REGISTRO MERCANTIL",{"$f":"IFERROR(FIND(UPPER('Causas nuevas'!$D$4),B675),0)","v":0},{"$f":"+IF(Hoja3!$C675=0,0,1)","v":0},{"$f":"+E674+Hoja3!$D675","v":3},{"$f":"+Hoja3!$E675*Hoja3!$D675","v":0},"NUEVA",null,"Superservicios",null,"JUDICIAL","Indebida inscripción, no inscripción o inscripción tardía de personas, actos y documentos que deben anotarse en el registro mercantil. El registro mercantil tiene por objeto llevar la matrícula de los comerciantes y establecimientos de comercio, y la inscripción de todos los actos, libros y documentos respecto de los cuales la ley exige esa formalidad.",971,{"$f":"+Hoja3!$B675","v":"INDEBIDA INSCRIPCION EN EL REGISTRO MERCANTIL"}]
[{"$f":"+Hoja3!$F676","v":4},"TRANSMISION FORZOSA DEL DERECHO REAL DE DOMINIO PRIVADO SOBRE UN BIEN A FAVOR DEL ESTADO - EXPROPIACION JUDICIAL",{"$f":"IFERROR(FIND(UPPER('Causas nuevas'!$D$4),B676),0)","v":49},{"$f":"+IF(Hoja3!$C676=0,0,1)","v":1},{"$f":"+E675+Hoja3!$D676","v":4},{"$f":"+Hoja3!$E676*Hoja3!$D676","v":4},"NUEVA",null,"Fondo nacional de regalias",null,"JUDICIAL","Transmisión forzosa del derecho real de dominio privado sobre un bien a favor del Estado, por motivos de utilidad pública o interés social, mediante sentencia judicial e indemnización previa. La expropiación judicial se presenta como consecuencia del fracaso de la etapa de negociación voluntaria, sea porque el propietario se niegue a negociar, guarde silencio, o no cumple con el negocio, y se inicia con la expedición de un acto administrativo que ordena dar inicio al trámite judicial de expropiación. Se encuentra regulada en las Leyes 9° de 1989, 388 de 1997 y en el Código General del Proceso.",972,{"$f":"+Hoja3!$B676","v":"TRANSMISION FORZOSA DEL DERECHO REAL DE DOMINIO PRIVADO SOBRE UN BIEN A FAVOR DEL ESTADO - EXPROPIACION JUDICIAL"}]
[{"$f":"+Hoja3!$F677","v":0},"ILEGALIDAD DEL ACTO ADMINISTRATIVO QUE RESUELVE RECURSOS CONTRA LAS DECISIONES DE LOS PRESTADORES DE SERVICIOS PUBLICOS DOMICILIARIOS",{"$f":"IFERROR(FIND(UPPER('Causas nuevas'!$D$4),B677),0)","v":0},{"$f":"+IF(Hoja3!$C677=0,0,1)","v":0},{"$f":"+E676+Hoja3!$D677","v":4},{"$f":"+Hoja3!$E677*Hoja3!$D677","v":0},"NUEVA",null,"Superservicios",null,"JUDICIAL","Acto administrativo presuntamente viciado de ilegalidad que resuelve los recursos de apelación y queja por parte de la Superintendencia de Servicios Públicos Domiciliarios, interpuestos por los usuarios, en contra de decisiones adoptadas por los prestadores del servicio público domiciliario. El vicio del acto puede ser la expedición con infracción de las normas en que debería fundarse, o sin competencia, o en forma irregular, o con desconocimiento del derecho de audiencia y defensa, o mediante falsa motivación, o con falta de motivación, o con desviación de las atribuciones propias de quien lo profirió, o con violación del debido proceso administrativo.",973,{"$f":"+Hoja3!$B677","v":"ILEGALIDAD DEL ACTO ADMINISTRATIVO QUE RESUELVE RECURSOS CONTRA LAS DECISIONES DE LOS PRESTADORES DE SERVICIOS PUBLICOS DOMICILIARIOS"}]
[{"$f":"+Hoja3!$F678","v":0},"ILEGALIDAD DEL ACTO ADMINISTRATIVO QUE DISPONE LA TOMA DE POSESION DE UNA EMPRESA PRESTADORA DE SERVICIOS PUBLICOS DOMICILIARIOS",{"$f":"IFERROR(FIND(UPPER('Causas nuevas'!$D$4),B678),0)","v":0},{"$f":"+IF(Hoja3!$C678=0,0,1)","v":0},{"$f":"+E677+Hoja3!$D678","v":4},{"$f":"+Hoja3!$E678*Hoja3!$D678","v":0},"NUEVA",null,"Superservicios",null,"JUDICIAL","Acto administrativo presuntamente viciado de ilegalidad que dispone la toma de posesión de un prestador de servicios públicos domiciliarios por parte de la Superintendencia de Servicios Públicos Domiciliarios, en ejercicio de la facultad de intervención del Estado en la prestación de servicios públicos. El vicio del acto puede ser la expedición con infracción de las normas en que debería fundarse, o sin competencia, o en forma irregular, o con desconocimiento del derecho de audiencia y defensa, o mediante falsa motivación, o con falta de motivación, o con desviación de las atribuciones propias de quien lo profirió, o con violación del debido proceso administrativo.",974,{"$f":"+Hoja3!$B678","v":"ILEGALIDAD DEL ACTO ADMINISTRATIVO QUE DISPONE LA TOMA DE POSESION DE UNA EMPRESA PRESTADORA DE SERVICIOS PUBLICOS DOMICILIARIOS"}]
[{"$f":"+Hoja3!$F679","v":0},"ILEGALIDAD DEL ACTO ADMINISTRATIVO QUE DETERMINA SI PROCEDE LA RECUPERACION DE CONSUMOS DE SERVICIOS PUBLICOS DOMICILIARIOS NO FACTURADOS",{"$f":"IFERROR(FIND(UPPER('Causas nuevas'!$D$4),B679),0)","v":0},{"$f":"+IF(Hoja3!$C679=0,0,1)","v":0},{"$f":"+E678+Hoja3!$D679","v":4},{"$f":"+Hoja3!$E679*Hoja3!$D679","v":0},"NUEVA",null,"Superservicios",null,"JUDICIAL","Acto administrativo presuntamente viciado de ilegalidad que determina si es procedente o no el cobro de servicios públicos prestados dejados de facturar. El vicio del acto puede ser la expedición con infracción de las normas en que debería fundarse, o sin competencia, o en forma irregular, o con desconocimiento del derecho de audiencia y defensa, o mediante falsa motivación, o con falta de motivación, o con desviación de las atribuciones propias de quien lo profirió, o con violación del debido proceso administrativo.",975,{"$f":"+Hoja3!$B679","v":"ILEGALIDAD DEL ACTO ADMINISTRATIVO QUE DETERMINA SI PROCEDE LA RECUPERACION DE CONSUMOS DE SERVICIOS PUBLICOS DOMICILIARIOS NO FACTURADOS"}]
[{"$f":"+Hoja3!$F680","v":0},"ILEGALIDAD DEL ACTO ADMINISTRATIVO QUE RESUELVE SOBRE LA RELIQUIDACION DE VALORES CONTENIDOS EN UNA FACTURA DE SERVICIOS PUBLICOS DOMICILIARIOS",{"$f":"IFERROR(FIND(UPPER('Causas nuevas'!$D$4),B680),0)","v":0},{"$f":"+IF(Hoja3!$C680=0,0,1)","v":0},{"$f":"+E679+Hoja3!$D680","v":4},{"$f":"+Hoja3!$E680*Hoja3!$D680","v":0},"NUEVA",null,"Superservicios",null,"JUDICIAL","Acto administrativo presuntamente viciado de ilegalidad resuelve sobre la reliquidación de valores contenidos en la factura de servicios públicos. La factura de servicios públicos es la cuenta que una persona prestadora de servicios públicos entrega o remite al usuario, por causa del consumo y demás servicios inherentes en desarrollo de un contrato de prestación de servicios públicos. Un ejemplo es la reliquidación del servicio de alcantarillado con ocasión de los vertimientos. El vicio del acto puede ser la expedición con infracción de las normas en que debería fundarse, o sin competencia, o en forma irregular, o con desconocimiento del derecho de audiencia y defensa, o mediante falsa motivación, o con falta de motivación, o con desviación de las atribuciones propias de quien lo profirió, o con violación del debido proceso administrativo.",976,{"$f":"+Hoja3!$B680","v":"ILEGALIDAD DEL ACTO ADMINISTRATIVO QUE RESUELVE SOBRE LA RELIQUIDACION DE VALORES CONTENIDOS EN UNA FACTURA DE SERVICIOS PUBLICOS DOMICILIARIOS"}]
[{"$f":"+Hoja3!$F681","v":0},"ILEGALIDAD DEL ACTO ADMINISTRATIVO QUE DISPONE EL REINTEGRO DE RECURSOS A FAVOR DEL ESTADO",{"$f":"IFERROR(FIND(UPPER('Causas nuevas'!$D$4),B681),0)","v":0},{"$f":"+IF(Hoja3!$C681=0,0,1)","v":0},{"$f":"+E680+Hoja3!$D681","v":4},{"$f":"+Hoja3!$E681*Hoja3!$D681","v":0},"NUEVA",null,"Fondo nacional de regalias",null,"JUDICIAL","Acto administrativo presuntamente viciado de ilegalidad que ordena el reintegro de recursos a favor del Estado. El vicio del acto puede ser la expedición con infracción de las normas en que debería fundarse, o sin competencia, o en forma irregular, o con desconocimiento del derecho de audiencia y defensa, o mediante falsa motivación, o con falta de motivación, o con desviación de las atribuciones propias de quien lo profirió, o con violación del debido proceso administrativo.",977,{"$f":"+Hoja3!$B681","v":"ILEGALIDAD DEL ACTO ADMINISTRATIVO QUE DISPONE EL REINTEGRO DE RECURSOS A FAVOR DEL ESTADO"}]
[{"$f":"+Hoja3!$F682","v":0},"INCUMPLIMIENTO EN EL PAGO DE INDEMNIZACION SUSTITUTIVA DE PENSION DE VEJEZ",{"$f":"IFERROR(FIND(UPPER('Causas nuevas'!$D$4),B682),0)","v":0},{"$f":"+IF(Hoja3!$C682=0,0,1)","v":0},{"$f":"+E681+Hoja3!$D682","v":4},{"$f":"+Hoja3!$E682*Hoja3!$D682","v":0},"NUEVA",null,"COLPENSIONES",null,"JUDICIAL","Mora o no pago de la indemnización sustitutiva de la pensión de vejez ya reconocida.  La indemnización sustitutiva de la pensión de vejez es una prestación económica que se reconoce a los afiliados al régimen de prima media con prestación definida, cuando éstos no reúnen el número mínimo de semanas cotizadas pero han cumplido la edad mínima para acceder a la pensión de vejez y declaran la imposibilidad de continuar cotizando al sistema general de pensiones.",978,{"$f":"+Hoja3!$B682","v":"INCUMPLIMIENTO EN EL PAGO DE INDEMNIZACION SUSTITUTIVA DE PENSION DE VEJEZ"}]
[{"$f":"+Hoja3!$F683","v":0},"NO RECONOCIMIENTO DE INDEMNIZACION SUSTITUTIVA DE PENSION DE SOBREVIVIENTES",{"$f":"IFERROR(FIND(UPPER('Causas nuevas'!$D$4),B683),0)","v":0},{"$f":"+IF(Hoja3!$C683=0,0,1)","v":0},{"$f":"+E682+Hoja3!$D683","v":4},{"$f":"+Hoja3!$E683*Hoja3!$D683","v":0},"NUEVA",null,"COLPENSIONES",null,"JUDICIAL","Desconocimiento del derecho a percibir la indemnización sustitutiva de la pensión de sobreviviente. La indemnización sustitutiva de la pensión de sobreviviente es una prestación económica que se causa por la muerte de un afiliado activo al régimen de prima media con prestación definida, en la medida en que falleció sin haber\ncumplido los requisitos necesarios para adquirir el derecho a la pensión.",979,{"$f":"+Hoja3!$B683","v":"NO RECONOCIMIENTO DE INDEMNIZACION SUSTITUTIVA DE PENSION DE SOBREVIVIENTES"}]
[{"$f":"+Hoja3!$F684","v":0},"INDEBIDA LIQUIDACION DE INDEMNIZACION SUSTITUTIVA DE PENSION DE SOBREVIVIENTES",{"$f":"IFERROR(FIND(UPPER('Causas nuevas'!$D$4),B684),0)","v":0},{"$f":"+IF(Hoja3!$C684=0,0,1)","v":0},{"$f":"+E683+Hoja3!$D684","v":4},{"$f":"+Hoja3!$E684*Hoja3!$D684","v":0},"NUEVA",null,"COLPENSIONES",null,"JUDICIAL","Liquidación irregular de la indemnización sustitutiva de la pensión de sobreviviente por no contabilización del número total de semanas, indebido cálculo de la tasa de retorno, desconocimiento de régimen de transición, entre otros, por lo que se pretende su reliquidación. La indemnización sustitutiva de la pensión de sobreviviente es una prestación económica que se causa por la muerte de un afiliado activo al régimen de prima media con prestación definida, en la medida en que falleció sin haber cumplido los requisitos necesarios para adquirir el derecho a la pensión.",980,{"$f":"+Hoja3!$B684","v":"INDEBIDA LIQUIDACION DE INDEMNIZACION SUSTITUTIVA DE PENSION DE SOBREVIVIENTES"}]
[{"$f":"+Hoja3!$F685","v":0},"INCUMPLIMIENTO EN EL PAGO DE INDEMNIZACION SUSTITUTIVA DE PENSION DE SOBREVIVIENTES",{"$f":"IFERROR(FIND(UPPER('Causas nuevas'!$D$4),B685),0)","v":0},{"$f":"+IF(Hoja3!$C685=0,0,1)","v":0},{"$f":"+E684+Hoja3!$D685","v":4},{"$f":"+Hoja3!$E685*Hoja3!$D685","v":0},"NUEVA",null,"COLPENSIONES",null,"JUDICIAL","Mora o no pago de la indemnización sustitutiva de la de la pensión de sobreviviente ya reconocida. La indemnización sustitutiva de la pensión de sobreviviente es una prestación económica que se causa por la muerte de un afiliado activo al régimen de prima media con prestación definida, en la medida en que falleció sin haber cumplido los requisitos necesarios para adquirir el derecho a la pensión.",981,{"$f":"+Hoja3!$B685","v":"INCUMPLIMIENTO EN EL PAGO DE INDEMNIZACION SUSTITUTIVA DE PENSION DE SOBREVIVIENTES"}]
[{"$f":"+Hoja3!$F686","v":0},"NO RECONOCIMIENTO DE RETROACTIVO DE PENSION DE SOBREVIVIENTE",{"$f":"IFERROR(FIND(UPPER('Causas nuevas'!$D$4),B686),0)","v":0},{"$f":"+IF(Hoja3!$C686=0,0,1)","v":0},{"$f":"+E685+Hoja3!$D686","v":4},{"$f":"+Hoja3!$E686*Hoja3!$D686","v":0},"NUEVA",null,"COLPENSIONES",null,"JUDICIAL","Desconocimiento del derecho a percibir el retroactivo de la pensión de sobreviviente. El retroactivo de la pensión de sobreviviente corresponde a las mesadas causadas entre el momento del cumplimiento de requisitos para acceder a una prestación pensional de sobreviviente y el ingreso efectivo a la nómina de pensionados. La pensión de sobreviviente es una prestación económica que se causa por la muerte de un afiliado activo al sistema de seguridad social.",982,{"$f":"+Hoja3!$B686","v":"NO RECONOCIMIENTO DE RETROACTIVO DE PENSION DE SOBREVIVIENTE"}]
[{"$f":"+Hoja3!$F687","v":0},"INDEBIDA LIQUIDACION DE RETROACTIVO DE PENSION DE SOBREVIVIENTE",{"$f":"IFERROR(FIND(UPPER('Causas nuevas'!$D$4),B687),0)","v":0},{"$f":"+IF(Hoja3!$C687=0,0,1)","v":0},{"$f":"+E686+Hoja3!$D687","v":4},{"$f":"+Hoja3!$E687*Hoja3!$D687","v":0},"NUEVA",null,"COLPENSIONES",null,"JUDICIAL","Liquidación irregular del retroactivo de la pensión de sobreviviente, por lo que se pretende su reliquidación. El retroactivo de la pensión de sobreviviente corresponde a las mesadas causadas entre el momento del cumplimiento de requisitos para acceder a una prestación pensional de sobreviviente y el ingreso efectivo a la nómina de pensionados. La pensión de sobreviviente es una prestación económica que se causa por la muerte de un afiliado activo al sistema de seguridad social.",983,{"$f":"+Hoja3!$B687","v":"INDEBIDA LIQUIDACION DE RETROACTIVO DE PENSION DE SOBREVIVIENTE"}]
[{"$f":"+Hoja3!$F688","v":0},"INCUMPLIMIENTO EN EL PAGO DE RETROACTIVO DE PENSION DE SOBREVIVIENTE",{"$f":"IFERROR(FIND(UPPER('Causas nuevas'!$D$4),B688),0)","v":0},{"$f":"+IF(Hoja3!$C688=0,0,1)","v":0},{"$f":"+E687+Hoja3!$D688","v":4},{"$f":"+Hoja3!$E688*Hoja3!$D688","v":0},"NUEVA",null,"COLPENSIONES",null,"JUDICIAL","Mora o no pago del retroactivo de la pensión de sobreviviente ya reconocido. El retroactivo de la pensión de sobreviviente corresponde a las mesadas causadas entre el momento del cumplimiento de requisitos para acceder a una prestación pensional de sobreviviente y el ingreso efectivo a la nómina de pensionados. La pensión de sobreviviente es una prestación económica que se causa por la muerte de un afiliado activo al sistema de seguridad social.",984,{"$f":"+Hoja3!$B688","v":"INCUMPLIMIENTO EN EL PAGO DE RETROACTIVO DE PENSION DE SOBREVIVIENTE"}]
[{"$f":"+Hoja3!$F689","v":0},"NO RECONOCIMIENTO DE LA INDEXACION Y REAJUSTE DE PENSION SUSTITUTIVA",{"$f":"IFERROR(FIND(UPPER('Causas nuevas'!$D$4),B689),0)","v":0},{"$f":"+IF(Hoja3!$C689=0,0,1)","v":0},{"$f":"+E688+Hoja3!$D689","v":4},{"$f":"+Hoja3!$E689*Hoja3!$D689","v":0},"NUEVA",null,"COLPENSIONES",null,"JUDICIAL","Desconocimiento del derecho a que la pensión sustitutiva mantenga su poder adquisitivo constante, mediante el reajuste anual de oficio, según la variación porcentual del Indice de Precios al Consumidor, certificado por el DANE para el año inmediatamente anterior o si la pensión sustitutiva mensual es igual al salario mínimo legal mensual vigente, el reajuste de oficio corresponde al mismo porcentaje en que se incremente dicho salario por el Gobierno Nacional. La pensión sustitutiva es una prestación económica que se causa por la muerte de un pensionado.",985,{"$f":"+Hoja3!$B689","v":"NO RECONOCIMIENTO DE LA INDEXACION Y REAJUSTE DE PENSION SUSTITUTIVA"}]
[{"$f":"+Hoja3!$F690","v":0},"INCUMPLIMIENTO EN EL PAGO DE LA INDEXACION Y REAJUSTE DE PENSION SUSTITUTIVA",{"$f":"IFERROR(FIND(UPPER('Causas nuevas'!$D$4),B690),0)","v":0},{"$f":"+IF(Hoja3!$C690=0,0,1)","v":0},{"$f":"+E689+Hoja3!$D690","v":4},{"$f":"+Hoja3!$E690*Hoja3!$D690","v":0},"NUEVA",null,"COLPENSIONES",null,"JUDICIAL","Mora o no pago de la indexación o reajuste anual de la pensión sustitutiva ya reconocida. La indexación o reajuste anual permite que la pensión sustitutiva mantenga su poder adquisitivo constante, mediante el reajuste anual de oficio, según la variación porcentual del Indice de Precios al Consumidor, certificado por el DANE para el año inmediatamente anterior o si la pensión sustitutiva mensual es igual al salario mínimo legal mensual vigente, el reajuste de oficio corresponde al mismo porcentaje en que se incremente dicho salario por el Gobierno Nacional. La pensión sustitutiva es una prestación económica que se causa por la muerte de un pensionado.",986,{"$f":"+Hoja3!$B690","v":"INCUMPLIMIENTO EN EL PAGO DE LA INDEXACION Y REAJUSTE DE PENSION SUSTITUTIVA"}]
[{"$f":"+Hoja3!$F691","v":0},"NO RECONOCIMIENTO DE RETROACTIVO DE PENSION SUSTITUTIVA",{"$f":"IFERROR(FIND(UPPER('Causas nuevas'!$D$4),B691),0)","v":0},{"$f":"+IF(Hoja3!$C691=0,0,1)","v":0},{"$f":"+E690+Hoja3!$D691","v":4},{"$f":"+Hoja3!$E691*Hoja3!$D691","v":0},"NUEVA",null,"COLPENSIONES",null,"JUDICIAL","Desconocimiento del derecho a percibir el retroactivo de la pensión sustitutiva. El retroactivo de la pensión sustitutiva corresponde a las mesadas causadas entre el momento del cumplimiento de requisitos para acceder a una pensión sustitutiva y el ingreso efectivo a la nómina de pensionados. La pensión sustitutiva es una prestación económica que se causa por la muerte de un pensionado.",987,{"$f":"+Hoja3!$B691","v":"NO RECONOCIMIENTO DE RETROACTIVO DE PENSION SUSTITUTIVA"}]
[{"$f":"+Hoja3!$F692","v":0},"INDEBIDA LIQUIDACION DE RETROACTIVO DE PENSION SUSTITUTIVA",{"$f":"IFERROR(FIND(UPPER('Causas nuevas'!$D$4),B692),0)","v":0},{"$f":"+IF(Hoja3!$C692=0,0,1)","v":0},{"$f":"+E691+Hoja3!$D692","v":4},{"$f":"+Hoja3!$E692*Hoja3!$D692","v":0},"NUEVA",null,"COLPENSIONES",null,"JUDICIAL","Liquidación irregular del retroactivo de la pensión sustitutiva, por lo que se pretende su reliquidación. El retroactivo de la pensión sustitutiva corresponde a las mesadas causadas entre el momento del cumplimiento de requisitos para acceder a una pensión sustitutiva y el ingreso efectivo a la nómina de pensionados. La pensión sustitutiva es una prestación económica que se causa por la muerte de un pensionado.",1079,{"$f":"+Hoja3!$B692","v":"INDEBIDA LIQUIDACION DE RETROACTIVO DE PENSION SUSTITUTIVA"}]
[{"$f":"+Hoja3!$F693","v":0},"INCUMPLIMIENTO EN EL PAGO DE RETROACTIVO DE PENSION SUSTITUTIVA",{"$f":"IFERROR(FIND(UPPER('Causas nuevas'!$D$4),B693),0)","v":0},{"$f":"+IF(Hoja3!$C693=0,0,1)","v":0},{"$f":"+E692+Hoja3!$D693","v":4},{"$f":"+Hoja3!$E693*Hoja3!$D693","v":0},"NUEVA",null,"COLPENSIONES",null,"JUDICIAL","Mora o no pago del retroactivo de la pensión sustitutiva ya reconocido. El retroactivo de la pensión sustitutiva corresponde a las mesadas causadas entre el momento del cumplimiento de requisitos para acceder a una pensión sustitutiva y el ingreso efectivo a la nómina de pensionados. La pensión sustitutiva es una prestación económica que se causa por la muerte de un pensionado.",988,{"$f":"+Hoja3!$B693","v":"INCUMPLIMIENTO EN EL PAGO DE RETROACTIVO DE PENSION SUSTITUTIVA"}]
[{"$f":"+Hoja3!$F694","v":0},"ILEGALIDAD DEL ACTO ADMINISTRATIVO QUE NIEGA ACTUALIZACION O CANCELACION DE RUT",{"$f":"IFERROR(FIND(UPPER('Causas nuevas'!$D$4),B694),0)","v":0},{"$f":"+IF(Hoja3!$C694=0,0,1)","v":0},{"$f":"+E693+Hoja3!$D694","v":4},{"$f":"+Hoja3!$E694*Hoja3!$D694","v":0},"NUEVA",null,"DIAN",null,"JUDICIAL","Acto administrativo presuntamente viciado de ilegalidad, que rechaza la actualización o cancelación del Registro Único Tributario - RUT por no cumplimiento de obligaciones por parte del solicitante. El vicio del acto puede ser la expedición con infracción de las normas en que debería fundarse, o sin competencia, o en forma irregular, o con desconocimiento del derecho de audiencia y defensa, o mediante falsa motivación, o con falta de motivación, o con desviación de las atribuciones propias de quien lo profirió, o con violación del debido proceso administrativo.",967,{"$f":"+Hoja3!$B694","v":"ILEGALIDAD DEL ACTO ADMINISTRATIVO QUE NIEGA ACTUALIZACION O CANCELACION DE RUT"}]
[{"$f":"+Hoja3!$F695","v":0},"ILEGALIDAD DE ACTO ADMINISTRATIVO DURANTE EL CONCURSO DE MÉRITOS PARA PROVEER CARGOS PÚBLICOS",{"$f":"IFERROR(FIND(UPPER('Causas nuevas'!$D$4),B695),0)","v":0},{"$f":"+IF(Hoja3!$C695=0,0,1)","v":0},{"$f":"+E694+Hoja3!$D695","v":4},{"$f":"+Hoja3!$E695*Hoja3!$D695","v":0},"NUEVA",{"$nulls":3},"JUDICIAL","Acto administrativo presuntamente viciado de ilegalidad que se profiere durante un concurso público de méritos. El concurso público ha sido definido, como el procedimiento mediante el cual, la administración señalando bases o normas claramente establecidas, selecciona entre varios participantes que han sido convocados, a la persona o personas que por razón de sus méritos y calidades, adquieren el derecho a ser nombradas en un cargo público. El vicio del acto durante puede ser la expedición con infracción de las normas en que debería fundarse, o sin competencia, o en forma irregular, o con desconocimiento del derecho de audiencia y defensa, o mediante falsa motivación, o con falta de motivación, o con desviación de las atribuciones propias de quien lo profirió, o con violación del debido proceso administrativo.",1075,{"$f":"+Hoja3!$B695","v":"ILEGALIDAD DE ACTO ADMINISTRATIVO DURANTE EL CONCURSO DE MÉRITOS PARA PROVEER CARGOS PÚBLICOS"}]
[{"$f":"+Hoja3!$F696","v":5},"DESPIDO SIN JUSTA CAUSA DE TRABAJADOR VINCULADO A ENTIDAD PUBLICA DE REGIMEN DE DERECHO PRIVADO",{"$f":"IFERROR(FIND(UPPER('Causas nuevas'!$D$4),B696),0)","v":89},{"$f":"+IF(Hoja3!$C696=0,0,1)","v":1},{"$f":"+E695+Hoja3!$D696","v":5},{"$f":"+Hoja3!$E696*Hoja3!$D696","v":5},"NUEVA",null,"COTECMAR",null,"JUDICIAL","Terminación unilateral del contrato de trabajo suscrito con un trabajador por parte del empleador sin justa causa comprobada. En estos casos entiéndase por trabajador aquella persona que tiene una relación contractual laboral con una entidad pública con régimen de derecho privado, distinto al trabajador oficial.",1083,{"$f":"+Hoja3!$B696","v":"DESPIDO SIN JUSTA CAUSA DE TRABAJADOR VINCULADO A ENTIDAD PUBLICA DE REGIMEN DE DERECHO PRIVADO"}]
[{"$f":"+Hoja3!$F697","v":0},"ILEGALIDAD DEL ACTO ADMINISTRATIVO QUE PROFIERE LIQUIDACION OFICIAL DE CORRECCION EN ADUANAS",{"$f":"IFERROR(FIND(UPPER('Causas nuevas'!$D$4),B697),0)","v":0},{"$f":"+IF(Hoja3!$C697=0,0,1)","v":0},{"$f":"+E694+Hoja3!$D697","v":4},{"$f":"+Hoja3!$E697*Hoja3!$D697","v":0},"NUEVA",null,"DIAN",null,"JUDICIAL","Acto administrativo presuntamente viciado de ilegalidad que profiere liquidación oficial de corrección. Mediante la liquidación oficial de corrección la autoridad aduanera corrige los errores u omisiones en la declaración de importación, exportación o documento que haga sus veces, cuando tales errores u omisiones genera un menor pago de derechos e impuestos o sanciones que correspondan, en los siguientes aspectos: tarifa de los derechos e impuestos a que hubiere lugar, tasas o tipo de cambio, rescate, sanciones, intereses, operación aritmética, código del tratamiento preferencial y al régimen o destino aplicable a las mercancías. Igualmente, por controversias sobre recategorización de los envíos de entrega rápida, o cambio de régimen de mercancías que se hubieren sometido a tráfico postal. El vicio del acto puede ser la expedición con infracción de las normas en que debería fundarse, o sin competencia, o en forma irregular, o con desconocimiento del derecho de audiencia y defensa, o mediante falsa motivación, o con falta de motivación, o con desviación de las atribuciones propias de quien lo profirió, o con violación del debido proceso administrativo.",968,{"$f":"+Hoja3!$B697","v":"ILEGALIDAD DEL ACTO ADMINISTRATIVO QUE PROFIERE LIQUIDACION OFICIAL DE CORRECCION EN ADUANAS"}]

{"sheet":"Causas nuevas","index":1,"n_rows":101,"n_cols":9,"rows_kept":101,"merged":[[1,2,1,7],[2,2,4,2],[3,3,3,4],[3,5,3,6],[5,3,5,4],[7,4,7,6],[9,4,9,6],[10,4,10,6],[11,4,11,6],[12,4,12,6],[13,4,13,6],[14,4,14,6],[15,4,15,6],[16,4,16,6],[17,4,17,6],[18,4,18,6],[19,4,19,6],[20,4,20,6],[21,4,21,6],[22,4,22,6],[23,4,23,6],[24,4,24,6],[25,4,25,6],[26,4,26,6],[27,4,27,6],[28,4,28,6],[29,4,29,6],[30,4,30,6],[31,4,31,6],[32,4,32,6],[33,4,33,6],[34,4,34,6],[35,4,35,6],[36,4,36,6],[37,4,37,6],[38,4,38,6],[39,4,39,6],[40,4,40,6],[41,4,41,6],[42,4,42,6],[43,4,43,6],[44,4,44,6],[45,4,45,6],[46,4,46,6],[47,4,47,6],[48,4,48,6],[49,4,49,6],[50,4,50,6],[51,4,51,6],[52,4,52,6],[53,4,53,6],[54,4,54,6],[55,4,55,6],[56,4,56,6],[57,4,57,6],[58,4,58,6],[59,4,59,6],[60,4,60,6],[61,4,61,6],[62,4,62,6],[63,4,63,6],[64,4,64,6],[65,4,65,6],[66,4,66,6],[67,4,67,6],[68,4,68,6],[69,4,69,6],[70,4,70,6],[71,4,71,6],[72,4,72,6],[73,4,73,6],[74,4,74,6],[75,4,75,6],[76,4,76,6],[77,4,77,6],[78,4,78,6],[79,4,79,6],[80,4,80,6],[81,4,81,6],[82,4,82,6],[83,4,83,6],[84,4,84,6],[85,4,85,6],[86,4,86,6],[87,4,87,6],[88,4,88,6],[89,4,89,6],[90,4,90,6],[91,4,91,6],[92,4,92,6],[93,4,93,6],[94,4,94,6],[95,4,95,6],[96,4,96,6],[97,4,97,6],[98,4,98,6],[99,4,99,6],[100,4,100,6]]}
[]
[]
[]
[{"$nulls":3},"PRIVADO"]
[]
[{"$nulls":3},"nulidad "]
[]
[{"$nulls":3},"NOMBRE CAUSA","DEFINICIÓN",null,null,"ANTECEDENTE","ID CAUSA"]
[]
[1,{"$f":"+IF(A10<=Hoja3!$D$1,1,0)","v":1},"Coincidencia 1","PERJUICIOS OCASIONADOS POR REESTRUCTURACION Y LIQUIDACION DE ENTIDADES DE DERECHO PRIVADO","El proceso de reestructuración pretende preservar entidades viables y normalizar sus relaciones comerciales y crediticias, mediante su reestructuración operacional, administrativa, de activos y pasivos. El proceso de liquidación de entidades inviables tiene por objeto la venta de los activos con el propósito de atender pasivos.",null,null,"MANTENER",877]
[2,{"$f":"+IF(A11<=Hoja3!$D$1,1,0)","v":1},"Coincidencia 2","ILEGALIDAD DEL ACTO ADMINISTRATIVO QUE IMPONE SANCION POR FALTA ADUANERA DE LOS DEPOSITOS PUBLICOS Y PRIVADOS","Acto administrativo presuntamente viciado de ilegalidad que impone sanción por falta aduanera de los depósitos públicos y privados, considerados como aquellos lugares autorizados por la autoridad aduanera para el almacenamiento de mercancías bajo control aduanero. La infracción aduanera es toda acción u omisión que conlleva la transgresión de la legislación aduanera. El vicio del acto puede ser la expedición con infracción de las normas en que debería fundarse, o sin competencia, o en forma irregular, o con desconocimiento del derecho de audiencia y defensa, o mediante falsa motivación, o con falta de motivación, o con desviación de las atribuciones propias de quien lo profirió, o con violación del debido proceso administrativo.",null,null,"MANTENER",346]
[3,{"$f":"+IF(A12<=Hoja3!$D$1,1,0)","v":1},"Coincidencia 3","ILEGALIDAD DEL ACTO ADMINISTRATIVO QUE NIEGA LA AUTORIZACION COMO DEPOSITO PUBLICO O PRIVADO DE MERCANCIAS BAJO CONTROL ADUANERO","Acto administrativo presuntamente viciado de ilegalidad que niega la autorización como depósito público o privado de mercancías bajo control aduanero. La habilitación como depósito público o privado de mercancías bajo control aduanero es el acto administrativo por medio del cual la autoridad aduanera autoriza un lugar para el almacenamiento de mercancías bajo control aduanero. El vicio del acto puede ser la expedición con infracción de las normas en que debería fundarse, o sin competencia, o en forma irregular, o con desconocimiento del derecho de audiencia y defensa, o mediante falsa motivación, o con falta de motivación, o con desviación de las atribuciones propias de quien lo profirió, o con violación del debido proceso administrativo.",null,null,"MANTENER",398]
[4,{"$f":"+IF(A13<=Hoja3!$D$1,1,0)","v":1},"Coincidencia 4","TRANSMISION FORZOSA DEL DERECHO REAL DE DOMINIO PRIVADO SOBRE UN BIEN A FAVOR DEL ESTADO - EXPROPIACION JUDICIAL","Transmisión forzosa del derecho real de dominio privado sobre un bien a favor del Estado, por motivos de utilidad pública o interés social, mediante sentencia judicial e indemnización previa. La expropiación judicial se presenta como consecuencia del fracaso de la etapa de negociación voluntaria, sea porque el propietario se niegue a negociar, guarde silencio, o no cumple con el negocio, y se inicia con la expedición de un acto administrativo que ordena dar inicio al trámite judicial de expropiación. Se encuentra regulada en las Leyes 9° de 1989, 388 de 1997 y en el Código General del Proceso.",null,null,"NUEVA",972]
[5,{"$f":"+IF(A14<=Hoja3!$D$1,1,0)","v":1},"Coincidencia 5","DESPIDO SIN JUSTA CAUSA DE TRABAJADOR VINCULADO A ENTIDAD PUBLICA DE REGIMEN DE DERECHO PRIVADO","Terminación unilateral del contrato de trabajo suscrito con un trabajador por parte del empleador sin justa causa comprobada. En estos casos entiéndase por trabajador aquella persona que tiene una relación contractual laboral con una entidad pública con régimen de derecho privado, distinto al trabajador oficial.",null,null,"NUEVA",1083]
[6,{"$f":"+IF(A15<=Hoja3!$D$1,1,0)","v":0},"Coincidencia 6",{"$error":"#N/A"},{"$error":"#N/A"},null,null,{"$error":"#N/A"},{"$error":"#N/A"}]
[7,{"$f":"+IF(A16<=Hoja3!$D$1,1,0)","v":0},"Coincidencia 7",{"$error":"#N/A"},{"$error":"#N/A"},null,null,{"$error":"#N/A"},{"$error":"#N/A"}]
[8,{"$f":"+IF(A17<=Hoja3!$D$1,1,0)","v":0},"Coincidencia 8",{"$error":"#N/A"},{"$error":"#N/A"},null,null,{"$error":"#N/A"},{"$error":"#N/A"}]
[9,{"$f":"+IF(A18<=Hoja3!$D$1,1,0)","v":0},"Coincidencia 9",{"$error":"#N/A"},{"$error":"#N/A"},null,null,{"$error":"#N/A"},{"$error":"#N/A"}]
[10,{"$f":"+IF(A19<=Hoja3!$D$1,1,0)","v":0},"Coincidencia 10",{"$error":"#N/A"},{"$error":"#N/A"},null,null,{"$error":"#N/A"},{"$error":"#N/A"}]
[11,{"$f":"+IF(A20<=Hoja3!$D$1,1,0)","v":0},"Coincidencia 11",{"$error":"#N/A"},{"$error":"#N/A"},null,null,{"$error":"#N/A"},{"$error":"#N/A"}]
[12,{"$f":"+IF(A21<=Hoja3!$D$1,1,0)","v":0},"Coincidencia 12",{"$error":"#N/A"},{"$error":"#N/A"},null,null,{"$error":"#N/A"},{"$error":"#N/A"}]
[13,{"$f":"+IF(A22<=Hoja3!$D$1,1,0)","v":0},"Coincidencia 13",{"$error":"#N/A"},{"$error":"#N/A"},null,null,{"$error":"#N/A"},{"$error":"#N/A"}]
[14,{"$f":"+IF(A23<=Hoja3!$D$1,1,0)","v":0},"Coincidencia 14",{"$error":"#N/A"},{"$error":"#N/A"},null,null,{"$error":"#N/A"},{"$error":"#N/A"}]
[15,{"$f":"+IF(A24<=Hoja3!$D$1,1,0)","v":0},"Coincidencia 15",{"$error":"#N/A"},{"$error":"#N/A"},null,null,{"$error":"#N/A"},{"$error":"#N/A"}]
[16,{"$f":"+IF(A25<=Hoja3!$D$1,1,0)","v":0},"Coincidencia 16",{"$error":"#N/A"},{"$error":"#N/A"},null,null,{"$error":"#N/A"},{"$error":"#N/A"}]
[17,{"$f":"+IF(A26<=Hoja3!$D$1,1,0)","v":0},"Coincidencia 17",{"$error":"#N/A"},{"$error":"#N/A"},null,null,{"$error":"#N/A"},{"$error":"#N/A"}]
[18,{"$f":"+IF(A27<=Hoja3!$D$1,1,0)","v":0},"Coincidencia 18",{"$error":"#N/A"},{"$error":"#N/A"},null,null,{"$error":"#N/A"},{"$error":"#N/A"}]
[19,{"$f":"+IF(A28<=Hoja3!$D$1,1,0)","v":0},"Coincidencia 19",{"$error":"#N/A"},{"$error":"#N/A"},null,null,{"$error":"#N/A"},{"$error":"#N/A"}]
[20,{"$f":"+IF(A29<=Hoja3!$D$1,1,0)","v":0},"Coincidencia 20",{"$error":"#N/A"},{"$error":"#N/A"},null,null,{"$error":"#N/A"},{"$error":"#N/A"}]
[21,{"$f":"+IF(A30<=Hoja3!$D$1,1,0)","v":0},"Coincidencia 21",{"$error":"#N/A"},{"$error":"#N/A"},null,null,{"$error":"#N/A"},{"$error":"#N/A"}]
[22,{"$f":"+IF(A31<=Hoja3!$D$1,1,0)","v":0},"Coincidencia 22",{"$error":"#N/A"},{"$error":"#N/A"},null,null,{"$error":"#N/A"},{"$error":"#N/A"}]
[23,{"$f":"+IF(A32<=Hoja3!$D$1,1,0)","v":0},"Coincidencia 23",{"$error":"#N/A"},{"$error":"#N/A"},null,null,{"$error":"#N/A"},{"$error":"#N/A"}]
[24,{"$f":"+IF(A33<=Hoja3!$D$1,1,0)","v":0},"Coincidencia 24",{"$error":"#N/A"},{"$error":"#N/A"},null,null,{"$error":"#N/A"},{"$error":"#N/A"}]
[25,{"$f":"+IF(A34<=Hoja3!$D$1,1,0)","v":0},"Coincidencia 25",{"$error":"#N/A"},{"$error":"#N/A"},null,null,{"$error":"#N/A"},{"$error":"#N/A"}]
[26,{"$f":"+IF(A35<=Hoja3!$D$1,1,0)","v":0},"Coincidencia 26",{"$error":"#N/A"},{"$error":"#N/A"},null,null,{"$error":"#N/A"},{"$error":"#N/A"}]
[27,{"$f":"+IF(A36<=Hoja3!$D$1,1,0)","v":0},"Coincidencia 27",{"$error":"#N/A"},{"$error":"#N/A"},null,null,{"$error":"#N/A"},{"$error":"#N/A"}]
[28,{"$f":"+IF(A37<=Hoja3!$D$1,1,0)","v":0},"Coincidencia 28",{"$error":"#N/A"},{"$error":"#N/A"},null,null,{"$error":"#N/A"},{"$error":"#N/A"}]
[29,{"$f":"+IF(A38<=Hoja3!$D$1,1,0)","v":0},"Coincidencia 29",{"$error":"#N/A"},{"$error":"#N/A"},null,null,{"$error":"#N/A"},{"$error":"#N/A"}]
[30,{"$f":"+IF(A39<=Hoja3!$D$1,1,0)","v":0},"Coincidencia 30",{"$error":"#N/A"},{"$error":"#N/A"},null,null,{"$error":"#N/A"},{"$error":"#N/A"}]
[31,{"$f":"+IF(A40<=Hoja3!$D$1,1,0)","v":0},"Coincidencia 31",{"$error":"#N/A"},{"$error":"#N/A"},null,null,{"$error":"#N/A"},{"$error":"#N/A"}]
[32,{"$f":"+IF(A41<=Hoja3!$D$1,1,0)","v":0},"Coincidencia 32",{"$error":"#N/A"},{"$error":"#N/A"},null,null,{"$error":"#N/A"},{"$error":"#N/A"}]
[33,{"$f":"+IF(A42<=Hoja3!$D$1,1,0)","v":0},"Coincidencia 33",{"$error":"#N/A"},{"$error":"#N/A"},null,null,{"$error":"#N/A"},{"$error":"#N/A"}]
[34,{"$f":"+IF(A43<=Hoja3!$D$1,1,0)","v":0},"Coincidencia 34",{"$error":"#N/A"},{"$error":"#N/A"},null,null,{"$error":"#N/A"},{"$error":"#N/A"}]
[35,{"$f":"+IF(A44<=Hoja3!$D$1,1,0)","v":0},"Coincidencia 35",{"$error":"#N/A"},{"$error":"#N/A"},null,null,{"$error":"#N/A"},{"$error":"#N/A"}]
[36,{"$f":"+IF(A45<=Hoja3!$D$1,1,0)","v":0},"Coincidencia 36",{"$error":"#N/A"},{"$error":"#N/A"},null,null,{"$error":"#N/A"},{"$error":"#N/A"}]
[37,{"$f":"+IF(A46<=Hoja3!$D$1,1,0)","v":0},"Coincidencia 37",{"$error":"#N/A"},{"$error":"#N/A"},null,null,{"$error":"#N/A"},{"$error":"#N/A"}]
[38,{"$f":"+IF(A47<=Hoja3!$D$1,1,0)","v":0},"Coincidencia 38",{"$error":"#N/A"},{"$error":"#N/A"},null,null,{"$error":"#N/A"},{"$error":"#N/A"}]
[39,{"$f":"+IF(A48<=Hoja3!$D$1,1,0)","v":0},"Coincidencia 39",{"$error":"#N/A"},{"$error":"#N/A"},null,null,{"$error":"#N/A"},{"$error":"#N/A"}]
[40,{"$f":"+IF(A49<=Hoja3!$D$1,1,0)","v":0},"Coincidencia 40",{"$error":"#N/A"},{"$error":"#N/A"},null,null,{"$error":"#N/A"},{"$error":"#N/A"}]
[41,{"$f":"+IF(A50<=Hoja3!$D$1,1,0)","v":0},"Coincidencia 41",{"$error":"#N/A"},{"$error":"#N/A"},null,null,{"$error":"#N/A"},{"$error":"#N/A"}]
[42,{"$f":"+IF(A51<=Hoja3!$D$1,1,0)","v":0},"Coincidencia 42",{"$error":"#N/A"},{"$error":"#N/A"},null,null,{"$error":"#N/A"},{"$error":"#N/A"}]
[43,{"$f":"+IF(A52<=Hoja3!$D$1,1,0)","v":0},"Coincidencia 43",{"$error":"#N/A"},{"$error":"#N/A"},null,null,{"$error":"#N/A"},{"$error":"#N/A"}]
[44,{"$f":"+IF(A53<=Hoja3!$D$1,1,0)","v":0},"Coincidencia 44",{"$error":"#N/A"},{"$error":"#N/A"},null,null,{"$error":"#N/A"},{"$error":"#N/A"}]
[45,{"$f":"+IF(A54<=Hoja3!$D$1,1,0)","v":0},"Coincidencia 45",{"$error":"#N/A"},{"$error":"#N/A"},null,null,{"$error":"#N/A"},{"$error":"#N/A"}]
[46,{"$f":"+IF(A55<=Hoja3!$D$1,1,0)","v":0},"Coincidencia 46",{"$error":"#N/A"},{"$error":"#N/A"},null,null,{"$error":"#N/A"},{"$error":"#N/A"}]
[47,{"$f":"+IF(A56<=Hoja3!$D$1,1,0)","v":0},"Coincidencia 47",{"$error":"#N/A"},{"$error":"#N/A"},null,null,{"$error":"#N/A"},{"$error":"#N/A"}]
[48,{"$f":"+IF(A57<=Hoja3!$D$1,1,0)","v":0},"Coincidencia 48",{"$error":"#N/A"},{"$error":"#N/A"},null,null,{"$error":"#N/A"},{"$error":"#N/A"}]
[49,{"$f":"+IF(A58<=Hoja3!$D$1,1,0)","v":0},"Coincidencia 49",{"$error":"#N/A"},{"$error":"#N/A"},null,null,{"$error":"#N/A"},{"$error":"#N/A"}]
[50,{"$f":"+IF(A59<=Hoja3!$D$1,1,0)","v":0},"Coincidencia 50",{"$error":"#N/A"},{"$error":"#N/A"},null,null,{"$error":"#N/A"},{"$error":"#N/A"}]
[51,{"$f":"+IF(A60<=Hoja3!$D$1,1,0)","v":0},"Coincidencia 51",{"$error":"#N/A"},{"$error":"#N/A"},null,null,{"$error":"#N/A"},{"$error":"#N/A"}]
[52,{"$f":"+IF(A61<=Hoja3!$D$1,1,0)","v":0},"Coincidencia 52",{"$error":"#N/A"},{"$error":"#N/A"},null,null,{"$error":"#N/A"},{"$error":"#N/A"}]
[53,{"$f":"+IF(A62<=Hoja3!$D$1,1,0)","v":0},"Coincidencia 53",{"$error":"#N/A"},{"$error":"#N/A"},null,null,{"$error":"#N/A"},{"$error":"#N/A"}]
[54,{"$f":"+IF(A63<=Hoja3!$D$1,1,0)","v":0},"Coincidencia 54",{"$error":"#N/A"},{"$error":"#N/A"},null,null,{"$error":"#N/A"},{"$error":"#N/A"}]
[55,{"$f":"+IF(A64<=Hoja3!$D$1,1,0)","v":0},"Coincidencia 55",{"$error":"#N/A"},{"$error":"#N/A"},null,null,{"$error":"#N/A"},{"$error":"#N/A"}]
[56,{"$f":"+IF(A65<=Hoja3!$D$1,1,0)","v":0},"Coincidencia 56",{"$error":"#N/A"},{"$error":"#N/A"},null,null,{"$error":"#N/A"},{"$error":"#N/A"}]
[57,{"$f":"+IF(A66<=Hoja3!$D$1,1,0)","v":0},"Coincidencia 57",{"$error":"#N/A"},{"$error":"#N/A"},null,null,{"$error":"#N/A"},{"$error":"#N/A"}]
[58,{"$f":"+IF(A67<=Hoja3!$D$1,1,0)","v":0},"Coincidencia 58",{"$error":"#N/A"},{"$error":"#N/A"},null,null,{"$error":"#N/A"},{"$error":"#N/A"}]
[59,{"$f":"+IF(A68<=Hoja3!$D$1,1,0)","v":0},"Coincidencia 59",{"$error":"#N/A"},{"$error":"#N/A"},null,null,{"$error":"#N/A"},{"$error":"#N/A"}]
[60,{"$f":"+IF(A69<=Hoja3!$D$1,1,0)","v":0},"Coincidencia 60",{"$error":"#N/A"},{"$error":"#N/A"},null,null,{"$error":"#N/A"},{"$error":"#N/A"}]
[61,{"$f":"+IF(A70<=Hoja3!$D$1,1,0)","v":0},"Coincidencia 61",{"$error":"#N/A"},{"$error":"#N/A"},null,null,{"$error":"#N/A"},{"$error":"#N/A"}]
[62,{"$f":"+IF(A71<=Hoja3!$D$1,1,0)","v":0},"Coincidencia 62",{"$error":"#N/A"},{"$error":"#N/A"},null,null,{"$error":"#N/A"},{"$error":"#N/A"}]
[63,{"$f":"+IF(A72<=Hoja3!$D$1,1,0)","v":0},"Coincidencia 63",{"$error":"#N/A"},{"$error":"#N/A"},null,null,{"$error":"#N/A"},{"$error":"#N/A"}]
[64,{"$f":"+IF(A73<=Hoja3!$D$1,1,0)","v":0},"Coincidencia 64",{"$error":"#N/A"},{"$error":"#N/A"},null,null,{"$error":"#N/A"},{"$error":"#N/A"}]
[65,{"$f":"+IF(A74<=Hoja3!$D$1,1,0)","v":0},"Coincidencia 65",{"$error":"#N/A"},{"$error":"#N/A"},null,null,{"$error":"#N/A"},{"$error":"#N/A"}]
[66,{"$f":"+IF(A75<=Hoja3!$D$1,1,0)","v":0},"Coincidencia 66",{"$error":"#N/A"},{"$error":"#N/A"},null,null,{"$error":"#N/A"},{"$error":"#N/A"}]
[67,{"$f":"+IF(A76<=Hoja3!$D$1,1,0)","v":0},"Coincidencia 67",{"$error":"#N/A"},{"$error":"#N/A"},null,null,{"$error":"#N/A"},{"$error":"#N/A"}]
[68,{"$f":"+IF(A77<=Hoja3!$D$1,1,0)","v":0},"Coincidencia 68",{"$error":"#N/A"},{"$error":"#N/A"},null,null,{"$error":"#N/A"},{"$error":"#N/A"}]
[69,{"$f":"+IF(A78<=Hoja3!$D$1,1,0)","v":0},"Coincidencia 69",{"$error":"#N/A"},{"$error":"#N/A"},null,null,{"$error":"#N/A"},{"$error":"#N/A"}]
[70,{"$f":"+IF(A79<=Hoja3!$D$1,1,0)","v":0},"Coincidencia 70",{"$error":"#N/A"},{"$error":"#N/A"},null,null,{"$error":"#N/A"},{"$error":"#N/A"}]
[71,{"$f":"+IF(A80<=Hoja3!$D$1,1,0)","v":0},"Coincidencia 71",{"$error":"#N/A"},{"$error":"#N/A"},null,null,{"$error":"#N/A"},{"$error":"#N/A"}]
[72,{"$f":"+IF(A81<=Hoja3!$D$1,1,0)","v":0},"Coincidencia 72",{"$error":"#N/A"},{"$error":"#N/A"},null,null,{"$error":"#N/A"},{"$error":"#N/A"}]
[73,{"$f":"+IF(A82<=Hoja3!$D$1,1,0)","v":0},"Coincidencia 73",{"$error":"#N/A"},{"$error":"#N/A"},null,null,{"$error":"#N/A"},{"$error":"#N/A"}]
[74,{"$f":"+IF(A83<=Hoja3!$D$1,1,0)","v":0},"Coincidencia 74",{"$error":"#N/A"},{"$error":"#N/A"},null,null,{"$error":"#N/A"},{"$error":"#N/A"}]
[75,{"$f":"+IF(A84<=Hoja3!$D$1,1,0)","v":0},"Coincidencia 75",{"$error":"#N/A"},{"$error":"#N/A"},null,null,{"$error":"#N/A"},{"$error":"#N/A"}]
[76,{"$f":"+IF(A85<=Hoja3!$D$1,1,0)","v":0},"Coincidencia 76",{"$error":"#N/A"},{"$error":"#N/A"},null,null,{"$error":"#N/A"},{"$error":"#N/A"}]
[77,{"$f":"+IF(A86<=Hoja3!$D$1,1,0)","v":0},"Coincidencia 77",{"$error":"#N/A"},{"$error":"#N/A"},null,null,{"$error":"#N/A"},{"$error":"#N/A"}]
[78,{"$f":"+IF(A87<=Hoja3!$D$1,1,0)","v":0},"Coincidencia 78",{"$error":"#N/A"},{"$error":"#N/A"},null,null,{"$error":"#N/A"},{"$error":"#N/A"}]
[79,{"$f":"+IF(A88<=Hoja3!$D$1,1,0)","v":0},"Coincidencia 79",{"$error":"#N/A"},{"$error":"#N/A"},null,null,{"$error":"#N/A"},{"$error":"#N/A"}]
[80,{"$f":"+IF(A89<=Hoja3!$D$1,1,0)","v":0},"Coincidencia 80",{"$error":"#N/A"},{"$error":"#N/A"},null,null,{"$error":"#N/A"},{"$error":"#N/A"}]
[81,{"$f":"+IF(A90<=Hoja3!$D$1,1,0)","v":0},"Coincidencia 81",{"$error":"#N/A"},{"$error":"#N/A"},null,null,{"$error":"#N/A"},{"$error":"#N/A"}]
[82,{"$f":"+IF(A91<=Hoja3!$D$1,1,0)","v":0},"Coincidencia 82",{"$error":"#N/A"},{"$error":"#N/A"},null,null,{"$error":"#N/A"},{"$error":"#N/A"}]
[83,{"$f":"+IF(A92<=Hoja3!$D$1,1,0)","v":0},"Coincidencia 83",{"$error":"#N/A"},{"$error":"#N/A"},null,null,{"$error":"#N/A"},{"$error":"#N/A"}]
[84,{"$f":"+IF(A93<=Hoja3!$D$1,1,0)","v":0},"Coincidencia 84",{"$error":"#N/A"},{"$error":"#N/A"},null,null,{"$error":"#N/A"},{"$error":"#N/A"}]
[85,{"$f":"+IF(A94<=Hoja3!$D$1,1,0)","v":0},"Coincidencia 85",{"$error":"#N/A"},{"$error":"#N/A"},null,null,{"$error":"#N/A"},{"$error":"#N/A"}]
[86,{"$f":"+IF(A95<=Hoja3!$D$1,1,0)","v":0},"Coincidencia 86",{"$error":"#N/A"},{"$error":"#N/A"},null,null,{"$error":"#N/A"},{"$error":"#N/A"}]
[87,{"$f":"+IF(A96<=Hoja3!$D$1,1,0)","v":0},"Coincidencia 87",{"$error":"#N/A"},{"$error":"#N/A"},null,null,{"$error":"#N/A"},{"$error":"#N/A"}]
[88,{"$f":"+IF(A97<=Hoja3!$D$1,1,0)","v":0},"Coincidencia 88",{"$error":"#N/A"},{"$error":"#N/A"},null,null,{"$error":"#N/A"},{"$error":"#N/A"}]
[89,{"$f":"+IF(A98<=Hoja3!$D$1,1,0)","v":0},"Coincidencia 89",{"$error":"#N/A"},{"$error":"#N/A"},null,null,{"$error":"#N/A"},{"$error":"#N/A"}]
[90,{"$f":"+IF(A99<=Hoja3!$D$1,1,0)","v":0},"Coincidencia 90",{"$error":"#N/A"},{"$error":"#N/A"},null,null,{"$error":"#N/A"},{"$error":"#N/A"}]
[91,{"$f":"+IF(A100<=Hoja3!$D$1,1,0)","v":0},"Coincidencia 91",{"$error":"#N/A"},{"$error":"#N/A"},null,null,{"$error":"#N/A"},{"$error":"#N/A"}]
[92,{"$f":"+IF(A101<=Hoja3!$D$1,1,0)","v":0},"Coincidencia 92",{"$f":"+VLOOKUP(A101,Hoja3!$A$3:$B$697,2,0)","v":"#N/A"},{"$f":"+VLOOKUP(A101,Hoja3!$A$3:$L$697,12,0)","v":"#N/A"},null,null,{"$f":"+VLOOKUP(A101,Hoja3!$A$3:$L$697,7,0)","v":"#N/A"},{"$f":"+VLOOKUP(A101,Hoja3!$A$3:$M$697,13,0)","v":"#N/A"}]

{"sheet":"Hoja1","index":2,"n_rows":632,"n_cols":2,"rows_kept":632,"hidden":true}
["ACCIÓN","(Todas)"]
[]
["Etiquetas de fila","Cuenta de NOMBRE DE LA CAUSA vieja"]
["INCUMPLIMIENTO DEL DEBER DE PROTECCION Y SEGURIDAD POR PARTE DEL ESTADO",10]
["DAÑOS CAUSADOS POR ACCIDENTE DE TRANSITO",10]
["FALLA EN LA PRESTACION DEL SERVICIO DE SALUD",9]
["MUERTE DE RECLUSO",7]
["INCUMPLIMIENTO CONTRACTUAL",7]
["LESION A RECLUSO",7]
["ILEGALIDAD DEL ACTO ADMINISTRATIVO QUE NO RECONOCE LA INDEXACION Y REAJUSTE DE LA PENSION",7]
["DAÑOS CAUSADOS POR FALTA DE SEÑALIZACION EN LA VIA PUBLICA",7]
["ILEGALIDAD DEL ACTO ADMINISTRATIVO QUE IMPONE TASA, IMPUESTO O TRIBUTO",7]
["DAÑOS CAUSADOS POR ACCIDENTE FLUVIAL-MARITIMO",7]
["DAÑOS CAUSADOS POR EXPLORACION Y/O EXPLOTACION MINERA Y DE HIDROCARBUROS",7]
["DAÑO EN ESTABLECIMIENTO EDUCATIVO",6]
["MUERTE DE CONSCRIPTO EN OPERATIVO MILITAR Y/O COMBATE O ENFRENTAMIENTO",5]
["LESION A CONSCRIPTO EN OPERATIVO MILITAR Y/O COMBATE O ENFRENTAMIENTO",5]
["ILEGALIDAD DEL ACTO ADMINISTRATIVO QUE SUPRIME EL CARGO",5]
["LESION A MIEMBRO VOLUNTARIO DE LA FUERZA PUBLICA EN OPERATIVO MILITAR Y/O COMBATE O ENFRENTAMIENTO",5]
["DESEQUILIBRIO ECONOMICO DEL CONTRATO",5]
["ILEGALIDAD DEL ACTO ADMINISTRATIVO QUE NO RECONOCE LA RELIQUIDACION DE LA PENSION",5]
["NO OTORGAMIENTO DE LICENCIAS Y PERMISOS AMBIENTALES",4]
["INCUMPLIMIENTO EN EL PAGO DE LA PENSION",4]
["NO RECONOCIMIENTO EN DERECHO DEL PAGO DE INCAPACIDAD MEDICA",4]
["INCUMPLIMIENTO DE SENTENCIA JUDICIAL O ACUERDO CONCILIATORIO",4]
["MUERTE DE MIEMBRO VOLUNTARIO DE LA FUERZA PUBLICA EN OPERATIVO MILITAR Y/O COMBATE O ENFRENTAMIENTO",4]
["NULIDAD DEL ACTO ADMINISTRATIVO QUE RECONOCE RETROACTIVIDAD EN EL PAGO DEL ESCALAFON DOCENTE",4]
["NO RECONOCIMIENTO EN DERECHO DE HONORARIOS",4]
["REAJUSTE PENSIONAL POR LEY 4 DE 1992",4]
["LESION A CIVIL EN DESARROLLO DE OPERATIVO MILITAR Y/O COMBATE O ENFRENTAMIENTO",4]
["ILEGALIDAD DEL ACTO ADMINISTRATIVO QUE RETIRA DEL SERVICIO A MIEMBRO DE LA FUERZA PUBLICA",4]
["MUERTE DE CIVIL EN DESARROLLO DE OPERATIVO MILITAR Y/O COMBATE O ENFRENTAMIENTO",4]
["DAÑOS CAUSADOS EN MANIFESTACION PUBLICA",4]
["DAÑOS DERIVADOS DEL SECUESTRO",4]
["DAÑOS CAUSADOS POR ACCIDENTE AEREO",4]
["DAÑO CAUSADO POR ALUD DE TIERRA",4]
["DAÑOS CAUSADOS A CIVILES POR ACTO TERRORISTA CONTRA INSTALACIONES, PERSONAJES O ELEMENTOS REPRESENTATIVOS DEL ESTADO",4]
["DAÑOS CAUSADOS A BIENES EN OPERATIVO MILITAR Y/O COMBATE O ENFRENTAMIENTO",4]
["ILEGALIDAD DEL ACTO ADMINISTRATIVO QUE NIEGA EL SUBSIDIO DE VIVIENDA",4]
["DAÑOS CAUSADOS POR CAIDA DE ARBOL",4]
["DAÑOS CAUSADOS POR VIA EN MAL ESTADO",4]
["ILEGALIDAD DEL ACTO ADMINISTRATIVO QUE NO RECONOCE LA RELIQUIDACION DE LA ASIGNACION DE RETIRO",4]
["DAÑOS OCASIONADOS POR RUINA DE EDIFICIO",4]
["DAÑOS CAUSADOS A CIVIL CON AERONAVE DE USO OFICIAL",4]
["DAÑOS CAUSADOS A CIVILES POR ACTO TERRORISTA CONTRA POBLACION CIVIL",4]
["DAÑOS CAUSADOS A CIVIL CON NAVE OFICIAL",4]
["ILEGALIDAD DEL ACTO ADMINISTRATIVO QUE LIQUIDA PENSION",4]
["DAÑOS CAUSADOS POR INUNDACION",4]
["DAÑOS CAUSADOS EN ZONA DE DISTENSION",4]
["DAÑOS CAUSADOS POR OPERACION ADMINISTRATIVA",4]
["DAÑOS CAUSADOS POR USO EXCESIVO DE LA FUERZA",4]
["DAÑOS CAUSADOS POR CONDUCCION DE ENERGIA ELECTRICA",4]
["ILEGALIDAD DEL ACTO ADMINISTRATIVO QUE NO RECONOCE PAGO DE PRIMA DE SERVICIOS",4]
["ILEGALIDAD DEL ACTO ADMINISTRATIVO QUE ORDENA UN TRASLADO",3]
["NULIDAD DEL CONTRATO ESTATAL",3]
["ILEGALIDAD DEL ACTO ADMINISTRATIVO QUE RETIRA A SERVIDOR PUBLICO POR ABANDONO DEL CARGO",3]
["NO RECONOCIMIENTO DE INCREMENTO PENSIONAL",3]
["OCUPACION TEMPORAL O PERMANENTE DE INMUEBLE",3]
["NO RECONOCIMIENTO DE RETROACTIVO PENSIONAL",3]
["NO RECONOCIMIENTO EN DERECHO DE PRESTACIONES SOCIALES",3]
["DAÑO AUTO INFLIGIDO DE MIEMBRO VOLUNTARIO DE LA FUERZA PUBLICA",3]
["ILEGALIDAD DEL ACTO ADMINISTRATIVO QUE DESCONOCE EL FUERO SINDICAL",3]
["DAÑO ESPECIAL POR EXPEDICION DE LEY CONSTITUCIONAL Y/O ACTO ADMINISTRATIVO LICITO",3]
["EJECUCION EXTRAJUDICIAL",3]
["DAÑO AUTO INFLIGIDO DE CONSCRIPTO",3]
["ILEGALIDAD DEL ACTO ADMINISTRATIVO QUE LIQUIDA INTERESES SOBRE EL AUXILIO DE CESANTIA",3]
["ILEGALIDAD DEL ACTO ADMINISTRATIVO QUE LIQUIDA EL AUXILIO DE CESANTIAS",3]
["PERTURBACION A LA POSESION",2]
["ILEGALIDAD DEL ACTO ADMINISTRATIVO QUE ORDENA EL RETIRO FORZOSO",2]
["LESION DE CIVIL CAUSADA POR SEMOVIENTE (EQUINO) DE PROPIEDAD DE FFMM",2]
["TERMINACION DEL CONTRATO DE TRABAJO SIN JUSTA CAUSA",2]
["DAÑOS CAUSADOS A CIVIL CON VEHICULO OFICIAL",2]
["SOLICITUD DE LA DIVISION MATERIAL DE BIEN INMUEBLE",1]
["NULIDAD ACTO ADMINISTRATIVO - RESOLUCION",1]
["MUERTE DE TERCERO POR EJECUCION DE OBRA PUBLICA",1]
["ILEGALIDAD DEL ACTO ADMINISTRATIVO QUE PROFIERE LIQUIDACION OFICIAL DE CORRECCION DEL IMPUESTO CREE",1]
["PRIVACION INJUSTA DE LA LIBERTAD",1]
["ILEGALIDAD DEL ACTO ADMINISTRATIVO QUE PROFIERE LIQUIDACION OFICIAL DE CORRECCION DEL IMPUESTO DE CONSUMO",1]
["MUERTE DE CONSCRIPTO POR EXPLOSION DE MINA ANTIPERSONAL",1]
["ILEGALIDAD DEL ACTO ADMINISTRATIVO QUE PROFIERE LIQUIDACION OFICIAL DE CORRECCION DEL IMPUESTO DE PATRIMONIO",1]
["NO RECONOCIMIENTO DE REAJUSTE Y/O NIVELACION SALARIAL",1]
["ILEGALIDAD DEL ACTO ADMINISTRATIVO QUE PROFIERE LIQUIDACION OFICIAL DE CORRECCION DEL IMPUESTO DE RENTA",1]
["PERDIDA DE POSESION O TENENCIA DE BIEN",1]
["ILEGALIDAD DEL ACTO ADMINISTRATIVO QUE PROFIERE LIQUIDACION OFICIAL DE CORRECCION DEL IMPUESTO DE RETENCION EN LA FUENTE",1]
["RETENCION ARBITRARIA POR LA FUERZA PUBLICA",1]
["ILEGALIDAD DEL ACTO ADMINISTRATIVO QUE PROFIERE LIQUIDACION OFICIAL DE CORRECCION DEL IMPUESTO DE RIQUEZA",1]
["MUERTE DE CIVIL POR GRUPO ARMADO ILEGAL",1]
["ILEGALIDAD DEL ACTO ADMINISTRATIVO QUE PROFIERE LIQUIDACION OFICIAL DE CORRECCION DEL IMPUESTO DE SEGURIDAD DEMOCRATICA",1]
["ILEGALIDAD DEL ACTO ADMINISTRATIVO QUE ORDENA TOMA DE POSESION DE SOCIEDAD",1]
["ILEGALIDAD DEL ACTO ADMINISTRATIVO QUE PROFIERE LIQUIDACION OFICIAL DE CORRECCION DEL IMPUESTO DE VENTAS",1]
["NO PAGO DE APORTES PARAFISCALES",1]
["ILEGALIDAD DEL ACTO ADMINISTRATIVO QUE PROFIERE LIQUIDACION OFICIAL DE CORRECCION DEL IMPUESTO GMF",1]
["NO RECONOCIMIENTO EN DERECHO DE INDEMNIZACION POR MUERTE EN ACCIDENTE DE TRABAJO",1]
["ILEGALIDAD DEL ACTO ADMINISTRATIVO QUE PROFIERE LIQUIDACION OFICIAL DE PATRIMONIO",1]
["OMISION EN EL CONTROL DE ARMAS A CIVILES POR PARTE FFMM",1]
["ILEGALIDAD DEL ACTO ADMINISTRATIVO QUE PROFIERE LIQUIDACION OFICIAL DE RENTA",1]
["PERJUICIOS OCASIONADOS POR LIQUIDACION DE SOCIEDADES DE DERECHO PRIVADO",1]
["ILEGALIDAD DEL ACTO ADMINISTRATIVO QUE PROFIERE LIQUIDACION OFICIAL DE RETENCION EN LA FUENTE",1]
["RECUPERACION DE DINEROS POR PECULADO",1]
["ILEGALIDAD DEL ACTO ADMINISTRATIVO QUE PROFIERE LIQUIDACION OFICIAL DE REVISION DE VALOR DEL IMPUESTO DE IMPORTACION",1]
["ROBO A GANADO O DAÑO EN FINCAS",1]
["ILEGALIDAD DEL ACTO ADMINISTRATIVO QUE PROFIERE LIQUIDACION OFICIAL DE REVISION DEL IMPUESTO DE IMPORTACION",1]
["MUERTE DE CIVIL EN PROCEDIMIENTO DE POLICIA",1]
["ILEGALIDAD DEL ACTO ADMINISTRATIVO QUE PROFIERE LIQUIDACION OFICIAL DE REVISION GMF",1]
["MUERTE DE CONSCRIPTO CON VEHICULO OFICIAL",1]
["ILEGALIDAD DEL ACTO ADMINISTRATIVO QUE PROFIERE LIQUIDACION OFICIAL DE RIQUEZA",1]
["MUERTE DE MIEMBRO VOLUNTARIO DE LA FUERZA PUBLICA CON NAVE OFICIAL",1]
["ILEGALIDAD DEL ACTO ADMINISTRATIVO QUE PROFIERE LIQUIDACION OFICIAL DE SEGURIDAD DEMOCRATICA",1]
["MUERTE DE MILITAR POR FALLAS EN INSTALACIONES MILITARES",1]
["ILEGALIDAD DEL ACTO ADMINISTRATIVO QUE PROFIERE LIQUIDACION OFICIAL DE VENTAS",1]
["MUERTE POR FUNCIONARIO EN DILIGENCIA JUDICIAL",1]
["ILEGALIDAD DEL ACTO ADMINISTRATIVO QUE RECHAZA SOLICITUD DE FORMALIZACION MINERA",1]
["ILEGALIDAD DEL ACTO ADMINISTRATIVO QUE PROFIERE LIQUIDACION OFICIAL CREE",1]
["ILEGALIDAD DEL ACTO ADMINISTRATIVO QUE RECONOCE PAGO DE REGALIAS - ACCION DE LESIVIDAD",1]
["NO RECONOCIMIENTO DEL PAGO DE BONIFICACION MENSUAL PARA LAS MADRES COMUNITARIAS Y SUSTITUTAS ESTRABLECIDA EN LA LEY 1450 DE 2011",1]
["ILEGALIDAD DEL ACTO ADMINISTRATIVO QUE RECONOCE PENSION - ACCION DE LESIVIDAD",1]
["NO RECONOCIMIENTO EN DERECHO DEL AUXILIO FUNERARIO",1]
["ILEGALIDAD DEL ACTO ADMINISTRATIVO QUE REGULA LOS SERVICIOS PUBLICOS DE ENERGIA GAS NATURAL GLP O COMBUSTIBLES LIQUIDOS",1]
["OBSTRUCCION A LA EJECUCION DE PROGRAMAS Y PROYECTOS DE INFRAESTRUCTURA VIAL Y DE SISTEMAS DE TRANSPORTE MASIVO",1]
["ILEGALIDAD DEL ACTO ADMINISTRATIVO QUE RELIQUIDA LA PENSION- ACCION DE LESIVIDAD",1]
["OMISION EN LAS OBLIGACIONES DE SEGURIDAD Y GARANTIA",1]
["ILEGALIDAD DEL ACTO ADMINISTRATIVO QUE REMUEVE DEL CARGO",1]
["PERJUICIOS OCASIONADOS CON OCASION A LA EXPEDICION DEL DEC. 1750 DE 2003",1]
["ILEGALIDAD DEL ACTO ADMINISTRATIVO QUE NO RECONOCE PRIMA TECNICA",1]
["PRESCRIPCION ADQUISITIVA DE DOMINIO",1]
["ILEGALIDAD DEL ACTO ADMINISTRATIVO QUE RETIRA DEL CARGO",1]
["ILEGALIDAD DEL ACTO ADMINISTRATIVO QUE PROFIERE LIQUIDACION OFICIAL DE AFORO DEL IMPUESTO GMF",1]
["ILEGALIDAD DEL ACTO ADMINISTRATIVO QUE NO RECONOCE RELIQUIDACION DE LA PRIMA DE ACTIVIDAD",1]
["RELIQUIDACION DE TARIFA FISCAL Y REEMBOLSO",1]
["ILEGALIDAD DEL ACTO ADMINISTRATIVO QUE REVOCA EL NOMBRAMIENTO DE SERVIDOR PUBLICO",1]
["RETIRO DE MILITAR POR ABANDONO DEL SERVICIO",1]
["ILEGALIDAD DEL ACTO ADMINISTRATIVO QUE REVOCA, SUSPENDE O NIEGA UN PROGRAMA DE EDUCACION SUPERIOR",1]
["SEGURIDAD NACIONAL",1]
["ILEGALIDAD DEL ACTO ADMINISTRATIVO QUE NO RECONOCE SUSTITUCION DE LA ASIGNACION DE RETIRO",1]
["SUBSIDIO PENSIONAL",1]
["ILEGALIDAD DEL ACTO ADMINISTRATIVO QUE SUPRIME LAS ENTIDADES PUBLICAS",1]
["MUERTE DE CIVIL POR EXPLOSION DE MINA ANTIPERSONAL",1]
["ILEGALIDAD DEL ACTO ADMINISTRATIVO QUE SUSPENDE EL PAGO DE LA ASIGNACION DE RETIRO",1]
["MUERTE DE CONSCRIPTO CON ARMA DE DOTACION OFICIAL",1]
["ILEGALIDAD DEL ACTO ADMINISTRATIVO QUE SUSPENDE EL PAGO DE PENSION",1]
["ILEGALIDAD DEL ACTO ADMINISTRATIVO QUE ORDENA SUSPENDER ACTIVIDADES DE RECAUDO NO AUTORIZADO",1]
["ILEGALIDAD DEL ACTO ADMINISTRATIVO QUE VIOLA DIRECTAMENTE LA NORMA",1]
["MUERTE DE MIEMBRO VOLUNTARIO DE LA FUERZA PUBLICA CON ARMA DE DOTACION OFICIAL",1]
["ILEGALIDAD DEL ACTO QUE NIEGA LA DEVOLUCION O COMPENSACION DE OBLIGACIONES ADUANERAS",1]
["MUERTE DE MIEMBRO VOLUNTARIO DE LA FUERZA PUBLICA EN ENFRENTAMIENTO ENTRE TROPAS",1]
["ILEGALIDAD DEL ACTO QUE NIEGA LA DEVOLUCION O COMPENSACION DE OBLIGACIONES TRIBUTARIAS",1]
["MUERTE DE MIEMBRO VOLUNTARIO DE LA FUERZA PUBLICA POR EXPLOSION DE MINA ANTIPERSONAL",1]
["ILEGALIDAD DEL ACTO QUE RECONOCE PRIMAS EXTRALEGALES A TRAVES DE NORMAS DE CARACTER TERRITORIAL",1]
["ILEGALIDAD DEL ACTO ADMINISTRATIVO QUE NO RECONOCE PRIMA DE ANTIGUEDAD",1]
["ILEGALIDAD DEL ACTO REGULATORIO",1]
["MUERTE O LESION DE MILITAR CON ARMA DE USO PERSONAL",1]
["ILEGALIDAD DEL CONTRATO POR VIOLACION A LAS NORMAS DE PROTECCION AMBIENTAL",1]
["NO ACEPTACION DE LA RENUNCIA",1]
["ILEGALIDAD POR VIOLACION A DERECHO FUNDAMENTAL",1]
["NO PAGO DE SALARIOS",1]
["INCIDENCIA SALARIAL AUXILIO DE SEGURIDAD",1]
["NO RECONOCIMIENTO DE LA MESADA 14",1]
["INCIDENCIA SALARIAL DE ALIMENTOS EN ESPECIE",1]
["ILEGALIDAD DEL ACTO ADMINISTRATIVO QUE PROFIERE LIQUIDACION OFICIAL DE AFORO DEL IMPUESTO CREE",1]
["INCIDENCIA SALARIAL SUBSIDIO DE TRANSPORTE",1]
["ILEGALIDAD DEL ACTO ADMINISTRATIVO QUE PROFIERE LIQUIDACION OFICIAL DE AFORO DEL IMPUESTO DE CONSUMO",1]
["INCONSTITUCIONALIDAD DEL ACTO ADMINISTRATIVO",1]
["NO RECONOCIMIENTO EN DERECHO DE REAFORO",1]
["ILEGALIDAD DEL ACTO ADMINISTRATIVO QUE NOMBRA UN SERVIDOR PUBLICO DESCONOCIENDO EL REGIMEN DE CARRERA ADMINISTRATIVA",1]
["NO RECONOCIMIENTO Y PAGO DEL SUBSIDIO FAMILIAR",1]
["INCUMPLIMIENTO DE ACUERDO DE PAGO",1]
["ILEGALIDAD DEL ACTO ADMINISTRATIVO QUE PROFIERE LIQUIDACION OFICIAL DE AFORO DEL IMPUESTO DE RETENCION EN LA FUENTE",1]
["INCUMPLIMIENTO DE CLAUSULA COMPROMISORIA",1]
["OMISION DE ASISTENCIA HUMANITARIA",1]
["INCUMPLIMIENTO DE NORMA CON FUERZA MATERIAL DE LEY O ACTO ADMINISTRATIVO",1]
["OMISION EN LA OBLIGACION DE PREVISION DE RIESGOS ADICIONALES DE OPERACIONES MILITARES",1]
["INCUMPLIMIENTO DE REQUISITOS LEGALES DE LA FACTURA",1]
["PAGO POR CONSIGNACION",1]
["ILEGALIDAD DEL ACTO ADMINISTRATIVO QUE NOMBRA UN SERVIDOR PUBLICO DESCONOCIENDO EL REGIMEN DE CARRERA DIPLOMATICA Y CONSULAR",1]
["PERDIDA O DESTRUCCION DE TITULO VALOR",1]
["INCUMPLIMIENTO DE UNA LEY",1]
["PERJUICIOS OCASIONADOS POR COLAPSO DE EDIFICACION PUBLICA",1]
["INCUMPLIMIENTO DEL ACTA DE LIQUIDACION BILATERAL DEL CONTRATO",1]
["ILEGALIDAD DEL ACTO ADMINISTRATIVO QUE PROFIERE LIQUIDACION OFICIAL DE AFORO DEL IMPUESTO DE VENTAS",1]
["INCUMPLIMIENTO DEL ACTO ADMINISTRATIVO QUE LIQUIDA UN CONTRATO",1]
["PRESCRIPCION DE LA ACCION ORDINARIA",1]
["INCUMPLIMIENTO DEL DEBER DE CUIDADO Y CUSTODIA DE ESTUDIANTES DENTRO DE LOS CENTROS DE EDUCACION PREESCOLAR, BASICA Y MEDIA",1]
["PROHIBICION DE LA FABRICACION, IMPORTACION, POSESION Y USO DE ARMAS",1]
["ILEGALIDAD DEL ACTO ADMINISTRATIVO QUE NOMBRA UN SERVIDOR PUBLICO DESCONOCIENDO EL REGIMEN DE CARRERA JUDICIAL",1]
["RECLAMACIONES REFERENTES A PENSIONES",1]
["INCUMPLIMIENTO EN EL DEBER DE SEGURIDAD Y PREVENCION DE DESASTRES",1]
["REFORMA DEL CONTRATO DE SOCIEDAD",1]
["INCUMPLIMIENTO EN EL PAGO DE CUOTAS DE COOPROPIEDAD",1]
["RENDICION PROVOCADA DE CUENTAS",1]
["INCUMPLIMIENTO EN EL PAGO DE LA OBLIGACION CONTENIDA EN TITULO VALOR",1]
["RETENCION ILEGAL DE BIENES",1]
["ILEGALIDAD DEL ACTO ADMINISTRATIVO QUE NOMBRA UN SERVIDOR PUBLICO DESCONOCIENDO EL REGIMEN DE CARRERA NOTARIAL",1]
["RETROACTIVIDAD EN DETENCION",1]
["INCUMPLIMIENTO EN EL PAGO DE LOS CANONES DE ARRENDAMIENTO",1]
["SALARIOS POR DETENCION",1]
["INCUMPLIMIENTO EN EL PAGO DE PRESTACIONES SOCIALES YA RECONOCIDAS",1]
["SIMULACION",1]
["INCUMPLIMIENTO EN EL PAGO DE SINIESTRO POR ASEGURADORA",1]
["SUBROGACION DE LOS DERECHOS DEL ASERGURADO POR RESPONSABILIDAD EN SINIESTRO",1]
["INCUMPLIMIENTO EN EL PAGO DE UNA OBLIGACION CON GARANTIA REAL",1]
["ILEGALIDAD DEL ACTO ADMINISTRATIVO QUE PROFIERE LIQUIDACION OFICIAL DE CONSUMO",1]
["INCUMPLIMIENTO EN EL RECONOCIMIENTO DE MEDICAMENTOS Y SERVICIOS INCLUIDOS O NO EN EL POS",1]
["MUERTE DE CIVIL POR EXPLOSION DE FABRICA DE POLVORA",1]
["INCUMPLIMIENTO EN LA CONSTITUCION DE CONSORCIOS Y/O UNIONES TEMPORALES",1]
["MUERTE DE CIVIL POR EXPLOSION POR FUGA DE COMBUSTIBLE",1]
["INCUMPLIMIENTO EN LA ENTREGA DE VIVIENDA DE INTERES SOCIAL",1]
["MUERTE DE CONSCRIPTO CON AERONAVE OFICIAL",1]
["INCUMPLIMIENTO EN LA ENTREGA MATERIAL DE BIEN DEL TRADENTE AL ADQUIRENTE",1]
["MUERTE DE CONSCRIPTO CON NAVE OFICIAL",1]
["INCUMPLIMIENTO EN LA LIQUIDACION DEL CONTRATO",1]
["MUERTE DE CONSCRIPTO EN INSTRUCCION",1]
["INDEBIDA ADECUACION FISICA DE CONSTRUCCIONES PARA PERSONAS CON ALGUNA DISCAPACIDAD",1]
["MUERTE DE CONSCRIPTO POR ACTO TERRORISTA",1]
["INDEBIDA ADMINISTRACION DE FUNCIONARIOS PUBLICOS",1]
["MUERTE DE MIEMBRO VOLUNTARIO DE LA FUERZA PUBLICA CON AERONAVE OFICIAL",1]
["INDEMNIZACION MESADA PENSIONAL",1]
["MUERTE DE MIEMBRO VOLUNTARIO DE LA FUERZA PUBLICA CON ARMA DE USO PERSONAL",1]
["INDEMNIZACION POR DANO ESPECIAL",1]
["MUERTE DE MIEMBRO VOLUNTARIO DE LA FUERZA PUBLICA CON VEHICULO OFICIAL",1]
["INDEMNIZACION POR DAÑO ESPECIAL CAUSADO POR MEDIDA DE SEGURIDAD DE LAS FUERZAS MILITARES",1]
["MUERTE DE MIEMBRO VOLUNTARIO DE LA FUERZA PUBLICA EN INSTRUCCION",1]
["INDEMNIZACION POR RIESGO EXCEPCIONAL",1]
["MUERTE DE MIEMBRO VOLUNTARIO DE LA FUERZA PUBLICA POR ACTO TERRORISTA",1]
["INTEGRACION DE TRIBUNAL DE ARBITRAMENTO",1]
["MUERTE DE MILITAR POR DESCONOCIDOS",1]
["INTENCION DE DIVISION MATERIAL DE LA COSA COMUN POR PARTE DE COMUNEROS O COPROPIETARIOS",1]
["MUERTE DE OPERADOR POR EJECUCION DE OBRA PUBLICA",1]
["INTERCEPTACION SIN ORDEN JUDICIAL",1]
["MUERTE DE SERVIDOR PUBLICO EN EJERCICIO DE SUS FUNCIONES",1]
["LA NULIDAD DE UN ACTO ADMINISTRIVO QUE IMPONE UNA SANCION",1]
["MUERTE EN EJECUCION Y/O DESARROLLO DE OBRA PUBLICA",1]
["LESION A CIVIL CON ARMA DE DOTACION OFICIAL",1]
["MUERTE POR ATENTADO TERRORISTA",1]
["LESION A CIVIL CON VEHICULO OFICIAL",1]
["MULTAS POR EL NO PAGO DE ACREENCIAS POR PARTE DEL FOSYGA O LA ENTIDAD PROMOTORA DE SALUD",1]
["ILEGALIDAD DEL ACTO ADMINISTRATIVO QUE NOTIFICA LA TERMINACION DE UN NOMBRAMIENTO PROVISIONAL",1]
["ILEGALIDAD DEL ACTO ADMINISTRATIVO QUE OTORGA LICENCIA DE FUNCIONAMIENTO",1]
["LESION A CIVIL EN PROCEDIMIENTO DE POLICIA",1]
["NO PAGO DE MESADA ADICIONAL",1]
["LESION A CIVIL POR EXPLOSION DE MINA ANTIPERSONAL",1]
["NO RECONOCIMIENTO DE DESCANSOS COMPENSATORIOS",1]
["LESION A CIVIL POR GRUPO ARMADO ILEGAL",1]
["NO RECONOCIMIENTO DE INDEMNIZACION SUSTITUTIVA DE PENSION",1]
["LESION A CONSCRIPTO CON AERONAVE OFICIAL",1]
["NO RECONOCIMIENTO DE PAGO DE RECOMPENSA POR DELACION",1]
["LESION A CONSCRIPTO CON ARMA DE DOTACION OFICIAL",1]
["NO RECONOCIMIENTO DE RELIQUIDACION DE INDEMNIZACION SUSTITUTIVA DE PENSION",1]
["LESION A CONSCRIPTO CON VEHICULO OFICIAL",1]
["NO RECONOCIMIENTO DE VIATICOS",1]
["LESION A CONSCRIPTO DURANTE INSTRUCCION",1]
["NO RECONOCIMIENTO DEL SUBSIDIO NOTARIAL",1]
["ILEGALIDAD DEL ACTO ADMINISTRATIVO QUE ORDENA COMISION DE SERVICIOS",1]
["NO RECONOCIMIENTO EN DERECHO DE INDEMNIZACION POR DISMINUCION DE CAPACIDAD LABORAL",1]
["LESION A CONSCRIPTO POR ACTO TERRORISTA",1]
["ILEGALIDAD DEL ACTO ADMINISTRATIVO QUE PROFIERE LIQUIDACION OFICIAL DE AFORO DEL IMPUESTO DE PATRIMONIO",1]
["LESION A CONSCRIPTO POR EXPLOSION DE MINA ANTIPERSONAL",1]
["NO RECONOCIMIENTO EN DERECHO DE SUBSIDIOS A LOS USUARIOS DE SERVICIOS PUBLICOS DOMICILIARIOS",1]
["LESION A INTEGRANTE DE GRUPO AL MARGEN DE LA LEY POR PARTE DE MIEMBRO DE LAS FFMM",1]
["ILEGALIDAD DEL ACTO ADMINISTRATIVO QUE PROFIERE LIQUIDACION OFICIAL DE AFORO DEL IMPUESTO DE RENTA",1]
["LESION A MIEMBRO VOLUNTARIO DE LA FUERZA PUBLICA CON AERONAVE OFICIAL",1]
["NO RESTITUCION DE BIEN INMUEBLE ARRENDADO",1]
["LESION A MIEMBRO VOLUNTARIO DE LA FUERZA PUBLICA CON ARMA DE DOTACION OFICIAL",1]
["NULIDAD DE FALLO ADMINISTRATIVO MULTA",1]
["LESION A MIEMBRO VOLUNTARIO DE LA FUERZA PUBLICA CON NAVE OFICIAL",1]
["ILEGALIDAD DEL ACTO ADMINISTRATIVO QUE PROFIERE LIQUIDACION OFICIAL DE AFORO DEL IMPUESTO DE RIQUEZA",1]
["LESION A MIEMBRO VOLUNTARIO DE LA FUERZA PUBLICA CON VEHICULO OFICIAL",1]
["ILEGALIDAD DEL ACTO ADMINISTRATIVO QUE PROFIERE LIQUIDACION OFICIAL DE AFORO DEL IMPUESTO DE SEGURIDAD DEMOCRATICA",1]
["LESION A MIEMBRO VOLUNTARIO DE LA FUERZA PUBLICA EN INSTRUCCION",1]
["OMISION DE LAS NORMAS DE SALUD OCUPACIONAL",1]
["ILEGALIDAD DEL ACTO ADMINISTRATIVO QUE NO RECONOCE PRIMA DE ACTUALIZACION",1]
["OMISION EN EL PAGO DE APORTES AL SISTEMA GENERAL DE SEGURIDAD SOCIAL",1]
["LESION A MIEMBRO VOLUNTARIO DE LA FUERZA PUBLICA POR ACTO TERRORISTA",1]
["OMISION EN LAS FUNCIONES DE INSPECCION, VIGILANCIA Y CONTROL",1]
["LESION A MIEMBRO VOLUNTARIO DE LA FUERZA PUBLICA POR EXPLOSION DE MINA ANTIPERSONAL",1]
["PAGO DE CONDENA Y/O CONCILIACION POR ACTUACION DOLOSA O GRAVEMENTE CULPOSA DE FUNCIONARIO",1]
["ILEGALIDAD DEL ACTO ADMINISTRATIVO QUE ORDENA LA DEVOLUCION DE VALORES POR REINTEGRO AL SERVICIO ACTIVO",1]
["PAGOS POR GASTOS",1]
["LESION ACCIDENTAL O FORTUITA A CONSCRIPTO",1]
["PERDIDA O DAÑO DE BIENES EN DEPOSITO O INCAUTADOS",1]
["LESION ACCIDENTAL O FORTUITA A MIEMBRO VOLUNTARIO DE LA FUERZA PUBLICA",1]
["PERJUICIOS ECONOMICOS POR INDEBIDA ACTUACION ADMINISTRATIVA",1]
["ILEGALIDAD DEL ACTO ADMINISTRATIVO QUE ORDENA LA INCAUTACION DE BIENES",1]
["PERJUICIOS OCASIONADOS POR ACTAS DE JUNTA DE SOCIOS",1]
["LESION DE CONSCRIPTO EN SERVICIO MILITAR",1]
["PERJUICIOS OCASIONADOS POR INSTAURAR UN PROCESO JUDICIAL INFUNDADO",1]
["LESION DE OPERADOR POR EJECUCION DE OBRA PUBLICA",1]
["PERJUICIOS OCASIONADOS POR TRANSFORMACION DE SOCIEDADES DE DERECHO PRIVADO",1]
["LESION DE TERCERO POR EJECUCION DE OBRA PUBLICA",1]
["PERTURBACION AL DERECHO DE SERVIDUMBRE",1]
["LESION ENORME",1]
["PRESCRIPCION DE LA ACCION EJECUTIVA",1]
["LESIONES PERSONALES A MENOR",1]
["PRIMA DE TRASLADO",1]
["LESIONES PERSONALES A PERIODISTA",1]
["PROCESOS AGRARIOS",1]
["LESIONES PERSONALES CAUSADAS A SERVIDOR PUBLICO EN EJERCICIO DE SUS FUNCIONES",1]
["PROTECCION A DERECHOS COLECTIVOS",1]
["LESIONES PERSONALES CAUSADAS EN EJECUCION Y/O DESARROLLO DE OBRA PUBLICA",1]
["REALIZACION DE LAS CONSTRUCCIONES, EDIFICACIONES Y DESARROLLOS URBANOS RESPETANDO LAS NORMAS",1]
["LESIONES PERSONALES CAUSADAS POR SERVIDOR PUBLICO",1]
["RECONOCIMIENTO BENEFICIOS PARA SERVIDORES PUBLICOS",1]
["LESIONES PERSONALES EN ESTABLECIMIENTO PUBLICO",1]
["REEMBOLSO SUMA PAGADA POR UNIFORME",1]
["TERMINACION DEL CONTRATO DE TRABAJO CON JUSTA CAUSA",1]
["REINTEGRO DE RECURSOS",1]
["UNIDAD DE PAGO POR CAPITACION - UPC",1]
["RENDICION ESPONTANEA DE CUENTAS",1]
["VIOLACION A DERECHOS FUNDAMENTALES",1]
["RESPONSABILIDAD CIVIL EXTRACONTRACTUAL",1]
["VIOLACION A LA PROTECCION DE DATOS PERSONALES",1]
["RETENCION DE CUOTAS SINDICALES",1]
["VIOLACION AL DERECHO DE POSTULACION A UN CARGO DE ELECCION POPULAR",1]
["RETENCION ILEGAL DE VEHICULOS, AERONAVES Y NAVES PARTICULARES",1]
["VIOLACION AL REGIMEN JURIDICO DE DERECHOS DE AUTOR",1]
["RETIRO ILEGAL DE ALUMNO DE ESCUELA DE FORMACION MILITAR",1]
["VIOLACION AL REGIMEN LEGAL DE INHABILIDADES E INCOMPATIBILIDADES",1]
["REVOCATORIA SANCION",1]
["VIOLACION O AMENAZA A LA MORALIDAD ADMINISTRATIVA",1]
["ROMPIMIENTO ABRUPTO DE NEGOCIACIONES",1]
["VIOLACION O AMENAZA A LOS DERECHOS DE LOS CONSUMIDORES Y USUARIOS",1]
["SANCION Y/O RECONOCIMIENTO TIEMPO POR CESE DE ACTIVIDADES",1]
["VIOLACION O AMENAZA AL GOCE DEL ESPACIO PUBLICO Y A LA UTILIZACION Y DEFENSA DE BIENES DE USO PUBLICO",1]
["SERVIDUMBRE",1]
["VIOLACION O AMENAZA AL PATRIMONIO PUBLICO",1]
["SOLICITUD ASIGNACION CARGO EN PROPIEDAD",1]
["ILEGALIDAD DEL ACTO ADMINISTRATIVO QUE NO RECONOCE PENSION SUSTITUTIVA",1]
["SOLICITUD DE REGISTRO ANTE LA DIRECCION NACIONAL DE DERECHOS DE AUTOR",1]
["MUERTE ACCIDENTAL O FORTUITA A MIEMBRO VOLUNTARIO DE LA FUERZA PUBLICA",1]
["SUBSIDIO DE ALIMENTACION",1]
["MUERTE DE CIVIL CON ARMA DE DOTACION OFICIAL",1]
["SUSTITUCION PATRONAL",1]
["MUERTE DE CIVIL CON VEHICULO OFICIAL",1]
["ILEGALIDAD DEL ACTO ADMINISTRATIVO QUE ORDENA LA RESTITUCION DE BIEN INMUEBLE",1]
["LESIONES PERSONALES EN MEDIO DE RESCATE DE SECUESTRADO",1]
["UTILIZACION DE MEDIOS DE GUERRA ILICITOS",1]
["LESIONES PERSONALES POR ATAQUE ARMADO DE GRUPOS ILEGALES",1]
["VIOLACION A DERECHOS HUMANOS",1]
["LESIONES PERSONALES POR ATENTADO TERRORISTA",1]
["VIOLACION AL DEBIDO PROCESO ADMINISTRATIVO",1]
["LESIONES PERSONALES POR FUNCIONARIO EN DILIGENCIA JUDICIAL",1]
["VIOLACION AL DERECHO DE UN AMBIENTE SANO",1]
["LESIONES PERSONALES POR USO DE TINTA EN SUFRAGIO",1]
["VIOLACION AL REGIMEN JURIDICO DE PROPIEDAD INDUSTRIAL",1]
["MALTRATO FISICO A PERSONAL CIVIL POR PARTE DE FFMM",1]
["VIOLACION O AMENAZA A LA LIBRE COMPETENCIA ECONOMICA",1]
["MALTRATO FISICO A PERSONAL MILITAR",1]
["VIOLACION O AMENAZA A LA SEGURIDAD Y SALUBRIDAD PUBLICA",1]
["MORA EN EL PAGO DE AUXILIO DE CESANTIAS",1]
["VIOLACION O AMENAZA AL GOCE DE UN AMBIENTE SANO",1]
["MORA EN EL PAGO DE INTERESES SOBRE EL AUXILIO DE CESANTIA",1]
["VIOLACION O AMENAZA AL PATRIMONIO CULTURAL DE LA NACION",1]
["MUERTE A CONSCRIPTO CON NAVE OFICIAL",1]
["VOCACION HEREDITARIA DE BIENES",1]
["MUERTE A MENOR",1]
["MUERTE ACCIDENTAL O FORTUITA A CONSCRIPTO",1]
["ILEGALIDAD DEL ACTO ADMINISTRATIVO QUE DECLARA LA CADUCIDAD CONTRACTUAL",1]
["ILEGALIDAD DEL ACTO ADMINISTRATIVO QUE IMPONE UNA SANCION DISCIPLINARIA",1]
["ILEGALIDAD DEL ACTO ADMINISTRATIVO QUE IMPONE SANCION POR EXTEMPORANEIDAD DE LA PRESENTACION DE INFORMACION EXOGENA",1]
["DAÑO O AMENAZA AMBIENTAL POR EJECUCION DE OBRA PUBLICA",1]
["ILEGALIDAD DEL ACTO ADMINISTRATIVO QUE NIEGA O ADMITE FACILIDAD DE PAGO",1]
["DAÑO O AMENAZA AMBIENTAL POR EMISION DE GASES DE COMBUSTION",1]
["ILEGALIDAD DEL ACTO ADMINISTRATIVO QUE ESTABLECE CUPOS DE COMBUSTIBLE LIBRE DE IMPUESTOS",1]
["DAÑO O AMENAZA AMBIENTAL POR ERRADICACION DE CULTIVOS ILICITOS",1]
["ILEGALIDAD DEL ACTO ADMINISTRATIVO QUE IMPONE SANCION POR FALTA ADUANERA EN MATERIA DE VALORACION DE MERCANCIAS",1]
["DAÑO O AMENAZA AMBIENTAL POR INCENDIO FORESTAL",1]
["ILEGALIDAD DEL ACTO ADMINISTRATIVO QUE NIEGA EL RECONOCIMIENTO E INSCRIPCION O RENOVACION DE LOS USUARIOS ADUANEROS PERMANENTES",1]
["DAÑO O AMENAZA AMBIENTAL POR INDEBIDA DISPOSICION DE DESECHOS HOSPITALARIOS",1]
["ILEGALIDAD DEL ACTO ADMINISTRATIVO QUE NO RECONOCE EL TIEMPO DE SERVICIO MILITAR",1]
["DAÑO O AMENAZA AMBIENTAL POR TALA MASIVA DE ARBOLES",1]
["DAÑO O AMENAZA AMBIENTAL POR DISPOSICION FINAL DE RESIDUOS SOLIDOS",1]
["DAÑO O AMENAZA AMBIENTAL POR VERTIMIENTO DE CONTAMINANTES",1]
["ILEGALIDAD DEL ACTO ADMINISTRATIVO QUE IMPONE MULTA POR VIOLACION DE NORMAS LABORALES DE DERECHO COLECTIVO",1]
["DAÑOS CAUSADOS A BIENES DE CIVIL POR GRUPO ARMADO ILEGAL",1]
["ILEGALIDAD DEL ACTO ADMINISTRATIVO QUE IMPONE SANCION POR FALTA ADUANERA DE LOS DECLARANTES EN EL REGIMEN DE IMPORTACION",1]
["ACCIDENTE DE TRABAJO O ENFERMEDAD PROFESIONAL POR CULPA PATRONAL",1]
["ILEGALIDAD DEL ACTO ADMINISTRATIVO QUE IMPONE SANCION POR LA NO PRESENTACION DE LA DOCUMENTACION COMPROBATORIA DE PRECIOS DE TRANSFERENCIA",1]
["DAÑOS CAUSADOS A BIENES EN PROCEDIMIENTO DE POLICIA",1]
["ILEGALIDAD DEL ACTO ADMINISTRATIVO QUE LIQUIDA UN CONTRATO",1]
["DAÑOS CAUSADOS A BIENES POR ARMA DE DOTACION OFICIAL",1]
["ILEGALIDAD DEL ACTO ADMINISTRATIVO QUE NIEGA LA HABILITACION DE LUGARES PARA EL INGRESO Y SALIDA DE MERCANCIAS BAJO CONTROL ADUANERO",1]
["DAÑOS CAUSADOS A BIENES POR EJECUCION DE OBRA PUBLICA",1]
["ILEGALIDAD DEL ACTO ADMINISTRATIVO QUE NIEGA REUBICACION DE SERVIDOR PUBLICO",1]
["ACOSO LABORAL",1]
["ACCESO CARNAL O ACTO SEXUAL VIOLENTO",1]
["ACOSO SEXUAL",1]
["ILEGALIDAD DEL ACTO ADMINISTRATIVO QUE DECLARA LA OCURRENCIA DEL SINIESTRO Y ORDENA HACER EFECTIVA LA POLIZA",1]
["ILEGALIDAD DEL ACTO ADMINISTRATIVO QUE DECRETA MEDIDAS CAUTELARES",1]
["ILEGALIDAD DEL ACTO ADMINISTRATIVO QUE DEFINE UNA SOLICITUD DE REVISION DE AREA Y LINDEROS DE INMUEBLE",1]
["ILEGALIDAD DEL ACTO ADMINISTRATIVO QUE DESCONOCE EL AMPARO POR RETEN SOCIAL PARA PRE-PENSIONADOS",1]
["DAÑOS CAUSADOS A CIVIL EN INSTALACIONES DE RECREACION",1]
["ILEGALIDAD DEL ACTO ADMINISTRATIVO QUE IMPONE MULTA POR INCUMPLIMIENTO DEL CONTRATO DE CONDICIONES UNIFORMES",1]
["DAÑOS CAUSADOS A CIVILES EN RETEN MILITAR",1]
["ILEGALIDAD DEL ACTO ADMINISTRATIVO QUE IMPONE SANCION DE CLAUSURA DE ESTABLECIMIENTO DE COMERCIO",1]
["ACTAS DE ASAMBLEAS",1]
["ILEGALIDAD DEL ACTO ADMINISTRATIVO QUE IMPONE SANCION POR FALTA ADUANERA DE LOS AGENTES DE ADUANAS",1]
["ACTOS SEXUALES CON MENOR DE CATORCE AÑOS",1]
["ILEGALIDAD DEL ACTO ADMINISTRATIVO QUE IMPONE SANCION POR FALTA ADUANERA DE LOS TRANSPORTADORES",1]
["DAÑOS CAUSADOS A SERVIDOR PUBLICO EN EJERCICIO DE SUS FUNCIONES",1]
["ILEGALIDAD DEL ACTO ADMINISTRATIVO QUE IMPONE SANCION POR INCUMPLIMIENTO DE NORMAS DE PROTECCION AMBIENTAL",1]
["DAÑOS CAUSADOS EN ATAQUES GUERRILLEROS A POBLACIONES CIVILES",1]
["ILEGALIDAD DEL ACTO ADMINISTRATIVO QUE IMPONE SANCIONES DERIVADAS DE LA FACULTAD DE INSPECCION, VIGILANCIA Y CONTROL",1]
["AHOGAMIENTO PERSONAL FFMM",1]
["ILEGALIDAD DEL ACTO ADMINISTRATIVO QUE INTERPRETA ERRONEAMENTE LA NORMA",1]
["ALLANAMIENTO ILEGAL",1]
["ILEGALIDAD DEL ACTO ADMINISTRATIVO QUE NIEGA CONDONACION DE INTERESES",1]
["APLAZAMIENTO DE RETIRO POR OBLIGACION DE PERMANENCIA",1]
["ILEGALIDAD DEL ACTO ADMINISTRATIVO QUE NIEGA FINANCIACION DE ESTUDIOS",1]
["ATAQUE CONTRA INSTALACIONES QUE CONTIENEN FUERZAS PELIGROSAS",1]
["ILEGALIDAD DEL ACTO ADMINISTRATIVO QUE NIEGA LIQUIDACION OFICIAL PARA EFECTOS DE DEVOLUCION",1]
["AUSENCIA DE LOS REQUISITOS DE VALIDEZ DE ACTA EXTRACONVENCIONAL",1]
["ILEGALIDAD DEL ACTO ADMINISTRATIVO QUE NIEGA O APRUEBA DACION EN PAGO",1]
["CADUCIDAD DE LA ACCION SANCIONATORIA ADUANERA",1]
["ILEGALIDAD DEL ACTO ADMINISTRATIVO QUE NO RECONOCE BONO PENSIONAL",1]
["CAPITALIZACION DE INTERESES",1]
["ILEGALIDAD DEL ACTO ADMINISTRATIVO QUE NO RECONOCE LA BONIFICACION POR COMPENSACION",1]
["CAUSA DIAN POR DEFINIR",1]
["ILEGALIDAD DEL ACTO ADMINISTRATIVO QUE NO RECONOCE LA RELIQUIDACION LOS BENEFICIOS ECONOMICOS PERIODICOS \u0096 BEPS",1]
["DAÑOS CAUSADOS POR EXPLOSION DE OLEODUCTO",1]
["ILEGALIDAD DEL ACTO ADMINISTRATIVO QUE DECLARA LA INSUBSISTENCIA DE FUNCIONARIO DE LIBRE NOMBRAMIENTO Y REMOCION",1]
["COMPETENCIA DESLEAL",1]
["ILEGALIDAD DEL ACTO ADMINISTRATIVO QUE DECOMISA MERCANCIAS",1]
["DAÑOS CAUSADOS POR HACINAMIENTO",1]
["ILEGALIDAD DEL ACTO ADMINISTRATIVO QUE DEFINE LA SOLICITUD DE REVISION DE AVALUO CATASTRAL",1]
["CONFIGURACION DEL CONTRATO REALIDAD",1]
["ILEGALIDAD DEL ACTO ADMINISTRATIVO QUE DESCONOCE EL AMPARO POR RETEN SOCIAL PARA MADRES Y PADRES CABEZA DE FAMILIA",1]
["DAÑOS CAUSADOS POR MEDIDAS DE EXTINCION DE DOMINIO",1]
["DAÑO O AMENAZA AMBIENTAL POR DERRAME DE HIDROCARBUROS",1]
["CONTROVERSIA CONTRACTUAL",1]
["ILEGALIDAD DEL ACTO ADMINISTRATIVO QUE IMPONE MULTA POR INCUMPLIMIENTO AL REGIMEN QUE REGLAMENTA EL CONTRATO DE APRENDIZAJE",1]
["CONTROVERSIAS SOBRE LAUDO ARBITRAL",1]
["ILEGALIDAD DEL ACTO ADMINISTRATIVO QUE IMPONE MULTA POR VIOLACION DE NORMAS DEL SISTEMA DE RIESGOS LABORALES",1]
["CPA",1]
["ILEGALIDAD DEL ACTO ADMINISTRATIVO QUE IMPONE SANCION A ENTIDADES AUTORIZADAS PARA LA RECEPCION DE DECLARACIONES Y RECAUDO DE IMPUESTOS",1]
["DAÑOS CAUSADOS POR VIAS DE HECHO DE FUNCIONARIO PUBLICO",1]
["ILEGALIDAD DEL ACTO ADMINISTRATIVO QUE IMPONE SANCION POR DECLARACION DE PROVEEDOR FICTICIO O INSOLVENTE",1]
["DAÑOS DERIVADOS DE RESCATE DE SECUESTRADO",1]
["ILEGALIDAD DEL ACTO ADMINISTRATIVO QUE IMPONE SANCION POR EXTEMPORANEIDAD EN LA DOCUMENTACION COMPROBATORIA DE PRECIOS DE TRANSFERENCIA",1]
["CUMPLIMIENTO DE REQUISITOS LEGALES PARA LEVANTAMIENTO DE FUERO SINDICAL",1]
["ILEGALIDAD DEL ACTO ADMINISTRATIVO QUE IMPONE SANCION POR FALTA ADUANERA DE LOS BENEFICIOS DE PROGRAMAS ESPECIALES DE EXPORATACION",1]
["DAÑOS ECOLOGICOS",1]
["ILEGALIDAD DEL ACTO ADMINISTRATIVO QUE IMPONE SANCION POR FALTA ADUANERA DE LOS DEPOSITOS PUBLICOS Y PRIVADOS",1]
["DAÑOS MATERIALES CAUSADOS CON ARMA DE USO OFICIAL",1]
["ILEGALIDAD DEL ACTO ADMINISTRATIVO QUE IMPONE SANCION POR FALTA ADUANERA DE LOS USUARIOS INDUSTRIALES Y COMERCIALES DE ZONA FRANCA",1]
["DAÑOS MATERIALES CAUSADOS EN EJECUCION DE CONTRATO",1]
["ILEGALIDAD DEL ACTO ADMINISTRATIVO QUE IMPONE SANCION POR INCONSISTENCIAS EN LA DOCUMENTACION COMPROBATORIA DE PRECIOS DE TRANSFERENCIA",1]
["DAÑOS MATERIALES CAUSADOS POR ATENTADO TERRORISTA",1]
["ILEGALIDAD DEL ACTO ADMINISTRATIVO QUE IMPONE SANCION POR LA NO PRESENTACION DE INFORMACION EXOGENA",1]
["DAÑOS MATERIALES CAUSADOS POR DECLARATORIA DE RESERVA FORESTAL",1]
["ILEGALIDAD DEL ACTO ADMINISTRATIVO QUE IMPONE SANCION POR OMISION EN LA OBLIGACION DE LLEVAR LIBROS DE CONTABILIDAD",1]
["DAÑOS MATERIALES CAUSADOS POR FUNCIONARIO EN DILIGENCIA JUDICIAL",1]
["ILEGALIDAD DEL ACTO ADMINISTRATIVO QUE IMPONE SANCIONES PECUNIARIAS A LOS USUARIOS POR PARTE DE LAS EMPRESAS DE SERVICIOS PUBLICOS",1]
["DAÑOS MATERIALES CAUSADOS POR MINA ANTIPERSONA",1]
["ILEGALIDAD DEL ACTO ADMINISTRATIVO QUE IMPONE UNA SANCION POR OMISION O INEXACTITUD DE LAS CONTRIBUCIONES PARAFISCALES DE LA PROTECCION SOCIAL",1]
["DAÑOS MATERIALES CAUSADOS POR REDES ELECTRICAS",1]
["ILEGALIDAD DEL ACTO ADMINISTRATIVO QUE LIQUIDA CONTRIBUCION ESPECIAL DE REGULACION DE ENERGIA Y GAS",1]
["DAÑOS MATERIALES CAUSADOS POR SERVIDOR PUBLICO EN EJERCICIO DE SUS FUNCIONES",1]
["ILEGALIDAD DEL ACTO ADMINISTRATIVO QUE NIEGA CONCESION MINERA",1]
["DAÑOS OCASIONADOS EN COMISION DE SERVICIOS",1]
["ILEGALIDAD DEL ACTO ADMINISTRATIVO QUE NIEGA EL RECONOCIMIENTO DEL CERTIFICADO DE INCENTIVO FORESTAL",1]
["DAÑOS OCASIONADOS POR FALTA DE MANTENIMIENTO DE BIEN INMUEBLE ARRENDADO",1]
["ACCESO CARNAL O ACTO SEXUAL CON INCAPAZ DE RESISTIR",1]
["DAÑO AL MEDIO AMBIENTE SANO CAUSADO POR CONSTRUCCION/IRREGULARIDAD EXPEDICION LICENCIA DE CONSTRUCCION",1]
["ILEGALIDAD DEL ACTO ADMINISTRATIVO QUE NIEGA INSCRIPCION DE FUNCIONARIO EN EL REGISTRO PUBLICO DE CARRERA ADMINISTRATIVA",1]
["DAÑOS OCASIONADOS POR TRANSPORTE DE PRODUCTOS MINEROS E HIDROCARBUROS",1]
["ILEGALIDAD DEL ACTO ADMINISTRATIVO QUE NIEGA LA RESTITUCION DE BIEN INMUEBLE",1]
["DECLARATORIA DE DESIERTAS",1]
["ILEGALIDAD DEL ACTO ADMINISTRATIVO QUE NIEGA O ADMITE ACUERDO ANTICIPADO DE PRECIOS",1]
["DECOMISO ILEGAL DE ARMAS",1]
["ILEGALIDAD DEL ACTO ADMINISTRATIVO QUE NIEGA O APRUEBA CONCILIACION",1]
["DEFECTUOSO FUNCIONAMIENTO DE LA ADMINISTRACION DE JUSTICIA",1]
["ILEGALIDAD DEL ACTO ADMINISTRATIVO QUE NIEGA REINTEGRO DE FUNCIONARIO PUBLICO",1]
["DEMANDA DE PENSION DE SUBOFICIAL U OFICIAL",1]
["ILEGALIDAD DEL ACTO ADMINISTRATIVO QUE NIEGA SUSCRIPCION DEL CONTRATO DE ESTABILIDAD JURIDICA",1]
["DESAPARICION CADAVER RESCATADO",1]
["ILEGALIDAD DEL ACTO ADMINISTRATIVO QUE NO RECONOCE CORRECCION DE HISTORIA LABORAL",1]
["DESAPARICION FORZADA",1]
["ILEGALIDAD DEL ACTO ADMINISTRATIVO QUE NO RECONOCE INDEMNIZACION",1]
["DESCONOCIMIENTO DE LAS NORMAS PARA DONACION DE ORGANOS",1]
["ILEGALIDAD DEL ACTO ADMINISTRATIVO QUE NO RECONOCE LA DEVOLUCION DE APORTES ENTRE ADMINISTRADORAS DE PENSIONES",1]
["DESCONOCIMIENTO DE TRASLADO DE REGIMEN PENSIONAL",1]
["DAÑO O AMENAZA AMBIENTAL POR CONTAMINACION POR OLORES",1]
["DESCUENTO DE NOMINA NO AUTORIZADO",1]
["ILEGALIDAD DEL ACTO ADMINISTRATIVO QUE NO RECONOCE PAGO DE INTERESES",1]
["DESCUENTO ILEGAL A LA MESADA PENSIONAL",1]
["ILEGALIDAD DEL ACTO ADMINISTRATIVO QUE DECLARA LA INSUBSISTENCIA DE FUNCIONARIO DE CARRERA",1]
["DAÑO AL MEDIO AMBIENTE SANO CAUSADO POR EL USO DE EXPLOSIVOS EN ACTIVIDADES COMERCIALES",1]
["ILEGALIDAD DEL ACTO ADMINISTRATIVO QUE DECLARA LA INSUBSISTENCIA DE FUNCIONARIO EN PROVISIONALIDAD",1]
["DESLINDE Y AMOJONAMIENTO",1]
["ILEGALIDAD DEL ACTO ADMINISTRATIVO QUE DECLARA OBLIGACIONES A FAVOR DEL TESORO PUBLICO",1]
["DESMEJORA EN LAS CONDICIONES LABORALES",1]
["ILEGALIDAD DEL ACTO ADMINISTRATIVO QUE DECRETA LA EXPROPIACION",1]
["DESPIDO INDIRECTO",1]
["ILEGALIDAD DEL ACTO ADMINISTRATIVO QUE DEFINE LA COMPETENCIA",1]
["DESPIDO SIN JUSTA CAUSA DE SERVIDOR PUBLICO",1]
["ILEGALIDAD DEL ACTO ADMINISTRATIVO QUE DEFINE LA TITULARIDAD DE TIERRAS",1]
["DESPIDO SIN JUSTA CAUSA DE TRABAJADOR OFICIAL",1]
["ILEGALIDAD DEL ACTO ADMINISTRATIVO QUE DEJA SIN EFECTO FACILIDAD DE PAGO",1]
["DESPLAZAMIENTO FORZADO",1]
["ILEGALIDAD DEL ACTO ADMINISTRATIVO QUE DESCONOCE EL AMPARO POR RETEN SOCIAL PARA PERSONAS CON DISCAPACIDAD",1]
["DESPOJO DE BIEN INMUEBLE",1]
["ILEGALIDAD DEL ACTO ADMINISTRATIVO QUE DESCONOCE EL COMPUTO DE TIEMPO DOBLE DE SERVICIO PRESTADO EN ESTADO DE CONMOCION INTERIOR O DE GUERRA INTERNACIONAL",1]
["DESPOJO JURIDICO Y/O MATERIAL DE TIERRAS",1]
["ILEGALIDAD DEL ACTO ADMINISTRATIVO QUE DESVINCULA A SUPERNUMERARIO",1]
["DISULUCION DE SOCIEDADES",1]
["ILEGALIDAD DEL ACTO ADMINISTRATIVO QUE HACE EFECTIVA LA CLAUSULA PENAL PECUNIARIA",1]
["DAÑO O AMENAZA AMBIENTAL POR ACTIVIDAD MINERA",1]
["ILEGALIDAD DEL ACTO ADMINISTRATIVO QUE IMPONE MULTA POR INCUMPLIMIENTO DEL CONTRATO",1]
["EJECUTIVO POR SERVICIOS O SUMINISTROS MEDICOS",1]
["ILEGALIDAD DEL ACTO ADMINISTRATIVO QUE IMPONE MULTA POR NEGATIVA O DILACION EN EL INICIO DE ETAPA DE ARREGLO DIRECTO",1]
["EJECUTIVO SINGULAR",1]
["ILEGALIDAD DEL ACTO ADMINISTRATIVO QUE IMPONE MULTA POR VIOLACION DE NORMAS DEL SISTEMA GENERAL DE SEGURIDAD SOCIAL EN PENSIONES",1]
["ENAJENACION DE ACCIONES SIN EL CUMPLIMIENTO DE LOS REQUISITOS LEGALES",1]
["ILEGALIDAD DEL ACTO ADMINISTRATIVO QUE IMPONE SANCION A CONTADORES PUBLICOS",1]
["ENFERMEDAD DE CONSCRIPTO ADQUIRIDA EN EL SERVICIO Y/O INCORPORACION",1]
["ILEGALIDAD DEL ACTO ADMINISTRATIVO QUE IMPONE SANCION A NOTARIOS",1]
["ENRIQUECIMIENTO SIN CAUSA",1]
["ILEGALIDAD DEL ACTO ADMINISTRATIVO QUE IMPONE SANCION DE TRANSITO",1]
["ENRIQUECIMIENTO SIN JUSTA CAUSA",1]
["ILEGALIDAD DEL ACTO ADMINISTRATIVO QUE IMPONE SANCION POR DEVOLUCION Y/O COMPENSACION IMPROCEDENTE",1]
["EXCESO EN EL COBRO DE INTERESES",1]
["ILEGALIDAD DEL ACTO ADMINISTRATIVO QUE IMPONE SANCION POR EXTEMPORANEIDAD EN LA DECLARACION INFORMATIVA DE PRECIOS DE TRANSFERENCIA",1]
["EXHIBICION DE LIBROS DE COMERCIO",1]
["ILEGALIDAD DEL ACTO ADMINISTRATIVO QUE IMPONE SANCION POR EXTEMPORANEIDAD EN LA INSCRIPCION EN EL REGISTRO NACIONAL DE VENDEDORES",1]
["EXISTENCIA DE BIEN QUE SE ENCUENTRA A CARGO DE LA NACION SIN DUEÑO APARENTE O CONOCIDO",1]
["ILEGALIDAD DEL ACTO ADMINISTRATIVO QUE IMPONE SANCION POR FALTA ADUANERA DE LOS AGENTES DE CARGA INTERNACIONAL",1]
["EXISTENCIA O INEXISTENCIA DEL CONTRATO",1]
["ILEGALIDAD DEL ACTO ADMINISTRATIVO QUE IMPONE SANCION POR FALTA ADUANERA DE LOS DECLARANTES EN EL REGIMEN DE EXPORTACION",1]
["EXTINCION DE LA OBLIGACION CIVIL DE CREDITO HIPOTECARIO POR PRESCRIPCION",1]
["ILEGALIDAD DEL ACTO ADMINISTRATIVO QUE IMPONE SANCION POR FALTA ADUANERA DE LOS DECLARANTES EN EL REGIMEN DE TRANSITO ADUANERO",1]
["EXTRACCION ILEGAL DE ORGANOS, TEJIDOS Y HUESOS",1]
["ILEGALIDAD DEL ACTO ADMINISTRATIVO QUE IMPONE SANCION POR FALTA ADUANERA DE LOS INTERMEDIARIOS DE TRAFICO POSTAL Y ENVIOS URGENTES",1]
["FALLA DEL SERVICIO EN LA ENTREGA DE CORREO POSTAL",1]
["ILEGALIDAD DEL ACTO ADMINISTRATIVO QUE IMPONE SANCION POR FALTA ADUANERA DE LOS USUARIOS ADUANEROS PERMANENTES",1]
["FALLA DEL SERVICIO POR CONDUCTA ILICITA DE SERVIDOR PUBLICO",1]
["ILEGALIDAD DEL ACTO ADMINISTRATIVO QUE IMPONE SANCION POR FALTA ADUANERA DE LOS USUARIOS OPERADORES DE ZONA FRANCA",1]
["FALLA DEL SERVICIO POR EL HECHO DEL LEGISLADOR",1]
["ILEGALIDAD DEL ACTO ADMINISTRATIVO QUE IMPONE SANCION POR INCONSISTENCIAS EN LA DECLARACION INFORMATIVA DE PRECIOS DE TRANSFERENCIA",1]
["FALLA DEL SERVICIO POR ERROR DE INFORMACION",1]
["ILEGALIDAD DEL ACTO ADMINISTRATIVO QUE IMPONE SANCION POR INCONSISTENCIAS EN LA PRESENTACION DE INFORMACION EXOGENA",1]
["FALLA DEL SERVICIO POR ERROR JUDICIAL",1]
["ILEGALIDAD DEL ACTO ADMINISTRATIVO QUE IMPONE SANCION POR INSOLVENCIA",1]
["FALLA DEL SERVICIO POR FALTA DE PROTECCION A LA VIDA, HONRA Y BIENES",1]
["ILEGALIDAD DEL ACTO ADMINISTRATIVO QUE IMPONE SANCION POR LA NO PRESENTACION DE LA DECLARACION INFORMATIVA DE PRECIOS DE TRANSFERENCIA",1]
["FALLA DEL SERVICIO POR OMISION EN LAS FUNCIONES DE INSPECCION, VIGILANCIA Y CONTROL, EN CASOS DIFERENTES A LA CAPTACION ILEGAL DE DINERO",1]
["ILEGALIDAD DEL ACTO ADMINISTRATIVO QUE IMPONE SANCION POR LA OMISION EN LA EXPEDICION DE CERTIFICADOS",1]
["FALLA EN EL ACCESO Y/O EN LA PRESTACION DE SERVICIOS PUBLICOS DOMICILIARIOS",1]
["ILEGALIDAD DEL ACTO ADMINISTRATIVO QUE IMPONE SANCION POR OMISION O INEXACTITUD DE LAS CONTRIBUCIONES PARAFISCALES DE LA PROTECCION SOCIAL",1]
["FALLA EN EL SERVICIO",1]
["ILEGALIDAD DEL ACTO ADMINISTRATIVO QUE IMPONE SANCIONES PECUNIARIAS A LAS EMPRESAS DE SERVICIOS PUBLICOS POR VIOLACION AL ESTATUTO DEL CONSUMIDOR",1]
["FALLA EN EL SERVICIO PARA EVITAR LA CAPTACION ILEGAL DE DINERO",1]
["DAÑO O AMENAZA AMBIENTAL POR DESVIACION DEL CAUCE DE UN RIO",1]
["FALLA EN EL SERVICIO POR APREHENSION ILEGAL DE MERCANCIAS",1]
["ILEGALIDAD DEL ACTO ADMINISTRATIVO QUE IMPONE UNA SANCION FISCAL",1]
["ILEGALIDAD DEL ACTO ADMINISTRATIVO QUE LIQUIDA CUOTA PARTE PENSIONAL",1]
["ILEGALIDAD DEL ACTO ADMINISTRATIVO QUE IMPONE UNA SANCION POR PRACTICA RESTRICTIVA DE LA COMPETENCIA",1]
["ILEGALIDAD DEL ACTO ADMINISTRATIVO QUE LIQUIDA EL BONO PENSIONAL",1]
["ILEGALIDAD DEL ACTO ADMINISTRATIVO QUE LIBRA MANDAMIENTO DE PAGO",1]
["DAÑO O AMENAZA AMBIENTAL POR ACTO TERRORISTA",1]
["DAÑO O AMENAZA AMBIENTAL POR DISPOSICION FINAL DE RESIDUOS NUCLEARES",1]
["DAÑO O AMENAZA AMBIENTAL POR CONTAMINACION AUDITIVA",1]
["FALLA EN EL SERVICIO POR DEFICIENCIA EN OPERACIONES FINANCIERAS",1]
["ILEGALIDAD DEL ACTO ADMINISTRATIVO QUE LIQUIDA INDEMNIZACION POR DESPIDO SIN JUSTA CAUSA",1]
["FALLA EN EL SERVICIO POR ERROR DE INFORMACION EN DOCUMENTO EXPEDIDO POR MEDICINA LEGAL",1]
["ILEGALIDAD DEL ACTO ADMINISTRATIVO QUE LIQUIDA LA ASIGNACION DE RETIRO",1]
["FALLA EN EL SERVICIO POR FALTA DE EXPEDICION DE DOCUMENTO",1]
["ILEGALIDAD DEL ACTO ADMINISTRATIVO QUE LIQUIDA REGALIAS",1]
["FALLA EN EL SERVICIO POR FALTA DE SUSCRIPCION DE POLIZA DE SEGURO",1]
["ILEGALIDAD DEL ACTO ADMINISTRATIVO QUE NIEGA APLICACION DE EXTENSION DE JURISPRUDENCIA",1]
["FALLA EN EL SERVICIO POR INDEBIDA INCORPORACION DE CONSCRIPTOS",1]
["ILEGALIDAD DEL ACTO ADMINISTRATIVO QUE NIEGA CONCESION PORTUARIA",1]
["FALLA EN EL SERVICIO POR OMISION EN LA DEVOLUCION OPORTUNA DE TRIBUTOS ADUANEROS PAGADOS EN EXCESO",1]
["ILEGALIDAD DEL ACTO ADMINISTRATIVO QUE NIEGA CREACION DE ZONA FRANCA",1]
["FALLA EN EL SERVICIO POR OMISION EN LA EXPEDICION DE DOCUMENTOS",1]
["ILEGALIDAD DEL ACTO ADMINISTRATIVO QUE NIEGA EL RECONOCIMIENTO E INSCRIPCION O RENOVACION DE LOS AUXILIARES DE LA FUNCION ADUANERA",1]
["FALLA EN LA PRESTACION DEL SERVICIO CATASTRAL",1]
["ILEGALIDAD DEL ACTO ADMINISTRATIVO QUE NIEGA EL RECONOCIMIENTO E INSCRIPCION O RENOVACION DE LOS USUARIOS ALTAMENTE EXPORTADORES",1]
["DAÑO AL MEDIO AMBIENTE SANO CAUSADO POR LA DESTRUCCION DE HABITAT NATURAL DE REPRODUCCION",1]
["ILEGALIDAD DEL ACTO ADMINISTRATIVO QUE NIEGA EXPEDICION DE HOJA DE SERVICIOS",1]
["FALLA EN LA PRESTACION DEL SERVICIO REGISTRAL Y NOTARIAL",1]
["ILEGALIDAD DEL ACTO ADMINISTRATIVO QUE NIEGA INICIATIVA LEGISLATIVA Y NORMATIVA",1]
["FALTA DE HEREDEROS EN SUCESION INTESTADA",1]
["ILEGALIDAD DEL ACTO ADMINISTRATIVO QUE NIEGA LA AUTORIZACION COMO DEPOSITO PUBLICO O PRIVADO DE MERCANCIAS BAJO CONTROL ADUANERO",1]
["FALTA DE REPARACION INTEGRAL A VICTIMAS DEL CONFLICTO ARMADO INTERNO",1]
["ILEGALIDAD DEL ACTO ADMINISTRATIVO QUE NIEGA LA HOMOLOGACION O CONVALIDACION DE TITULOS OTORGADOS EN EL EXTRANJERO",1]
["GOCE DE UN AMBIENTE SANO",1]
["ILEGALIDAD DEL ACTO ADMINISTRATIVO QUE NIEGA LICENCIA DE FUNCIONAMIENTO",1]
["ILEGALIDAD DEL ACTO ADMINISTRATIVO COMPLEJO QUE CREA UN ENTE TERRITORIAL",1]
["ILEGALIDAD DEL ACTO ADMINISTRATIVO QUE NIEGA LOS TRES (3) MESES DE ALTA ESTABLECIDOS EN EL DECRETO 1214 DE 1990",1]
["ILEGALIDAD DEL ACTO ADMINISTRATIVO DE DESVINCULACION DE LOS MIEMBROS DE LA FUERZA PUBLICA POR LLAMAMIENTO A CALIFICAR SERVICIOS O RETIRO DISCRECIONAL",1]
["ILEGALIDAD DEL ACTO ADMINISTRATIVO QUE NIEGA O ADMITE CONTRATO DE ESTABILIDAD JURIDICA",1]
["ILEGALIDAD DEL ACTO ADMINISTRATIVO EXPEDIDO IRREGULARMENTE",1]
["ILEGALIDAD DEL ACTO ADMINISTRATIVO QUE NIEGA O ADMITE REGISTRO DE CONTRATO",1]
["ILEGALIDAD DEL ACTO ADMINISTRATIVO QUE NO RECONOCE PAGO DE PRIMA DE ACTIVIDAD",1]
["ILEGALIDAD DEL ACTO ADMINISTRATIVO QUE NIEGA O APRUEBA CRUCE DE CUENTAS",1]
["ILEGALIDAD DEL ACTO ADMINISTRATIVO QUE NO RECONOCE PENSION DE INVALIDEZ",1]
["ILEGALIDAD DEL ACTO ADMINISTRATIVO QUE NIEGA PERMISO PARA EL PORTE O TENENCIA DE ARMAS A PARTICULARES",1]
["ILEGALIDAD DEL ACTO ADMINISTRATIVO QUE NO RECONOCE PENSION DE SOBREVIVIENTE",1]
["ILEGALIDAD DEL ACTO ADMINISTRATIVO QUE NIEGA REINTEGRO DE TRABAJADOR OFICIAL",1]
["ILEGALIDAD DEL ACTO ADMINISTRATIVO QUE NO RECONOCE PENSION FAMILIAR (LEY 1580 DE 2012)",1]
["ILEGALIDAD DEL ACTO ADMINISTRATIVO QUE NIEGA SUBSIDIOS AL SECTOR AGROPECUARIO",1]
["ILEGALIDAD DEL ACTO ADMINISTRATIVO QUE APLICA INDEBIDAMENTE LA NORMA",1]
["ILEGALIDAD DEL ACTO ADMINISTRATIVO QUE NO ADJUDICA BIEN INMUEBLE",1]
["ILEGALIDAD DEL ACTO ADMINISTRATIVO QUE APRUEBA TARIFAS DE ENERGIA Y GAS COMBUSTIBLE",1]
["ILEGALIDAD DEL ACTO ADMINISTRATIVO QUE NO RECONOCE CONDONACION DE CREDITO EDUCATIVO",1]
["ILEGALIDAD DEL ACTO ADMINISTRATIVO QUE AUTORIZA LA CONSTITUCION DE SINDICATO",1]
["ILEGALIDAD DEL ACTO ADMINISTRATIVO QUE NO RECONOCE CUOTA PARTE PENSIONAL",1]
["ILEGALIDAD DEL ACTO ADMINISTRATIVO QUE AUTORIZA O NIEGA UN ASCENSO",1]
["ILEGALIDAD DEL ACTO ADMINISTRATIVO QUE NO RECONOCE INCENTIVO AGROPECUARIO ESTABLECIDO EN LA LEY 101 DE 1993",1]
["ILEGALIDAD DEL ACTO ADMINISTRATIVO QUE CALIFICA LA PERDIDA DE CAPACIDAD LABORAL",1]
["ILEGALIDAD DEL ACTO ADMINISTRATIVO QUE NO RECONOCE LA ASIGNACION DE RETIRO",1]
["ILEGALIDAD DEL ACTO ADMINISTRATIVO QUE CARECE DE COMPETENCIA",1]
["ILEGALIDAD DEL ACTO ADMINISTRATIVO QUE NO RECONOCE LA DEVOLUCION DE APORTES DE LA PENSION GRACIA",1]
["ILEGALIDAD DEL ACTO ADMINISTRATIVO QUE CONTIENE ABUSO DE LAS FACULTADES DISCRECIONALES",1]
["ILEGALIDAD DEL ACTO ADMINISTRATIVO QUE NO RECONOCE LA INDEXACION Y REAJUSTE DE LA ASIGNACION DE RETIRO",1]
["ILEGALIDAD DEL ACTO ADMINISTRATIVO QUE CONTIENE DESVIACION DE PODER",1]
["ILEGALIDAD DEL ACTO ADMINISTRATIVO QUE NO RECONOCE LA RELIQUIDACION DE BONO PENSIONAL",1]
["ILEGALIDAD DEL ACTO ADMINISTRATIVO QUE CONTIENE UNA FALSA MOTIVACION",1]
["DAÑO O AMENAZA AMBIENTAL POR ACTIVIDAD AGROPECUARIA",1]
["ILEGALIDAD DEL ACTO ADMINISTRATIVO QUE CONVOCA A CONCURSO PUBLICO O PROVEE CARGOS",1]
["ILEGALIDAD DEL ACTO ADMINISTRATIVO QUE NO RECONOCE LOS BENEFICIOS ECONOMICOS PERIODICOS - BEPS",1]
["ILEGALIDAD DEL ACTO ADMINISTRATIVO QUE CREA O MODIFICA PLANTA DE PERSONAL",1]
["DAÑO O AMENAZA AMBIENTAL POR ACTIVIDAD INDUSTRIAL",1]
["ILEGALIDAD DEL ACTO ADMINISTRATIVO QUE DECLARA DESIERTA LICITACION",1]
["ILEGALIDAD DEL ACTO ADMINISTRATIVO POR FALSA MOTIVACION",1]
["ILEGALIDAD DEL ACTO ADMINISTRATIVO QUE NO RECONOCE PENSION DE JUBILACION",1]
["ILEGALIDAD DEL ACTO ADMINISTRATIVO POR MEDIO DEL CUAL SE EFECTUA LA CLASIFICACION ARANCELARIA DE UNA MERCANCIA",1]
["ILEGALIDAD DEL ACTO ADMINISTRATIVO QUE NO RECONOCE PENSION DE VEJEZ",1]
["ILEGALIDAD DEL ACTO ADMINISTRATIVO QUE ADJUDICA UN BIEN INMUEBLE",1]
["1. ILEGALIDAD DEL ACTO ADMINISTRATIVO QUE IMPONE MULTA POR VIOLACION DE NORMAS LABORALES DE DERECHO INDIVIDUAL.",1]
["ILEGALIDAD DEL ACTO ADMINISTRATIVO QUE ADJUDICA UN CONTRATO",1]
["(en blanco)"]
["Total general",859]

{"sheet":"Hoja3 (2)","index":3,"n_rows":862,"n_cols":15,"rows_kept":862,"hidden":true}
[{"$nulls":4},{"$f":"SUM('Hoja3 (2)'!$G$3:$G$873)","v":2}]
["Columna1","NOMBRE DE LA CAUSA vieja","contador","Columna2","Columna22","NOMBRE DE LA CAUSA 2018","NOMBRE DE LA CAUSA 2019","0","1","ACCIÓN","Columna3","Nuevo","COMENTARIOS","ESTADO EN EKOGUI"]
[{"$f":"+'Hoja3 (2)'!$I3","v":0},"1. ILEGALIDAD DEL ACTO ADMINISTRATIVO QUE IMPONE MULTA POR VIOLACION DE NORMAS LABORALES DE DERECHO INDIVIDUAL.",{"$f":"IF(B3=B2,C2+1,1)","v":1},{"$f":"+IF('Hoja3 (2)'!$C3=1,'Hoja3 (2)'!$B3,\"No\")","v":"1. ILEGALIDAD DEL ACTO ADMINISTRATIVO QUE IMPONE MULTA POR VIOLACION DE NORMAS LABORALES DE DERECHO INDIVIDUAL."},{"$f":"+'Hoja3 (2)'!$C3&'Hoja3 (2)'!$B3","v":"11. ILEGALIDAD DEL ACTO ADMINISTRATIVO QUE IMPONE MULTA POR VIOLACION DE NORMAS LABORALES DE DERECHO INDIVIDUAL."},{"$f":"IFERROR(FIND(UPPER('Causas anteriores'!$D$4),D3),0)","v":0},{"$f":"+IF('Hoja3 (2)'!$F3=0,0,1)","v":0},{"$f":"+H2+'Hoja3 (2)'!$G3","v":0},{"$f":"+'Hoja3 (2)'!$H3*'Hoja3 (2)'!$G3","v":0},"MANTENER/AJUSTAR TEXTO","Activa","ILEGALIDAD DEL ACTO ADMINISTRATIVO QUE IMPONE SANCION POR VIOLACION DE NORMAS DE DERECHO LABORAL INDIVIDUAL",null,"ACTIVA"," "]
[{"$f":"+'Hoja3 (2)'!$I4","v":0},"ACCESO CARNAL O ACTO SEXUAL CON INCAPAZ DE RESISTIR",1,{"$f":"+IF('Hoja3 (2)'!$C4=1,'Hoja3 (2)'!$B4,\"No\")","v":"ACCESO CARNAL O ACTO SEXUAL CON INCAPAZ DE RESISTIR"},{"$f":"+'Hoja3 (2)'!$C4&'Hoja3 (2)'!$B4","v":"1ACCESO CARNAL O ACTO SEXUAL CON INCAPAZ DE RESISTIR"},{"$f":"IFERROR(FIND(UPPER('Causas anteriores'!$D$4),D4),0)","v":0},{"$f":"+IF('Hoja3 (2)'!$F4=0,0,1)","v":0},{"$f":"+H3+'Hoja3 (2)'!$G4","v":0},{"$f":"+'Hoja3 (2)'!$H4*'Hoja3 (2)'!$G4","v":0},"MANTENER/AJUSTAR TEXTO","Activa","ACCESO CARNAL O ACTO SEXUAL CON INCAPAZ DE RESISTIR",null,"ACTIVA"," "]
[{"$f":"+'Hoja3 (2)'!$I5","v":0},"ACCESO CARNAL O ACTO SEXUAL VIOLENTO",1,{"$f":"+IF('Hoja3 (2)'!$C5=1,'Hoja3 (2)'!$B5,\"No\")","v":"ACCESO CARNAL O ACTO SEXUAL VIOLENTO"},{"$f":"+'Hoja3 (2)'!$C5&'Hoja3 (2)'!$B5","v":"1ACCESO CARNAL O ACTO SEXUAL VIOLENTO"},{"$f":"IFERROR(FIND(UPPER('Causas anteriores'!$D$4),D5),0)","v":0},{"$f":"+IF('Hoja3 (2)'!$F5=0,0,1)","v":0},{"$f":"+H4+'Hoja3 (2)'!$G5","v":0},{"$f":"+'Hoja3 (2)'!$H5*'Hoja3 (2)'!$G5","v":0},"MANTENER/AJUSTAR TEXTO","Activa","ACCESO CARNAL O ACTO SEXUAL VIOLENTO",null,"ACTIVA"," "]
[{"$f":"+'Hoja3 (2)'!$I6","v":0},"ACCIDENTE DE TRABAJO O ENFERMEDAD PROFESIONAL POR CULPA PATRONAL",1,{"$f":"+IF('Hoja3 (2)'!$C6=1,'Hoja3 (2)'!$B6,\"No\")","v":"ACCIDENTE DE TRABAJO O ENFERMEDAD PROFESIONAL POR CULPA PATRONAL"},{"$f":"+'Hoja3 (2)'!$C6&'Hoja3 (2)'!$B6","v":"1ACCIDENTE DE TRABAJO O ENFERMEDAD PROFESIONAL POR CULPA PATRONAL"},{"$f":"IFERROR(FIND(UPPER('Causas anteriores'!$D$4),D6),0)","v":0},{"$f":"+IF('Hoja3 (2)'!$F6=0,0,1)","v":0},{"$f":"+H5+'Hoja3 (2)'!$G6","v":0},{"$f":"+'Hoja3 (2)'!$H6*'Hoja3 (2)'!$G6","v":0},"MANTENER/AJUSTAR TEXTO","Activa","ACCIDENTE DE TRABAJO O ENFERMEDAD PROFESIONAL POR CULPA PATRONAL",null,"ACTIVA"," "]
[{"$f":"+'Hoja3 (2)'!$I7","v":0},"ACOSO LABORAL",1,{"$f":"+IF('Hoja3 (2)'!$C7=1,'Hoja3 (2)'!$B7,\"No\")","v":"ACOSO LABORAL"},{"$f":"+'Hoja3 (2)'!$C7&'Hoja3 (2)'!$B7","v":"1ACOSO LABORAL"},{"$f":"IFERROR(FIND(UPPER('Causas anteriores'!$D$4),D7),0)","v":0},{"$f":"+IF('Hoja3 (2)'!$F7=0,0,1)","v":0},{"$f":"+H6+'Hoja3 (2)'!$G7","v":0},{"$f":"+'Hoja3 (2)'!$H7*'Hoja3 (2)'!$G7","v":0},"MANTENER/AJUSTAR TEXTO","Activa","ACOSO LABORAL",null,"ACTIVA"," "]
[{"$f":"+'Hoja3 (2)'!$I8","v":0},"ACOSO SEXUAL",1,{"$f":"+IF('Hoja3 (2)'!$C8=1,'Hoja3 (2)'!$B8,\"No\")","v":"ACOSO SEXUAL"},{"$f":"+'Hoja3 (2)'!$C8&'Hoja3 (2)'!$B8","v":"1ACOSO SEXUAL"},{"$f":"IFERROR(FIND(UPPER('Causas anteriores'!$D$4),D8),0)","v":0},{"$f":"+IF('Hoja3 (2)'!$F8=0,0,1)","v":0},{"$f":"+H7+'Hoja3 (2)'!$G8","v":0},{"$f":"+'Hoja3 (2)'!$H8*'Hoja3 (2)'!$G8","v":0},"MANTENER/AJUSTAR TEXTO","Activa","ACOSO SEXUAL",null,"ACTIVA"," "]
[{"$f":"+'Hoja3 (2)'!$I9","v":0},"ACTAS DE ASAMBLEAS",1,{"$f":"+IF('Hoja3 (2)'!$C9=1,'Hoja3 (2)'!$B9,\"No\")","v":"ACTAS DE ASAMBLEAS"},{"$f":"+'Hoja3 (2)'!$C9&'Hoja3 (2)'!$B9","v":"1ACTAS DE ASAMBLEAS"},{"$f":"IFERROR(FIND(UPPER('Causas anteriores'!$D$4),D9),0)","v":0},{"$f":"+IF('Hoja3 (2)'!$F9=0,0,1)","v":0},{"$f":"+H8+'Hoja3 (2)'!$G9","v":0},{"$f":"+'Hoja3 (2)'!$H9*'Hoja3 (2)'!$G9","v":0},"ESTABA INACTIVA","Inactiva",null,null,"INACTIVA"," "]
[{"$f":"+'Hoja3 (2)'!$I10","v":0},"ACTOS SEXUALES CON MENOR DE CATORCE AÑOS",1,{"$f":"+IF('Hoja3 (2)'!$C10=1,'Hoja3 (2)'!$B10,\"No\")","v":"ACTOS SEXUALES CON MENOR DE CATORCE AÑOS"},{"$f":"+'Hoja3 (2)'!$C10&'Hoja3 (2)'!$B10","v":"1ACTOS SEXUALES CON MENOR DE CATORCE AÑOS"},{"$f":"IFERROR(FIND(UPPER('Causas anteriores'!$D$4),D10),0)","v":0},{"$f":"+IF('Hoja3 (2)'!$F10=0,0,1)","v":0},{"$f":"+H9+'Hoja3 (2)'!$G10","v":0},{"$f":"+'Hoja3 (2)'!$H10*'Hoja3 (2)'!$G10","v":0},"MANTENER/AJUSTAR TEXTO","Activa","ACTOS SEXUALES CON MENOR DE CATORCE AÑOS",null,"ACTIVA"," "]
[{"$f":"+'Hoja3 (2)'!$I11","v":0},"AHOGAMIENTO PERSONAL FFMM",1,{"$f":"+IF('Hoja3 (2)'!$C11=1,'Hoja3 (2)'!$B11,\"No\")","v":"AHOGAMIENTO PERSONAL FFMM"},{"$f":"+'Hoja3 (2)'!$C11&'Hoja3 (2)'!$B11","v":"1AHOGAMIENTO PERSONAL FFMM"},{"$f":"IFERROR(FIND(UPPER('Causas anteriores'!$D$4),D11),0)","v":0},{"$f":"+IF('Hoja3 (2)'!$F11=0,0,1)","v":0},{"$f":"+H10+'Hoja3 (2)'!$G11","v":0},{"$f":"+'Hoja3 (2)'!$H11*'Hoja3 (2)'!$G11","v":0},"ESTABA INACTIVA","Inactiva",null,null,"INACTIVA"," "]
[{"$f":"+'Hoja3 (2)'!$I12","v":0},"ALLANAMIENTO ILEGAL",1,{"$f":"+IF('Hoja3 (2)'!$C12=1,'Hoja3 (2)'!$B12,\"No\")","v":"ALLANAMIENTO ILEGAL"},{"$f":"+'Hoja3 (2)'!$C12&'Hoja3 (2)'!$B12","v":"1ALLANAMIENTO ILEGAL"},{"$f":"IFERROR(FIND(UPPER('Causas anteriores'!$D$4),D12),0)","v":0},{"$f":"+IF('Hoja3 (2)'!$F12=0,0,1)","v":0},{"$f":"+H11+'Hoja3 (2)'!$G12","v":0},{"$f":"+'Hoja3 (2)'!$H12*'Hoja3 (2)'!$G12","v":0},"MANTENER/AJUSTAR TEXTO","Activa","ALLANAMIENTO ILEGAL",null,"ACTIVA"," "]
[{"$f":"+'Hoja3 (2)'!$I13","v":0},"APLAZAMIENTO DE RETIRO POR OBLIGACION DE PERMANENCIA",1,{"$f":"+IF('Hoja3 (2)'!$C13=1,'Hoja3 (2)'!$B13,\"No\")","v":"APLAZAMIENTO DE RETIRO POR OBLIGACION DE PERMANENCIA"},{"$f":"+'Hoja3 (2)'!$C13&'Hoja3 (2)'!$B13","v":"1APLAZAMIENTO DE RETIRO POR OBLIGACION DE PERMANENCIA"},{"$f":"IFERROR(FIND(UPPER('Causas anteriores'!$D$4),D13),0)","v":0},{"$f":"+IF('Hoja3 (2)'!$F13=0,0,1)","v":0},{"$f":"+H12+'Hoja3 (2)'!$G13","v":0},{"$f":"+'Hoja3 (2)'!$H13*'Hoja3 (2)'!$G13","v":0},"INACTIVAR EN NUEVA MATRIZ","Inactiva",null,null,"ACTIVA"," "]
[{"$f":"+'Hoja3 (2)'!$I14","v":0},"ATAQUE CONTRA INSTALACIONES QUE CONTIENEN FUERZAS PELIGROSAS",1,{"$f":"+IF('Hoja3 (2)'!$C14=1,'Hoja3 (2)'!$B14,\"No\")","v":"ATAQUE CONTRA INSTALACIONES QUE CONTIENEN FUERZAS PELIGROSAS"},{"$f":"+'Hoja3 (2)'!$C14&'Hoja3 (2)'!$B14","v":"1ATAQUE CONTRA INSTALACIONES QUE CONTIENEN FUERZAS PELIGROSAS"},{"$f":"IFERROR(FIND(UPPER('Causas anteriores'!$D$4),D14),0)","v":0},{"$f":"+IF('Hoja3 (2)'!$F14=0,0,1)","v":0},{"$f":"+H13+'Hoja3 (2)'!$G14","v":0},{"$f":"+'Hoja3 (2)'!$H14*'Hoja3 (2)'!$G14","v":0},"ESTABA INACTIVA","Inactiva",null,null,"INACTIVA"," "]
[{"$f":"+'Hoja3 (2)'!$I15","v":0},"AUSENCIA DE LOS REQUISITOS DE VALIDEZ DE ACTA EXTRACONVENCIONAL",1,{"$f":"+IF('Hoja3 (2)'!$C15=1,'Hoja3 (2)'!$B15,\"No\")","v":"AUSENCIA DE LOS REQUISITOS DE VALIDEZ DE ACTA EXTRACONVENCIONAL"},{"$f":"+'Hoja3 (2)'!$C15&'Hoja3 (2)'!$B15","v":"1AUSENCIA DE LOS REQUISITOS DE VALIDEZ DE ACTA EXTRACONVENCIONAL"},{"$f":"IFERROR(FIND(UPPER('Causas anteriores'!$D$4),D15),0)","v":0},{"$f":"+IF('Hoja3 (2)'!$F15=0,0,1)","v":0},{"$f":"+H14+'Hoja3 (2)'!$G15","v":0},{"$f":"+'Hoja3 (2)'!$H15*'Hoja3 (2)'!$G15","v":0},"INACTIVAR EN NUEVA MATRIZ","Inactiva",null,null,"ACTIVA"," "]
[{"$f":"+'Hoja3 (2)'!$I16","v":0},"CADUCIDAD DE LA ACCION SANCIONATORIA ADUANERA",1,{"$f":"+IF('Hoja3 (2)'!$C16=1,'Hoja3 (2)'!$B16,\"No\")","v":"CADUCIDAD DE LA ACCION SANCIONATORIA ADUANERA"},{"$f":"+'Hoja3 (2)'!$C16&'Hoja3 (2)'!$B16","v":"1CADUCIDAD DE LA ACCION SANCIONATORIA ADUANERA"},{"$f":"IFERROR(FIND(UPPER('Causas anteriores'!$D$4),D16),0)","v":0},{"$f":"+IF('Hoja3 (2)'!$F16=0,0,1)","v":0},{"$f":"+H15+'Hoja3 (2)'!$G16","v":0},{"$f":"+'Hoja3 (2)'!$H16*'Hoja3 (2)'!$G16","v":0},"MANTENER/AJUSTAR TEXTO","Activa","CADUCIDAD DE LA ACCION SANCIONATORIA ADUANERA",null,"ACTIVA"," "]
[{"$f":"+'Hoja3 (2)'!$I17","v":0},"CAPITALIZACION DE INTERESES",1,{"$f":"+IF('Hoja3 (2)'!$C17=1,'Hoja3 (2)'!$B17,\"No\")","v":"CAPITALIZACION DE INTERESES"},{"$f":"+'Hoja3 (2)'!$C17&'Hoja3 (2)'!$B17","v":"1CAPITALIZACION DE INTERESES"},{"$f":"IFERROR(FIND(UPPER('Causas anteriores'!$D$4),D17),0)","v":0},{"$f":"+IF('Hoja3 (2)'!$F17=0,0,1)","v":0},{"$f":"+H16+'Hoja3 (2)'!$G17","v":0},{"$f":"+'Hoja3 (2)'!$H17*'Hoja3 (2)'!$G17","v":0},"MANTENER/AJUSTAR TEXTO","Activa","CAPITALIZACION DE INTERESES",null,"ACTIVA"," "]
[{"$f":"+'Hoja3 (2)'!$I18","v":0},"CAUSA DIAN POR DEFINIR",1,{"$f":"+IF('Hoja3 (2)'!$C18=1,'Hoja3 (2)'!$B18,\"No\")","v":"CAUSA DIAN POR DEFINIR"},{"$f":"+'Hoja3 (2)'!$C18&'Hoja3 (2)'!$B18","v":"1CAUSA DIAN POR DEFINIR"},{"$f":"IFERROR(FIND(UPPER('Causas anteriores'!$D$4),D18),0)","v":0},{"$f":"+IF('Hoja3 (2)'!$F18=0,0,1)","v":0},{"$f":"+H17+'Hoja3 (2)'!$G18","v":0},{"$f":"+'Hoja3 (2)'!$H18*'Hoja3 (2)'!$G18","v":0},"MANTENER/AJUSTAR TEXTO","Activa","CAUSA DIAN POR DEFINIR",null,"ACTIVA"," "]
[{"$f":"+'Hoja3 (2)'!$I19","v":0},"COMPETENCIA DESLEAL",1,{"$f":"+IF('Hoja3 (2)'!$C19=1,'Hoja3 (2)'!$B19,\"No\")","v":"COMPETENCIA DESLEAL"},{"$f":"+'Hoja3 (2)'!$C19&'Hoja3 (2)'!$B19","v":"1COMPETENCIA DESLEAL"},{"$f":"IFERROR(FIND(UPPER('Causas anteriores'!$D$4),D19),0)","v":0},{"$f":"+IF('Hoja3 (2)'!$F19=0,0,1)","v":0},{"$f":"+H18+'Hoja3 (2)'!$G19","v":0},{"$f":"+'Hoja3 (2)'!$H19*'Hoja3 (2)'!$G19","v":0},"MANTENER/AJUSTAR TEXTO","Activa","COMPETENCIA DESLEAL",null,"ACTIVA"," "]
[{"$f":"+'Hoja3 (2)'!$I20","v":0},"CONFIGURACION DEL CONTRATO REALIDAD",1,{"$f":"+IF('Hoja3 (2)'!$C20=1,'Hoja3 (2)'!$B20,\"No\")","v":"CONFIGURACION DEL CONTRATO REALIDAD"},{"$f":"+'Hoja3 (2)'!$C20&'Hoja3 (2)'!$B20","v":"1CONFIGURACION DEL CONTRATO REALIDAD"},{"$f":"IFERROR(FIND(UPPER('Causas anteriores'!$D$4),D20),0)","v":0},{"$f":"+IF('Hoja3 (2)'!$F20=0,0,1)","v":0},{"$f":"+H19+'Hoja3 (2)'!$G20","v":0},{"$f":"+'Hoja3 (2)'!$H20*'Hoja3 (2)'!$G20","v":0},"MANTENER/AJUSTAR TEXTO","Activa","CONFIGURACION DEL CONTRATO REALIDAD",null,"ACTIVA"," "]
[{"$f":"+'Hoja3 (2)'!$I21","v":0},"CONTROVERSIA CONTRACTUAL",1,{"$f":"+IF('Hoja3 (2)'!$C21=1,'Hoja3 (2)'!$B21,\"No\")","v":"CONTROVERSIA CONTRACTUAL"},{"$f":"+'Hoja3 (2)'!$C21&'Hoja3 (2)'!$B21","v":"1CONTROVERSIA CONTRACTUAL"},{"$f":"IFERROR(FIND(UPPER('Causas anteriores'!$D$4),D21),0)","v":0},{"$f":"+IF('Hoja3 (2)'!$F21=0,0,1)","v":0},{"$f":"+H20+'Hoja3 (2)'!$G21","v":0},{"$f":"+'Hoja3 (2)'!$H21*'Hoja3 (2)'!$G21","v":0},"ESTABA INACTIVA","Inactiva",null,null,"INACTIVA"," "]
[{"$f":"+'Hoja3 (2)'!$I22","v":0},"CONTROVERSIAS SOBRE LAUDO ARBITRAL",1,{"$f":"+IF('Hoja3 (2)'!$C22=1,'Hoja3 (2)'!$B22,\"No\")","v":"CONTROVERSIAS SOBRE LAUDO ARBITRAL"},{"$f":"+'Hoja3 (2)'!$C22&'Hoja3 (2)'!$B22","v":"1CONTROVERSIAS SOBRE LAUDO ARBITRAL"},{"$f":"IFERROR(FIND(UPPER('Causas anteriores'!$D$4),D22),0)","v":0},{"$f":"+IF('Hoja3 (2)'!$F22=0,0,1)","v":0},{"$f":"+H21+'Hoja3 (2)'!$G22","v":0},{"$f":"+'Hoja3 (2)'!$H22*'Hoja3 (2)'!$G22","v":0},"MANTENER/AJUSTAR TEXTO","Activa","CONTROVERSIAS SOBRE LAUDO ARBITRAL",null,"ACTIVA"," "]
[{"$f":"+'Hoja3 (2)'!$I23","v":0},"CPA",1,{"$f":"+IF('Hoja3 (2)'!$C23=1,'Hoja3 (2)'!$B23,\"No\")","v":"CPA"},{"$f":"+'Hoja3 (2)'!$C23&'Hoja3 (2)'!$B23","v":"1CPA"},{"$f":"IFERROR(FIND(UPPER('Causas anteriores'!$D$4),D23),0)","v":0},{"$f":"+IF('Hoja3 (2)'!$F23=0,0,1)","v":0},{"$f":"+H22+'Hoja3 (2)'!$G23","v":0},{"$f":"+'Hoja3 (2)'!$H23*'Hoja3 (2)'!$G23","v":0},"ESTABA INACTIVA","Inactiva",null,null,"INACTIVA"," "]
[{"$f":"+'Hoja3 (2)'!$I24","v":0},"CUMPLIMIENTO DE REQUISITOS LEGALES PARA LEVANTAMIENTO DE FUERO SINDICAL",1,{"$f":"+IF('Hoja3 (2)'!$C24=1,'Hoja3 (2)'!$B24,\"No\")","v":"CUMPLIMIENTO DE REQUISITOS LEGALES PARA LEVANTAMIENTO DE FUERO SINDICAL"},{"$f":"+'Hoja3 (2)'!$C24&'Hoja3 (2)'!$B24","v":"1CUMPLIMIENTO DE REQUISITOS LEGALES PARA LEVANTAMIENTO DE FUERO SINDICAL"},{"$f":"IFERROR(FIND(UPPER('Causas anteriores'!$D$4),D24),0)","v":0},{"$f":"+IF('Hoja3 (2)'!$F24=0,0,1)","v":0},{"$f":"+H23+'Hoja3 (2)'!$G24","v":0},{"$f":"+'Hoja3 (2)'!$H24*'Hoja3 (2)'!$G24","v":0},"MANTENER/AJUSTAR TEXTO","Activa","CUMPLIMIENTO DE REQUISITOS LEGALES PARA LEVANTAMIENTO DE FUERO SINDICAL",null,"ACTIVA"," "]
[{"$f":"+'Hoja3 (2)'!$I25","v":0},"DAÑO AL MEDIO AMBIENTE SANO CAUSADO POR CONSTRUCCION/IRREGULARIDAD EXPEDICION LICENCIA DE CONSTRUCCION",1,{"$f":"+IF('Hoja3 (2)'!$C25=1,'Hoja3 (2)'!$B25,\"No\")","v":"DAÑO AL MEDIO AMBIENTE SANO CAUSADO POR CONSTRUCCION/IRREGULARIDAD EXPEDICION LICENCIA DE CONSTRUCCION"},{"$f":"+'Hoja3 (2)'!$C25&'Hoja3 (2)'!$B25","v":"1DAÑO AL MEDIO AMBIENTE SANO CAUSADO POR CONSTRUCCION/IRREGULARIDAD EXPEDICION LICENCIA DE CONSTRUCCION"},{"$f":"IFERROR(FIND(UPPER('Causas anteriores'!$D$4),D25),0)","v":0},{"$f":"+IF('Hoja3 (2)'!$F25=0,0,1)","v":0},{"$f":"+H24+'Hoja3 (2)'!$G25","v":0},{"$f":"+'Hoja3 (2)'!$H25*'Hoja3 (2)'!$G25","v":0},"ESTABA INACTIVA","Inactiva",null,null,"INACTIVA"," "]
[{"$f":"+'Hoja3 (2)'!$I26","v":0},"DAÑO AL MEDIO AMBIENTE SANO CAUSADO POR EL USO DE EXPLOSIVOS EN ACTIVIDADES COMERCIALES",1,{"$f":"+IF('Hoja3 (2)'!$C26=1,'Hoja3 (2)'!$B26,\"No\")","v":"DAÑO AL MEDIO AMBIENTE SANO CAUSADO POR EL USO DE EXPLOSIVOS EN ACTIVIDADES COMERCIALES"},{"$f":"+'Hoja3 (2)'!$C26&'Hoja3 (2)'!$B26","v":"1DAÑO AL MEDIO AMBIENTE SANO CAUSADO POR EL USO DE EXPLOSIVOS EN ACTIVIDADES COMERCIALES"},{"$f":"IFERROR(FIND(UPPER('Causas anteriores'!$D$4),D26),0)","v":0},{"$f":"+IF('Hoja3 (2)'!$F26=0,0,1)","v":0},{"$f":"+H25+'Hoja3 (2)'!$G26","v":0},{"$f":"+'Hoja3 (2)'!$H26*'Hoja3 (2)'!$G26","v":0},"ESTABA INACTIVA","Inactiva",null,null,"INACTIVA"," "]
[{"$f":"+'Hoja3 (2)'!$I27","v":0},"DAÑO AL MEDIO AMBIENTE SANO CAUSADO POR LA DESTRUCCION DE HABITAT NATURAL DE REPRODUCCION",1,{"$f":"+IF('Hoja3 (2)'!$C27=1,'Hoja3 (2)'!$B27,\"No\")","v":"DAÑO AL MEDIO AMBIENTE SANO CAUSADO POR LA DESTRUCCION DE HABITAT NATURAL DE REPRODUCCION"},{"$f":"+'Hoja3 (2)'!$C27&'Hoja3 (2)'!$B27","v":"1DAÑO AL MEDIO AMBIENTE SANO CAUSADO POR LA DESTRUCCION DE HABITAT NATURAL DE REPRODUCCION"},{"$f":"IFERROR(FIND(UPPER('Causas anteriores'!$D$4),D27),0)","v":0},{"$f":"+IF('Hoja3 (2)'!$F27=0,0,1)","v":0},{"$f":"+H26+'Hoja3 (2)'!$G27","v":0},{"$f":"+'Hoja3 (2)'!$H27*'Hoja3 (2)'!$G27","v":0},"ESTABA INACTIVA","Inactiva",null,null,"INACTIVA"," "]
[{"$f":"+'Hoja3 (2)'!$I28","v":0},"DAÑO AUTO INFLIGIDO DE CONSCRIPTO",1,{"$f":"+IF('Hoja3 (2)'!$C28=1,'Hoja3 (2)'!$B28,\"No\")","v":"DAÑO AUTO INFLIGIDO DE CONSCRIPTO"},{"$f":"+'Hoja3 (2)'!$C28&'Hoja3 (2)'!$B28","v":"1DAÑO AUTO INFLIGIDO DE CONSCRIPTO"},{"$f":"IFERROR(FIND(UPPER('Causas anteriores'!$D$4),D28),0)","v":0},{"$f":"+IF('Hoja3 (2)'!$F28=0,0,1)","v":0},{"$f":"+H27+'Hoja3 (2)'!$G28","v":0},{"$f":"+'Hoja3 (2)'!$H28*'Hoja3 (2)'!$G28","v":0},"INACTIVAR PARA DESAGREGAR","Inactiva",null,null,"ACTIVA"," "]
[{"$f":"+'Hoja3 (2)'!$I29","v":0},"DAÑO AUTO INFLIGIDO DE CONSCRIPTO",2,{"$f":"+IF('Hoja3 (2)'!$C29=1,'Hoja3 (2)'!$B29,\"No\")","v":"No"},{"$f":"+'Hoja3 (2)'!$C29&'Hoja3 (2)'!$B29","v":"2DAÑO AUTO INFLIGIDO DE CONSCRIPTO"},{"$f":"IFERROR(FIND(UPPER('Causas anteriores'!$D$4),D29),0)","v":0},{"$f":"+IF('Hoja3 (2)'!$F29=0,0,1)","v":0},{"$f":"+H28+'Hoja3 (2)'!$G29","v":0},{"$f":"+'Hoja3 (2)'!$H29*'Hoja3 (2)'!$G29","v":0},"CREAR","Activa","LESION AUTO INFLIGIDA DE CONSCRIPTO",null,null," "]
[{"$f":"+'Hoja3 (2)'!$I30","v":0},"DAÑO AUTO INFLIGIDO DE CONSCRIPTO",3,{"$f":"+IF('Hoja3 (2)'!$C30=1,'Hoja3 (2)'!$B30,\"No\")","v":"No"},{"$f":"+'Hoja3 (2)'!$C30&'Hoja3 (2)'!$B30","v":"3DAÑO AUTO INFLIGIDO DE CONSCRIPTO"},{"$f":"IFERROR(FIND(UPPER('Causas anteriores'!$D$4),D30),0)","v":0},{"$f":"+IF('Hoja3 (2)'!$F30=0,0,1)","v":0},{"$f":"+H29+'Hoja3 (2)'!$G30","v":0},{"$f":"+'Hoja3 (2)'!$H30*'Hoja3 (2)'!$G30","v":0},"CREAR","Activa","MUERTE AUTO INFLIGIDA DE CONSCRIPTO",null,null," "]
[{"$f":"+'Hoja3 (2)'!$I31","v":0},"DAÑO AUTO INFLIGIDO DE MIEMBRO VOLUNTARIO DE LA FUERZA PUBLICA",1,{"$f":"+IF('Hoja3 (2)'!$C31=1,'Hoja3 (2)'!$B31,\"No\")","v":"DAÑO AUTO INFLIGIDO DE MIEMBRO VOLUNTARIO DE LA FUERZA PUBLICA"},{"$f":"+'Hoja3 (2)'!$C31&'Hoja3 (2)'!$B31","v":"1DAÑO AUTO INFLIGIDO DE MIEMBRO VOLUNTARIO DE LA FUERZA PUBLICA"},{"$f":"IFERROR(FIND(UPPER('Causas anteriores'!$D$4),D31),0)","v":0},{"$f":"+IF('Hoja3 (2)'!$F31=0,0,1)","v":0},{"$f":"+H30+'Hoja3 (2)'!$G31","v":0},{"$f":"+'Hoja3 (2)'!$H31*'Hoja3 (2)'!$G31","v":0},"INACTIVAR PARA DESAGREGAR","Inactiva",null,null,"ACTIVA"," "]
[{"$f":"+'Hoja3 (2)'!$I32","v":0},"DAÑO AUTO INFLIGIDO DE MIEMBRO VOLUNTARIO DE LA FUERZA PUBLICA",2,{"$f":"+IF('Hoja3 (2)'!$C32=1,'Hoja3 (2)'!$B32,\"No\")","v":"No"},{"$f":"+'Hoja3 (2)'!$C32&'Hoja3 (2)'!$B32","v":"2DAÑO AUTO INFLIGIDO DE MIEMBRO VOLUNTARIO DE LA FUERZA PUBLICA"},{"$f":"IFERROR(FIND(UPPER('Causas anteriores'!$D$4),D32),0)","v":0},{"$f":"+IF('Hoja3 (2)'!$F32=0,0,1)","v":0},{"$f":"+H31+'Hoja3 (2)'!$G32","v":0},{"$f":"+'Hoja3 (2)'!$H32*'Hoja3 (2)'!$G32","v":0},"CREAR","Activa","LESION AUTO INFLIGIDA DE MIEMBRO VOLUNTARIO DE LA FUERZA PUBLICA",null,null," "]
[{"$f":"+'Hoja3 (2)'!$I33","v":0},"DAÑO AUTO INFLIGIDO DE MIEMBRO VOLUNTARIO DE LA FUERZA PUBLICA",3,{"$f":"+IF('Hoja3 (2)'!$C33=1,'Hoja3 (2)'!$B33,\"No\")","v":"No"},{"$f":"+'Hoja3 (2)'!$C33&'Hoja3 (2)'!$B33","v":"3DAÑO AUTO INFLIGIDO DE MIEMBRO VOLUNTARIO DE LA FUERZA PUBLICA"},{"$f":"IFERROR(FIND(UPPER('Causas anteriores'!$D$4),D33),0)","v":0},{"$f":"+IF('Hoja3 (2)'!$F33=0,0,1)","v":0},{"$f":"+H32+'Hoja3 (2)'!$G33","v":0},{"$f":"+'Hoja3 (2)'!$H33*'Hoja3 (2)'!$G33","v":0},"CREAR","Activa","MUERTE AUTO INFLIGIDA DE MIEMBRO VOLUNTARIO DE LA FUERZA PUBLICA",null,null," "]
[{"$f":"+'Hoja3 (2)'!$I34","v":0},"DAÑO CAUSADO POR ALUD DE TIERRA",1,{"$f":"+IF('Hoja3 (2)'!$C34=1,'Hoja3 (2)'!$B34,\"No\")","v":"DAÑO CAUSADO POR ALUD DE TIERRA"},{"$f":"+'Hoja3 (2)'!$C34&'Hoja3 (2)'!$B34","v":"1DAÑO CAUSADO POR ALUD DE TIERRA"},{"$f":"IFERROR(FIND(UPPER('Causas anteriores'!$D$4),D34),0)","v":0},{"$f":"+IF('Hoja3 (2)'!$F34=0,0,1)","v":0},{"$f":"+H33+'Hoja3 (2)'!$G34","v":0},{"$f":"+'Hoja3 (2)'!$H34*'Hoja3 (2)'!$G34","v":0},"INACTIVAR PARA DESAGREGAR","Inactiva",null,null,"ACTIVA"," "]
[{"$f":"+'Hoja3 (2)'!$I35","v":0},"DAÑO CAUSADO POR ALUD DE TIERRA",2,{"$f":"+IF('Hoja3 (2)'!$C35=1,'Hoja3 (2)'!$B35,\"No\")","v":"No"},{"$f":"+'Hoja3 (2)'!$C35&'Hoja3 (2)'!$B35","v":"2DAÑO CAUSADO POR ALUD DE TIERRA"},{"$f":"IFERROR(FIND(UPPER('Causas anteriores'!$D$4),D35),0)","v":0},{"$f":"+IF('Hoja3 (2)'!$F35=0,0,1)","v":0},{"$f":"+H34+'Hoja3 (2)'!$G35","v":0},{"$f":"+'Hoja3 (2)'!$H35*'Hoja3 (2)'!$G35","v":0},"CREAR","Activa","LESION POR ALUD DE TIERRA",null,null," "]
[{"$f":"+'Hoja3 (2)'!$I36","v":0},"DAÑO CAUSADO POR ALUD DE TIERRA",3,{"$f":"+IF('Hoja3 (2)'!$C36=1,'Hoja3 (2)'!$B36,\"No\")","v":"No"},{"$f":"+'Hoja3 (2)'!$C36&'Hoja3 (2)'!$B36","v":"3DAÑO CAUSADO POR ALUD DE TIERRA"},{"$f":"IFERROR(FIND(UPPER('Causas anteriores'!$D$4),D36),0)","v":0},{"$f":"+IF('Hoja3 (2)'!$F36=0,0,1)","v":0},{"$f":"+H35+'Hoja3 (2)'!$G36","v":0},{"$f":"+'Hoja3 (2)'!$H36*'Hoja3 (2)'!$G36","v":0},"CREAR","Activa","MUERTE POR ALUD DE TIERRA",null,null," "]
[{"$f":"+'Hoja3 (2)'!$I37","v":0},"DAÑO CAUSADO POR ALUD DE TIERRA",4,{"$f":"+IF('Hoja3 (2)'!$C37=1,'Hoja3 (2)'!$B37,\"No\")","v":"No"},{"$f":"+'Hoja3 (2)'!$C37&'Hoja3 (2)'!$B37","v":"4DAÑO CAUSADO POR ALUD DE TIERRA"},{"$f":"IFERROR(FIND(UPPER('Causas anteriores'!$D$4),D37),0)","v":0},{"$f":"+IF('Hoja3 (2)'!$F37=0,0,1)","v":0},{"$f":"+H36+'Hoja3 (2)'!$G37","v":0},{"$f":"+'Hoja3 (2)'!$H37*'Hoja3 (2)'!$G37","v":0},"CREAR","Activa","DAÑOS A BIENES POR ALUD DE TIERRA",null,null," "]
[{"$f":"+'Hoja3 (2)'!$I38","v":0},"DAÑO EN ESTABLECIMIENTO EDUCATIVO",1,{"$f":"+IF('Hoja3 (2)'!$C38=1,'Hoja3 (2)'!$B38,\"No\")","v":"DAÑO EN ESTABLECIMIENTO EDUCATIVO"},{"$f":"+'Hoja3 (2)'!$C38&'Hoja3 (2)'!$B38","v":"1DAÑO EN ESTABLECIMIENTO EDUCATIVO"},{"$f":"IFERROR(FIND(UPPER('Causas anteriores'!$D$4),D38),0)","v":0},{"$f":"+IF('Hoja3 (2)'!$F38=0,0,1)","v":0},{"$f":"+H37+'Hoja3 (2)'!$G38","v":0},{"$f":"+'Hoja3 (2)'!$H38*'Hoja3 (2)'!$G38","v":0},"INACTIVAR PARA DESAGREGAR","Inactiva",null,null,"ACTIVA"," "]
[{"$f":"+'Hoja3 (2)'!$I39","v":0},"DAÑO EN ESTABLECIMIENTO EDUCATIVO",2,{"$f":"+IF('Hoja3 (2)'!$C39=1,'Hoja3 (2)'!$B39,\"No\")","v":"No"},{"$f":"+'Hoja3 (2)'!$C39&'Hoja3 (2)'!$B39","v":"2DAÑO EN ESTABLECIMIENTO EDUCATIVO"},{"$f":"IFERROR(FIND(UPPER('Causas anteriores'!$D$4),D39),0)","v":0},{"$f":"+IF('Hoja3 (2)'!$F39=0,0,1)","v":0},{"$f":"+H38+'Hoja3 (2)'!$G39","v":0},{"$f":"+'Hoja3 (2)'!$H39*'Hoja3 (2)'!$G39","v":0},"CREAR","Activa","LESION A ALUMNO EN ESTABLECIMIENTO EDUCATIVO",null,null," "]
[{"$f":"+'Hoja3 (2)'!$I40","v":0},"DAÑO EN ESTABLECIMIENTO EDUCATIVO",3,{"$f":"+IF('Hoja3 (2)'!$C40=1,'Hoja3 (2)'!$B40,\"No\")","v":"No"},{"$f":"+'Hoja3 (2)'!$C40&'Hoja3 (2)'!$B40","v":"3DAÑO EN ESTABLECIMIENTO EDUCATIVO"},{"$f":"IFERROR(FIND(UPPER('Causas anteriores'!$D$4),D40),0)","v":0},{"$f":"+IF('Hoja3 (2)'!$F40=0,0,1)","v":0},{"$f":"+H39+'Hoja3 (2)'!$G40","v":0},{"$f":"+'Hoja3 (2)'!$H40*'Hoja3 (2)'!$G40","v":0},"CREAR","Activa","MUERTE DE ALUMNO EN ESTABLECIMIENTO EDUCATIVO",null,null," "]
[{"$f":"+'Hoja3 (2)'!$I41","v":0},"DAÑO EN ESTABLECIMIENTO EDUCATIVO",4,{"$f":"+IF('Hoja3 (2)'!$C41=1,'Hoja3 (2)'!$B41,\"No\")","v":"No"},{"$f":"+'Hoja3 (2)'!$C41&'Hoja3 (2)'!$B41","v":"4DAÑO EN ESTABLECIMIENTO EDUCATIVO"},{"$f":"IFERROR(FIND(UPPER('Causas anteriores'!$D$4),D41),0)","v":0},{"$f":"+IF('Hoja3 (2)'!$F41=0,0,1)","v":0},{"$f":"+H40+'Hoja3 (2)'!$G41","v":0},{"$f":"+'Hoja3 (2)'!$H41*'Hoja3 (2)'!$G41","v":0},"CREAR","Activa","LESION A PERSONAL DOCENTE O ADMINISTRATIVO EN ESTABLECIMIENTO EDUCATIVO",null,null," "]
[{"$f":"+'Hoja3 (2)'!$I42","v":0},"DAÑO EN ESTABLECIMIENTO EDUCATIVO",5,{"$f":"+IF('Hoja3 (2)'!$C42=1,'Hoja3 (2)'!$B42,\"No\")","v":"No"},{"$f":"+'Hoja3 (2)'!$C42&'Hoja3 (2)'!$B42","v":"5DAÑO EN ESTABLECIMIENTO EDUCATIVO"},{"$f":"IFERROR(FIND(UPPER('Causas anteriores'!$D$4),D42),0)","v":0},{"$f":"+IF('Hoja3 (2)'!$F42=0,0,1)","v":0},{"$f":"+H41+'Hoja3 (2)'!$G42","v":0},{"$f":"+'Hoja3 (2)'!$H42*'Hoja3 (2)'!$G42","v":0},"CREAR","Activa","MUERTE DE PERSONAL DOCENTE O ADMINISTRATIVO EN ESTABLECIMIENTO EDUCATIVO",null,null," "]
[{"$f":"+'Hoja3 (2)'!$I43","v":0},"DAÑO EN ESTABLECIMIENTO EDUCATIVO",6,{"$f":"+IF('Hoja3 (2)'!$C43=1,'Hoja3 (2)'!$B43,\"No\")","v":"No"},{"$f":"+'Hoja3 (2)'!$C43&'Hoja3 (2)'!$B43","v":"6DAÑO EN ESTABLECIMIENTO EDUCATIVO"},{"$f":"IFERROR(FIND(UPPER('Causas anteriores'!$D$4),D43),0)","v":0},{"$f":"+IF('Hoja3 (2)'!$F43=0,0,1)","v":0},{"$f":"+H42+'Hoja3 (2)'!$G43","v":0},{"$f":"+'Hoja3 (2)'!$H43*'Hoja3 (2)'!$G43","v":0},"CREAR","Activa","DAÑOS A BIENES EN ESTABLECIMIENTO EDUCATIVO",null,null," "]
[{"$f":"+'Hoja3 (2)'!$I44","v":0},"DAÑO ESPECIAL POR EXPEDICION DE LEY CONSTITUCIONAL Y/O ACTO ADMINISTRATIVO LICITO",1,{"$f":"+IF('Hoja3 (2)'!$C44=1,'Hoja3 (2)'!$B44,\"No\")","v":"DAÑO ESPECIAL POR EXPEDICION DE LEY CONSTITUCIONAL Y/O ACTO ADMINISTRATIVO LICITO"},{"$f":"+'Hoja3 (2)'!$C44&'Hoja3 (2)'!$B44","v":"1DAÑO ESPECIAL POR EXPEDICION DE LEY CONSTITUCIONAL Y/O ACTO ADMINISTRATIVO LICITO"},{"$f":"IFERROR(FIND(UPPER('Causas anteriores'!$D$4),D44),0)","v":0},{"$f":"+IF('Hoja3 (2)'!$F44=0,0,1)","v":0},{"$f":"+H43+'Hoja3 (2)'!$G44","v":0},{"$f":"+'Hoja3 (2)'!$H44*'Hoja3 (2)'!$G44","v":0},"INACTIVAR PARA DESAGREGAR","Inactiva",null,null,"ACTIVA"," "]
[{"$f":"+'Hoja3 (2)'!$I45","v":0},"DAÑO ESPECIAL POR EXPEDICION DE LEY CONSTITUCIONAL Y/O ACTO ADMINISTRATIVO LICITO",2,{"$f":"+IF('Hoja3 (2)'!$C45=1,'Hoja3 (2)'!$B45,\"No\")","v":"No"},{"$f":"+'Hoja3 (2)'!$C45&'Hoja3 (2)'!$B45","v":"2DAÑO ESPECIAL POR EXPEDICION DE LEY CONSTITUCIONAL Y/O ACTO ADMINISTRATIVO LICITO"},{"$f":"IFERROR(FIND(UPPER('Causas anteriores'!$D$4),D45),0)","v":0},{"$f":"+IF('Hoja3 (2)'!$F45=0,0,1)","v":0},{"$f":"+H44+'Hoja3 (2)'!$G45","v":0},{"$f":"+'Hoja3 (2)'!$H45*'Hoja3 (2)'!$G45","v":0},"CREAR","Activa","DAÑOS DERIVADOS DE LA ACTIVIDAD LEGISLATIVA",null,null," "]
[{"$f":"+'Hoja3 (2)'!$I46","v":0},"DAÑO ESPECIAL POR EXPEDICION DE LEY CONSTITUCIONAL Y/O ACTO ADMINISTRATIVO LICITO",3,{"$f":"+IF('Hoja3 (2)'!$C46=1,'Hoja3 (2)'!$B46,\"No\")","v":"No"},{"$f":"+'Hoja3 (2)'!$C46&'Hoja3 (2)'!$B46","v":"3DAÑO ESPECIAL POR EXPEDICION DE LEY CONSTITUCIONAL Y/O ACTO ADMINISTRATIVO LICITO"},{"$f":"IFERROR(FIND(UPPER('Causas anteriores'!$D$4),D46),0)","v":0},{"$f":"+IF('Hoja3 (2)'!$F46=0,0,1)","v":0},{"$f":"+H45+'Hoja3 (2)'!$G46","v":0},{"$f":"+'Hoja3 (2)'!$H46*'Hoja3 (2)'!$G46","v":0},"CREAR","Activa","DAÑOS DERIVADOS DE ACTO ADMINISTRATIVO LICITO",null,null," "]
[{"$f":"+'Hoja3 (2)'!$I47","v":0},"DAÑO O AMENAZA AMBIENTAL POR ACTIVIDAD AGROPECUARIA",1,{"$f":"+IF('Hoja3 (2)'!$C47=1,'Hoja3 (2)'!$B47,\"No\")","v":"DAÑO O AMENAZA AMBIENTAL POR ACTIVIDAD AGROPECUARIA"},{"$f":"+'Hoja3 (2)'!$C47&'Hoja3 (2)'!$B47","v":"1DAÑO O AMENAZA AMBIENTAL POR ACTIVIDAD AGROPECUARIA"},{"$f":"IFERROR(FIND(UPPER('Causas anteriores'!$D$4),D47),0)","v":0},{"$f":"+IF('Hoja3 (2)'!$F47=0,0,1)","v":0},{"$f":"+H46+'Hoja3 (2)'!$G47","v":0},{"$f":"+'Hoja3 (2)'!$H47*'Hoja3 (2)'!$G47","v":0},"MANTENER/AJUSTAR TEXTO","Activa","DAÑO O AMENAZA AMBIENTAL POR ACTIVIDAD AGROPECUARIA",null,"ACTIVA"," "]
[{"$f":"+'Hoja3 (2)'!$I48","v":0},"DAÑO O AMENAZA AMBIENTAL POR ACTIVIDAD INDUSTRIAL",1,{"$f":"+IF('Hoja3 (2)'!$C48=1,'Hoja3 (2)'!$B48,\"No\")","v":"DAÑO O AMENAZA AMBIENTAL POR ACTIVIDAD INDUSTRIAL"},{"$f":"+'Hoja3 (2)'!$C48&'Hoja3 (2)'!$B48","v":"1DAÑO O AMENAZA AMBIENTAL POR ACTIVIDAD INDUSTRIAL"},{"$f":"IFERROR(FIND(UPPER('Causas anteriores'!$D$4),D48),0)","v":0},{"$f":"+IF('Hoja3 (2)'!$F48=0,0,1)","v":0},{"$f":"+H47+'Hoja3 (2)'!$G48","v":0},{"$f":"+'Hoja3 (2)'!$H48*'Hoja3 (2)'!$G48","v":0},"MANTENER/AJUSTAR TEXTO","Activa","DAÑO O AMENAZA AMBIENTAL POR ACTIVIDAD INDUSTRIAL",null,"ACTIVA"," "]
[{"$f":"+'Hoja3 (2)'!$I49","v":0},"DAÑO O AMENAZA AMBIENTAL POR ACTIVIDAD MINERA",1,{"$f":"+IF('Hoja3 (2)'!$C49=1,'Hoja3 (2)'!$B49,\"No\")","v":"DAÑO O AMENAZA AMBIENTAL POR ACTIVIDAD MINERA"},{"$f":"+'Hoja3 (2)'!$C49&'Hoja3 (2)'!$B49","v":"1DAÑO O AMENAZA AMBIENTAL POR ACTIVIDAD MINERA"},{"$f":"IFERROR(FIND(UPPER('Causas anteriores'!$D$4),D49),0)","v":0},{"$f":"+IF('Hoja3 (2)'!$F49=0,0,1)","v":0},{"$f":"+H48+'Hoja3 (2)'!$G49","v":0},{"$f":"+'Hoja3 (2)'!$H49*'Hoja3 (2)'!$G49","v":0},"MANTENER/AJUSTAR TEXTO","Activa","DAÑO O AMENAZA AMBIENTAL POR ACTIVIDAD MINERA",null,"ACTIVA"," "]
[{"$f":"+'Hoja3 (2)'!$I50","v":0},"DAÑO O AMENAZA AMBIENTAL POR ACTO TERRORISTA",1,{"$f":"+IF('Hoja3 (2)'!$C50=1,'Hoja3 (2)'!$B50,\"No\")","v":"DAÑO O AMENAZA AMBIENTAL POR ACTO TERRORISTA"},{"$f":"+'Hoja3 (2)'!$C50&'Hoja3 (2)'!$B50","v":"1DAÑO O AMENAZA AMBIENTAL POR ACTO TERRORISTA"},{"$f":"IFERROR(FIND(UPPER('Causas anteriores'!$D$4),D50),0)","v":0},{"$f":"+IF('Hoja3 (2)'!$F50=0,0,1)","v":0},{"$f":"+H49+'Hoja3 (2)'!$G50","v":0},{"$f":"+'Hoja3 (2)'!$H50*'Hoja3 (2)'!$G50","v":0},"MANTENER/AJUSTAR TEXTO","Activa","DAÑO O AMENAZA AMBIENTAL POR ACTO TERRORISTA",null,"ACTIVA"," "]
[{"$f":"+'Hoja3 (2)'!$I51","v":0},"DAÑO O AMENAZA AMBIENTAL POR CONTAMINACION AUDITIVA",1,{"$f":"+IF('Hoja3 (2)'!$C51=1,'Hoja3 (2)'!$B51,\"No\")","v":"DAÑO O AMENAZA AMBIENTAL POR CONTAMINACION AUDITIVA"},{"$f":"+'Hoja3 (2)'!$C51&'Hoja3 (2)'!$B51","v":"1DAÑO O AMENAZA AMBIENTAL POR CONTAMINACION AUDITIVA"},{"$f":"IFERROR(FIND(UPPER('Causas anteriores'!$D$4),D51),0)","v":0},{"$f":"+IF('Hoja3 (2)'!$F51=0,0,1)","v":0},{"$f":"+H50+'Hoja3 (2)'!$G51","v":0},{"$f":"+'Hoja3 (2)'!$H51*'Hoja3 (2)'!$G51","v":0},"MANTENER/AJUSTAR TEXTO","Activa","DAÑO O AMENAZA AMBIENTAL POR CONTAMINACION AUDITIVA",null,"ACTIVA"," "]
[{"$f":"+'Hoja3 (2)'!$I52","v":0},"DAÑO O AMENAZA AMBIENTAL POR CONTAMINACION POR OLORES",1,{"$f":"+IF('Hoja3 (2)'!$C52=1,'Hoja3 (2)'!$B52,\"No\")","v":"DAÑO O AMENAZA AMBIENTAL POR CONTAMINACION POR OLORES"},{"$f":"+'Hoja3 (2)'!$C52&'Hoja3 (2)'!$B52","v":"1DAÑO O AMENAZA AMBIENTAL POR CONTAMINACION POR OLORES"},{"$f":"IFERROR(FIND(UPPER('Causas anteriores'!$D$4),D52),0)","v":0},{"$f":"+IF('Hoja3 (2)'!$F52=0,0,1)","v":0},{"$f":"+H51+'Hoja3 (2)'!$G52","v":0},{"$f":"+'Hoja3 (2)'!$H52*'Hoja3 (2)'!$G52","v":0},"MANTENER/AJUSTAR TEXTO","Activa","DAÑO O AMENAZA AMBIENTAL POR CONTAMINACION POR OLORES",null,"ACTIVA"," "]
[{"$f":"+'Hoja3 (2)'!$I53","v":0},"DAÑO O AMENAZA AMBIENTAL POR DERRAME DE HIDROCARBUROS",1,{"$f":"+IF('Hoja3 (2)'!$C53=1,'Hoja3 (2)'!$B53,\"No\")","v":"DAÑO O AMENAZA AMBIENTAL POR DERRAME DE HIDROCARBUROS"},{"$f":"+'Hoja3 (2)'!$C53&'Hoja3 (2)'!$B53","v":"1DAÑO O AMENAZA AMBIENTAL POR DERRAME DE HIDROCARBUROS"},{"$f":"IFERROR(FIND(UPPER('Causas anteriores'!$D$4),D53),0)","v":0},{"$f":"+IF('Hoja3 (2)'!$F53=0,0,1)","v":0},{"$f":"+H52+'Hoja3 (2)'!$G53","v":0},{"$f":"+'Hoja3 (2)'!$H53*'Hoja3 (2)'!$G53","v":0},"MANTENER/AJUSTAR TEXTO","Activa","DAÑO O AMENAZA AMBIENTAL POR ACTIVIDAD DEL SECTOR DE HIDROCARBUROS",null,"ACTIVA"," "]
[{"$f":"+'Hoja3 (2)'!$I54","v":0},"DAÑO O AMENAZA AMBIENTAL POR DESVIACION DEL CAUCE DE UN RIO",1,{"$f":"+IF('Hoja3 (2)'!$C54=1,'Hoja3 (2)'!$B54,\"No\")","v":"DAÑO O AMENAZA AMBIENTAL POR DESVIACION DEL CAUCE DE UN RIO"},{"$f":"+'Hoja3 (2)'!$C54&'Hoja3 (2)'!$B54","v":"1DAÑO O AMENAZA AMBIENTAL POR DESVIACION DEL CAUCE DE UN RIO"},{"$f":"IFERROR(FIND(UPPER('Causas anteriores'!$D$4),D54),0)","v":0},{"$f":"+IF('Hoja3 (2)'!$F54=0,0,1)","v":0},{"$f":"+H53+'Hoja3 (2)'!$G54","v":0},{"$f":"+'Hoja3 (2)'!$H54*'Hoja3 (2)'!$G54","v":0},"MANTENER/AJUSTAR TEXTO","Activa","DAÑO O AMENAZA AMBIENTAL POR DESVIACION DEL CAUCE DE UN RIO",null,"ACTIVA"," "]
[{"$f":"+'Hoja3 (2)'!$I55","v":0},"DAÑO O AMENAZA AMBIENTAL POR DISPOSICION FINAL DE RESIDUOS NUCLEARES",1,{"$f":"+IF('Hoja3 (2)'!$C55=1,'Hoja3 (2)'!$B55,\"No\")","v":"DAÑO O AMENAZA AMBIENTAL POR DISPOSICION FINAL DE RESIDUOS NUCLEARES"},{"$f":"+'Hoja3 (2)'!$C55&'Hoja3 (2)'!$B55","v":"1DAÑO O AMENAZA AMBIENTAL POR DISPOSICION FINAL DE RESIDUOS NUCLEARES"},{"$f":"IFERROR(FIND(UPPER('Causas anteriores'!$D$4),D55),0)","v":0},{"$f":"+IF('Hoja3 (2)'!$F55=0,0,1)","v":0},{"$f":"+H54+'Hoja3 (2)'!$G55","v":0},{"$f":"+'Hoja3 (2)'!$H55*'Hoja3 (2)'!$G55","v":0},"MANTENER/AJUSTAR TEXTO","Activa","DAÑO O AMENAZA AMBIENTAL POR DISPOSICION FINAL DE RESIDUOS NUCLEARES",null,"ACTIVA"," "]
[{"$f":"+'Hoja3 (2)'!$I56","v":0},"DAÑO O AMENAZA AMBIENTAL POR DISPOSICION FINAL DE RESIDUOS SOLIDOS",1,{"$f":"+IF('Hoja3 (2)'!$C56=1,'Hoja3 (2)'!$B56,\"No\")","v":"DAÑO O AMENAZA AMBIENTAL POR DISPOSICION FINAL DE RESIDUOS SOLIDOS"},{"$f":"+'Hoja3 (2)'!$C56&'Hoja3 (2)'!$B56","v":"1DAÑO O AMENAZA AMBIENTAL POR DISPOSICION FINAL DE RESIDUOS SOLIDOS"},{"$f":"IFERROR(FIND(UPPER('Causas anteriores'!$D$4),D56),0)","v":0},{"$f":"+IF('Hoja3 (2)'!$F56=0,0,1)","v":0},{"$f":"+H55+'Hoja3 (2)'!$G56","v":0},{"$f":"+'Hoja3 (2)'!$H56*'Hoja3 (2)'!$G56","v":0},"MANTENER/AJUSTAR TEXTO","Activa","DAÑO O AMENAZA AMBIENTAL POR DISPOSICION FINAL DE RESIDUOS SOLIDOS",null,"ACTIVA"," "]
[{"$f":"+'Hoja3 (2)'!$I57","v":0},"DAÑO O AMENAZA AMBIENTAL POR EJECUCION DE OBRA PUBLICA",1,{"$f":"+IF('Hoja3 (2)'!$C57=1,'Hoja3 (2)'!$B57,\"No\")","v":"DAÑO O AMENAZA AMBIENTAL POR EJECUCION DE OBRA PUBLICA"},{"$f":"+'Hoja3 (2)'!$C57&'Hoja3 (2)'!$B57","v":"1DAÑO O AMENAZA AMBIENTAL POR EJECUCION DE OBRA PUBLICA"},{"$f":"IFERROR(FIND(UPPER('Causas anteriores'!$D$4),D57),0)","v":0},{"$f":"+IF('Hoja3 (2)'!$F57=0,0,1)","v":0},{"$f":"+H56+'Hoja3 (2)'!$G57","v":0},{"$f":"+'Hoja3 (2)'!$H57*'Hoja3 (2)'!$G57","v":0},"MANTENER/AJUSTAR TEXTO","Activa","DAÑO O AMENAZA AMBIENTAL POR EJECUCION DE OBRA PUBLICA",null,"ACTIVA"," "]
[{"$f":"+'Hoja3 (2)'!$I58","v":0},"DAÑO O AMENAZA AMBIENTAL POR EMISION DE GASES DE COMBUSTION",1,{"$f":"+IF('Hoja3 (2)'!$C58=1,'Hoja3 (2)'!$B58,\"No\")","v":"DAÑO O AMENAZA AMBIENTAL POR EMISION DE GASES DE COMBUSTION"},{"$f":"+'Hoja3 (2)'!$C58&'Hoja3 (2)'!$B58","v":"1DAÑO O AMENAZA AMBIENTAL POR EMISION DE GASES DE COMBUSTION"},{"$f":"IFERROR(FIND(UPPER('Causas anteriores'!$D$4),D58),0)","v":0},{"$f":"+IF('Hoja3 (2)'!$F58=0,0,1)","v":0},{"$f":"+H57+'Hoja3 (2)'!$G58","v":0},{"$f":"+'Hoja3 (2)'!$H58*'Hoja3 (2)'!$G58","v":0},"INACTIVAR EN NUEVA MATRIZ","Inactiva",null,null,"ACTIVA"," "]
[{"$f":"+'Hoja3 (2)'!$I59","v":0},"DAÑO O AMENAZA AMBIENTAL POR ERRADICACION DE CULTIVOS ILICITOS",1,{"$f":"+IF('Hoja3 (2)'!$C59=1,'Hoja3 (2)'!$B59,\"No\")","v":"DAÑO O AMENAZA AMBIENTAL POR ERRADICACION DE CULTIVOS ILICITOS"},{"$f":"+'Hoja3 (2)'!$C59&'Hoja3 (2)'!$B59","v":"1DAÑO O AMENAZA AMBIENTAL POR ERRADICACION DE CULTIVOS ILICITOS"},{"$f":"IFERROR(FIND(UPPER('Causas anteriores'!$D$4),D59),0)","v":0},{"$f":"+IF('Hoja3 (2)'!$F59=0,0,1)","v":0},{"$f":"+H58+'Hoja3 (2)'!$G59","v":0},{"$f":"+'Hoja3 (2)'!$H59*'Hoja3 (2)'!$G59","v":0},"MANTENER/AJUSTAR TEXTO","Activa","DAÑO O AMENAZA AMBIENTAL POR ERRADICACION DE CULTIVOS ILICITOS",null,"ACTIVA"," "]
[{"$f":"+'Hoja3 (2)'!$I60","v":0},"DAÑO O AMENAZA AMBIENTAL POR INCENDIO FORESTAL",1,{"$f":"+IF('Hoja3 (2)'!$C60=1,'Hoja3 (2)'!$B60,\"No\")","v":"DAÑO O AMENAZA AMBIENTAL POR INCENDIO FORESTAL"},{"$f":"+'Hoja3 (2)'!$C60&'Hoja3 (2)'!$B60","v":"1DAÑO O AMENAZA AMBIENTAL POR INCENDIO FORESTAL"},{"$f":"IFERROR(FIND(UPPER('Causas anteriores'!$D$4),D60),0)","v":0},{"$f":"+IF('Hoja3 (2)'!$F60=0,0,1)","v":0},{"$f":"+H59+'Hoja3 (2)'!$G60","v":0},{"$f":"+'Hoja3 (2)'!$H60*'Hoja3 (2)'!$G60","v":0},"MANTENER/AJUSTAR TEXTO","Activa","DAÑO O AMENAZA AMBIENTAL POR INCENDIO FORESTAL",null,"ACTIVA"," "]
[{"$f":"+'Hoja3 (2)'!$I61","v":0},"DAÑO O AMENAZA AMBIENTAL POR INDEBIDA DISPOSICION DE DESECHOS HOSPITALARIOS",1,{"$f":"+IF('Hoja3 (2)'!$C61=1,'Hoja3 (2)'!$B61,\"No\")","v":"DAÑO O AMENAZA AMBIENTAL POR INDEBIDA DISPOSICION DE DESECHOS HOSPITALARIOS"},{"$f":"+'Hoja3 (2)'!$C61&'Hoja3 (2)'!$B61","v":"1DAÑO O AMENAZA AMBIENTAL POR INDEBIDA DISPOSICION DE DESECHOS HOSPITALARIOS"},{"$f":"IFERROR(FIND(UPPER('Causas anteriores'!$D$4),D61),0)","v":0},{"$f":"+IF('Hoja3 (2)'!$F61=0,0,1)","v":0},{"$f":"+H60+'Hoja3 (2)'!$G61","v":0},{"$f":"+'Hoja3 (2)'!$H61*'Hoja3 (2)'!$G61","v":0},"MANTENER/AJUSTAR TEXTO","Activa","DAÑO O AMENAZA AMBIENTAL POR INDEBIDA DISPOSICION DE DESECHOS HOSPITALARIOS",null,"ACTIVA"," "]
[{"$f":"+'Hoja3 (2)'!$I62","v":0},"DAÑO O AMENAZA AMBIENTAL POR TALA MASIVA DE ARBOLES",1,{"$f":"+IF('Hoja3 (2)'!$C62=1,'Hoja3 (2)'!$B62,\"No\")","v":"DAÑO O AMENAZA AMBIENTAL POR TALA MASIVA DE ARBOLES"},{"$f":"+'Hoja3 (2)'!$C62&'Hoja3 (2)'!$B62","v":"1DAÑO O AMENAZA AMBIENTAL POR TALA MASIVA DE ARBOLES"},{"$f":"IFERROR(FIND(UPPER('Causas anteriores'!$D$4),D62),0)","v":0},{"$f":"+IF('Hoja3 (2)'!$F62=0,0,1)","v":0},{"$f":"+H61+'Hoja3 (2)'!$G62","v":0},{"$f":"+'Hoja3 (2)'!$H62*'Hoja3 (2)'!$G62","v":0},"MANTENER/AJUSTAR TEXTO","Activa","DAÑO O AMENAZA AMBIENTAL POR TALA MASIVA DE ARBOLES",null,"ACTIVA"," "]
[{"$f":"+'Hoja3 (2)'!$I63","v":0},"DAÑO O AMENAZA AMBIENTAL POR VERTIMIENTO DE CONTAMINANTES",1,{"$f":"+IF('Hoja3 (2)'!$C63=1,'Hoja3 (2)'!$B63,\"No\")","v":"DAÑO O AMENAZA AMBIENTAL POR VERTIMIENTO DE CONTAMINANTES"},{"$f":"+'Hoja3 (2)'!$C63&'Hoja3 (2)'!$B63","v":"1DAÑO O AMENAZA AMBIENTAL POR VERTIMIENTO DE CONTAMINANTES"},{"$f":"IFERROR(FIND(UPPER('Causas anteriores'!$D$4),D63),0)","v":0},{"$f":"+IF('Hoja3 (2)'!$F63=0,0,1)","v":0},{"$f":"+H62+'Hoja3 (2)'!$G63","v":0},{"$f":"+'Hoja3 (2)'!$H63*'Hoja3 (2)'!$G63","v":0},"MANTENER/AJUSTAR TEXTO","Activa","DAÑO O AMENAZA AMBIENTAL POR VERTIMIENTO DE CONTAMINANTES",null,"ACTIVA"," "]
[{"$f":"+'Hoja3 (2)'!$I64","v":0},"DAÑOS CAUSADOS A BIENES DE CIVIL POR GRUPO ARMADO ILEGAL",1,{"$f":"+IF('Hoja3 (2)'!$C64=1,'Hoja3 (2)'!$B64,\"No\")","v":"DAÑOS CAUSADOS A BIENES DE CIVIL POR GRUPO ARMADO ILEGAL"},{"$f":"+'Hoja3 (2)'!$C64&'Hoja3 (2)'!$B64","v":"1DAÑOS CAUSADOS A BIENES DE CIVIL POR GRUPO ARMADO ILEGAL"},{"$f":"IFERROR(FIND(UPPER('Causas anteriores'!$D$4),D64),0)","v":0},{"$f":"+IF('Hoja3 (2)'!$F64=0,0,1)","v":0},{"$f":"+H63+'Hoja3 (2)'!$G64","v":0},{"$f":"+'Hoja3 (2)'!$H64*'Hoja3 (2)'!$G64","v":0},"MANTENER/AJUSTAR TEXTO","Activa","DAÑOS CAUSADOS A BIENES POR GRUPO ARMADO ILEGAL",null,"ACTIVA"," "]
[{"$f":"+'Hoja3 (2)'!$I65","v":0},"DAÑOS CAUSADOS A BIENES EN OPERATIVO MILITAR Y/O COMBATE O ENFRENTAMIENTO",1,{"$f":"+IF('Hoja3 (2)'!$C65=1,'Hoja3 (2)'!$B65,\"No\")","v":"DAÑOS CAUSADOS A BIENES EN OPERATIVO MILITAR Y/O COMBATE O ENFRENTAMIENTO"},{"$f":"+'Hoja3 (2)'!$C65&'Hoja3 (2)'!$B65","v":"1DAÑOS CAUSADOS A BIENES EN OPERATIVO MILITAR Y/O COMBATE O ENFRENTAMIENTO"},{"$f":"IFERROR(FIND(UPPER('Causas anteriores'!$D$4),D65),0)","v":0},{"$f":"+IF('Hoja3 (2)'!$F65=0,0,1)","v":0},{"$f":"+H64+'Hoja3 (2)'!$G65","v":0},{"$f":"+'Hoja3 (2)'!$H65*'Hoja3 (2)'!$G65","v":0},"INACTIVAR PARA DESAGREGAR","Inactiva",null,null,"ACTIVA"," "]
[{"$f":"+'Hoja3 (2)'!$I66","v":0},"DAÑOS CAUSADOS A BIENES EN OPERATIVO MILITAR Y/O COMBATE O ENFRENTAMIENTO",2,{"$f":"+IF('Hoja3 (2)'!$C66=1,'Hoja3 (2)'!$B66,\"No\")","v":"No"},{"$f":"+'Hoja3 (2)'!$C66&'Hoja3 (2)'!$B66","v":"2DAÑOS CAUSADOS A BIENES EN OPERATIVO MILITAR Y/O COMBATE O ENFRENTAMIENTO"},{"$f":"IFERROR(FIND(UPPER('Causas anteriores'!$D$4),D66),0)","v":0},{"$f":"+IF('Hoja3 (2)'!$F66=0,0,1)","v":0},{"$f":"+H65+'Hoja3 (2)'!$G66","v":0},{"$f":"+'Hoja3 (2)'!$H66*'Hoja3 (2)'!$G66","v":0},"CREAR","Activa","DAÑOS A BIENES EN OPERATIVO MILITAR",null,null," "]
[{"$f":"+'Hoja3 (2)'!$I67","v":0},"DAÑOS CAUSADOS A BIENES EN OPERATIVO MILITAR Y/O COMBATE O ENFRENTAMIENTO",3,{"$f":"+IF('Hoja3 (2)'!$C67=1,'Hoja3 (2)'!$B67,\"No\")","v":"No"},{"$f":"+'Hoja3 (2)'!$C67&'Hoja3 (2)'!$B67","v":"3DAÑOS CAUSADOS A BIENES EN OPERATIVO MILITAR Y/O COMBATE O ENFRENTAMIENTO"},{"$f":"IFERROR(FIND(UPPER('Causas anteriores'!$D$4),D67),0)","v":0},{"$f":"+IF('Hoja3 (2)'!$F67=0,0,1)","v":0},{"$f":"+H66+'Hoja3 (2)'!$G67","v":0},{"$f":"+'Hoja3 (2)'!$H67*'Hoja3 (2)'!$G67","v":0},"CREAR","Activa","DAÑOS A BIENES EN COMBATE O ENFRENTAMIENTO",null,null," "]
[{"$f":"+'Hoja3 (2)'!$I68","v":0},"DAÑOS CAUSADOS A BIENES EN OPERATIVO MILITAR Y/O COMBATE O ENFRENTAMIENTO",4,{"$f":"+IF('Hoja3 (2)'!$C68=1,'Hoja3 (2)'!$B68,\"No\")","v":"No"},{"$f":"+'Hoja3 (2)'!$C68&'Hoja3 (2)'!$B68","v":"4DAÑOS CAUSADOS A BIENES EN OPERATIVO MILITAR Y/O COMBATE O ENFRENTAMIENTO"},{"$f":"IFERROR(FIND(UPPER('Causas anteriores'!$D$4),D68),0)","v":0},{"$f":"+IF('Hoja3 (2)'!$F68=0,0,1)","v":0},{"$f":"+H67+'Hoja3 (2)'!$G68","v":0},{"$f":"+'Hoja3 (2)'!$H68*'Hoja3 (2)'!$G68","v":0},"CREAR","Activa","DAÑOS A BIENES EN ENFRENTAMIENTO ENTRE TROPAS",null,null," "]
[{"$f":"+'Hoja3 (2)'!$I69","v":0},"DAÑOS CAUSADOS A BIENES EN PROCEDIMIENTO DE POLICIA",1,{"$f":"+IF('Hoja3 (2)'!$C69=1,'Hoja3 (2)'!$B69,\"No\")","v":"DAÑOS CAUSADOS A BIENES EN PROCEDIMIENTO DE POLICIA"},{"$f":"+'Hoja3 (2)'!$C69&'Hoja3 (2)'!$B69","v":"1DAÑOS CAUSADOS A BIENES EN PROCEDIMIENTO DE POLICIA"},{"$f":"IFERROR(FIND(UPPER('Causas anteriores'!$D$4),D69),0)","v":0},{"$f":"+IF('Hoja3 (2)'!$F69=0,0,1)","v":0},{"$f":"+H68+'Hoja3 (2)'!$G69","v":0},{"$f":"+'Hoja3 (2)'!$H69*'Hoja3 (2)'!$G69","v":0},"MANTENER/AJUSTAR TEXTO","Activa","DAÑOS CAUSADOS A BIENES EN PROCEDIMIENTO DE POLICIA",null,"ACTIVA"," "]
[{"$f":"+'Hoja3 (2)'!$I70","v":0},"DAÑOS CAUSADOS A BIENES POR ARMA DE DOTACION OFICIAL",1,{"$f":"+IF('Hoja3 (2)'!$C70=1,'Hoja3 (2)'!$B70,\"No\")","v":"DAÑOS CAUSADOS A BIENES POR ARMA DE DOTACION OFICIAL"},{"$f":"+'Hoja3 (2)'!$C70&'Hoja3 (2)'!$B70","v":"1DAÑOS CAUSADOS A BIENES POR ARMA DE DOTACION OFICIAL"},{"$f":"IFERROR(FIND(UPPER('Causas anteriores'!$D$4),D70),0)","v":0},{"$f":"+IF('Hoja3 (2)'!$F70=0,0,1)","v":0},{"$f":"+H69+'Hoja3 (2)'!$G70","v":0},{"$f":"+'Hoja3 (2)'!$H70*'Hoja3 (2)'!$G70","v":0},"MANTENER/AJUSTAR TEXTO","Activa","DAÑOS A BIENES CON ARMA DE DOTACION OFICIAL",null,"ACTIVA"," "]
[{"$f":"+'Hoja3 (2)'!$I71","v":0},"DAÑOS CAUSADOS A BIENES POR EJECUCION DE OBRA PUBLICA",1,{"$f":"+IF('Hoja3 (2)'!$C71=1,'Hoja3 (2)'!$B71,\"No\")","v":"DAÑOS CAUSADOS A BIENES POR EJECUCION DE OBRA PUBLICA"},{"$f":"+'Hoja3 (2)'!$C71&'Hoja3 (2)'!$B71","v":"1DAÑOS CAUSADOS A BIENES POR EJECUCION DE OBRA PUBLICA"},{"$f":"IFERROR(FIND(UPPER('Causas anteriores'!$D$4),D71),0)","v":0},{"$f":"+IF('Hoja3 (2)'!$F71=0,0,1)","v":0},{"$f":"+H70+'Hoja3 (2)'!$G71","v":0},{"$f":"+'Hoja3 (2)'!$H71*'Hoja3 (2)'!$G71","v":0},"MANTENER/AJUSTAR TEXTO","Activa","DAÑOS A BIENES POR EJECUCION DE OBRA PUBLICA",null,"ACTIVA"," "]
[{"$f":"+'Hoja3 (2)'!$I72","v":0},"DAÑOS CAUSADOS A CIVIL CON AERONAVE DE USO OFICIAL",1,{"$f":"+IF('Hoja3 (2)'!$C72=1,'Hoja3 (2)'!$B72,\"No\")","v":"DAÑOS CAUSADOS A CIVIL CON AERONAVE DE USO OFICIAL"},{"$f":"+'Hoja3 (2)'!$C72&'Hoja3 (2)'!$B72","v":"1DAÑOS CAUSADOS A CIVIL CON AERONAVE DE USO OFICIAL"},{"$f":"IFERROR(FIND(UPPER('Causas anteriores'!$D$4),D72),0)","v":0},{"$f":"+IF('Hoja3 (2)'!$F72=0,0,1)","v":0},{"$f":"+H71+'Hoja3 (2)'!$G72","v":0},{"$f":"+'Hoja3 (2)'!$H72*'Hoja3 (2)'!$G72","v":0},"INACTIVAR PARA DESAGREGAR","Inactiva",null,null,"ACTIVA"," "]
[{"$f":"+'Hoja3 (2)'!$I73","v":0},"DAÑOS CAUSADOS A CIVIL CON AERONAVE DE USO OFICIAL",2,{"$f":"+IF('Hoja3 (2)'!$C73=1,'Hoja3 (2)'!$B73,\"No\")","v":"No"},{"$f":"+'Hoja3 (2)'!$C73&'Hoja3 (2)'!$B73","v":"2DAÑOS CAUSADOS A CIVIL CON AERONAVE DE USO OFICIAL"},{"$f":"IFERROR(FIND(UPPER('Causas anteriores'!$D$4),D73),0)","v":0},{"$f":"+IF('Hoja3 (2)'!$F73=0,0,1)","v":0},{"$f":"+H72+'Hoja3 (2)'!$G73","v":0},{"$f":"+'Hoja3 (2)'!$H73*'Hoja3 (2)'!$G73","v":0},"CREAR","Activa","LESION A CIVIL CON AERONAVE OFICIAL",null,null," "]
[{"$f":"+'Hoja3 (2)'!$I74","v":0},"DAÑOS CAUSADOS A CIVIL CON AERONAVE DE USO OFICIAL",3,{"$f":"+IF('Hoja3 (2)'!$C74=1,'Hoja3 (2)'!$B74,\"No\")","v":"No"},{"$f":"+'Hoja3 (2)'!$C74&'Hoja3 (2)'!$B74","v":"3DAÑOS CAUSADOS A CIVIL CON AERONAVE DE USO OFICIAL"},{"$f":"IFERROR(FIND(UPPER('Causas anteriores'!$D$4),D74),0)","v":0},{"$f":"+IF('Hoja3 (2)'!$F74=0,0,1)","v":0},{"$f":"+H73+'Hoja3 (2)'!$G74","v":0},{"$f":"+'Hoja3 (2)'!$H74*'Hoja3 (2)'!$G74","v":0},"CREAR","Activa","MUERTE DE CIVIL CON AERONAVE OFICIAL",null,null," "]
[{"$f":"+'Hoja3 (2)'!$I75","v":0},"DAÑOS CAUSADOS A CIVIL CON AERONAVE DE USO OFICIAL",4,{"$f":"+IF('Hoja3 (2)'!$C75=1,'Hoja3 (2)'!$B75,\"No\")","v":"No"},{"$f":"+'Hoja3 (2)'!$C75&'Hoja3 (2)'!$B75","v":"4DAÑOS CAUSADOS A CIVIL CON AERONAVE DE USO OFICIAL"},{"$f":"IFERROR(FIND(UPPER('Causas anteriores'!$D$4),D75),0)","v":0},{"$f":"+IF('Hoja3 (2)'!$F75=0,0,1)","v":0},{"$f":"+H74+'Hoja3 (2)'!$G75","v":0},{"$f":"+'Hoja3 (2)'!$H75*'Hoja3 (2)'!$G75","v":0},"CREAR","Activa","DAÑOS A BIENES CON AERONAVE OFICIAL",null,null," "]
[{"$f":"+'Hoja3 (2)'!$I76","v":0},"DAÑOS CAUSADOS A CIVIL CON NAVE OFICIAL",1,{"$f":"+IF('Hoja3 (2)'!$C76=1,'Hoja3 (2)'!$B76,\"No\")","v":"DAÑOS CAUSADOS A CIVIL CON NAVE OFICIAL"},{"$f":"+'Hoja3 (2)'!$C76&'Hoja3 (2)'!$B76","v":"1DAÑOS CAUSADOS A CIVIL CON NAVE OFICIAL"},{"$f":"IFERROR(FIND(UPPER('Causas anteriores'!$D$4),D76),0)","v":0},{"$f":"+IF('Hoja3 (2)'!$F76=0,0,1)","v":0},{"$f":"+H75+'Hoja3 (2)'!$G76","v":0},{"$f":"+'Hoja3 (2)'!$H76*'Hoja3 (2)'!$G76","v":0},"INACTIVAR PARA DESAGREGAR","Inactiva",null,null,"ACTIVA"," "]
[{"$f":"+'Hoja3 (2)'!$I77","v":0},"DAÑOS CAUSADOS A CIVIL CON NAVE OFICIAL",2,{"$f":"+IF('Hoja3 (2)'!$C77=1,'Hoja3 (2)'!$B77,\"No\")","v":"No"},{"$f":"+'Hoja3 (2)'!$C77&'Hoja3 (2)'!$B77","v":"2DAÑOS CAUSADOS A CIVIL CON NAVE OFICIAL"},{"$f":"IFERROR(FIND(UPPER('Causas anteriores'!$D$4),D77),0)","v":0},{"$f":"+IF('Hoja3 (2)'!$F77=0,0,1)","v":0},{"$f":"+H76+'Hoja3 (2)'!$G77","v":0},{"$f":"+'Hoja3 (2)'!$H77*'Hoja3 (2)'!$G77","v":0},"CREAR","Activa","LESION A CIVIL CON NAVE OFICIAL",null,null," "]
[{"$f":"+'Hoja3 (2)'!$I78","v":0},"DAÑOS CAUSADOS A CIVIL CON NAVE OFICIAL",3,{"$f":"+IF('Hoja3 (2)'!$C78=1,'Hoja3 (2)'!$B78,\"No\")","v":"No"},{"$f":"+'Hoja3 (2)'!$C78&'Hoja3 (2)'!$B78","v":"3DAÑOS CAUSADOS A CIVIL CON NAVE OFICIAL"},{"$f":"IFERROR(FIND(UPPER('Causas anteriores'!$D$4),D78),0)","v":0},{"$f":"+IF('Hoja3 (2)'!$F78=0,0,1)","v":0},{"$f":"+H77+'Hoja3 (2)'!$G78","v":0},{"$f":"+'Hoja3 (2)'!$H78*'Hoja3 (2)'!$G78","v":0},"CREAR","Activa","MUERTE DE CIVIL CON NAVE OFICIAL",null,null," "]
[{"$f":"+'Hoja3 (2)'!$I79","v":0},"DAÑOS CAUSADOS A CIVIL CON NAVE OFICIAL",4,{"$f":"+IF('Hoja3 (2)'!$C79=1,'Hoja3 (2)'!$B79,\"No\")","v":"No"},{"$f":"+'Hoja3 (2)'!$C79&'Hoja3 (2)'!$B79","v":"4DAÑOS CAUSADOS A CIVIL CON NAVE OFICIAL"},{"$f":"IFERROR(FIND(UPPER('Causas anteriores'!$D$4),D79),0)","v":0},{"$f":"+IF('Hoja3 (2)'!$F79=0,0,1)","v":0},{"$f":"+H78+'Hoja3 (2)'!$G79","v":0},{"$f":"+'Hoja3 (2)'!$H79*'Hoja3 (2)'!$G79","v":0},"CREAR","Activa","DAÑOS A BIENES CON NAVE OFICIAL",null,null," "]
[{"$f":"+'Hoja3 (2)'!$I80","v":0},"DAÑOS CAUSADOS A CIVIL CON VEHICULO OFICIAL",1,{"$f":"+IF('Hoja3 (2)'!$C80=1,'Hoja3 (2)'!$B80,\"No\")","v":"DAÑOS CAUSADOS A CIVIL CON VEHICULO OFICIAL"},{"$f":"+'Hoja3 (2)'!$C80&'Hoja3 (2)'!$B80","v":"1DAÑOS CAUSADOS A CIVIL CON VEHICULO OFICIAL"},{"$f":"IFERROR(FIND(UPPER('Causas anteriores'!$D$4),D80),0)","v":0},{"$f":"+IF('Hoja3 (2)'!$F80=0,0,1)","v":0},{"$f":"+H79+'Hoja3 (2)'!$G80","v":0},{"$f":"+'Hoja3 (2)'!$H80*'Hoja3 (2)'!$G80","v":0},"INACTIVAR PARA DESAGREGAR","Inactiva",null,null,"ACTIVA"," "]
[{"$f":"+'Hoja3 (2)'!$I81","v":0},"DAÑOS CAUSADOS A CIVIL CON VEHICULO OFICIAL",2,{"$f":"+IF('Hoja3 (2)'!$C81=1,'Hoja3 (2)'!$B81,\"No\")","v":"No"},{"$f":"+'Hoja3 (2)'!$C81&'Hoja3 (2)'!$B81","v":"2DAÑOS CAUSADOS A CIVIL CON VEHICULO OFICIAL"},{"$f":"IFERROR(FIND(UPPER('Causas anteriores'!$D$4),D81),0)","v":0},{"$f":"+IF('Hoja3 (2)'!$F81=0,0,1)","v":0},{"$f":"+H80+'Hoja3 (2)'!$G81","v":0},{"$f":"+'Hoja3 (2)'!$H81*'Hoja3 (2)'!$G81","v":0},"CREAR","Activa","DAÑOS A BIENES CON VEHICULO OFICIAL",null,null," "]
[{"$f":"+'Hoja3 (2)'!$I82","v":0},"DAÑOS CAUSADOS A CIVIL EN INSTALACIONES DE RECREACION",1,{"$f":"+IF('Hoja3 (2)'!$C82=1,'Hoja3 (2)'!$B82,\"No\")","v":"DAÑOS CAUSADOS A CIVIL EN INSTALACIONES DE RECREACION"},{"$f":"+'Hoja3 (2)'!$C82&'Hoja3 (2)'!$B82","v":"1DAÑOS CAUSADOS A CIVIL EN INSTALACIONES DE RECREACION"},{"$f":"IFERROR(FIND(UPPER('Causas anteriores'!$D$4),D82),0)","v":0},{"$f":"+IF('Hoja3 (2)'!$F82=0,0,1)","v":0},{"$f":"+H81+'Hoja3 (2)'!$G82","v":0},{"$f":"+'Hoja3 (2)'!$H82*'Hoja3 (2)'!$G82","v":0},"INACTIVAR EN NUEVA MATRIZ","Inactiva",null,null,"ACTIVA"," "]
[{"$f":"+'Hoja3 (2)'!$I83","v":0},"DAÑOS CAUSADOS A CIVILES EN RETEN MILITAR",1,{"$f":"+IF('Hoja3 (2)'!$C83=1,'Hoja3 (2)'!$B83,\"No\")","v":"DAÑOS CAUSADOS A CIVILES EN RETEN MILITAR"},{"$f":"+'Hoja3 (2)'!$C83&'Hoja3 (2)'!$B83","v":"1DAÑOS CAUSADOS A CIVILES EN RETEN MILITAR"},{"$f":"IFERROR(FIND(UPPER('Causas anteriores'!$D$4),D83),0)","v":0},{"$f":"+IF('Hoja3 (2)'!$F83=0,0,1)","v":0},{"$f":"+H82+'Hoja3 (2)'!$G83","v":0},{"$f":"+'Hoja3 (2)'!$H83*'Hoja3 (2)'!$G83","v":0},"INACTIVAR EN NUEVA MATRIZ","Inactiva",null,null,"ACTIVA"," "]
[{"$f":"+'Hoja3 (2)'!$I84","v":0},"DAÑOS CAUSADOS A CIVILES POR ACTO TERRORISTA CONTRA INSTALACIONES, PERSONAJES O ELEMENTOS REPRESENTATIVOS DEL ESTADO",1,{"$f":"+IF('Hoja3 (2)'!$C84=1,'Hoja3 (2)'!$B84,\"No\")","v":"DAÑOS CAUSADOS A CIVILES POR ACTO TERRORISTA CONTRA INSTALACIONES, PERSONAJES O ELEMENTOS REPRESENTATIVOS DEL ESTADO"},{"$f":"+'Hoja3 (2)'!$C84&'Hoja3 (2)'!$B84","v":"1DAÑOS CAUSADOS A CIVILES POR ACTO TERRORISTA CONTRA INSTALACIONES, PERSONAJES O ELEMENTOS REPRESENTATIVOS DEL ESTADO"},{"$f":"IFERROR(FIND(UPPER('Causas anteriores'!$D$4),D84),0)","v":0},{"$f":"+IF('Hoja3 (2)'!$F84=0,0,1)","v":0},{"$f":"+H83+'Hoja3 (2)'!$G84","v":0},{"$f":"+'Hoja3 (2)'!$H84*'Hoja3 (2)'!$G84","v":0},"INACTIVAR PARA DESAGREGAR","Inactiva",null,null,"ACTIVA"," "]
[{"$f":"+'Hoja3 (2)'!$I85","v":0},"DAÑOS CAUSADOS A CIVILES POR ACTO TERRORISTA CONTRA INSTALACIONES, PERSONAJES O ELEMENTOS REPRESENTATIVOS DEL ESTADO",2,{"$f":"+IF('Hoja3 (2)'!$C85=1,'Hoja3 (2)'!$B85,\"No\")","v":"No"},{"$f":"+'Hoja3 (2)'!$C85&'Hoja3 (2)'!$B85","v":"2DAÑOS CAUSADOS A CIVILES POR ACTO TERRORISTA CONTRA INSTALACIONES, PERSONAJES O ELEMENTOS REPRESENTATIVOS DEL ESTADO"},{"$f":"IFERROR(FIND(UPPER('Causas anteriores'!$D$4),D85),0)","v":0},{"$f":"+IF('Hoja3 (2)'!$F85=0,0,1)","v":0},{"$f":"+H84+'Hoja3 (2)'!$G85","v":0},{"$f":"+'Hoja3 (2)'!$H85*'Hoja3 (2)'!$G85","v":0},"CREAR","Activa","LESION A CIVIL POR ACTO TERRORISTA CONTRA INSTALACIONES, PERSONAJES O ELEMENTOS REPRESENTATIVOS DEL ESTADO",null,null," "]
[{"$f":"+'Hoja3 (2)'!$I86","v":0},"DAÑOS CAUSADOS A CIVILES POR ACTO TERRORISTA CONTRA INSTALACIONES, PERSONAJES O ELEMENTOS REPRESENTATIVOS DEL ESTADO",3,{"$f":"+IF('Hoja3 (2)'!$C86=1,'Hoja3 (2)'!$B86,\"No\")","v":"No"},{"$f":"+'Hoja3 (2)'!$C86&'Hoja3 (2)'!$B86","v":"3DAÑOS CAUSADOS A CIVILES POR ACTO TERRORISTA CONTRA INSTALACIONES, PERSONAJES O ELEMENTOS REPRESENTATIVOS DEL ESTADO"},{"$f":"IFERROR(FIND(UPPER('Causas anteriores'!$D$4),D86),0)","v":0},{"$f":"+IF('Hoja3 (2)'!$F86=0,0,1)","v":0},{"$f":"+H85+'Hoja3 (2)'!$G86","v":0},{"$f":"+'Hoja3 (2)'!$H86*'Hoja3 (2)'!$G86","v":0},"CREAR","Activa","MUERTE DE CIVIL POR ACTO TERRORISTA CONTRA INSTALACIONES, PERSONAJES O ELEMENTOS REPRESENTATIVOS DEL ESTADO",null,null," "]
[{"$f":"+'Hoja3 (2)'!$I87","v":0},"DAÑOS CAUSADOS A CIVILES POR ACTO TERRORISTA CONTRA INSTALACIONES, PERSONAJES O ELEMENTOS REPRESENTATIVOS DEL ESTADO",4,{"$f":"+IF('Hoja3 (2)'!$C87=1,'Hoja3 (2)'!$B87,\"No\")","v":"No"},{"$f":"+'Hoja3 (2)'!$C87&'Hoja3 (2)'!$B87","v":"4DAÑOS CAUSADOS A CIVILES POR ACTO TERRORISTA CONTRA INSTALACIONES, PERSONAJES O ELEMENTOS REPRESENTATIVOS DEL ESTADO"},{"$f":"IFERROR(FIND(UPPER('Causas anteriores'!$D$4),D87),0)","v":0},{"$f":"+IF('Hoja3 (2)'!$F87=0,0,1)","v":0},{"$f":"+H86+'Hoja3 (2)'!$G87","v":0},{"$f":"+'Hoja3 (2)'!$H87*'Hoja3 (2)'!$G87","v":0},"CREAR","Activa","DAÑOS A BIENES POR ACTO TERRORISTA CONTRA INSTALACIONES, PERSONAJES O ELEMENTOS REPRESENTATIVOS DEL ESTADO",null,null," "]
[{"$f":"+'Hoja3 (2)'!$I88","v":0},"DAÑOS CAUSADOS A CIVILES POR ACTO TERRORISTA CONTRA POBLACION CIVIL",1,{"$f":"+IF('Hoja3 (2)'!$C88=1,'Hoja3 (2)'!$B88,\"No\")","v":"DAÑOS CAUSADOS A CIVILES POR ACTO TERRORISTA CONTRA POBLACION CIVIL"},{"$f":"+'Hoja3 (2)'!$C88&'Hoja3 (2)'!$B88","v":"1DAÑOS CAUSADOS A CIVILES POR ACTO TERRORISTA CONTRA POBLACION CIVIL"},{"$f":"IFERROR(FIND(UPPER('Causas anteriores'!$D$4),D88),0)","v":0},{"$f":"+IF('Hoja3 (2)'!$F88=0,0,1)","v":0},{"$f":"+H87+'Hoja3 (2)'!$G88","v":0},{"$f":"+'Hoja3 (2)'!$H88*'Hoja3 (2)'!$G88","v":0},"INACTIVAR PARA DESAGREGAR","Inactiva",null,null,"ACTIVA"," "]
[{"$f":"+'Hoja3 (2)'!$I89","v":0},"DAÑOS CAUSADOS A CIVILES POR ACTO TERRORISTA CONTRA POBLACION CIVIL",2,{"$f":"+IF('Hoja3 (2)'!$C89=1,'Hoja3 (2)'!$B89,\"No\")","v":"No"},{"$f":"+'Hoja3 (2)'!$C89&'Hoja3 (2)'!$B89","v":"2DAÑOS CAUSADOS A CIVILES POR ACTO TERRORISTA CONTRA POBLACION CIVIL"},{"$f":"IFERROR(FIND(UPPER('Causas anteriores'!$D$4),D89),0)","v":0},{"$f":"+IF('Hoja3 (2)'!$F89=0,0,1)","v":0},{"$f":"+H88+'Hoja3 (2)'!$G89","v":0},{"$f":"+'Hoja3 (2)'!$H89*'Hoja3 (2)'!$G89","v":0},"CREAR","Activa","LESION A CIVIL POR ACTO TERRORISTA CONTRA POBLACION CIVIL",null,null," "]
[{"$f":"+'Hoja3 (2)'!$I90","v":0},"DAÑOS CAUSADOS A CIVILES POR ACTO TERRORISTA CONTRA POBLACION CIVIL",3,{"$f":"+IF('Hoja3 (2)'!$C90=1,'Hoja3 (2)'!$B90,\"No\")","v":"No"},{"$f":"+'Hoja3 (2)'!$C90&'Hoja3 (2)'!$B90","v":"3DAÑOS CAUSADOS A CIVILES POR ACTO TERRORISTA CONTRA POBLACION CIVIL"},{"$f":"IFERROR(FIND(UPPER('Causas anteriores'!$D$4),D90),0)","v":0},{"$f":"+IF('Hoja3 (2)'!$F90=0,0,1)","v":0},{"$f":"+H89+'Hoja3 (2)'!$G90","v":0},{"$f":"+'Hoja3 (2)'!$H90*'Hoja3 (2)'!$G90","v":0},"CREAR","Activa","MUERTE DE CIVIL POR ACTO TERRORISTA CONTRA POBLACION CIVIL",null,null," "]
[{"$f":"+'Hoja3 (2)'!$I91","v":0},"DAÑOS CAUSADOS A CIVILES POR ACTO TERRORISTA CONTRA POBLACION CIVIL",4,{"$f":"+IF('Hoja3 (2)'!$C91=1,'Hoja3 (2)'!$B91,\"No\")","v":"No"},{"$f":"+'Hoja3 (2)'!$C91&'Hoja3 (2)'!$B91","v":"4DAÑOS CAUSADOS A CIVILES POR ACTO TERRORISTA CONTRA POBLACION CIVIL"},{"$f":"IFERROR(FIND(UPPER('Causas anteriores'!$D$4),D91),0)","v":0},{"$f":"+IF('Hoja3 (2)'!$F91=0,0,1)","v":0},{"$f":"+H90+'Hoja3 (2)'!$G91","v":0},{"$f":"+'Hoja3 (2)'!$H91*'Hoja3 (2)'!$G91","v":0},"CREAR","Activa","DAÑOS A BIENES POR ACTO TERRORISTA CONTRA POBLACION CIVIL",null,null," "]
[{"$f":"+'Hoja3 (2)'!$I92","v":0},"DAÑOS CAUSADOS A SERVIDOR PUBLICO EN EJERCICIO DE SUS FUNCIONES",1,{"$f":"+IF('Hoja3 (2)'!$C92=1,'Hoja3 (2)'!$B92,\"No\")","v":"DAÑOS CAUSADOS A SERVIDOR PUBLICO EN EJERCICIO DE SUS FUNCIONES"},{"$f":"+'Hoja3 (2)'!$C92&'Hoja3 (2)'!$B92","v":"1DAÑOS CAUSADOS A SERVIDOR PUBLICO EN EJERCICIO DE SUS FUNCIONES"},{"$f":"IFERROR(FIND(UPPER('Causas anteriores'!$D$4),D92),0)","v":0},{"$f":"+IF('Hoja3 (2)'!$F92=0,0,1)","v":0},{"$f":"+H91+'Hoja3 (2)'!$G92","v":0},{"$f":"+'Hoja3 (2)'!$H92*'Hoja3 (2)'!$G92","v":0},"INACTIVAR EN NUEVA MATRIZ","Inactiva",null,null,"ACTIVA"," "]
[{"$f":"+'Hoja3 (2)'!$I93","v":0},"DAÑOS CAUSADOS EN ATAQUES GUERRILLEROS A POBLACIONES CIVILES",1,{"$f":"+IF('Hoja3 (2)'!$C93=1,'Hoja3 (2)'!$B93,\"No\")","v":"DAÑOS CAUSADOS EN ATAQUES GUERRILLEROS A POBLACIONES CIVILES"},{"$f":"+'Hoja3 (2)'!$C93&'Hoja3 (2)'!$B93","v":"1DAÑOS CAUSADOS EN ATAQUES GUERRILLEROS A POBLACIONES CIVILES"},{"$f":"IFERROR(FIND(UPPER('Causas anteriores'!$D$4),D93),0)","v":0},{"$f":"+IF('Hoja3 (2)'!$F93=0,0,1)","v":0},{"$f":"+H92+'Hoja3 (2)'!$G93","v":0},{"$f":"+'Hoja3 (2)'!$H93*'Hoja3 (2)'!$G93","v":0},"ESTABA INACTIVA","Inactiva",null,null,"INACTIVA"," "]
[{"$f":"+'Hoja3 (2)'!$I94","v":0},"DAÑOS CAUSADOS EN MANIFESTACION PUBLICA",1,{"$f":"+IF('Hoja3 (2)'!$C94=1,'Hoja3 (2)'!$B94,\"No\")","v":"DAÑOS CAUSADOS EN MANIFESTACION PUBLICA"},{"$f":"+'Hoja3 (2)'!$C94&'Hoja3 (2)'!$B94","v":"1DAÑOS CAUSADOS EN MANIFESTACION PUBLICA"},{"$f":"IFERROR(FIND(UPPER('Causas anteriores'!$D$4),D94),0)","v":0},{"$f":"+IF('Hoja3 (2)'!$F94=0,0,1)","v":0},{"$f":"+H93+'Hoja3 (2)'!$G94","v":0},{"$f":"+'Hoja3 (2)'!$H94*'Hoja3 (2)'!$G94","v":0},"INACTIVAR PARA DESAGREGAR","Inactiva",null,null,"ACTIVA"," "]
[{"$f":"+'Hoja3 (2)'!$I95","v":0},"DAÑOS CAUSADOS EN MANIFESTACION PUBLICA",2,{"$f":"+IF('Hoja3 (2)'!$C95=1,'Hoja3 (2)'!$B95,\"No\")","v":"No"},{"$f":"+'Hoja3 (2)'!$C95&'Hoja3 (2)'!$B95","v":"2DAÑOS CAUSADOS EN MANIFESTACION PUBLICA"},{"$f":"IFERROR(FIND(UPPER('Causas anteriores'!$D$4),D95),0)","v":0},{"$f":"+IF('Hoja3 (2)'!$F95=0,0,1)","v":0},{"$f":"+H94+'Hoja3 (2)'!$G95","v":0},{"$f":"+'Hoja3 (2)'!$H95*'Hoja3 (2)'!$G95","v":0},"CREAR","Activa","LESION EN MANIFESTACION PUBLICA",null,null," "]
[{"$f":"+'Hoja3 (2)'!$I96","v":0},"DAÑOS CAUSADOS EN MANIFESTACION PUBLICA",3,{"$f":"+IF('Hoja3 (2)'!$C96=1,'Hoja3 (2)'!$B96,\"No\")","v":"No"},{"$f":"+'Hoja3 (2)'!$C96&'Hoja3 (2)'!$B96","v":"3DAÑOS CAUSADOS EN MANIFESTACION PUBLICA"},{"$f":"IFERROR(FIND(UPPER('Causas anteriores'!$D$4),D96),0)","v":0},{"$f":"+IF('Hoja3 (2)'!$F96=0,0,1)","v":0},{"$f":"+H95+'Hoja3 (2)'!$G96","v":0},{"$f":"+'Hoja3 (2)'!$H96*'Hoja3 (2)'!$G96","v":0},"CREAR","Activa","MUERTE EN MANIFESTACION PUBLICA",null,null," "]
[{"$f":"+'Hoja3 (2)'!$I97","v":0},"DAÑOS CAUSADOS EN MANIFESTACION PUBLICA",4,{"$f":"+IF('Hoja3 (2)'!$C97=1,'Hoja3 (2)'!$B97,\"No\")","v":"No"},{"$f":"+'Hoja3 (2)'!$C97&'Hoja3 (2)'!$B97","v":"4DAÑOS CAUSADOS EN MANIFESTACION PUBLICA"},{"$f":"IFERROR(FIND(UPPER('Causas anteriores'!$D$4),D97),0)","v":0},{"$f":"+IF('Hoja3 (2)'!$F97=0,0,1)","v":0},{"$f":"+H96+'Hoja3 (2)'!$G97","v":0},{"$f":"+'Hoja3 (2)'!$H97*'Hoja3 (2)'!$G97","v":0},"CREAR","Activa","DAÑOS A BIENES EN MANIFESTACION PUBLICA",null,null," "]
[{"$f":"+'Hoja3 (2)'!$I98","v":0},"DAÑOS CAUSADOS EN ZONA DE DISTENSION",1,{"$f":"+IF('Hoja3 (2)'!$C98=1,'Hoja3 (2)'!$B98,\"No\")","v":"DAÑOS CAUSADOS EN ZONA DE DISTENSION"},{"$f":"+'Hoja3 (2)'!$C98&'Hoja3 (2)'!$B98","v":"1DAÑOS CAUSADOS EN ZONA DE DISTENSION"},{"$f":"IFERROR(FIND(UPPER('Causas anteriores'!$D$4),D98),0)","v":0},{"$f":"+IF('Hoja3 (2)'!$F98=0,0,1)","v":0},{"$f":"+H97+'Hoja3 (2)'!$G98","v":0},{"$f":"+'Hoja3 (2)'!$H98*'Hoja3 (2)'!$G98","v":0},"INACTIVAR PARA DESAGREGAR","Inactiva",null,null,"ACTIVA"," "]
[{"$f":"+'Hoja3 (2)'!$I99","v":0},"DAÑOS CAUSADOS EN ZONA DE DISTENSION",2,{"$f":"+IF('Hoja3 (2)'!$C99=1,'Hoja3 (2)'!$B99,\"No\")","v":"No"},{"$f":"+'Hoja3 (2)'!$C99&'Hoja3 (2)'!$B99","v":"2DAÑOS CAUSADOS EN ZONA DE DISTENSION"},{"$f":"IFERROR(FIND(UPPER('Causas anteriores'!$D$4),D99),0)","v":0},{"$f":"+IF('Hoja3 (2)'!$F99=0,0,1)","v":0},{"$f":"+H98+'Hoja3 (2)'!$G99","v":0},{"$f":"+'Hoja3 (2)'!$H99*'Hoja3 (2)'!$G99","v":0},"CREAR","Activa","LESION EN ZONA DE DISTENSION",null,null," "]
[{"$f":"+'Hoja3 (2)'!$I100","v":0},"DAÑOS CAUSADOS EN ZONA DE DISTENSION",3,{"$f":"+IF('Hoja3 (2)'!$C100=1,'Hoja3 (2)'!$B100,\"No\")","v":"No"},{"$f":"+'Hoja3 (2)'!$C100&'Hoja3 (2)'!$B100","v":"3DAÑOS CAUSADOS EN ZONA DE DISTENSION"},{"$f":"IFERROR(FIND(UPPER('Causas anteriores'!$D$4),D100),0)","v":0},{"$f":"+IF('Hoja3 (2)'!$F100=0,0,1)","v":0},{"$f":"+H99+'Hoja3 (2)'!$G100","v":0},{"$f":"+'Hoja3 (2)'!$H100*'Hoja3 (2)'!$G100","v":0},"CREAR","Activa","MUERTE EN ZONA DE DISTENSION",null,null," "]
[{"$f":"+'Hoja3 (2)'!$I101","v":0},"DAÑOS CAUSADOS EN ZONA DE DISTENSION",4,{"$f":"+IF('Hoja3 (2)'!$C101=1,'Hoja3 (2)'!$B101,\"No\")","v":"No"},{"$f":"+'Hoja3 (2)'!$C101&'Hoja3 (2)'!$B101","v":"4DAÑOS CAUSADOS EN ZONA DE DISTENSION"},{"$f":"IFERROR(FIND(UPPER('Causas anteriores'!$D$4),D101),0)","v":0},{"$f":"+IF('Hoja3 (2)'!$F101=0,0,1)","v":0},{"$f":"+H100+'Hoja3 (2)'!$G101","v":0},{"$f":"+'Hoja3 (2)'!$H101*'Hoja3 (2)'!$G101","v":0},"CREAR","Activa","DAÑOS A BIENES EN ZONA DE DISTENSION",null,null," "]
[{"$f":"+'Hoja3 (2)'!$I102","v":0},"DAÑOS CAUSADOS POR ACCIDENTE AEREO",1,{"$f":"+IF('Hoja3 (2)'!$C102=1,'Hoja3 (2)'!$B102,\"No\")","v":"DAÑOS CAUSADOS POR ACCIDENTE AEREO"},{"$f":"+'Hoja3 (2)'!$C102&'Hoja3 (2)'!$B102","v":"1DAÑOS CAUSADOS POR ACCIDENTE AEREO"},{"$f":"IFERROR(FIND(UPPER('Causas anteriores'!$D$4),D102),0)","v":0},{"$f":"+IF('Hoja3 (2)'!$F102=0,0,1)","v":0},{"$f":"+H101+'Hoja3 (2)'!$G102","v":0},{"$f":"+'Hoja3 (2)'!$H102*'Hoja3 (2)'!$G102","v":0},"INACTIVAR PARA DESAGREGAR","Inactiva",null,null,"ACTIVA"," "]
[{"$f":"+'Hoja3 (2)'!$I103","v":0},"DAÑOS CAUSADOS POR ACCIDENTE AEREO",2,{"$f":"+IF('Hoja3 (2)'!$C103=1,'Hoja3 (2)'!$B103,\"No\")","v":"No"},{"$f":"+'Hoja3 (2)'!$C103&'Hoja3 (2)'!$B103","v":"2DAÑOS CAUSADOS POR ACCIDENTE AEREO"},{"$f":"IFERROR(FIND(UPPER('Causas anteriores'!$D$4),D103),0)","v":0},{"$f":"+IF('Hoja3 (2)'!$F103=0,0,1)","v":0},{"$f":"+H102+'Hoja3 (2)'!$G103","v":0},{"$f":"+'Hoja3 (2)'!$H103*'Hoja3 (2)'!$G103","v":0},"CREAR","Activa","LESION EN ACCIDENTE AEREO",null,null," "]
[{"$f":"+'Hoja3 (2)'!$I104","v":0},"DAÑOS CAUSADOS POR ACCIDENTE AEREO",3,{"$f":"+IF('Hoja3 (2)'!$C104=1,'Hoja3 (2)'!$B104,\"No\")","v":"No"},{"$f":"+'Hoja3 (2)'!$C104&'Hoja3 (2)'!$B104","v":"3DAÑOS CAUSADOS POR ACCIDENTE AEREO"},{"$f":"IFERROR(FIND(UPPER('Causas anteriores'!$D$4),D104),0)","v":0},{"$f":"+IF('Hoja3 (2)'!$F104=0,0,1)","v":0},{"$f":"+H103+'Hoja3 (2)'!$G104","v":0},{"$f":"+'Hoja3 (2)'!$H104*'Hoja3 (2)'!$G104","v":0},"CREAR","Activa","MUERTE EN ACCIDENTE AEREO",null,null," "]
[{"$f":"+'Hoja3 (2)'!$I105","v":0},"DAÑOS CAUSADOS POR ACCIDENTE AEREO",4,{"$f":"+IF('Hoja3 (2)'!$C105=1,'Hoja3 (2)'!$B105,\"No\")","v":"No"},{"$f":"+'Hoja3 (2)'!$C105&'Hoja3 (2)'!$B105","v":"4DAÑOS CAUSADOS POR ACCIDENTE AEREO"},{"$f":"IFERROR(FIND(UPPER('Causas anteriores'!$D$4),D105),0)","v":0},{"$f":"+IF('Hoja3 (2)'!$F105=0,0,1)","v":0},{"$f":"+H104+'Hoja3 (2)'!$G105","v":0},{"$f":"+'Hoja3 (2)'!$H105*'Hoja3 (2)'!$G105","v":0},"CREAR","Activa","DAÑOS A BIENES EN ACCIDENTE AEREO",null,null," "]
[{"$f":"+'Hoja3 (2)'!$I106","v":0},"DAÑOS CAUSADOS POR ACCIDENTE DE TRANSITO",1,{"$f":"+IF('Hoja3 (2)'!$C106=1,'Hoja3 (2)'!$B106,\"No\")","v":"DAÑOS CAUSADOS POR ACCIDENTE DE TRANSITO"},{"$f":"+'Hoja3 (2)'!$C106&'Hoja3 (2)'!$B106","v":"1DAÑOS CAUSADOS POR ACCIDENTE DE TRANSITO"},{"$f":"IFERROR(FIND(UPPER('Causas anteriores'!$D$4),D106),0)","v":0},{"$f":"+IF('Hoja3 (2)'!$F106=0,0,1)","v":0},{"$f":"+H105+'Hoja3 (2)'!$G106","v":0},{"$f":"+'Hoja3 (2)'!$H106*'Hoja3 (2)'!$G106","v":0},"INACTIVAR EN NUEVA MATRIZ","Inactiva",null,null,"ACTIVA"," "]
[{"$f":"+'Hoja3 (2)'!$I107","v":0},"DAÑOS CAUSADOS POR ACCIDENTE DE TRANSITO",2,{"$f":"+IF('Hoja3 (2)'!$C107=1,'Hoja3 (2)'!$B107,\"No\")","v":"No"},{"$f":"+'Hoja3 (2)'!$C107&'Hoja3 (2)'!$B107","v":"2DAÑOS CAUSADOS POR ACCIDENTE DE TRANSITO"},{"$f":"IFERROR(FIND(UPPER('Causas anteriores'!$D$4),D107),0)","v":0},{"$f":"+IF('Hoja3 (2)'!$F107=0,0,1)","v":0},{"$f":"+H106+'Hoja3 (2)'!$G107","v":0},{"$f":"+'Hoja3 (2)'!$H107*'Hoja3 (2)'!$G107","v":0},"MANTENER/AJUSTAR TEXTO","Activa","LESION POR VIA PUBLICA EN MAL ESTADO"]
[{"$f":"+'Hoja3 (2)'!$I108","v":0},"DAÑOS CAUSADOS POR ACCIDENTE DE TRANSITO",3,{"$f":"+IF('Hoja3 (2)'!$C108=1,'Hoja3 (2)'!$B108,\"No\")","v":"No"},{"$f":"+'Hoja3 (2)'!$C108&'Hoja3 (2)'!$B108","v":"3DAÑOS CAUSADOS POR ACCIDENTE DE TRANSITO"},{"$f":"IFERROR(FIND(UPPER('Causas anteriores'!$D$4),D108),0)","v":0},{"$f":"+IF('Hoja3 (2)'!$F108=0,0,1)","v":0},{"$f":"+H107+'Hoja3 (2)'!$G108","v":0},{"$f":"+'Hoja3 (2)'!$H108*'Hoja3 (2)'!$G108","v":0},"MANTENER/AJUSTAR TEXTO","Activa","MUERTE POR VIA PUBLICA EN MAL ESTADO"]
[{"$f":"+'Hoja3 (2)'!$I109","v":0},"DAÑOS CAUSADOS POR ACCIDENTE DE TRANSITO",4,{"$f":"+IF('Hoja3 (2)'!$C109=1,'Hoja3 (2)'!$B109,\"No\")","v":"No"},{"$f":"+'Hoja3 (2)'!$C109&'Hoja3 (2)'!$B109","v":"4DAÑOS CAUSADOS POR ACCIDENTE DE TRANSITO"},{"$f":"IFERROR(FIND(UPPER('Causas anteriores'!$D$4),D109),0)","v":0},{"$f":"+IF('Hoja3 (2)'!$F109=0,0,1)","v":0},{"$f":"+H108+'Hoja3 (2)'!$G109","v":0},{"$f":"+'Hoja3 (2)'!$H109*'Hoja3 (2)'!$G109","v":0},"MANTENER/AJUSTAR TEXTO","Activa","DAÑOS A BIENES POR VIA PUBLICA EN MAL ESTADO"]
[{"$f":"+'Hoja3 (2)'!$I110","v":0},"DAÑOS CAUSADOS POR ACCIDENTE DE TRANSITO",5,{"$f":"+IF('Hoja3 (2)'!$C110=1,'Hoja3 (2)'!$B110,\"No\")","v":"No"},{"$f":"+'Hoja3 (2)'!$C110&'Hoja3 (2)'!$B110","v":"5DAÑOS CAUSADOS POR ACCIDENTE DE TRANSITO"},{"$f":"IFERROR(FIND(UPPER('Causas anteriores'!$D$4),D110),0)","v":0},{"$f":"+IF('Hoja3 (2)'!$F110=0,0,1)","v":0},{"$f":"+H109+'Hoja3 (2)'!$G110","v":0},{"$f":"+'Hoja3 (2)'!$H110*'Hoja3 (2)'!$G110","v":0},"MANTENER/AJUSTAR TEXTO","Activa","LESION POR FALTA DE SEÑALIZACION EN LA VIA PUBLICA"]
[{"$f":"+'Hoja3 (2)'!$I111","v":0},"DAÑOS CAUSADOS POR ACCIDENTE DE TRANSITO",6,{"$f":"+IF('Hoja3 (2)'!$C111=1,'Hoja3 (2)'!$B111,\"No\")","v":"No"},{"$f":"+'Hoja3 (2)'!$C111&'Hoja3 (2)'!$B111","v":"6DAÑOS CAUSADOS POR ACCIDENTE DE TRANSITO"},{"$f":"IFERROR(FIND(UPPER('Causas anteriores'!$D$4),D111),0)","v":0},{"$f":"+IF('Hoja3 (2)'!$F111=0,0,1)","v":0},{"$f":"+H110+'Hoja3 (2)'!$G111","v":0},{"$f":"+'Hoja3 (2)'!$H111*'Hoja3 (2)'!$G111","v":0},"MANTENER/AJUSTAR TEXTO","Activa","MUERTE POR FALTA DE SEÑALIZACION EN LA VIA PUBLICA"]
[{"$f":"+'Hoja3 (2)'!$I112","v":0},"DAÑOS CAUSADOS POR ACCIDENTE DE TRANSITO",7,{"$f":"+IF('Hoja3 (2)'!$C112=1,'Hoja3 (2)'!$B112,\"No\")","v":"No"},{"$f":"+'Hoja3 (2)'!$C112&'Hoja3 (2)'!$B112","v":"7DAÑOS CAUSADOS POR ACCIDENTE DE TRANSITO"},{"$f":"IFERROR(FIND(UPPER('Causas anteriores'!$D$4),D112),0)","v":0},{"$f":"+IF('Hoja3 (2)'!$F112=0,0,1)","v":0},{"$f":"+H111+'Hoja3 (2)'!$G112","v":0},{"$f":"+'Hoja3 (2)'!$H112*'Hoja3 (2)'!$G112","v":0},"MANTENER/AJUSTAR TEXTO","Activa","DAÑOS A BIENES POR FALTA DE SEÑALIZACION EN LA VIA PUBLICA"]
[{"$f":"+'Hoja3 (2)'!$I113","v":0},"DAÑOS CAUSADOS POR ACCIDENTE DE TRANSITO",8,{"$f":"+IF('Hoja3 (2)'!$C113=1,'Hoja3 (2)'!$B113,\"No\")","v":"No"},{"$f":"+'Hoja3 (2)'!$C113&'Hoja3 (2)'!$B113","v":"8DAÑOS CAUSADOS POR ACCIDENTE DE TRANSITO"},{"$f":"IFERROR(FIND(UPPER('Causas anteriores'!$D$4),D113),0)","v":0},{"$f":"+IF('Hoja3 (2)'!$F113=0,0,1)","v":0},{"$f":"+H112+'Hoja3 (2)'!$G113","v":0},{"$f":"+'Hoja3 (2)'!$H113*'Hoja3 (2)'!$G113","v":0},"MANTENER/AJUSTAR TEXTO","Activa","LESION POR FALTA DE ILUMINACION EN LA VIA PUBLICA"]
[{"$f":"+'Hoja3 (2)'!$I114","v":0},"DAÑOS CAUSADOS POR ACCIDENTE DE TRANSITO",9,{"$f":"+IF('Hoja3 (2)'!$C114=1,'Hoja3 (2)'!$B114,\"No\")","v":"No"},{"$f":"+'Hoja3 (2)'!$C114&'Hoja3 (2)'!$B114","v":"9DAÑOS CAUSADOS POR ACCIDENTE DE TRANSITO"},{"$f":"IFERROR(FIND(UPPER('Causas anteriores'!$D$4),D114),0)","v":0},{"$f":"+IF('Hoja3 (2)'!$F114=0,0,1)","v":0},{"$f":"+H113+'Hoja3 (2)'!$G114","v":0},{"$f":"+'Hoja3 (2)'!$H114*'Hoja3 (2)'!$G114","v":0},"MANTENER/AJUSTAR TEXTO","Activa","MUERTE POR FALTA DE ILUMINACION EN LA VIA PUBLICA"]
[{"$f":"+'Hoja3 (2)'!$I115","v":0},"DAÑOS CAUSADOS POR ACCIDENTE DE TRANSITO",10,{"$f":"+IF('Hoja3 (2)'!$C115=1,'Hoja3 (2)'!$B115,\"No\")","v":"No"},{"$f":"+'Hoja3 (2)'!$C115&'Hoja3 (2)'!$B115","v":"10DAÑOS CAUSADOS POR ACCIDENTE DE TRANSITO"},{"$f":"IFERROR(FIND(UPPER('Causas anteriores'!$D$4),D115),0)","v":0},{"$f":"+IF('Hoja3 (2)'!$F115=0,0,1)","v":0},{"$f":"+H114+'Hoja3 (2)'!$G115","v":0},{"$f":"+'Hoja3 (2)'!$H115*'Hoja3 (2)'!$G115","v":0},"MANTENER/AJUSTAR TEXTO","Activa","DAÑOS A BIENES POR FALTA DE ILUMINACION EN LA VIA PUBLICA"]
[{"$f":"+'Hoja3 (2)'!$I116","v":0},"DAÑOS CAUSADOS POR ACCIDENTE FLUVIAL-MARITIMO",1,{"$f":"+IF('Hoja3 (2)'!$C116=1,'Hoja3 (2)'!$B116,\"No\")","v":"DAÑOS CAUSADOS POR ACCIDENTE FLUVIAL-MARITIMO"},{"$f":"+'Hoja3 (2)'!$C116&'Hoja3 (2)'!$B116","v":"1DAÑOS CAUSADOS POR ACCIDENTE FLUVIAL-MARITIMO"},{"$f":"IFERROR(FIND(UPPER('Causas anteriores'!$D$4),D116),0)","v":0},{"$f":"+IF('Hoja3 (2)'!$F116=0,0,1)","v":0},{"$f":"+H115+'Hoja3 (2)'!$G116","v":0},{"$f":"+'Hoja3 (2)'!$H116*'Hoja3 (2)'!$G116","v":0},"INACTIVAR PARA DESAGREGAR","Inactiva",null,null,"ACTIVA"]
[{"$f":"+'Hoja3 (2)'!$I117","v":0},"DAÑOS CAUSADOS POR ACCIDENTE FLUVIAL-MARITIMO",2,{"$f":"+IF('Hoja3 (2)'!$C117=1,'Hoja3 (2)'!$B117,\"No\")","v":"No"},{"$f":"+'Hoja3 (2)'!$C117&'Hoja3 (2)'!$B117","v":"2DAÑOS CAUSADOS POR ACCIDENTE FLUVIAL-MARITIMO"},{"$f":"IFERROR(FIND(UPPER('Causas anteriores'!$D$4),D117),0)","v":0},{"$f":"+IF('Hoja3 (2)'!$F117=0,0,1)","v":0},{"$f":"+H116+'Hoja3 (2)'!$G117","v":0},{"$f":"+'Hoja3 (2)'!$H117*'Hoja3 (2)'!$G117","v":0},"CREAR","Activa","LESION EN ACCIDENTE FLUVIAL"]
[{"$f":"+'Hoja3 (2)'!$I118","v":0},"DAÑOS CAUSADOS POR ACCIDENTE FLUVIAL-MARITIMO",3,{"$f":"+IF('Hoja3 (2)'!$C118=1,'Hoja3 (2)'!$B118,\"No\")","v":"No"},{"$f":"+'Hoja3 (2)'!$C118&'Hoja3 (2)'!$B118","v":"3DAÑOS CAUSADOS POR ACCIDENTE FLUVIAL-MARITIMO"},{"$f":"IFERROR(FIND(UPPER('Causas anteriores'!$D$4),D118),0)","v":0},{"$f":"+IF('Hoja3 (2)'!$F118=0,0,1)","v":0},{"$f":"+H117+'Hoja3 (2)'!$G118","v":0},{"$f":"+'Hoja3 (2)'!$H118*'Hoja3 (2)'!$G118","v":0},"CREAR","Activa","MUERTE EN ACCIDENTE FLUVIAL"]
[{"$f":"+'Hoja3 (2)'!$I119","v":0},"DAÑOS CAUSADOS POR ACCIDENTE FLUVIAL-MARITIMO",4,{"$f":"+IF('Hoja3 (2)'!$C119=1,'Hoja3 (2)'!$B119,\"No\")","v":"No"},{"$f":"+'Hoja3 (2)'!$C119&'Hoja3 (2)'!$B119","v":"4DAÑOS CAUSADOS POR ACCIDENTE FLUVIAL-MARITIMO"},{"$f":"IFERROR(FIND(UPPER('Causas anteriores'!$D$4),D119),0)","v":0},{"$f":"+IF('Hoja3 (2)'!$F119=0,0,1)","v":0},{"$f":"+H118+'Hoja3 (2)'!$G119","v":0},{"$f":"+'Hoja3 (2)'!$H119*'Hoja3 (2)'!$G119","v":0},"CREAR","Activa","DAÑOS A BIENES EN ACCIDENTE FLUVIAL"]
[{"$f":"+'Hoja3 (2)'!$I120","v":0},"DAÑOS CAUSADOS POR ACCIDENTE FLUVIAL-MARITIMO",5,{"$f":"+IF('Hoja3 (2)'!$C120=1,'Hoja3 (2)'!$B120,\"No\")","v":"No"},{"$f":"+'Hoja3 (2)'!$C120&'Hoja3 (2)'!$B120","v":"5DAÑOS CAUSADOS POR ACCIDENTE FLUVIAL-MARITIMO"},{"$f":"IFERROR(FIND(UPPER('Causas anteriores'!$D$4),D120),0)","v":0},{"$f":"+IF('Hoja3 (2)'!$F120=0,0,1)","v":0},{"$f":"+H119+'Hoja3 (2)'!$G120","v":0},{"$f":"+'Hoja3 (2)'!$H120*'Hoja3 (2)'!$G120","v":0},"CREAR","Activa","LESION EN ACCIDENTE MARITIMO"]
[{"$f":"+'Hoja3 (2)'!$I121","v":0},"DAÑOS CAUSADOS POR ACCIDENTE FLUVIAL-MARITIMO",6,{"$f":"+IF('Hoja3 (2)'!$C121=1,'Hoja3 (2)'!$B121,\"No\")","v":"No"},{"$f":"+'Hoja3 (2)'!$C121&'Hoja3 (2)'!$B121","v":"6DAÑOS CAUSADOS POR ACCIDENTE FLUVIAL-MARITIMO"},{"$f":"IFERROR(FIND(UPPER('Causas anteriores'!$D$4),D121),0)","v":0},{"$f":"+IF('Hoja3 (2)'!$F121=0,0,1)","v":0},{"$f":"+H120+'Hoja3 (2)'!$G121","v":0},{"$f":"+'Hoja3 (2)'!$H121*'Hoja3 (2)'!$G121","v":0},"CREAR","Activa","MUERTE EN ACCIDENTE MARITIMO"]
[{"$f":"+'Hoja3 (2)'!$I122","v":0},"DAÑOS CAUSADOS POR ACCIDENTE FLUVIAL-MARITIMO",7,{"$f":"+IF('Hoja3 (2)'!$C122=1,'Hoja3 (2)'!$B122,\"No\")","v":"No"},{"$f":"+'Hoja3 (2)'!$C122&'Hoja3 (2)'!$B122","v":"7DAÑOS CAUSADOS POR ACCIDENTE FLUVIAL-MARITIMO"},{"$f":"IFERROR(FIND(UPPER('Causas anteriores'!$D$4),D122),0)","v":0},{"$f":"+IF('Hoja3 (2)'!$F122=0,0,1)","v":0},{"$f":"+H121+'Hoja3 (2)'!$G122","v":0},{"$f":"+'Hoja3 (2)'!$H122*'Hoja3 (2)'!$G122","v":0},"CREAR","Activa","DAÑOS A BIENES EN ACCIDENTE MARITIMO"]
[{"$f":"+'Hoja3 (2)'!$I123","v":0},"DAÑOS CAUSADOS POR CAIDA DE ARBOL",1,{"$f":"+IF('Hoja3 (2)'!$C123=1,'Hoja3 (2)'!$B123,\"No\")","v":"DAÑOS CAUSADOS POR CAIDA DE ARBOL"},{"$f":"+'Hoja3 (2)'!$C123&'Hoja3 (2)'!$B123","v":"1DAÑOS CAUSADOS POR CAIDA DE ARBOL"},{"$f":"IFERROR(FIND(UPPER('Causas anteriores'!$D$4),D123),0)","v":0},{"$f":"+IF('Hoja3 (2)'!$F123=0,0,1)","v":0},{"$f":"+H122+'Hoja3 (2)'!$G123","v":0},{"$f":"+'Hoja3 (2)'!$H123*'Hoja3 (2)'!$G123","v":0},"INACTIVAR PARA DESAGREGAR","Inactiva",null,null,"ACTIVA"]
[{"$f":"+'Hoja3 (2)'!$I124","v":0},"DAÑOS CAUSADOS POR CAIDA DE ARBOL",2,{"$f":"+IF('Hoja3 (2)'!$C124=1,'Hoja3 (2)'!$B124,\"No\")","v":"No"},{"$f":"+'Hoja3 (2)'!$C124&'Hoja3 (2)'!$B124","v":"2DAÑOS CAUSADOS POR CAIDA DE ARBOL"},{"$f":"IFERROR(FIND(UPPER('Causas anteriores'!$D$4),D124),0)","v":0},{"$f":"+IF('Hoja3 (2)'!$F124=0,0,1)","v":0},{"$f":"+H123+'Hoja3 (2)'!$G124","v":0},{"$f":"+'Hoja3 (2)'!$H124*'Hoja3 (2)'!$G124","v":0},"CREAR","Activa","LESION POR CAIDA DE ARBOL"]
[{"$f":"+'Hoja3 (2)'!$I125","v":0},"DAÑOS CAUSADOS POR CAIDA DE ARBOL",3,{"$f":"+IF('Hoja3 (2)'!$C125=1,'Hoja3 (2)'!$B125,\"No\")","v":"No"},{"$f":"+'Hoja3 (2)'!$C125&'Hoja3 (2)'!$B125","v":"3DAÑOS CAUSADOS POR CAIDA DE ARBOL"},{"$f":"IFERROR(FIND(UPPER('Causas anteriores'!$D$4),D125),0)","v":0},{"$f":"+IF('Hoja3 (2)'!$F125=0,0,1)","v":0},{"$f":"+H124+'Hoja3 (2)'!$G125","v":0},{"$f":"+'Hoja3 (2)'!$H125*'Hoja3 (2)'!$G125","v":0},"CREAR","Activa","MUERTE POR CAIDA DE ARBOL"]
[{"$f":"+'Hoja3 (2)'!$I126","v":0},"DAÑOS CAUSADOS POR CAIDA DE ARBOL",4,{"$f":"+IF('Hoja3 (2)'!$C126=1,'Hoja3 (2)'!$B126,\"No\")","v":"No"},{"$f":"+'Hoja3 (2)'!$C126&'Hoja3 (2)'!$B126","v":"4DAÑOS CAUSADOS POR CAIDA DE ARBOL"},{"$f":"IFERROR(FIND(UPPER('Causas anteriores'!$D$4),D126),0)","v":0},{"$f":"+IF('Hoja3 (2)'!$F126=0,0,1)","v":0},{"$f":"+H125+'Hoja3 (2)'!$G126","v":0},{"$f":"+'Hoja3 (2)'!$H126*'Hoja3 (2)'!$G126","v":0},"CREAR","Activa","DAÑOS A BIENES POR CAIDA DE ARBOL"]
[{"$f":"+'Hoja3 (2)'!$I127","v":0},"DAÑOS CAUSADOS POR CONDUCCION DE ENERGIA ELECTRICA",1,{"$f":"+IF('Hoja3 (2)'!$C127=1,'Hoja3 (2)'!$B127,\"No\")","v":"DAÑOS CAUSADOS POR CONDUCCION DE ENERGIA ELECTRICA"},{"$f":"+'Hoja3 (2)'!$C127&'Hoja3 (2)'!$B127","v":"1DAÑOS CAUSADOS POR CONDUCCION DE ENERGIA ELECTRICA"},{"$f":"IFERROR(FIND(UPPER('Causas anteriores'!$D$4),D127),0)","v":0},{"$f":"+IF('Hoja3 (2)'!$F127=0,0,1)","v":0},{"$f":"+H126+'Hoja3 (2)'!$G127","v":0},{"$f":"+'Hoja3 (2)'!$H127*'Hoja3 (2)'!$G127","v":0},"INACTIVAR PARA DESAGREGAR","Inactiva",null,null,"ACTIVA"]
[{"$f":"+'Hoja3 (2)'!$I128","v":0},"DAÑOS CAUSADOS POR CONDUCCION DE ENERGIA ELECTRICA",2,{"$f":"+IF('Hoja3 (2)'!$C128=1,'Hoja3 (2)'!$B128,\"No\")","v":"No"},{"$f":"+'Hoja3 (2)'!$C128&'Hoja3 (2)'!$B128","v":"2DAÑOS CAUSADOS POR CONDUCCION DE ENERGIA ELECTRICA"},{"$f":"IFERROR(FIND(UPPER('Causas anteriores'!$D$4),D128),0)","v":0},{"$f":"+IF('Hoja3 (2)'!$F128=0,0,1)","v":0},{"$f":"+H127+'Hoja3 (2)'!$G128","v":0},{"$f":"+'Hoja3 (2)'!$H128*'Hoja3 (2)'!$G128","v":0},"CREAR","Activa","LESION POR CONDUCCION DE ENERGIA ELECTRICA"]
[{"$f":"+'Hoja3 (2)'!$I129","v":0},"DAÑOS CAUSADOS POR CONDUCCION DE ENERGIA ELECTRICA",3,{"$f":"+IF('Hoja3 (2)'!$C129=1,'Hoja3 (2)'!$B129,\"No\")","v":"No"},{"$f":"+'Hoja3 (2)'!$C129&'Hoja3 (2)'!$B129","v":"3DAÑOS CAUSADOS POR CONDUCCION DE ENERGIA ELECTRICA"},{"$f":"IFERROR(FIND(UPPER('Causas anteriores'!$D$4),D129),0)","v":0},{"$f":"+IF('Hoja3 (2)'!$F129=0,0,1)","v":0},{"$f":"+H128+'Hoja3 (2)'!$G129","v":0},{"$f":"+'Hoja3 (2)'!$H129*'Hoja3 (2)'!$G129","v":0},"CREAR","Activa","MUERTE POR CONDUCCION DE ENERGIA ELECTRICA"]
[{"$f":"+'Hoja3 (2)'!$I130","v":0},"DAÑOS CAUSADOS POR CONDUCCION DE ENERGIA ELECTRICA",4,{"$f":"+IF('Hoja3 (2)'!$C130=1,'Hoja3 (2)'!$B130,\"No\")","v":"No"},{"$f":"+'Hoja3 (2)'!$C130&'Hoja3 (2)'!$B130","v":"4DAÑOS CAUSADOS POR CONDUCCION DE ENERGIA ELECTRICA"},{"$f":"IFERROR(FIND(UPPER('Causas anteriores'!$D$4),D130),0)","v":0},{"$f":"+IF('Hoja3 (2)'!$F130=0,0,1)","v":0},{"$f":"+H129+'Hoja3 (2)'!$G130","v":0},{"$f":"+'Hoja3 (2)'!$H130*'Hoja3 (2)'!$G130","v":0},"CREAR","Activa","DAÑOS A BIENES POR CONDUCCION DE ENERGIA ELECTRICA"]
[{"$f":"+'Hoja3 (2)'!$I131","v":0},"DAÑOS CAUSADOS POR EXPLORACION Y/O EXPLOTACION MINERA Y DE HIDROCARBUROS",1,{"$f":"+IF('Hoja3 (2)'!$C131=1,'Hoja3 (2)'!$B131,\"No\")","v":"DAÑOS CAUSADOS POR EXPLORACION Y/O EXPLOTACION MINERA Y DE HIDROCARBUROS"},{"$f":"+'Hoja3 (2)'!$C131&'Hoja3 (2)'!$B131","v":"1DAÑOS CAUSADOS POR EXPLORACION Y/O EXPLOTACION MINERA Y DE HIDROCARBUROS"},{"$f":"IFERROR(FIND(UPPER('Causas anteriores'!$D$4),D131),0)","v":0},{"$f":"+IF('Hoja3 (2)'!$F131=0,0,1)","v":0},{"$f":"+H130+'Hoja3 (2)'!$G131","v":0},{"$f":"+'Hoja3 (2)'!$H131*'Hoja3 (2)'!$G131","v":0},"INACTIVAR PARA DESAGREGAR","Inactiva",null,null,"ACTIVA"]
[{"$f":"+'Hoja3 (2)'!$I132","v":0},"DAÑOS CAUSADOS POR EXPLORACION Y/O EXPLOTACION MINERA Y DE HIDROCARBUROS",2,{"$f":"+IF('Hoja3 (2)'!$C132=1,'Hoja3 (2)'!$B132,\"No\")","v":"No"},{"$f":"+'Hoja3 (2)'!$C132&'Hoja3 (2)'!$B132","v":"2DAÑOS CAUSADOS POR EXPLORACION Y/O EXPLOTACION MINERA Y DE HIDROCARBUROS"},{"$f":"IFERROR(FIND(UPPER('Causas anteriores'!$D$4),D132),0)","v":0},{"$f":"+IF('Hoja3 (2)'!$F132=0,0,1)","v":0},{"$f":"+H131+'Hoja3 (2)'!$G132","v":0},{"$f":"+'Hoja3 (2)'!$H132*'Hoja3 (2)'!$G132","v":0},"CREAR","Activa","LESION POR ACTIVIDAD MINERA"]
[{"$f":"+'Hoja3 (2)'!$I133","v":0},"DAÑOS CAUSADOS POR EXPLORACION Y/O EXPLOTACION MINERA Y DE HIDROCARBUROS",3,{"$f":"+IF('Hoja3 (2)'!$C133=1,'Hoja3 (2)'!$B133,\"No\")","v":"No"},{"$f":"+'Hoja3 (2)'!$C133&'Hoja3 (2)'!$B133","v":"3DAÑOS CAUSADOS POR EXPLORACION Y/O EXPLOTACION MINERA Y DE HIDROCARBUROS"},{"$f":"IFERROR(FIND(UPPER('Causas anteriores'!$D$4),D133),0)","v":0},{"$f":"+IF('Hoja3 (2)'!$F133=0,0,1)","v":0},{"$f":"+H132+'Hoja3 (2)'!$G133","v":0},{"$f":"+'Hoja3 (2)'!$H133*'Hoja3 (2)'!$G133","v":0},"CREAR","Activa","MUERTE POR ACTIVIDAD MINERA"]
[{"$f":"+'Hoja3 (2)'!$I134","v":0},"DAÑOS CAUSADOS POR EXPLORACION Y/O EXPLOTACION MINERA Y DE HIDROCARBUROS",4,{"$f":"+IF('Hoja3 (2)'!$C134=1,'Hoja3 (2)'!$B134,\"No\")","v":"No"},{"$f":"+'Hoja3 (2)'!$C134&'Hoja3 (2)'!$B134","v":"4DAÑOS CAUSADOS POR EXPLORACION Y/O EXPLOTACION MINERA Y DE HIDROCARBUROS"},{"$f":"IFERROR(FIND(UPPER('Causas anteriores'!$D$4),D134),0)","v":0},{"$f":"+IF('Hoja3 (2)'!$F134=0,0,1)","v":0},{"$f":"+H133+'Hoja3 (2)'!$G134","v":0},{"$f":"+'Hoja3 (2)'!$H134*'Hoja3 (2)'!$G134","v":0},"CREAR","Activa","DAÑOS A BIENES POR ACTIVIDAD MINERA",null,null," "]
[{"$f":"+'Hoja3 (2)'!$I135","v":0},"DAÑOS CAUSADOS POR EXPLORACION Y/O EXPLOTACION MINERA Y DE HIDROCARBUROS",5,{"$f":"+IF('Hoja3 (2)'!$C135=1,'Hoja3 (2)'!$B135,\"No\")","v":"No"},{"$f":"+'Hoja3 (2)'!$C135&'Hoja3 (2)'!$B135","v":"5DAÑOS CAUSADOS POR EXPLORACION Y/O EXPLOTACION MINERA Y DE HIDROCARBUROS"},{"$f":"IFERROR(FIND(UPPER('Causas anteriores'!$D$4),D135),0)","v":0},{"$f":"+IF('Hoja3 (2)'!$F135=0,0,1)","v":0},{"$f":"+H134+'Hoja3 (2)'!$G135","v":0},{"$f":"+'Hoja3 (2)'!$H135*'Hoja3 (2)'!$G135","v":0},"CREAR","Activa","LESION POR ACTIVIDAD DEL SECTOR DE HIDROCARBUROS",null,null," "]
[{"$f":"+'Hoja3 (2)'!$I136","v":0},"DAÑOS CAUSADOS POR EXPLORACION Y/O EXPLOTACION MINERA Y DE HIDROCARBUROS",6,{"$f":"+IF('Hoja3 (2)'!$C136=1,'Hoja3 (2)'!$B136,\"No\")","v":"No"},{"$f":"+'Hoja3 (2)'!$C136&'Hoja3 (2)'!$B136","v":"6DAÑOS CAUSADOS POR EXPLORACION Y/O EXPLOTACION MINERA Y DE HIDROCARBUROS"},{"$f":"IFERROR(FIND(UPPER('Causas anteriores'!$D$4),D136),0)","v":0},{"$f":"+IF('Hoja3 (2)'!$F136=0,0,1)","v":0},{"$f":"+H135+'Hoja3 (2)'!$G136","v":0},{"$f":"+'Hoja3 (2)'!$H136*'Hoja3 (2)'!$G136","v":0},"CREAR","Activa","MUERTE POR ACTIVIDAD DEL SECTOR DE HIDROCARBUROS",null,null," "]
[{"$f":"+'Hoja3 (2)'!$I137","v":0},"DAÑOS CAUSADOS POR EXPLORACION Y/O EXPLOTACION MINERA Y DE HIDROCARBUROS",7,{"$f":"+IF('Hoja3 (2)'!$C137=1,'Hoja3 (2)'!$B137,\"No\")","v":"No"},{"$f":"+'Hoja3 (2)'!$C137&'Hoja3 (2)'!$B137","v":"7DAÑOS CAUSADOS POR EXPLORACION Y/O EXPLOTACION MINERA Y DE HIDROCARBUROS"},{"$f":"IFERROR(FIND(UPPER('Causas anteriores'!$D$4),D137),0)","v":0},{"$f":"+IF('Hoja3 (2)'!$F137=0,0,1)","v":0},{"$f":"+H136+'Hoja3 (2)'!$G137","v":0},{"$f":"+'Hoja3 (2)'!$H137*'Hoja3 (2)'!$G137","v":0},"CREAR","Activa","DAÑOS A BIENES POR ACTIVIDAD DEL SECTOR DE HIDROCARBUROS",null,null," "]
[{"$f":"+'Hoja3 (2)'!$I138","v":0},"DAÑOS CAUSADOS POR EXPLOSION DE OLEODUCTO",1,{"$f":"+IF('Hoja3 (2)'!$C138=1,'Hoja3 (2)'!$B138,\"No\")","v":"DAÑOS CAUSADOS POR EXPLOSION DE OLEODUCTO"},{"$f":"+'Hoja3 (2)'!$C138&'Hoja3 (2)'!$B138","v":"1DAÑOS CAUSADOS POR EXPLOSION DE OLEODUCTO"},{"$f":"IFERROR(FIND(UPPER('Causas anteriores'!$D$4),D138),0)","v":0},{"$f":"+IF('Hoja3 (2)'!$F138=0,0,1)","v":0},{"$f":"+H137+'Hoja3 (2)'!$G138","v":0},{"$f":"+'Hoja3 (2)'!$H138*'Hoja3 (2)'!$G138","v":0},"INACTIVAR EN NUEVA MATRIZ","Inactiva",null,null,"ACTIVA"," "]
[{"$f":"+'Hoja3 (2)'!$I139","v":0},"DAÑOS CAUSADOS POR FALTA DE SEÑALIZACION EN LA VIA PUBLICA",1,{"$f":"+IF('Hoja3 (2)'!$C139=1,'Hoja3 (2)'!$B139,\"No\")","v":"DAÑOS CAUSADOS POR FALTA DE SEÑALIZACION EN LA VIA PUBLICA"},{"$f":"+'Hoja3 (2)'!$C139&'Hoja3 (2)'!$B139","v":"1DAÑOS CAUSADOS POR FALTA DE SEÑALIZACION EN LA VIA PUBLICA"},{"$f":"IFERROR(FIND(UPPER('Causas anteriores'!$D$4),D139),0)","v":0},{"$f":"+IF('Hoja3 (2)'!$F139=0,0,1)","v":0},{"$f":"+H138+'Hoja3 (2)'!$G139","v":0},{"$f":"+'Hoja3 (2)'!$H139*'Hoja3 (2)'!$G139","v":0},"INACTIVAR PARA DESAGREGAR","Inactiva",null,null,"ACTIVA"," "]
[{"$f":"+'Hoja3 (2)'!$I140","v":0},"DAÑOS CAUSADOS POR FALTA DE SEÑALIZACION EN LA VIA PUBLICA",2,{"$f":"+IF('Hoja3 (2)'!$C140=1,'Hoja3 (2)'!$B140,\"No\")","v":"No"},{"$f":"+'Hoja3 (2)'!$C140&'Hoja3 (2)'!$B140","v":"2DAÑOS CAUSADOS POR FALTA DE SEÑALIZACION EN LA VIA PUBLICA"},{"$f":"IFERROR(FIND(UPPER('Causas anteriores'!$D$4),D140),0)","v":0},{"$f":"+IF('Hoja3 (2)'!$F140=0,0,1)","v":0},{"$f":"+H139+'Hoja3 (2)'!$G140","v":0},{"$f":"+'Hoja3 (2)'!$H140*'Hoja3 (2)'!$G140","v":0},"CREAR","Activa","LESION POR FALTA DE SEÑALIZACION EN LA VIA PUBLICA",null,null," "]
[{"$f":"+'Hoja3 (2)'!$I141","v":0},"DAÑOS CAUSADOS POR FALTA DE SEÑALIZACION EN LA VIA PUBLICA",3,{"$f":"+IF('Hoja3 (2)'!$C141=1,'Hoja3 (2)'!$B141,\"No\")","v":"No"},{"$f":"+'Hoja3 (2)'!$C141&'Hoja3 (2)'!$B141","v":"3DAÑOS CAUSADOS POR FALTA DE SEÑALIZACION EN LA VIA PUBLICA"},{"$f":"IFERROR(FIND(UPPER('Causas anteriores'!$D$4),D141),0)","v":0},{"$f":"+IF('Hoja3 (2)'!$F141=0,0,1)","v":0},{"$f":"+H140+'Hoja3 (2)'!$G141","v":0},{"$f":"+'Hoja3 (2)'!$H141*'Hoja3 (2)'!$G141","v":0},"CREAR","Activa","MUERTE POR FALTA DE SEÑALIZACION EN LA VIA PUBLICA",null,null," "]
[{"$f":"+'Hoja3 (2)'!$I142","v":0},"DAÑOS CAUSADOS POR FALTA DE SEÑALIZACION EN LA VIA PUBLICA",4,{"$f":"+IF('Hoja3 (2)'!$C142=1,'Hoja3 (2)'!$B142,\"No\")","v":"No"},{"$f":"+'Hoja3 (2)'!$C142&'Hoja3 (2)'!$B142","v":"4DAÑOS CAUSADOS POR FALTA DE SEÑALIZACION EN LA VIA PUBLICA"},{"$f":"IFERROR(FIND(UPPER('Causas anteriores'!$D$4),D142),0)","v":0},{"$f":"+IF('Hoja3 (2)'!$F142=0,0,1)","v":0},{"$f":"+H141+'Hoja3 (2)'!$G142","v":0},{"$f":"+'Hoja3 (2)'!$H142*'Hoja3 (2)'!$G142","v":0},"CREAR","Activa","DAÑOS A BIENES POR FALTA DE SEÑALIZACION EN LA VIA PUBLICA",null,null," "]
[{"$f":"+'Hoja3 (2)'!$I143","v":0},"DAÑOS CAUSADOS POR FALTA DE SEÑALIZACION EN LA VIA PUBLICA",5,{"$f":"+IF('Hoja3 (2)'!$C143=1,'Hoja3 (2)'!$B143,\"No\")","v":"No"},{"$f":"+'Hoja3 (2)'!$C143&'Hoja3 (2)'!$B143","v":"5DAÑOS CAUSADOS POR FALTA DE SEÑALIZACION EN LA VIA PUBLICA"},{"$f":"IFERROR(FIND(UPPER('Causas anteriores'!$D$4),D143),0)","v":0},{"$f":"+IF('Hoja3 (2)'!$F143=0,0,1)","v":0},{"$f":"+H142+'Hoja3 (2)'!$G143","v":0},{"$f":"+'Hoja3 (2)'!$H143*'Hoja3 (2)'!$G143","v":0},"CREAR","Activa","LESION POR FALTA DE ILUMINACION EN LA VIA PUBLICA"]
[{"$f":"+'Hoja3 (2)'!$I144","v":0},"DAÑOS CAUSADOS POR FALTA DE SEÑALIZACION EN LA VIA PUBLICA",6,{"$f":"+IF('Hoja3 (2)'!$C144=1,'Hoja3 (2)'!$B144,\"No\")","v":"No"},{"$f":"+'Hoja3 (2)'!$C144&'Hoja3 (2)'!$B144","v":"6DAÑOS CAUSADOS POR FALTA DE SEÑALIZACION EN LA VIA PUBLICA"},{"$f":"IFERROR(FIND(UPPER('Causas anteriores'!$D$4),D144),0)","v":0},{"$f":"+IF('Hoja3 (2)'!$F144=0,0,1)","v":0},{"$f":"+H143+'Hoja3 (2)'!$G144","v":0},{"$f":"+'Hoja3 (2)'!$H144*'Hoja3 (2)'!$G144","v":0},"CREAR","Activa","MUERTE POR FALTA DE ILUMINACION EN LA VIA PUBLICA"]
[{"$f":"+'Hoja3 (2)'!$I145","v":0},"DAÑOS CAUSADOS POR FALTA DE SEÑALIZACION EN LA VIA PUBLICA",7,{"$f":"+IF('Hoja3 (2)'!$C145=1,'Hoja3 (2)'!$B145,\"No\")","v":"No"},{"$f":"+'Hoja3 (2)'!$C145&'Hoja3 (2)'!$B145","v":"7DAÑOS CAUSADOS POR FALTA DE SEÑALIZACION EN LA VIA PUBLICA"},{"$f":"IFERROR(FIND(UPPER('Causas anteriores'!$D$4),D145),0)","v":0},{"$f":"+IF('Hoja3 (2)'!$F145=0,0,1)","v":0},{"$f":"+H144+'Hoja3 (2)'!$G145","v":0},{"$f":"+'Hoja3 (2)'!$H145*'Hoja3 (2)'!$G145","v":0},"CREAR","Activa","DAÑOS A BIENES POR FALTA DE ILUMINACION EN LA VIA PUBLICA"]
[{"$f":"+'Hoja3 (2)'!$I146","v":0},"DAÑOS CAUSADOS POR HACINAMIENTO",1,{"$f":"+IF('Hoja3 (2)'!$C146=1,'Hoja3 (2)'!$B146,\"No\")","v":"DAÑOS CAUSADOS POR HACINAMIENTO"},{"$f":"+'Hoja3 (2)'!$C146&'Hoja3 (2)'!$B146","v":"1DAÑOS CAUSADOS POR HACINAMIENTO"},{"$f":"IFERROR(FIND(UPPER('Causas anteriores'!$D$4),D146),0)","v":0},{"$f":"+IF('Hoja3 (2)'!$F146=0,0,1)","v":0},{"$f":"+H145+'Hoja3 (2)'!$G146","v":0},{"$f":"+'Hoja3 (2)'!$H146*'Hoja3 (2)'!$G146","v":0},"MANTENER/AJUSTAR TEXTO","Activa","HACINAMIENTO CARCELARIO",null,"ACTIVA"]
[{"$f":"+'Hoja3 (2)'!$I147","v":0},"DAÑOS CAUSADOS POR INUNDACION",1,{"$f":"+IF('Hoja3 (2)'!$C147=1,'Hoja3 (2)'!$B147,\"No\")","v":"DAÑOS CAUSADOS POR INUNDACION"},{"$f":"+'Hoja3 (2)'!$C147&'Hoja3 (2)'!$B147","v":"1DAÑOS CAUSADOS POR INUNDACION"},{"$f":"IFERROR(FIND(UPPER('Causas anteriores'!$D$4),D147),0)","v":0},{"$f":"+IF('Hoja3 (2)'!$F147=0,0,1)","v":0},{"$f":"+H146+'Hoja3 (2)'!$G147","v":0},{"$f":"+'Hoja3 (2)'!$H147*'Hoja3 (2)'!$G147","v":0},"INACTIVAR PARA DESAGREGAR","Inactiva",null,null,"ACTIVA"]
[{"$f":"+'Hoja3 (2)'!$I148","v":0},"DAÑOS CAUSADOS POR INUNDACION",2,{"$f":"+IF('Hoja3 (2)'!$C148=1,'Hoja3 (2)'!$B148,\"No\")","v":"No"},{"$f":"+'Hoja3 (2)'!$C148&'Hoja3 (2)'!$B148","v":"2DAÑOS CAUSADOS POR INUNDACION"},{"$f":"IFERROR(FIND(UPPER('Causas anteriores'!$D$4),D148),0)","v":0},{"$f":"+IF('Hoja3 (2)'!$F148=0,0,1)","v":0},{"$f":"+H147+'Hoja3 (2)'!$G148","v":0},{"$f":"+'Hoja3 (2)'!$H148*'Hoja3 (2)'!$G148","v":0},"CREAR","Activa","LESION POR INUNDACION"]
[{"$f":"+'Hoja3 (2)'!$I149","v":0},"DAÑOS CAUSADOS POR INUNDACION",3,{"$f":"+IF('Hoja3 (2)'!$C149=1,'Hoja3 (2)'!$B149,\"No\")","v":"No"},{"$f":"+'Hoja3 (2)'!$C149&'Hoja3 (2)'!$B149","v":"3DAÑOS CAUSADOS POR INUNDACION"},{"$f":"IFERROR(FIND(UPPER('Causas anteriores'!$D$4),D149),0)","v":0},{"$f":"+IF('Hoja3 (2)'!$F149=0,0,1)","v":0},{"$f":"+H148+'Hoja3 (2)'!$G149","v":0},{"$f":"+'Hoja3 (2)'!$H149*'Hoja3 (2)'!$G149","v":0},"CREAR","Activa","MUERTE POR INUNDACION"]
[{"$f":"+'Hoja3 (2)'!$I150","v":0},"DAÑOS CAUSADOS POR INUNDACION",4,{"$f":"+IF('Hoja3 (2)'!$C150=1,'Hoja3 (2)'!$B150,\"No\")","v":"No"},{"$f":"+'Hoja3 (2)'!$C150&'Hoja3 (2)'!$B150","v":"4DAÑOS CAUSADOS POR INUNDACION"},{"$f":"IFERROR(FIND(UPPER('Causas anteriores'!$D$4),D150),0)","v":0},{"$f":"+IF('Hoja3 (2)'!$F150=0,0,1)","v":0},{"$f":"+H149+'Hoja3 (2)'!$G150","v":0},{"$f":"+'Hoja3 (2)'!$H150*'Hoja3 (2)'!$G150","v":0},"CREAR","Activa","DAÑOS A BIENES POR INUNDACION"]
[{"$f":"+'Hoja3 (2)'!$I151","v":0},"DAÑOS CAUSADOS POR MEDIDAS DE EXTINCION DE DOMINIO",1,{"$f":"+IF('Hoja3 (2)'!$C151=1,'Hoja3 (2)'!$B151,\"No\")","v":"DAÑOS CAUSADOS POR MEDIDAS DE EXTINCION DE DOMINIO"},{"$f":"+'Hoja3 (2)'!$C151&'Hoja3 (2)'!$B151","v":"1DAÑOS CAUSADOS POR MEDIDAS DE EXTINCION DE DOMINIO"},{"$f":"IFERROR(FIND(UPPER('Causas anteriores'!$D$4),D151),0)","v":0},{"$f":"+IF('Hoja3 (2)'!$F151=0,0,1)","v":0},{"$f":"+H150+'Hoja3 (2)'!$G151","v":0},{"$f":"+'Hoja3 (2)'!$H151*'Hoja3 (2)'!$G151","v":0},"MANTENER/AJUSTAR TEXTO","Activa","DAÑOS CAUSADOS POR MEDIDA DE EXTINCION DE DOMINIO",null,"ACTIVA"]
[{"$f":"+'Hoja3 (2)'!$I152","v":0},"DAÑOS CAUSADOS POR OPERACION ADMINISTRATIVA",1,{"$f":"+IF('Hoja3 (2)'!$C152=1,'Hoja3 (2)'!$B152,\"No\")","v":"DAÑOS CAUSADOS POR OPERACION ADMINISTRATIVA"},{"$f":"+'Hoja3 (2)'!$C152&'Hoja3 (2)'!$B152","v":"1DAÑOS CAUSADOS POR OPERACION ADMINISTRATIVA"},{"$f":"IFERROR(FIND(UPPER('Causas anteriores'!$D$4),D152),0)","v":0},{"$f":"+IF('Hoja3 (2)'!$F152=0,0,1)","v":0},{"$f":"+H151+'Hoja3 (2)'!$G152","v":0},{"$f":"+'Hoja3 (2)'!$H152*'Hoja3 (2)'!$G152","v":0},"INACTIVAR PARA DESAGREGAR","Inactiva",null,null,"ACTIVA"]
[{"$f":"+'Hoja3 (2)'!$I153","v":0},"DAÑOS CAUSADOS POR OPERACION ADMINISTRATIVA",2,{"$f":"+IF('Hoja3 (2)'!$C153=1,'Hoja3 (2)'!$B153,\"No\")","v":"No"},{"$f":"+'Hoja3 (2)'!$C153&'Hoja3 (2)'!$B153","v":"2DAÑOS CAUSADOS POR OPERACION ADMINISTRATIVA"},{"$f":"IFERROR(FIND(UPPER('Causas anteriores'!$D$4),D153),0)","v":0},{"$f":"+IF('Hoja3 (2)'!$F153=0,0,1)","v":0},{"$f":"+H152+'Hoja3 (2)'!$G153","v":0},{"$f":"+'Hoja3 (2)'!$H153*'Hoja3 (2)'!$G153","v":0},"CREAR","Activa","LESION EN OPERACION ADMINISTRATIVA"]
[{"$f":"+'Hoja3 (2)'!$I154","v":0},"DAÑOS CAUSADOS POR OPERACION ADMINISTRATIVA",3,{"$f":"+IF('Hoja3 (2)'!$C154=1,'Hoja3 (2)'!$B154,\"No\")","v":"No"},{"$f":"+'Hoja3 (2)'!$C154&'Hoja3 (2)'!$B154","v":"3DAÑOS CAUSADOS POR OPERACION ADMINISTRATIVA"},{"$f":"IFERROR(FIND(UPPER('Causas anteriores'!$D$4),D154),0)","v":0},{"$f":"+IF('Hoja3 (2)'!$F154=0,0,1)","v":0},{"$f":"+H153+'Hoja3 (2)'!$G154","v":0},{"$f":"+'Hoja3 (2)'!$H154*'Hoja3 (2)'!$G154","v":0},"CREAR","Activa","MUERTE EN OPERACION ADMINISTRATIVA"]
[{"$f":"+'Hoja3 (2)'!$I155","v":0},"DAÑOS CAUSADOS POR OPERACION ADMINISTRATIVA",4,{"$f":"+IF('Hoja3 (2)'!$C155=1,'Hoja3 (2)'!$B155,\"No\")","v":"No"},{"$f":"+'Hoja3 (2)'!$C155&'Hoja3 (2)'!$B155","v":"4DAÑOS CAUSADOS POR OPERACION ADMINISTRATIVA"},{"$f":"IFERROR(FIND(UPPER('Causas anteriores'!$D$4),D155),0)","v":0},{"$f":"+IF('Hoja3 (2)'!$F155=0,0,1)","v":0},{"$f":"+H154+'Hoja3 (2)'!$G155","v":0},{"$f":"+'Hoja3 (2)'!$H155*'Hoja3 (2)'!$G155","v":0},"CREAR","Activa","DAÑOS A BIENES EN OPERACION ADMINISTRATIVA"]
[{"$f":"+'Hoja3 (2)'!$I156","v":0},"DAÑOS CAUSADOS POR USO EXCESIVO DE LA FUERZA",1,{"$f":"+IF('Hoja3 (2)'!$C156=1,'Hoja3 (2)'!$B156,\"No\")","v":"DAÑOS CAUSADOS POR USO EXCESIVO DE LA FUERZA"},{"$f":"+'Hoja3 (2)'!$C156&'Hoja3 (2)'!$B156","v":"1DAÑOS CAUSADOS POR USO EXCESIVO DE LA FUERZA"},{"$f":"IFERROR(FIND(UPPER('Causas anteriores'!$D$4),D156),0)","v":0},{"$f":"+IF('Hoja3 (2)'!$F156=0,0,1)","v":0},{"$f":"+H155+'Hoja3 (2)'!$G156","v":0},{"$f":"+'Hoja3 (2)'!$H156*'Hoja3 (2)'!$G156","v":0},"INACTIVAR PARA DESAGREGAR","Inactiva",null,null,"ACTIVA"]
[{"$f":"+'Hoja3 (2)'!$I157","v":0},"DAÑOS CAUSADOS POR USO EXCESIVO DE LA FUERZA",2,{"$f":"+IF('Hoja3 (2)'!$C157=1,'Hoja3 (2)'!$B157,\"No\")","v":"No"},{"$f":"+'Hoja3 (2)'!$C157&'Hoja3 (2)'!$B157","v":"2DAÑOS CAUSADOS POR USO EXCESIVO DE LA FUERZA"},{"$f":"IFERROR(FIND(UPPER('Causas anteriores'!$D$4),D157),0)","v":0},{"$f":"+IF('Hoja3 (2)'!$F157=0,0,1)","v":0},{"$f":"+H156+'Hoja3 (2)'!$G157","v":0},{"$f":"+'Hoja3 (2)'!$H157*'Hoja3 (2)'!$G157","v":0},"CREAR","Activa","LESION POR USO EXCESIVO DE LA FUERZA"]
[{"$f":"+'Hoja3 (2)'!$I158","v":0},"DAÑOS CAUSADOS POR USO EXCESIVO DE LA FUERZA",3,{"$f":"+IF('Hoja3 (2)'!$C158=1,'Hoja3 (2)'!$B158,\"No\")","v":"No"},{"$f":"+'Hoja3 (2)'!$C158&'Hoja3 (2)'!$B158","v":"3DAÑOS CAUSADOS POR USO EXCESIVO DE LA FUERZA"},{"$f":"IFERROR(FIND(UPPER('Causas anteriores'!$D$4),D158),0)","v":0},{"$f":"+IF('Hoja3 (2)'!$F158=0,0,1)","v":0},{"$f":"+H157+'Hoja3 (2)'!$G158","v":0},{"$f":"+'Hoja3 (2)'!$H158*'Hoja3 (2)'!$G158","v":0},"CREAR","Activa","MUERTE POR USO EXCESIVO DE LA FUERZA"]
[{"$f":"+'Hoja3 (2)'!$I159","v":0},"DAÑOS CAUSADOS POR USO EXCESIVO DE LA FUERZA",4,{"$f":"+IF('Hoja3 (2)'!$C159=1,'Hoja3 (2)'!$B159,\"No\")","v":"No"},{"$f":"+'Hoja3 (2)'!$C159&'Hoja3 (2)'!$B159","v":"4DAÑOS CAUSADOS POR USO EXCESIVO DE LA FUERZA"},{"$f":"IFERROR(FIND(UPPER('Causas anteriores'!$D$4),D159),0)","v":0},{"$f":"+IF('Hoja3 (2)'!$F159=0,0,1)","v":0},{"$f":"+H158+'Hoja3 (2)'!$G159","v":0},{"$f":"+'Hoja3 (2)'!$H159*'Hoja3 (2)'!$G159","v":0},"CREAR","Activa","DAÑOS A BIENES POR USO EXCESIVO DE LA FUERZA"]
[{"$f":"+'Hoja3 (2)'!$I160","v":0},"DAÑOS CAUSADOS POR VIA EN MAL ESTADO",1,{"$f":"+IF('Hoja3 (2)'!$C160=1,'Hoja3 (2)'!$B160,\"No\")","v":"DAÑOS CAUSADOS POR VIA EN MAL ESTADO"},{"$f":"+'Hoja3 (2)'!$C160&'Hoja3 (2)'!$B160","v":"1DAÑOS CAUSADOS POR VIA EN MAL ESTADO"},{"$f":"IFERROR(FIND(UPPER('Causas anteriores'!$D$4),D160),0)","v":0},{"$f":"+IF('Hoja3 (2)'!$F160=0,0,1)","v":0},{"$f":"+H159+'Hoja3 (2)'!$G160","v":0},{"$f":"+'Hoja3 (2)'!$H160*'Hoja3 (2)'!$G160","v":0},"INACTIVAR PARA DESAGREGAR","Inactiva",null,null,"ACTIVA"]
[{"$f":"+'Hoja3 (2)'!$I161","v":0},"DAÑOS CAUSADOS POR VIA EN MAL ESTADO",2,{"$f":"+IF('Hoja3 (2)'!$C161=1,'Hoja3 (2)'!$B161,\"No\")","v":"No"},{"$f":"+'Hoja3 (2)'!$C161&'Hoja3 (2)'!$B161","v":"2DAÑOS CAUSADOS POR VIA EN MAL ESTADO"},{"$f":"IFERROR(FIND(UPPER('Causas anteriores'!$D$4),D161),0)","v":0},{"$f":"+IF('Hoja3 (2)'!$F161=0,0,1)","v":0},{"$f":"+H160+'Hoja3 (2)'!$G161","v":0},{"$f":"+'Hoja3 (2)'!$H161*'Hoja3 (2)'!$G161","v":0},"CREAR","Activa","LESION POR VIA PUBLICA EN MAL ESTADO"]
[{"$f":"+'Hoja3 (2)'!$I162","v":0},"DAÑOS CAUSADOS POR VIA EN MAL ESTADO",3,{"$f":"+IF('Hoja3 (2)'!$C162=1,'Hoja3 (2)'!$B162,\"No\")","v":"No"},{"$f":"+'Hoja3 (2)'!$C162&'Hoja3 (2)'!$B162","v":"3DAÑOS CAUSADOS POR VIA EN MAL ESTADO"},{"$f":"IFERROR(FIND(UPPER('Causas anteriores'!$D$4),D162),0)","v":0},{"$f":"+IF('Hoja3 (2)'!$F162=0,0,1)","v":0},{"$f":"+H161+'Hoja3 (2)'!$G162","v":0},{"$f":"+'Hoja3 (2)'!$H162*'Hoja3 (2)'!$G162","v":0},"CREAR","Activa","MUERTE POR VIA PUBLICA EN MAL ESTADO"]
[{"$f":"+'Hoja3 (2)'!$I163","v":0},"DAÑOS CAUSADOS POR VIA EN MAL ESTADO",4,{"$f":"+IF('Hoja3 (2)'!$C163=1,'Hoja3 (2)'!$B163,\"No\")","v":"No"},{"$f":"+'Hoja3 (2)'!$C163&'Hoja3 (2)'!$B163","v":"4DAÑOS CAUSADOS POR VIA EN MAL ESTADO"},{"$f":"IFERROR(FIND(UPPER('Causas anteriores'!$D$4),D163),0)","v":0},{"$f":"+IF('Hoja3 (2)'!$F163=0,0,1)","v":0},{"$f":"+H162+'Hoja3 (2)'!$G163","v":0},{"$f":"+'Hoja3 (2)'!$H163*'Hoja3 (2)'!$G163","v":0},"CREAR","Activa","DAÑOS A BIENES POR VIA PUBLICA EN MAL ESTADO"]
[{"$f":"+'Hoja3 (2)'!$I164","v":0},"DAÑOS CAUSADOS POR VIAS DE HECHO DE FUNCIONARIO PUBLICO",1,{"$f":"+IF('Hoja3 (2)'!$C164=1,'Hoja3 (2)'!$B164,\"No\")","v":"DAÑOS CAUSADOS POR VIAS DE HECHO DE FUNCIONARIO PUBLICO"},{"$f":"+'Hoja3 (2)'!$C164&'Hoja3 (2)'!$B164","v":"1DAÑOS CAUSADOS POR VIAS DE HECHO DE FUNCIONARIO PUBLICO"},{"$f":"IFERROR(FIND(UPPER('Causas anteriores'!$D$4),D164),0)","v":0},{"$f":"+IF('Hoja3 (2)'!$F164=0,0,1)","v":0},{"$f":"+H163+'Hoja3 (2)'!$G164","v":0},{"$f":"+'Hoja3 (2)'!$H164*'Hoja3 (2)'!$G164","v":0},"MANTENER/AJUSTAR TEXTO","Activa","VIA DE HECHO DE LA ADMINISTRACION",null,"ACTIVA"]
[{"$f":"+'Hoja3 (2)'!$I165","v":0},"DAÑOS DERIVADOS DE RESCATE DE SECUESTRADO",1,{"$f":"+IF('Hoja3 (2)'!$C165=1,'Hoja3 (2)'!$B165,\"No\")","v":"DAÑOS DERIVADOS DE RESCATE DE SECUESTRADO"},{"$f":"+'Hoja3 (2)'!$C165&'Hoja3 (2)'!$B165","v":"1DAÑOS DERIVADOS DE RESCATE DE SECUESTRADO"},{"$f":"IFERROR(FIND(UPPER('Causas anteriores'!$D$4),D165),0)","v":0},{"$f":"+IF('Hoja3 (2)'!$F165=0,0,1)","v":0},{"$f":"+H164+'Hoja3 (2)'!$G165","v":0},{"$f":"+'Hoja3 (2)'!$H165*'Hoja3 (2)'!$G165","v":0},"INACTIVAR EN NUEVA MATRIZ","Inactiva",null,null,"ACTIVA"]
[{"$f":"+'Hoja3 (2)'!$I166","v":0},"DAÑOS DERIVADOS DEL SECUESTRO",1,{"$f":"+IF('Hoja3 (2)'!$C166=1,'Hoja3 (2)'!$B166,\"No\")","v":"DAÑOS DERIVADOS DEL SECUESTRO"},{"$f":"+'Hoja3 (2)'!$C166&'Hoja3 (2)'!$B166","v":"1DAÑOS DERIVADOS DEL SECUESTRO"},{"$f":"IFERROR(FIND(UPPER('Causas anteriores'!$D$4),D166),0)","v":0},{"$f":"+IF('Hoja3 (2)'!$F166=0,0,1)","v":0},{"$f":"+H165+'Hoja3 (2)'!$G166","v":0},{"$f":"+'Hoja3 (2)'!$H166*'Hoja3 (2)'!$G166","v":0},"INACTIVAR PARA DESAGREGAR","Inactiva",null,null,"ACTIVA"]
[{"$f":"+'Hoja3 (2)'!$I167","v":0},"DAÑOS DERIVADOS DEL SECUESTRO",2,{"$f":"+IF('Hoja3 (2)'!$C167=1,'Hoja3 (2)'!$B167,\"No\")","v":"No"},{"$f":"+'Hoja3 (2)'!$C167&'Hoja3 (2)'!$B167","v":"2DAÑOS DERIVADOS DEL SECUESTRO"},{"$f":"IFERROR(FIND(UPPER('Causas anteriores'!$D$4),D167),0)","v":0},{"$f":"+IF('Hoja3 (2)'!$F167=0,0,1)","v":0},{"$f":"+H166+'Hoja3 (2)'!$G167","v":0},{"$f":"+'Hoja3 (2)'!$H167*'Hoja3 (2)'!$G167","v":0},"CREAR","Activa","SECUESTRO DE CONSCRIPTO"]
[{"$f":"+'Hoja3 (2)'!$I168","v":0},"DAÑOS DERIVADOS DEL SECUESTRO",3,{"$f":"+IF('Hoja3 (2)'!$C168=1,'Hoja3 (2)'!$B168,\"No\")","v":"No"},{"$f":"+'Hoja3 (2)'!$C168&'Hoja3 (2)'!$B168","v":"3DAÑOS DERIVADOS DEL SECUESTRO"},{"$f":"IFERROR(FIND(UPPER('Causas anteriores'!$D$4),D168),0)","v":0},{"$f":"+IF('Hoja3 (2)'!$F168=0,0,1)","v":0},{"$f":"+H167+'Hoja3 (2)'!$G168","v":0},{"$f":"+'Hoja3 (2)'!$H168*'Hoja3 (2)'!$G168","v":0},"CREAR","Activa","SECUESTRO DE MIEMBRO VOLUNTARIO DE LA FUERZA PUBLICA"]
[{"$f":"+'Hoja3 (2)'!$I169","v":0},"DAÑOS DERIVADOS DEL SECUESTRO",4,{"$f":"+IF('Hoja3 (2)'!$C169=1,'Hoja3 (2)'!$B169,\"No\")","v":"No"},{"$f":"+'Hoja3 (2)'!$C169&'Hoja3 (2)'!$B169","v":"4DAÑOS DERIVADOS DEL SECUESTRO"},{"$f":"IFERROR(FIND(UPPER('Causas anteriores'!$D$4),D169),0)","v":0},{"$f":"+IF('Hoja3 (2)'!$F169=0,0,1)","v":0},{"$f":"+H168+'Hoja3 (2)'!$G169","v":0},{"$f":"+'Hoja3 (2)'!$H169*'Hoja3 (2)'!$G169","v":0},"CREAR","Activa","SECUESTRO DE CIVIL"]
[{"$f":"+'Hoja3 (2)'!$I170","v":0},"DAÑOS ECOLOGICOS",1,{"$f":"+IF('Hoja3 (2)'!$C170=1,'Hoja3 (2)'!$B170,\"No\")","v":"DAÑOS ECOLOGICOS"},{"$f":"+'Hoja3 (2)'!$C170&'Hoja3 (2)'!$B170","v":"1DAÑOS ECOLOGICOS"},{"$f":"IFERROR(FIND(UPPER('Causas anteriores'!$D$4),D170),0)","v":0},{"$f":"+IF('Hoja3 (2)'!$F170=0,0,1)","v":0},{"$f":"+H169+'Hoja3 (2)'!$G170","v":0},{"$f":"+'Hoja3 (2)'!$H170*'Hoja3 (2)'!$G170","v":0},"ESTABA INACTIVA","Inactiva",null,null,"INACTIVA"]
[{"$f":"+'Hoja3 (2)'!$I171","v":0},"DAÑOS MATERIALES CAUSADOS CON ARMA DE USO OFICIAL",1,{"$f":"+IF('Hoja3 (2)'!$C171=1,'Hoja3 (2)'!$B171,\"No\")","v":"DAÑOS MATERIALES CAUSADOS CON ARMA DE USO OFICIAL"},{"$f":"+'Hoja3 (2)'!$C171&'Hoja3 (2)'!$B171","v":"1DAÑOS MATERIALES CAUSADOS CON ARMA DE USO OFICIAL"},{"$f":"IFERROR(FIND(UPPER('Causas anteriores'!$D$4),D171),0)","v":0},{"$f":"+IF('Hoja3 (2)'!$F171=0,0,1)","v":0},{"$f":"+H170+'Hoja3 (2)'!$G171","v":0},{"$f":"+'Hoja3 (2)'!$H171*'Hoja3 (2)'!$G171","v":0},"ESTABA INACTIVA","Inactiva",null,null,"INACTIVA"]
[{"$f":"+'Hoja3 (2)'!$I172","v":0},"DAÑOS MATERIALES CAUSADOS EN EJECUCION DE CONTRATO",1,{"$f":"+IF('Hoja3 (2)'!$C172=1,'Hoja3 (2)'!$B172,\"No\")","v":"DAÑOS MATERIALES CAUSADOS EN EJECUCION DE CONTRATO"},{"$f":"+'Hoja3 (2)'!$C172&'Hoja3 (2)'!$B172","v":"1DAÑOS MATERIALES CAUSADOS EN EJECUCION DE CONTRATO"},{"$f":"IFERROR(FIND(UPPER('Causas anteriores'!$D$4),D172),0)","v":0},{"$f":"+IF('Hoja3 (2)'!$F172=0,0,1)","v":0},{"$f":"+H171+'Hoja3 (2)'!$G172","v":0},{"$f":"+'Hoja3 (2)'!$H172*'Hoja3 (2)'!$G172","v":0},"ESTABA INACTIVA","Inactiva",null,null,"INACTIVA"]
[{"$f":"+'Hoja3 (2)'!$I173","v":0},"DAÑOS MATERIALES CAUSADOS POR ATENTADO TERRORISTA",1,{"$f":"+IF('Hoja3 (2)'!$C173=1,'Hoja3 (2)'!$B173,\"No\")","v":"DAÑOS MATERIALES CAUSADOS POR ATENTADO TERRORISTA"},{"$f":"+'Hoja3 (2)'!$C173&'Hoja3 (2)'!$B173","v":"1DAÑOS MATERIALES CAUSADOS POR ATENTADO TERRORISTA"},{"$f":"IFERROR(FIND(UPPER('Causas anteriores'!$D$4),D173),0)","v":0},{"$f":"+IF('Hoja3 (2)'!$F173=0,0,1)","v":0},{"$f":"+H172+'Hoja3 (2)'!$G173","v":0},{"$f":"+'Hoja3 (2)'!$H173*'Hoja3 (2)'!$G173","v":0},"ESTABA INACTIVA","Inactiva",null,null,"INACTIVA"]
[{"$f":"+'Hoja3 (2)'!$I174","v":0},"DAÑOS MATERIALES CAUSADOS POR DECLARATORIA DE RESERVA FORESTAL",1,{"$f":"+IF('Hoja3 (2)'!$C174=1,'Hoja3 (2)'!$B174,\"No\")","v":"DAÑOS MATERIALES CAUSADOS POR DECLARATORIA DE RESERVA FORESTAL"},{"$f":"+'Hoja3 (2)'!$C174&'Hoja3 (2)'!$B174","v":"1DAÑOS MATERIALES CAUSADOS POR DECLARATORIA DE RESERVA FORESTAL"},{"$f":"IFERROR(FIND(UPPER('Causas anteriores'!$D$4),D174),0)","v":0},{"$f":"+IF('Hoja3 (2)'!$F174=0,0,1)","v":0},{"$f":"+H173+'Hoja3 (2)'!$G174","v":0},{"$f":"+'Hoja3 (2)'!$H174*'Hoja3 (2)'!$G174","v":0},"MANTENER/AJUSTAR TEXTO","Activa","PERJUICIOS OCASIONADOS POR DECLARATORIA DE ZONA DE RESERVA FORESTAL",null,"ACTIVA"]
[{"$f":"+'Hoja3 (2)'!$I175","v":0},"DAÑOS MATERIALES CAUSADOS POR FUNCIONARIO EN DILIGENCIA JUDICIAL",1,{"$f":"+IF('Hoja3 (2)'!$C175=1,'Hoja3 (2)'!$B175,\"No\")","v":"DAÑOS MATERIALES CAUSADOS POR FUNCIONARIO EN DILIGENCIA JUDICIAL"},{"$f":"+'Hoja3 (2)'!$C175&'Hoja3 (2)'!$B175","v":"1DAÑOS MATERIALES CAUSADOS POR FUNCIONARIO EN DILIGENCIA JUDICIAL"},{"$f":"IFERROR(FIND(UPPER('Causas anteriores'!$D$4),D175),0)","v":0},{"$f":"+IF('Hoja3 (2)'!$F175=0,0,1)","v":0},{"$f":"+H174+'Hoja3 (2)'!$G175","v":0},{"$f":"+'Hoja3 (2)'!$H175*'Hoja3 (2)'!$G175","v":0},"ESTABA INACTIVA","Inactiva",null,null,"INACTIVA"]
[{"$f":"+'Hoja3 (2)'!$I176","v":0},"DAÑOS MATERIALES CAUSADOS POR MINA ANTIPERSONA",1,{"$f":"+IF('Hoja3 (2)'!$C176=1,'Hoja3 (2)'!$B176,\"No\")","v":"DAÑOS MATERIALES CAUSADOS POR MINA ANTIPERSONA"},{"$f":"+'Hoja3 (2)'!$C176&'Hoja3 (2)'!$B176","v":"1DAÑOS MATERIALES CAUSADOS POR MINA ANTIPERSONA"},{"$f":"IFERROR(FIND(UPPER('Causas anteriores'!$D$4),D176),0)","v":0},{"$f":"+IF('Hoja3 (2)'!$F176=0,0,1)","v":0},{"$f":"+H175+'Hoja3 (2)'!$G176","v":0},{"$f":"+'Hoja3 (2)'!$H176*'Hoja3 (2)'!$G176","v":0},"ESTABA INACTIVA","Inactiva",null,null,"INACTIVA"]
[{"$f":"+'Hoja3 (2)'!$I177","v":0},"DAÑOS MATERIALES CAUSADOS POR REDES ELECTRICAS",1,{"$f":"+IF('Hoja3 (2)'!$C177=1,'Hoja3 (2)'!$B177,\"No\")","v":"DAÑOS MATERIALES CAUSADOS POR REDES ELECTRICAS"},{"$f":"+'Hoja3 (2)'!$C177&'Hoja3 (2)'!$B177","v":"1DAÑOS MATERIALES CAUSADOS POR REDES ELECTRICAS"},{"$f":"IFERROR(FIND(UPPER('Causas anteriores'!$D$4),D177),0)","v":0},{"$f":"+IF('Hoja3 (2)'!$F177=0,0,1)","v":0},{"$f":"+H176+'Hoja3 (2)'!$G177","v":0},{"$f":"+'Hoja3 (2)'!$H177*'Hoja3 (2)'!$G177","v":0},"ESTABA INACTIVA","Inactiva",null,null,"INACTIVA"]
[{"$f":"+'Hoja3 (2)'!$I178","v":0},"DAÑOS MATERIALES CAUSADOS POR SERVIDOR PUBLICO EN EJERCICIO DE SUS FUNCIONES",1,{"$f":"+IF('Hoja3 (2)'!$C178=1,'Hoja3 (2)'!$B178,\"No\")","v":"DAÑOS MATERIALES CAUSADOS POR SERVIDOR PUBLICO EN EJERCICIO DE SUS FUNCIONES"},{"$f":"+'Hoja3 (2)'!$C178&'Hoja3 (2)'!$B178","v":"1DAÑOS MATERIALES CAUSADOS POR SERVIDOR PUBLICO EN EJERCICIO DE SUS FUNCIONES"},{"$f":"IFERROR(FIND(UPPER('Causas anteriores'!$D$4),D178),0)","v":0},{"$f":"+IF('Hoja3 (2)'!$F178=0,0,1)","v":0},{"$f":"+H177+'Hoja3 (2)'!$G178","v":0},{"$f":"+'Hoja3 (2)'!$H178*'Hoja3 (2)'!$G178","v":0},"ESTABA INACTIVA","Inactiva",null,null,"INACTIVA"]
[{"$f":"+'Hoja3 (2)'!$I179","v":0},"DAÑOS OCASIONADOS EN COMISION DE SERVICIOS",1,{"$f":"+IF('Hoja3 (2)'!$C179=1,'Hoja3 (2)'!$B179,\"No\")","v":"DAÑOS OCASIONADOS EN COMISION DE SERVICIOS"},{"$f":"+'Hoja3 (2)'!$C179&'Hoja3 (2)'!$B179","v":"1DAÑOS OCASIONADOS EN COMISION DE SERVICIOS"},{"$f":"IFERROR(FIND(UPPER('Causas anteriores'!$D$4),D179),0)","v":0},{"$f":"+IF('Hoja3 (2)'!$F179=0,0,1)","v":0},{"$f":"+H178+'Hoja3 (2)'!$G179","v":0},{"$f":"+'Hoja3 (2)'!$H179*'Hoja3 (2)'!$G179","v":0},"INACTIVAR EN NUEVA MATRIZ","Inactiva",null,null,"ACTIVA"]
[{"$f":"+'Hoja3 (2)'!$I180","v":0},"DAÑOS OCASIONADOS POR FALTA DE MANTENIMIENTO DE BIEN INMUEBLE ARRENDADO",1,{"$f":"+IF('Hoja3 (2)'!$C180=1,'Hoja3 (2)'!$B180,\"No\")","v":"DAÑOS OCASIONADOS POR FALTA DE MANTENIMIENTO DE BIEN INMUEBLE ARRENDADO"},{"$f":"+'Hoja3 (2)'!$C180&'Hoja3 (2)'!$B180","v":"1DAÑOS OCASIONADOS POR FALTA DE MANTENIMIENTO DE BIEN INMUEBLE ARRENDADO"},{"$f":"IFERROR(FIND(UPPER('Causas anteriores'!$D$4),D180),0)","v":0},{"$f":"+IF('Hoja3 (2)'!$F180=0,0,1)","v":0},{"$f":"+H179+'Hoja3 (2)'!$G180","v":0},{"$f":"+'Hoja3 (2)'!$H180*'Hoja3 (2)'!$G180","v":0},"MANTENER/AJUSTAR TEXTO","Activa","FALTA DE MANTENIMIENTO DE BIEN INMUEBLE ARRENDADO",null,"ACTIVA"]
[{"$f":"+'Hoja3 (2)'!$I181","v":0},"DAÑOS OCASIONADOS POR RUINA DE EDIFICIO",1,{"$f":"+IF('Hoja3 (2)'!$C181=1,'Hoja3 (2)'!$B181,\"No\")","v":"DAÑOS OCASIONADOS POR RUINA DE EDIFICIO"},{"$f":"+'Hoja3 (2)'!$C181&'Hoja3 (2)'!$B181","v":"1DAÑOS OCASIONADOS POR RUINA DE EDIFICIO"},{"$f":"IFERROR(FIND(UPPER('Causas anteriores'!$D$4),D181),0)","v":0},{"$f":"+IF('Hoja3 (2)'!$F181=0,0,1)","v":0},{"$f":"+H180+'Hoja3 (2)'!$G181","v":0},{"$f":"+'Hoja3 (2)'!$H181*'Hoja3 (2)'!$G181","v":0},"INACTIVAR EN NUEVA MATRIZ","Inactiva",null,null,"ACTIVA"]
[{"$f":"+'Hoja3 (2)'!$I182","v":0},"DAÑOS OCASIONADOS POR RUINA DE EDIFICIO",2,{"$f":"+IF('Hoja3 (2)'!$C182=1,'Hoja3 (2)'!$B182,\"No\")","v":"No"},{"$f":"+'Hoja3 (2)'!$C182&'Hoja3 (2)'!$B182","v":"2DAÑOS OCASIONADOS POR RUINA DE EDIFICIO"},{"$f":"IFERROR(FIND(UPPER('Causas anteriores'!$D$4),D182),0)","v":0},{"$f":"+IF('Hoja3 (2)'!$F182=0,0,1)","v":0},{"$f":"+H181+'Hoja3 (2)'!$G182","v":0},{"$f":"+'Hoja3 (2)'!$H182*'Hoja3 (2)'!$G182","v":0},"CREAR","Activa","LESION POR RUINA DE EDIFICACION PUBLICA"]
[{"$f":"+'Hoja3 (2)'!$I183","v":0},"DAÑOS OCASIONADOS POR RUINA DE EDIFICIO",3,{"$f":"+IF('Hoja3 (2)'!$C183=1,'Hoja3 (2)'!$B183,\"No\")","v":"No"},{"$f":"+'Hoja3 (2)'!$C183&'Hoja3 (2)'!$B183","v":"3DAÑOS OCASIONADOS POR RUINA DE EDIFICIO"},{"$f":"IFERROR(FIND(UPPER('Causas anteriores'!$D$4),D183),0)","v":0},{"$f":"+IF('Hoja3 (2)'!$F183=0,0,1)","v":0},{"$f":"+H182+'Hoja3 (2)'!$G183","v":0},{"$f":"+'Hoja3 (2)'!$H183*'Hoja3 (2)'!$G183","v":0},"CREAR","Activa","MUERTE POR RUINA DE EDIFICACION PUBLICA"]
[{"$f":"+'Hoja3 (2)'!$I184","v":0},"DAÑOS OCASIONADOS POR RUINA DE EDIFICIO",4,{"$f":"+IF('Hoja3 (2)'!$C184=1,'Hoja3 (2)'!$B184,\"No\")","v":"No"},{"$f":"+'Hoja3 (2)'!$C184&'Hoja3 (2)'!$B184","v":"4DAÑOS OCASIONADOS POR RUINA DE EDIFICIO"},{"$f":"IFERROR(FIND(UPPER('Causas anteriores'!$D$4),D184),0)","v":0},{"$f":"+IF('Hoja3 (2)'!$F184=0,0,1)","v":0},{"$f":"+H183+'Hoja3 (2)'!$G184","v":0},{"$f":"+'Hoja3 (2)'!$H184*'Hoja3 (2)'!$G184","v":0},"CREAR","Activa","DAÑOS A BIENES POR RUINA DE EDIFICACION PUBLICA"]
[{"$f":"+'Hoja3 (2)'!$I185","v":0},"DAÑOS OCASIONADOS POR TRANSPORTE DE PRODUCTOS MINEROS E HIDROCARBUROS",1,{"$f":"+IF('Hoja3 (2)'!$C185=1,'Hoja3 (2)'!$B185,\"No\")","v":"DAÑOS OCASIONADOS POR TRANSPORTE DE PRODUCTOS MINEROS E HIDROCARBUROS"},{"$f":"+'Hoja3 (2)'!$C185&'Hoja3 (2)'!$B185","v":"1DAÑOS OCASIONADOS POR TRANSPORTE DE PRODUCTOS MINEROS E HIDROCARBUROS"},{"$f":"IFERROR(FIND(UPPER('Causas anteriores'!$D$4),D185),0)","v":0},{"$f":"+IF('Hoja3 (2)'!$F185=0,0,1)","v":0},{"$f":"+H184+'Hoja3 (2)'!$G185","v":0},{"$f":"+'Hoja3 (2)'!$H185*'Hoja3 (2)'!$G185","v":0},"INACTIVAR EN NUEVA MATRIZ","Inactiva",null,null,"ACTIVA"]
[{"$f":"+'Hoja3 (2)'!$I186","v":0},"DECLARATORIA DE DESIERTAS",1,{"$f":"+IF('Hoja3 (2)'!$C186=1,'Hoja3 (2)'!$B186,\"No\")","v":"DECLARATORIA DE DESIERTAS"},{"$f":"+'Hoja3 (2)'!$C186&'Hoja3 (2)'!$B186","v":"1DECLARATORIA DE DESIERTAS"},{"$f":"IFERROR(FIND(UPPER('Causas anteriores'!$D$4),D186),0)","v":0},{"$f":"+IF('Hoja3 (2)'!$F186=0,0,1)","v":0},{"$f":"+H185+'Hoja3 (2)'!$G186","v":0},{"$f":"+'Hoja3 (2)'!$H186*'Hoja3 (2)'!$G186","v":0},"ESTABA INACTIVA","Inactiva",null,null,"INACTIVA"]
[{"$f":"+'Hoja3 (2)'!$I187","v":0},"DECOMISO ILEGAL DE ARMAS",1,{"$f":"+IF('Hoja3 (2)'!$C187=1,'Hoja3 (2)'!$B187,\"No\")","v":"DECOMISO ILEGAL DE ARMAS"},{"$f":"+'Hoja3 (2)'!$C187&'Hoja3 (2)'!$B187","v":"1DECOMISO ILEGAL DE ARMAS"},{"$f":"IFERROR(FIND(UPPER('Causas anteriores'!$D$4),D187),0)","v":0},{"$f":"+IF('Hoja3 (2)'!$F187=0,0,1)","v":0},{"$f":"+H186+'Hoja3 (2)'!$G187","v":0},{"$f":"+'Hoja3 (2)'!$H187*'Hoja3 (2)'!$G187","v":0},"INACTIVAR EN NUEVA MATRIZ","Inactiva",null,null,"ACTIVA"]
[{"$f":"+'Hoja3 (2)'!$I188","v":0},"DEFECTUOSO FUNCIONAMIENTO DE LA ADMINISTRACION DE JUSTICIA",1,{"$f":"+IF('Hoja3 (2)'!$C188=1,'Hoja3 (2)'!$B188,\"No\")","v":"DEFECTUOSO FUNCIONAMIENTO DE LA ADMINISTRACION DE JUSTICIA"},{"$f":"+'Hoja3 (2)'!$C188&'Hoja3 (2)'!$B188","v":"1DEFECTUOSO FUNCIONAMIENTO DE LA ADMINISTRACION DE JUSTICIA"},{"$f":"IFERROR(FIND(UPPER('Causas anteriores'!$D$4),D188),0)","v":0},{"$f":"+IF('Hoja3 (2)'!$F188=0,0,1)","v":0},{"$f":"+H187+'Hoja3 (2)'!$G188","v":0},{"$f":"+'Hoja3 (2)'!$H188*'Hoja3 (2)'!$G188","v":0},"MANTENER/AJUSTAR TEXTO","Activa","DEFECTUOSO FUNCIONAMIENTO DE LA ADMINISTRACION DE JUSTICIA",null,"ACTIVA"]
[{"$f":"+'Hoja3 (2)'!$I189","v":0},"DEMANDA DE PENSION DE SUBOFICIAL U OFICIAL",1,{"$f":"+IF('Hoja3 (2)'!$C189=1,'Hoja3 (2)'!$B189,\"No\")","v":"DEMANDA DE PENSION DE SUBOFICIAL U OFICIAL"},{"$f":"+'Hoja3 (2)'!$C189&'Hoja3 (2)'!$B189","v":"1DEMANDA DE PENSION DE SUBOFICIAL U OFICIAL"},{"$f":"IFERROR(FIND(UPPER('Causas anteriores'!$D$4),D189),0)","v":0},{"$f":"+IF('Hoja3 (2)'!$F189=0,0,1)","v":0},{"$f":"+H188+'Hoja3 (2)'!$G189","v":0},{"$f":"+'Hoja3 (2)'!$H189*'Hoja3 (2)'!$G189","v":0},"ESTABA INACTIVA","Inactiva",null,null,"INACTIVA"]
[{"$f":"+'Hoja3 (2)'!$I190","v":0},"DESAPARICION CADAVER RESCATADO",1,{"$f":"+IF('Hoja3 (2)'!$C190=1,'Hoja3 (2)'!$B190,\"No\")","v":"DESAPARICION CADAVER RESCATADO"},{"$f":"+'Hoja3 (2)'!$C190&'Hoja3 (2)'!$B190","v":"1DESAPARICION CADAVER RESCATADO"},{"$f":"IFERROR(FIND(UPPER('Causas anteriores'!$D$4),D190),0)","v":0},{"$f":"+IF('Hoja3 (2)'!$F190=0,0,1)","v":0},{"$f":"+H189+'Hoja3 (2)'!$G190","v":0},{"$f":"+'Hoja3 (2)'!$H190*'Hoja3 (2)'!$G190","v":0},"MANTENER/AJUSTAR TEXTO","Activa","INDEBIDO MANEJO DE CADAVER",null,"ACTIVA"]
[{"$f":"+'Hoja3 (2)'!$I191","v":0},"DESAPARICION FORZADA",1,{"$f":"+IF('Hoja3 (2)'!$C191=1,'Hoja3 (2)'!$B191,\"No\")","v":"DESAPARICION FORZADA"},{"$f":"+'Hoja3 (2)'!$C191&'Hoja3 (2)'!$B191","v":"1DESAPARICION FORZADA"},{"$f":"IFERROR(FIND(UPPER('Causas anteriores'!$D$4),D191),0)","v":0},{"$f":"+IF('Hoja3 (2)'!$F191=0,0,1)","v":0},{"$f":"+H190+'Hoja3 (2)'!$G191","v":0},{"$f":"+'Hoja3 (2)'!$H191*'Hoja3 (2)'!$G191","v":0},"MANTENER/AJUSTAR TEXTO","Activa","DESAPARICION FORZADA",null,"ACTIVA"]
[{"$f":"+'Hoja3 (2)'!$I192","v":0},"DESCONOCIMIENTO DE LAS NORMAS PARA DONACION DE ORGANOS",1,{"$f":"+IF('Hoja3 (2)'!$C192=1,'Hoja3 (2)'!$B192,\"No\")","v":"DESCONOCIMIENTO DE LAS NORMAS PARA DONACION DE ORGANOS"},{"$f":"+'Hoja3 (2)'!$C192&'Hoja3 (2)'!$B192","v":"1DESCONOCIMIENTO DE LAS NORMAS PARA DONACION DE ORGANOS"},{"$f":"IFERROR(FIND(UPPER('Causas anteriores'!$D$4),D192),0)","v":0},{"$f":"+IF('Hoja3 (2)'!$F192=0,0,1)","v":0},{"$f":"+H191+'Hoja3 (2)'!$G192","v":0},{"$f":"+'Hoja3 (2)'!$H192*'Hoja3 (2)'!$G192","v":0},"ESTABA INACTIVA","Inactiva",null,null,"INACTIVA"]
[{"$f":"+'Hoja3 (2)'!$I193","v":0},"DESCONOCIMIENTO DE TRASLADO DE REGIMEN PENSIONAL",1,{"$f":"+IF('Hoja3 (2)'!$C193=1,'Hoja3 (2)'!$B193,\"No\")","v":"DESCONOCIMIENTO DE TRASLADO DE REGIMEN PENSIONAL"},{"$f":"+'Hoja3 (2)'!$C193&'Hoja3 (2)'!$B193","v":"1DESCONOCIMIENTO DE TRASLADO DE REGIMEN PENSIONAL"},{"$f":"IFERROR(FIND(UPPER('Causas anteriores'!$D$4),D193),0)","v":0},{"$f":"+IF('Hoja3 (2)'!$F193=0,0,1)","v":0},{"$f":"+H192+'Hoja3 (2)'!$G193","v":0},{"$f":"+'Hoja3 (2)'!$H193*'Hoja3 (2)'!$G193","v":0},"MANTENER/AJUSTAR TEXTO","Activa","DESCONOCIMIENTO DE TRASLADO DE REGIMEN PENSIONAL",null,"ACTIVA"]
[{"$f":"+'Hoja3 (2)'!$I194","v":0},"DESCUENTO DE NOMINA NO AUTORIZADO",1,{"$f":"+IF('Hoja3 (2)'!$C194=1,'Hoja3 (2)'!$B194,\"No\")","v":"DESCUENTO DE NOMINA NO AUTORIZADO"},{"$f":"+'Hoja3 (2)'!$C194&'Hoja3 (2)'!$B194","v":"1DESCUENTO DE NOMINA NO AUTORIZADO"},{"$f":"IFERROR(FIND(UPPER('Causas anteriores'!$D$4),D194),0)","v":0},{"$f":"+IF('Hoja3 (2)'!$F194=0,0,1)","v":0},{"$f":"+H193+'Hoja3 (2)'!$G194","v":0},{"$f":"+'Hoja3 (2)'!$H194*'Hoja3 (2)'!$G194","v":0},"MANTENER/AJUSTAR TEXTO","Activa","DESCUENTO DE NOMINA NO AUTORIZADO",null,"ACTIVA"]
[{"$f":"+'Hoja3 (2)'!$I195","v":0},"DESCUENTO ILEGAL A LA MESADA PENSIONAL",1,{"$f":"+IF('Hoja3 (2)'!$C195=1,'Hoja3 (2)'!$B195,\"No\")","v":"DESCUENTO ILEGAL A LA MESADA PENSIONAL"},{"$f":"+'Hoja3 (2)'!$C195&'Hoja3 (2)'!$B195","v":"1DESCUENTO ILEGAL A LA MESADA PENSIONAL"},{"$f":"IFERROR(FIND(UPPER('Causas anteriores'!$D$4),D195),0)","v":0},{"$f":"+IF('Hoja3 (2)'!$F195=0,0,1)","v":0},{"$f":"+H194+'Hoja3 (2)'!$G195","v":0},{"$f":"+'Hoja3 (2)'!$H195*'Hoja3 (2)'!$G195","v":0},"MANTENER/AJUSTAR TEXTO","Activa","DESCUENTO ILEGAL A LA MESADA PENSIONAL",null,"ACTIVA"]
[{"$f":"+'Hoja3 (2)'!$I196","v":0},"DESEQUILIBRIO ECONOMICO DEL CONTRATO",1,{"$f":"+IF('Hoja3 (2)'!$C196=1,'Hoja3 (2)'!$B196,\"No\")","v":"DESEQUILIBRIO ECONOMICO DEL CONTRATO"},{"$f":"+'Hoja3 (2)'!$C196&'Hoja3 (2)'!$B196","v":"1DESEQUILIBRIO ECONOMICO DEL CONTRATO"},{"$f":"IFERROR(FIND(UPPER('Causas anteriores'!$D$4),D196),0)","v":0},{"$f":"+IF('Hoja3 (2)'!$F196=0,0,1)","v":0},{"$f":"+H195+'Hoja3 (2)'!$G196","v":0},{"$f":"+'Hoja3 (2)'!$H196*'Hoja3 (2)'!$G196","v":0},"INACTIVAR PARA DESAGREGAR","Inactiva",null,null,"ACTIVA"]
[{"$f":"+'Hoja3 (2)'!$I197","v":0},"DESEQUILIBRIO ECONOMICO DEL CONTRATO",2,{"$f":"+IF('Hoja3 (2)'!$C197=1,'Hoja3 (2)'!$B197,\"No\")","v":"No"},{"$f":"+'Hoja3 (2)'!$C197&'Hoja3 (2)'!$B197","v":"2DESEQUILIBRIO ECONOMICO DEL CONTRATO"},{"$f":"IFERROR(FIND(UPPER('Causas anteriores'!$D$4),D197),0)","v":0},{"$f":"+IF('Hoja3 (2)'!$F197=0,0,1)","v":0},{"$f":"+H196+'Hoja3 (2)'!$G197","v":0},{"$f":"+'Hoja3 (2)'!$H197*'Hoja3 (2)'!$G197","v":0},"CREAR","Activa","DESEQUILIBRIO ECONOMICO DEL CONTRATO POR ACTOS O HECHOS DE LA ENTIDAD CONTRATANTE"]
[{"$f":"+'Hoja3 (2)'!$I198","v":0},"DESEQUILIBRIO ECONOMICO DEL CONTRATO",3,{"$f":"+IF('Hoja3 (2)'!$C198=1,'Hoja3 (2)'!$B198,\"No\")","v":"No"},{"$f":"+'Hoja3 (2)'!$C198&'Hoja3 (2)'!$B198","v":"3DESEQUILIBRIO ECONOMICO DEL CONTRATO"},{"$f":"IFERROR(FIND(UPPER('Causas anteriores'!$D$4),D198),0)","v":0},{"$f":"+IF('Hoja3 (2)'!$F198=0,0,1)","v":0},{"$f":"+H197+'Hoja3 (2)'!$G198","v":0},{"$f":"+'Hoja3 (2)'!$H198*'Hoja3 (2)'!$G198","v":0},"CREAR","Activa","DESEQUILIBRIO ECONOMICO DEL CONTRATO POR ACTOS O HECHOS DEL CONTRATISTA"]
[{"$f":"+'Hoja3 (2)'!$I199","v":0},"DESEQUILIBRIO ECONOMICO DEL CONTRATO",4,{"$f":"+IF('Hoja3 (2)'!$C199=1,'Hoja3 (2)'!$B199,\"No\")","v":"No"},{"$f":"+'Hoja3 (2)'!$C199&'Hoja3 (2)'!$B199","v":"4DESEQUILIBRIO ECONOMICO DEL CONTRATO"},{"$f":"IFERROR(FIND(UPPER('Causas anteriores'!$D$4),D199),0)","v":0},{"$f":"+IF('Hoja3 (2)'!$F199=0,0,1)","v":0},{"$f":"+H198+'Hoja3 (2)'!$G199","v":0},{"$f":"+'Hoja3 (2)'!$H199*'Hoja3 (2)'!$G199","v":0},"CREAR","Activa","DESEQUILIBRIO ECONOMICO DEL CONTRATO POR EL HECHO DEL PRINCIPE"]
[{"$f":"+'Hoja3 (2)'!$I200","v":0},"DESEQUILIBRIO ECONOMICO DEL CONTRATO",5,{"$f":"+IF('Hoja3 (2)'!$C200=1,'Hoja3 (2)'!$B200,\"No\")","v":"No"},{"$f":"+'Hoja3 (2)'!$C200&'Hoja3 (2)'!$B200","v":"5DESEQUILIBRIO ECONOMICO DEL CONTRATO"},{"$f":"IFERROR(FIND(UPPER('Causas anteriores'!$D$4),D200),0)","v":0},{"$f":"+IF('Hoja3 (2)'!$F200=0,0,1)","v":0},{"$f":"+H199+'Hoja3 (2)'!$G200","v":0},{"$f":"+'Hoja3 (2)'!$H200*'Hoja3 (2)'!$G200","v":0},"CREAR","Activa","DESEQUILIBRIO ECONOMICO DEL CONTRATO POR TEORIA DE LA IMPREVISION"]
[{"$f":"+'Hoja3 (2)'!$I201","v":0},"DESLINDE Y AMOJONAMIENTO",1,{"$f":"+IF('Hoja3 (2)'!$C201=1,'Hoja3 (2)'!$B201,\"No\")","v":"DESLINDE Y AMOJONAMIENTO"},{"$f":"+'Hoja3 (2)'!$C201&'Hoja3 (2)'!$B201","v":"1DESLINDE Y AMOJONAMIENTO"},{"$f":"IFERROR(FIND(UPPER('Causas anteriores'!$D$4),D201),0)","v":0},{"$f":"+IF('Hoja3 (2)'!$F201=0,0,1)","v":0},{"$f":"+H200+'Hoja3 (2)'!$G201","v":0},{"$f":"+'Hoja3 (2)'!$H201*'Hoja3 (2)'!$G201","v":0},"MANTENER/AJUSTAR TEXTO","Activa","DESLINDE Y AMOJONAMIENTO",null,"ACTIVA"]
[{"$f":"+'Hoja3 (2)'!$I202","v":0},"DESMEJORA EN LAS CONDICIONES LABORALES",1,{"$f":"+IF('Hoja3 (2)'!$C202=1,'Hoja3 (2)'!$B202,\"No\")","v":"DESMEJORA EN LAS CONDICIONES LABORALES"},{"$f":"+'Hoja3 (2)'!$C202&'Hoja3 (2)'!$B202","v":"1DESMEJORA EN LAS CONDICIONES LABORALES"},{"$f":"IFERROR(FIND(UPPER('Causas anteriores'!$D$4),D202),0)","v":0},{"$f":"+IF('Hoja3 (2)'!$F202=0,0,1)","v":0},{"$f":"+H201+'Hoja3 (2)'!$G202","v":0},{"$f":"+'Hoja3 (2)'!$H202*'Hoja3 (2)'!$G202","v":0},"MANTENER/AJUSTAR TEXTO","Activa","DESMEJORA EN LAS CONDICIONES LABORALES",null,"ACTIVA"]
[{"$f":"+'Hoja3 (2)'!$I203","v":0},"DESPIDO INDIRECTO",1,{"$f":"+IF('Hoja3 (2)'!$C203=1,'Hoja3 (2)'!$B203,\"No\")","v":"DESPIDO INDIRECTO"},{"$f":"+'Hoja3 (2)'!$C203&'Hoja3 (2)'!$B203","v":"1DESPIDO INDIRECTO"},{"$f":"IFERROR(FIND(UPPER('Causas anteriores'!$D$4),D203),0)","v":0},{"$f":"+IF('Hoja3 (2)'!$F203=0,0,1)","v":0},{"$f":"+H202+'Hoja3 (2)'!$G203","v":0},{"$f":"+'Hoja3 (2)'!$H203*'Hoja3 (2)'!$G203","v":0},"MANTENER/AJUSTAR TEXTO","Activa","DESPIDO INDIRECTO DE TRABAJADOR OFICIAL",null,"ACTIVA"]
[{"$f":"+'Hoja3 (2)'!$I204","v":0},"DESPIDO SIN JUSTA CAUSA DE SERVIDOR PUBLICO",1,{"$f":"+IF('Hoja3 (2)'!$C204=1,'Hoja3 (2)'!$B204,\"No\")","v":"DESPIDO SIN JUSTA CAUSA DE SERVIDOR PUBLICO"},{"$f":"+'Hoja3 (2)'!$C204&'Hoja3 (2)'!$B204","v":"1DESPIDO SIN JUSTA CAUSA DE SERVIDOR PUBLICO"},{"$f":"IFERROR(FIND(UPPER('Causas anteriores'!$D$4),D204),0)","v":0},{"$f":"+IF('Hoja3 (2)'!$F204=0,0,1)","v":0},{"$f":"+H203+'Hoja3 (2)'!$G204","v":0},{"$f":"+'Hoja3 (2)'!$H204*'Hoja3 (2)'!$G204","v":0},"INACTIVAR EN NUEVA MATRIZ","Inactiva",null,null,"ACTIVA"]
[{"$f":"+'Hoja3 (2)'!$I205","v":0},"DESPIDO SIN JUSTA CAUSA DE TRABAJADOR OFICIAL",1,{"$f":"+IF('Hoja3 (2)'!$C205=1,'Hoja3 (2)'!$B205,\"No\")","v":"DESPIDO SIN JUSTA CAUSA DE TRABAJADOR OFICIAL"},{"$f":"+'Hoja3 (2)'!$C205&'Hoja3 (2)'!$B205","v":"1DESPIDO SIN JUSTA CAUSA DE TRABAJADOR OFICIAL"},{"$f":"IFERROR(FIND(UPPER('Causas anteriores'!$D$4),D205),0)","v":0},{"$f":"+IF('Hoja3 (2)'!$F205=0,0,1)","v":0},{"$f":"+H204+'Hoja3 (2)'!$G205","v":0},{"$f":"+'Hoja3 (2)'!$H205*'Hoja3 (2)'!$G205","v":0},"MANTENER/AJUSTAR TEXTO","Activa","DESPIDO SIN JUSTA CAUSA DE TRABAJADOR OFICIAL",null,"ACTIVA"]
[{"$f":"+'Hoja3 (2)'!$I206","v":0},"DESPLAZAMIENTO FORZADO",1,{"$f":"+IF('Hoja3 (2)'!$C206=1,'Hoja3 (2)'!$B206,\"No\")","v":"DESPLAZAMIENTO FORZADO"},{"$f":"+'Hoja3 (2)'!$C206&'Hoja3 (2)'!$B206","v":"1DESPLAZAMIENTO FORZADO"},{"$f":"IFERROR(FIND(UPPER('Causas anteriores'!$D$4),D206),0)","v":0},{"$f":"+IF('Hoja3 (2)'!$F206=0,0,1)","v":0},{"$f":"+H205+'Hoja3 (2)'!$G206","v":0},{"$f":"+'Hoja3 (2)'!$H206*'Hoja3 (2)'!$G206","v":0},"MANTENER/AJUSTAR TEXTO","Activa","DESPLAZAMIENTO FORZADO",null,"ACTIVA"]
[{"$f":"+'Hoja3 (2)'!$I207","v":0},"DESPOJO DE BIEN INMUEBLE",1,{"$f":"+IF('Hoja3 (2)'!$C207=1,'Hoja3 (2)'!$B207,\"No\")","v":"DESPOJO DE BIEN INMUEBLE"},{"$f":"+'Hoja3 (2)'!$C207&'Hoja3 (2)'!$B207","v":"1DESPOJO DE BIEN INMUEBLE"},{"$f":"IFERROR(FIND(UPPER('Causas anteriores'!$D$4),D207),0)","v":0},{"$f":"+IF('Hoja3 (2)'!$F207=0,0,1)","v":0},{"$f":"+H206+'Hoja3 (2)'!$G207","v":0},{"$f":"+'Hoja3 (2)'!$H207*'Hoja3 (2)'!$G207","v":0},"INACTIVAR EN NUEVA MATRIZ","Inactiva",null,null,"ACTIVA"]
[{"$f":"+'Hoja3 (2)'!$I208","v":0},"DESPOJO JURIDICO Y/O MATERIAL DE TIERRAS",1,{"$f":"+IF('Hoja3 (2)'!$C208=1,'Hoja3 (2)'!$B208,\"No\")","v":"DESPOJO JURIDICO Y/O MATERIAL DE TIERRAS"},{"$f":"+'Hoja3 (2)'!$C208&'Hoja3 (2)'!$B208","v":"1DESPOJO JURIDICO Y/O MATERIAL DE TIERRAS"},{"$f":"IFERROR(FIND(UPPER('Causas anteriores'!$D$4),D208),0)","v":0},{"$f":"+IF('Hoja3 (2)'!$F208=0,0,1)","v":0},{"$f":"+H207+'Hoja3 (2)'!$G208","v":0},{"$f":"+'Hoja3 (2)'!$H208*'Hoja3 (2)'!$G208","v":0},"MANTENER/AJUSTAR TEXTO","Activa","DESPOJO JURIDICO Y MATERIAL DE TIERRAS",null,"ACTIVA"]
[{"$f":"+'Hoja3 (2)'!$I209","v":0},"DISULUCION DE SOCIEDADES",1,{"$f":"+IF('Hoja3 (2)'!$C209=1,'Hoja3 (2)'!$B209,\"No\")","v":"DISULUCION DE SOCIEDADES"},{"$f":"+'Hoja3 (2)'!$C209&'Hoja3 (2)'!$B209","v":"1DISULUCION DE SOCIEDADES"},{"$f":"IFERROR(FIND(UPPER('Causas anteriores'!$D$4),D209),0)","v":0},{"$f":"+IF('Hoja3 (2)'!$F209=0,0,1)","v":0},{"$f":"+H208+'Hoja3 (2)'!$G209","v":0},{"$f":"+'Hoja3 (2)'!$H209*'Hoja3 (2)'!$G209","v":0},"ESTABA INACTIVA","Inactiva",null,null,"INACTIVA"]
[{"$f":"+'Hoja3 (2)'!$I210","v":0},"EJECUCION EXTRAJUDICIAL",1,{"$f":"+IF('Hoja3 (2)'!$C210=1,'Hoja3 (2)'!$B210,\"No\")","v":"EJECUCION EXTRAJUDICIAL"},{"$f":"+'Hoja3 (2)'!$C210&'Hoja3 (2)'!$B210","v":"1EJECUCION EXTRAJUDICIAL"},{"$f":"IFERROR(FIND(UPPER('Causas anteriores'!$D$4),D210),0)","v":0},{"$f":"+IF('Hoja3 (2)'!$F210=0,0,1)","v":0},{"$f":"+H209+'Hoja3 (2)'!$G210","v":0},{"$f":"+'Hoja3 (2)'!$H210*'Hoja3 (2)'!$G210","v":0},"INACTIVAR PARA DESAGREGAR","Inactiva",null,null,"ACTIVA"]
[{"$f":"+'Hoja3 (2)'!$I211","v":0},"EJECUCION EXTRAJUDICIAL",2,{"$f":"+IF('Hoja3 (2)'!$C211=1,'Hoja3 (2)'!$B211,\"No\")","v":"No"},{"$f":"+'Hoja3 (2)'!$C211&'Hoja3 (2)'!$B211","v":"2EJECUCION EXTRAJUDICIAL"},{"$f":"IFERROR(FIND(UPPER('Causas anteriores'!$D$4),D211),0)","v":0},{"$f":"+IF('Hoja3 (2)'!$F211=0,0,1)","v":0},{"$f":"+H210+'Hoja3 (2)'!$G211","v":0},{"$f":"+'Hoja3 (2)'!$H211*'Hoja3 (2)'!$G211","v":0},"CREAR","Activa","EJECUCIONES EXTRAJUDICIALES PERPETRADAS POR AGENTES DEL ESTADO"]
[{"$f":"+'Hoja3 (2)'!$I212","v":0},"EJECUCION EXTRAJUDICIAL",3,{"$f":"+IF('Hoja3 (2)'!$C212=1,'Hoja3 (2)'!$B212,\"No\")","v":"No"},{"$f":"+'Hoja3 (2)'!$C212&'Hoja3 (2)'!$B212","v":"3EJECUCION EXTRAJUDICIAL"},{"$f":"IFERROR(FIND(UPPER('Causas anteriores'!$D$4),D212),0)","v":0},{"$f":"+IF('Hoja3 (2)'!$F212=0,0,1)","v":0},{"$f":"+H211+'Hoja3 (2)'!$G212","v":0},{"$f":"+'Hoja3 (2)'!$H212*'Hoja3 (2)'!$G212","v":0},"CREAR","Activa","EJECUCIONES EXTRAJUDICIALES PERPETRADAS POR TERCEROS CON PARTICIPACION DE AGENTES DEL ESTADO"]
[{"$f":"+'Hoja3 (2)'!$I213","v":0},"EJECUTIVO POR SERVICIOS O SUMINISTROS MEDICOS",1,{"$f":"+IF('Hoja3 (2)'!$C213=1,'Hoja3 (2)'!$B213,\"No\")","v":"EJECUTIVO POR SERVICIOS O SUMINISTROS MEDICOS"},{"$f":"+'Hoja3 (2)'!$C213&'Hoja3 (2)'!$B213","v":"1EJECUTIVO POR SERVICIOS O SUMINISTROS MEDICOS"},{"$f":"IFERROR(FIND(UPPER('Causas anteriores'!$D$4),D213),0)","v":0},{"$f":"+IF('Hoja3 (2)'!$F213=0,0,1)","v":0},{"$f":"+H212+'Hoja3 (2)'!$G213","v":0},{"$f":"+'Hoja3 (2)'!$H213*'Hoja3 (2)'!$G213","v":0},"ESTABA INACTIVA","Inactiva",null,null,"INACTIVA"]
[{"$f":"+'Hoja3 (2)'!$I214","v":0},"EJECUTIVO SINGULAR",1,{"$f":"+IF('Hoja3 (2)'!$C214=1,'Hoja3 (2)'!$B214,\"No\")","v":"EJECUTIVO SINGULAR"},{"$f":"+'Hoja3 (2)'!$C214&'Hoja3 (2)'!$B214","v":"1EJECUTIVO SINGULAR"},{"$f":"IFERROR(FIND(UPPER('Causas anteriores'!$D$4),D214),0)","v":0},{"$f":"+IF('Hoja3 (2)'!$F214=0,0,1)","v":0},{"$f":"+H213+'Hoja3 (2)'!$G214","v":0},{"$f":"+'Hoja3 (2)'!$H214*'Hoja3 (2)'!$G214","v":0},"ESTABA INACTIVA","Inactiva",null,null,"INACTIVA"]
[{"$f":"+'Hoja3 (2)'!$I215","v":0},"ENAJENACION DE ACCIONES SIN EL CUMPLIMIENTO DE LOS REQUISITOS LEGALES",1,{"$f":"+IF('Hoja3 (2)'!$C215=1,'Hoja3 (2)'!$B215,\"No\")","v":"ENAJENACION DE ACCIONES SIN EL CUMPLIMIENTO DE LOS REQUISITOS LEGALES"},{"$f":"+'Hoja3 (2)'!$C215&'Hoja3 (2)'!$B215","v":"1ENAJENACION DE ACCIONES SIN EL CUMPLIMIENTO DE LOS REQUISITOS LEGALES"},{"$f":"IFERROR(FIND(UPPER('Causas anteriores'!$D$4),D215),0)","v":0},{"$f":"+IF('Hoja3 (2)'!$F215=0,0,1)","v":0},{"$f":"+H214+'Hoja3 (2)'!$G215","v":0},{"$f":"+'Hoja3 (2)'!$H215*'Hoja3 (2)'!$G215","v":0},"MANTENER/AJUSTAR TEXTO","Activa","ENAJENACION DE ACCIONES SIN EL CUMPLIMIENTO DE LOS REQUISITOS LEGALES",null,"ACTIVA"]
[{"$f":"+'Hoja3 (2)'!$I216","v":0},"ENFERMEDAD DE CONSCRIPTO ADQUIRIDA EN EL SERVICIO Y/O INCORPORACION",1,{"$f":"+IF('Hoja3 (2)'!$C216=1,'Hoja3 (2)'!$B216,\"No\")","v":"ENFERMEDAD DE CONSCRIPTO ADQUIRIDA EN EL SERVICIO Y/O INCORPORACION"},{"$f":"+'Hoja3 (2)'!$C216&'Hoja3 (2)'!$B216","v":"1ENFERMEDAD DE CONSCRIPTO ADQUIRIDA EN EL SERVICIO Y/O INCORPORACION"},{"$f":"IFERROR(FIND(UPPER('Causas anteriores'!$D$4),D216),0)","v":0},{"$f":"+IF('Hoja3 (2)'!$F216=0,0,1)","v":0},{"$f":"+H215+'Hoja3 (2)'!$G216","v":0},{"$f":"+'Hoja3 (2)'!$H216*'Hoja3 (2)'!$G216","v":0},"INACTIVAR EN NUEVA MATRIZ","Inactiva",null,null,"ACTIVA"]
[{"$f":"+'Hoja3 (2)'!$I217","v":0},"ENRIQUECIMIENTO SIN CAUSA",1,{"$f":"+IF('Hoja3 (2)'!$C217=1,'Hoja3 (2)'!$B217,\"No\")","v":"ENRIQUECIMIENTO SIN CAUSA"},{"$f":"+'Hoja3 (2)'!$C217&'Hoja3 (2)'!$B217","v":"1ENRIQUECIMIENTO SIN CAUSA"},{"$f":"IFERROR(FIND(UPPER('Causas anteriores'!$D$4),D217),0)","v":0},{"$f":"+IF('Hoja3 (2)'!$F217=0,0,1)","v":0},{"$f":"+H216+'Hoja3 (2)'!$G217","v":0},{"$f":"+'Hoja3 (2)'!$H217*'Hoja3 (2)'!$G217","v":0},"MANTENER/AJUSTAR TEXTO","Activa","EJECUCION DE PRESTACIONES SIN CONTRATO",null,"ACTIVA"]
[{"$f":"+'Hoja3 (2)'!$I218","v":0},"ENRIQUECIMIENTO SIN JUSTA CAUSA",1,{"$f":"+IF('Hoja3 (2)'!$C218=1,'Hoja3 (2)'!$B218,\"No\")","v":"ENRIQUECIMIENTO SIN JUSTA CAUSA"},{"$f":"+'Hoja3 (2)'!$C218&'Hoja3 (2)'!$B218","v":"1ENRIQUECIMIENTO SIN JUSTA CAUSA"},{"$f":"IFERROR(FIND(UPPER('Causas anteriores'!$D$4),D218),0)","v":0},{"$f":"+IF('Hoja3 (2)'!$F218=0,0,1)","v":0},{"$f":"+H217+'Hoja3 (2)'!$G218","v":0},{"$f":"+'Hoja3 (2)'!$H218*'Hoja3 (2)'!$G218","v":0},"ESTABA INACTIVA","Inactiva",null,null,"INACTIVA"]
[{"$f":"+'Hoja3 (2)'!$I219","v":0},"EXCESO EN EL COBRO DE INTERESES",1,{"$f":"+IF('Hoja3 (2)'!$C219=1,'Hoja3 (2)'!$B219,\"No\")","v":"EXCESO EN EL COBRO DE INTERESES"},{"$f":"+'Hoja3 (2)'!$C219&'Hoja3 (2)'!$B219","v":"1EXCESO EN EL COBRO DE INTERESES"},{"$f":"IFERROR(FIND(UPPER('Causas anteriores'!$D$4),D219),0)","v":0},{"$f":"+IF('Hoja3 (2)'!$F219=0,0,1)","v":0},{"$f":"+H218+'Hoja3 (2)'!$G219","v":0},{"$f":"+'Hoja3 (2)'!$H219*'Hoja3 (2)'!$G219","v":0},"MANTENER/AJUSTAR TEXTO","Activa","EXCESO EN EL COBRO DE INTERESES",null,"ACTIVA"]
[{"$f":"+'Hoja3 (2)'!$I220","v":0},"EXHIBICION DE LIBROS DE COMERCIO",1,{"$f":"+IF('Hoja3 (2)'!$C220=1,'Hoja3 (2)'!$B220,\"No\")","v":"EXHIBICION DE LIBROS DE COMERCIO"},{"$f":"+'Hoja3 (2)'!$C220&'Hoja3 (2)'!$B220","v":"1EXHIBICION DE LIBROS DE COMERCIO"},{"$f":"IFERROR(FIND(UPPER('Causas anteriores'!$D$4),D220),0)","v":0},{"$f":"+IF('Hoja3 (2)'!$F220=0,0,1)","v":0},{"$f":"+H219+'Hoja3 (2)'!$G220","v":0},{"$f":"+'Hoja3 (2)'!$H220*'Hoja3 (2)'!$G220","v":0},"ESTABA INACTIVA","Inactiva",null,null,"INACTIVA"]
[{"$f":"+'Hoja3 (2)'!$I221","v":0},"EXISTENCIA DE BIEN QUE SE ENCUENTRA A CARGO DE LA NACION SIN DUEÑO APARENTE O CONOCIDO",1,{"$f":"+IF('Hoja3 (2)'!$C221=1,'Hoja3 (2)'!$B221,\"No\")","v":"EXISTENCIA DE BIEN QUE SE ENCUENTRA A CARGO DE LA NACION SIN DUEÑO APARENTE O CONOCIDO"},{"$f":"+'Hoja3 (2)'!$C221&'Hoja3 (2)'!$B221","v":"1EXISTENCIA DE BIEN QUE SE ENCUENTRA A CARGO DE LA NACION SIN DUEÑO APARENTE O CONOCIDO"},{"$f":"IFERROR(FIND(UPPER('Causas anteriores'!$D$4),D221),0)","v":0},{"$f":"+IF('Hoja3 (2)'!$F221=0,0,1)","v":0},{"$f":"+H220+'Hoja3 (2)'!$G221","v":0},{"$f":"+'Hoja3 (2)'!$H221*'Hoja3 (2)'!$G221","v":0},"INACTIVAR EN NUEVA MATRIZ","Inactiva",null,null,"ACTIVA"]
[{"$f":"+'Hoja3 (2)'!$I222","v":0},"EXISTENCIA O INEXISTENCIA DEL CONTRATO",1,{"$f":"+IF('Hoja3 (2)'!$C222=1,'Hoja3 (2)'!$B222,\"No\")","v":"EXISTENCIA O INEXISTENCIA DEL CONTRATO"},{"$f":"+'Hoja3 (2)'!$C222&'Hoja3 (2)'!$B222","v":"1EXISTENCIA O INEXISTENCIA DEL CONTRATO"},{"$f":"IFERROR(FIND(UPPER('Causas anteriores'!$D$4),D222),0)","v":0},{"$f":"+IF('Hoja3 (2)'!$F222=0,0,1)","v":0},{"$f":"+H221+'Hoja3 (2)'!$G222","v":0},{"$f":"+'Hoja3 (2)'!$H222*'Hoja3 (2)'!$G222","v":0},"MANTENER/AJUSTAR TEXTO","Activa","EXISTENCIA O INEXISTENCIA DEL CONTRATO",null,"ACTIVA"]
[{"$f":"+'Hoja3 (2)'!$I223","v":0},"EXTINCION DE LA OBLIGACION CIVIL DE CREDITO HIPOTECARIO POR PRESCRIPCION",1,{"$f":"+IF('Hoja3 (2)'!$C223=1,'Hoja3 (2)'!$B223,\"No\")","v":"EXTINCION DE LA OBLIGACION CIVIL DE CREDITO HIPOTECARIO POR PRESCRIPCION"},{"$f":"+'Hoja3 (2)'!$C223&'Hoja3 (2)'!$B223","v":"1EXTINCION DE LA OBLIGACION CIVIL DE CREDITO HIPOTECARIO POR PRESCRIPCION"},{"$f":"IFERROR(FIND(UPPER('Causas anteriores'!$D$4),D223),0)","v":0},{"$f":"+IF('Hoja3 (2)'!$F223=0,0,1)","v":0},{"$f":"+H222+'Hoja3 (2)'!$G223","v":0},{"$f":"+'Hoja3 (2)'!$H223*'Hoja3 (2)'!$G223","v":0},"ESTABA INACTIVA","Inactiva",null,null,"INACTIVA"]
[{"$f":"+'Hoja3 (2)'!$I224","v":0},"EXTRACCION ILEGAL DE ORGANOS, TEJIDOS Y HUESOS",1,{"$f":"+IF('Hoja3 (2)'!$C224=1,'Hoja3 (2)'!$B224,\"No\")","v":"EXTRACCION ILEGAL DE ORGANOS, TEJIDOS Y HUESOS"},{"$f":"+'Hoja3 (2)'!$C224&'Hoja3 (2)'!$B224","v":"1EXTRACCION ILEGAL DE ORGANOS, TEJIDOS Y HUESOS"},{"$f":"IFERROR(FIND(UPPER('Causas anteriores'!$D$4),D224),0)","v":0},{"$f":"+IF('Hoja3 (2)'!$F224=0,0,1)","v":0},{"$f":"+H223+'Hoja3 (2)'!$G224","v":0},{"$f":"+'Hoja3 (2)'!$H224*'Hoja3 (2)'!$G224","v":0},"MANTENER/AJUSTAR TEXTO","Activa","EXTRACCION ILEGAL DE ORGANOS, TEJIDOS Y HUESOS",null,"ACTIVA"]
[{"$f":"+'Hoja3 (2)'!$I225","v":0},"FALLA DEL SERVICIO EN LA ENTREGA DE CORREO POSTAL",1,{"$f":"+IF('Hoja3 (2)'!$C225=1,'Hoja3 (2)'!$B225,\"No\")","v":"FALLA DEL SERVICIO EN LA ENTREGA DE CORREO POSTAL"},{"$f":"+'Hoja3 (2)'!$C225&'Hoja3 (2)'!$B225","v":"1FALLA DEL SERVICIO EN LA ENTREGA DE CORREO POSTAL"},{"$f":"IFERROR(FIND(UPPER('Causas anteriores'!$D$4),D225),0)","v":0},{"$f":"+IF('Hoja3 (2)'!$F225=0,0,1)","v":0},{"$f":"+H224+'Hoja3 (2)'!$G225","v":0},{"$f":"+'Hoja3 (2)'!$H225*'Hoja3 (2)'!$G225","v":0},"MANTENER/AJUSTAR TEXTO","Activa","INDEBIDA PRESTACION DEL SERVICIO DE CORREO POSTAL",null,"ACTIVA"]
[{"$f":"+'Hoja3 (2)'!$I226","v":0},"FALLA DEL SERVICIO POR CONDUCTA ILICITA DE SERVIDOR PUBLICO",1,{"$f":"+IF('Hoja3 (2)'!$C226=1,'Hoja3 (2)'!$B226,\"No\")","v":"FALLA DEL SERVICIO POR CONDUCTA ILICITA DE SERVIDOR PUBLICO"},{"$f":"+'Hoja3 (2)'!$C226&'Hoja3 (2)'!$B226","v":"1FALLA DEL SERVICIO POR CONDUCTA ILICITA DE SERVIDOR PUBLICO"},{"$f":"IFERROR(FIND(UPPER('Causas anteriores'!$D$4),D226),0)","v":0},{"$f":"+IF('Hoja3 (2)'!$F226=0,0,1)","v":0},{"$f":"+H225+'Hoja3 (2)'!$G226","v":0},{"$f":"+'Hoja3 (2)'!$H226*'Hoja3 (2)'!$G226","v":0},"ESTABA INACTIVA","Inactiva",null,null,"INACTIVA"]
[{"$f":"+'Hoja3 (2)'!$I227","v":0},"FALLA DEL SERVICIO POR EL HECHO DEL LEGISLADOR",1,{"$f":"+IF('Hoja3 (2)'!$C227=1,'Hoja3 (2)'!$B227,\"No\")","v":"FALLA DEL SERVICIO POR EL HECHO DEL LEGISLADOR"},{"$f":"+'Hoja3 (2)'!$C227&'Hoja3 (2)'!$B227","v":"1FALLA DEL SERVICIO POR EL HECHO DEL LEGISLADOR"},{"$f":"IFERROR(FIND(UPPER('Causas anteriores'!$D$4),D227),0)","v":0},{"$f":"+IF('Hoja3 (2)'!$F227=0,0,1)","v":0},{"$f":"+H226+'Hoja3 (2)'!$G227","v":0},{"$f":"+'Hoja3 (2)'!$H227*'Hoja3 (2)'!$G227","v":0},"INACTIVAR EN NUEVA MATRIZ","Inactiva",null,null,"ACTIVA"]
[{"$f":"+'Hoja3 (2)'!$I228","v":0},"FALLA DEL SERVICIO POR EL HECHO DEL LEGISLADOR",2,{"$f":"+IF('Hoja3 (2)'!$C228=1,'Hoja3 (2)'!$B228,\"No\")","v":"No"},{"$f":"+'Hoja3 (2)'!$C228&'Hoja3 (2)'!$B228","v":"2FALLA DEL SERVICIO POR EL HECHO DEL LEGISLADOR"},{"$f":"IFERROR(FIND(UPPER('Causas anteriores'!$D$4),D228),0)","v":0},{"$f":"+IF('Hoja3 (2)'!$F228=0,0,1)","v":0},{"$f":"+H227+'Hoja3 (2)'!$G228","v":0},{"$f":"+'Hoja3 (2)'!$H228*'Hoja3 (2)'!$G228","v":0},"MANTENER/AJUSTAR TEXTO","Activa","DAÑOS DERIVADOS DE LA ACTIVIDAD LEGISLATIVA"]
[{"$f":"+'Hoja3 (2)'!$I229","v":1},"FALLA DEL SERVICIO POR ERROR DE INFORMACION",{"$f":"IF(B229=B227,C227+1,1)","v":1},{"$f":"+IF('Hoja3 (2)'!$C229=1,'Hoja3 (2)'!$B229,\"No\")","v":"FALLA DEL SERVICIO POR ERROR DE INFORMACION"},{"$f":"+'Hoja3 (2)'!$C229&'Hoja3 (2)'!$B229","v":"1FALLA DEL SERVICIO POR ERROR DE INFORMACION"},{"$f":"IFERROR(FIND(UPPER('Causas anteriores'!$D$4),D229),0)","v":24},{"$f":"+IF('Hoja3 (2)'!$F229=0,0,1)","v":1},{"$f":"+H227+'Hoja3 (2)'!$G229","v":1},{"$f":"+'Hoja3 (2)'!$H229*'Hoja3 (2)'!$G229","v":1},"INACTIVAR EN NUEVA MATRIZ","Inactiva","ERROR DE INFORMACION EN DOCUMENTO PUBLICO",null,"INACTIVA"]
[{"$f":"+'Hoja3 (2)'!$I230","v":0},"FALLA DEL SERVICIO POR ERROR JUDICIAL",{"$f":"IF(B230=B229,C229+1,1)","v":1},{"$f":"+IF('Hoja3 (2)'!$C230=1,'Hoja3 (2)'!$B230,\"No\")","v":"FALLA DEL SERVICIO POR ERROR JUDICIAL"},{"$f":"+'Hoja3 (2)'!$C230&'Hoja3 (2)'!$B230","v":"1FALLA DEL SERVICIO POR ERROR JUDICIAL"},{"$f":"IFERROR(FIND(UPPER('Causas anteriores'!$D$4),D230),0)","v":0},{"$f":"+IF('Hoja3 (2)'!$F230=0,0,1)","v":0},{"$f":"+H229+'Hoja3 (2)'!$G230","v":1},{"$f":"+'Hoja3 (2)'!$H230*'Hoja3 (2)'!$G230","v":0},"MANTENER/AJUSTAR TEXTO","Activa","ERROR JUDICIAL",null,"ACTIVA"]
[{"$f":"+'Hoja3 (2)'!$I231","v":0},"FALLA DEL SERVICIO POR FALTA DE PROTECCION A LA VIDA, HONRA Y BIENES",1,{"$f":"+IF('Hoja3 (2)'!$C231=1,'Hoja3 (2)'!$B231,\"No\")","v":"FALLA DEL SERVICIO POR FALTA DE PROTECCION A LA VIDA, HONRA Y BIENES"},{"$f":"+'Hoja3 (2)'!$C231&'Hoja3 (2)'!$B231","v":"1FALLA DEL SERVICIO POR FALTA DE PROTECCION A LA VIDA, HONRA Y BIENES"},{"$f":"IFERROR(FIND(UPPER('Causas anteriores'!$D$4),D231),0)","v":0},{"$f":"+IF('Hoja3 (2)'!$F231=0,0,1)","v":0},{"$f":"+H230+'Hoja3 (2)'!$G231","v":1},{"$f":"+'Hoja3 (2)'!$H231*'Hoja3 (2)'!$G231","v":0},"ESTABA INACTIVA","Inactiva",null,null,"INACTIVA"]
[{"$f":"+'Hoja3 (2)'!$I232","v":0},"FALLA DEL SERVICIO POR OMISION EN LAS FUNCIONES DE INSPECCION, VIGILANCIA Y CONTROL, EN CASOS DIFERENTES A LA CAPTACION ILEGAL DE DINERO",1,{"$f":"+IF('Hoja3 (2)'!$C232=1,'Hoja3 (2)'!$B232,\"No\")","v":"FALLA DEL SERVICIO POR OMISION EN LAS FUNCIONES DE INSPECCION, VIGILANCIA Y CONTROL, EN CASOS DIFERENTES A LA CAPTACION ILEGAL DE DINERO"},{"$f":"+'Hoja3 (2)'!$C232&'Hoja3 (2)'!$B232","v":"1FALLA DEL SERVICIO POR OMISION EN LAS FUNCIONES DE INSPECCION, VIGILANCIA Y CONTROL, EN CASOS DIFERENTES A LA CAPTACION ILEGAL DE DINERO"},{"$f":"IFERROR(FIND(UPPER('Causas anteriores'!$D$4),D232),0)","v":0},{"$f":"+IF('Hoja3 (2)'!$F232=0,0,1)","v":0},{"$f":"+H231+'Hoja3 (2)'!$G232","v":1},{"$f":"+'Hoja3 (2)'!$H232*'Hoja3 (2)'!$G232","v":0},"ESTABA INACTIVA","Inactiva",null,null,"INACTIVA"]
[{"$f":"+'Hoja3 (2)'!$I233","v":0},"FALLA EN EL ACCESO Y/O EN LA PRESTACION DE SERVICIOS PUBLICOS DOMICILIARIOS",1,{"$f":"+IF('Hoja3 (2)'!$C233=1,'Hoja3 (2)'!$B233,\"No\")","v":"FALLA EN EL ACCESO Y/O EN LA PRESTACION DE SERVICIOS PUBLICOS DOMICILIARIOS"},{"$f":"+'Hoja3 (2)'!$C233&'Hoja3 (2)'!$B233","v":"1FALLA EN EL ACCESO Y/O EN LA PRESTACION DE SERVICIOS PUBLICOS DOMICILIARIOS"},{"$f":"IFERROR(FIND(UPPER('Causas anteriores'!$D$4),D233),0)","v":0},{"$f":"+IF('Hoja3 (2)'!$F233=0,0,1)","v":0},{"$f":"+H232+'Hoja3 (2)'!$G233","v":1},{"$f":"+'Hoja3 (2)'!$H233*'Hoja3 (2)'!$G233","v":0},"MANTENER/AJUSTAR TEXTO","Activa","INDEBIDA PRESTACION DE SERVICIOS PUBLICOS DOMICILIARIOS",null,"ACTIVA"]
[{"$f":"+'Hoja3 (2)'!$I234","v":0},"FALLA EN EL SERVICIO",1,{"$f":"+IF('Hoja3 (2)'!$C234=1,'Hoja3 (2)'!$B234,\"No\")","v":"FALLA EN EL SERVICIO"},{"$f":"+'Hoja3 (2)'!$C234&'Hoja3 (2)'!$B234","v":"1FALLA EN EL SERVICIO"},{"$f":"IFERROR(FIND(UPPER('Causas anteriores'!$D$4),D234),0)","v":0},{"$f":"+IF('Hoja3 (2)'!$F234=0,0,1)","v":0},{"$f":"+H233+'Hoja3 (2)'!$G234","v":1},{"$f":"+'Hoja3 (2)'!$H234*'Hoja3 (2)'!$G234","v":0},"ESTABA INACTIVA","Inactiva",null,null,"INACTIVA"]
[{"$f":"+'Hoja3 (2)'!$I235","v":0},"FALLA EN EL SERVICIO PARA EVITAR LA CAPTACION ILEGAL DE DINERO",1,{"$f":"+IF('Hoja3 (2)'!$C235=1,'Hoja3 (2)'!$B235,\"No\")","v":"FALLA EN EL SERVICIO PARA EVITAR LA CAPTACION ILEGAL DE DINERO"},{"$f":"+'Hoja3 (2)'!$C235&'Hoja3 (2)'!$B235","v":"1FALLA EN EL SERVICIO PARA EVITAR LA CAPTACION ILEGAL DE DINERO"},{"$f":"IFERROR(FIND(UPPER('Causas anteriores'!$D$4),D235),0)","v":0},{"$f":"+IF('Hoja3 (2)'!$F235=0,0,1)","v":0},{"$f":"+H234+'Hoja3 (2)'!$G235","v":1},{"$f":"+'Hoja3 (2)'!$H235*'Hoja3 (2)'!$G235","v":0},"MANTENER/AJUSTAR TEXTO","Activa","CAPTACION ILEGAL DE DINERO",null,"ACTIVA"]
[{"$f":"+'Hoja3 (2)'!$I236","v":0},"FALLA EN EL SERVICIO POR APREHENSION ILEGAL DE MERCANCIAS",1,{"$f":"+IF('Hoja3 (2)'!$C236=1,'Hoja3 (2)'!$B236,\"No\")","v":"FALLA EN EL SERVICIO POR APREHENSION ILEGAL DE MERCANCIAS"},{"$f":"+'Hoja3 (2)'!$C236&'Hoja3 (2)'!$B236","v":"1FALLA EN EL SERVICIO POR APREHENSION ILEGAL DE MERCANCIAS"},{"$f":"IFERROR(FIND(UPPER('Causas anteriores'!$D$4),D236),0)","v":0},{"$f":"+IF('Hoja3 (2)'!$F236=0,0,1)","v":0},{"$f":"+H235+'Hoja3 (2)'!$G236","v":1},{"$f":"+'Hoja3 (2)'!$H236*'Hoja3 (2)'!$G236","v":0},"MANTENER/AJUSTAR TEXTO","Activa","APREHENSION ILEGAL DE MERCANCIAS",null,"ACTIVA"]
[{"$f":"+'Hoja3 (2)'!$I237","v":0},"FALLA EN EL SERVICIO POR DEFICIENCIA EN OPERACIONES FINANCIERAS",1,{"$f":"+IF('Hoja3 (2)'!$C237=1,'Hoja3 (2)'!$B237,\"No\")","v":"FALLA EN EL SERVICIO POR DEFICIENCIA EN OPERACIONES FINANCIERAS"},{"$f":"+'Hoja3 (2)'!$C237&'Hoja3 (2)'!$B237","v":"1FALLA EN EL SERVICIO POR DEFICIENCIA EN OPERACIONES FINANCIERAS"},{"$f":"IFERROR(FIND(UPPER('Causas anteriores'!$D$4),D237),0)","v":0},{"$f":"+IF('Hoja3 (2)'!$F237=0,0,1)","v":0},{"$f":"+H236+'Hoja3 (2)'!$G237","v":1},{"$f":"+'Hoja3 (2)'!$H237*'Hoja3 (2)'!$G237","v":0},"MANTENER/AJUSTAR TEXTO","Activa","INDEBIDA PRESTACION DE SERVICIOS FINANCIEROS",null,"ACTIVA"]
[{"$f":"+'Hoja3 (2)'!$I238","v":2},"FALLA EN EL SERVICIO POR ERROR DE INFORMACION EN DOCUMENTO EXPEDIDO POR MEDICINA LEGAL",1,{"$f":"+IF('Hoja3 (2)'!$C238=1,'Hoja3 (2)'!$B238,\"No\")","v":"FALLA EN EL SERVICIO POR ERROR DE INFORMACION EN DOCUMENTO EXPEDIDO POR MEDICINA LEGAL"},{"$f":"+'Hoja3 (2)'!$C238&'Hoja3 (2)'!$B238","v":"1FALLA EN EL SERVICIO POR ERROR DE INFORMACION EN DOCUMENTO EXPEDIDO POR MEDICINA LEGAL"},{"$f":"IFERROR(FIND(UPPER('Causas anteriores'!$D$4),D238),0)","v":26},{"$f":"+IF('Hoja3 (2)'!$F238=0,0,1)","v":1},{"$f":"+H237+'Hoja3 (2)'!$G238","v":2},{"$f":"+'Hoja3 (2)'!$H238*'Hoja3 (2)'!$G238","v":2},"INACTIVAR EN NUEVA MATRIZ","Inactiva",null,null,"ACTIVA"]
[{"$f":"+'Hoja3 (2)'!$I239","v":0},"FALLA EN EL SERVICIO POR FALTA DE EXPEDICION DE DOCUMENTO",1,{"$f":"+IF('Hoja3 (2)'!$C239=1,'Hoja3 (2)'!$B239,\"No\")","v":"FALLA EN EL SERVICIO POR FALTA DE EXPEDICION DE DOCUMENTO"},{"$f":"+'Hoja3 (2)'!$C239&'Hoja3 (2)'!$B239","v":"1FALLA EN EL SERVICIO POR FALTA DE EXPEDICION DE DOCUMENTO"},{"$f":"IFERROR(FIND(UPPER('Causas anteriores'!$D$4),D239),0)","v":0},{"$f":"+IF('Hoja3 (2)'!$F239=0,0,1)","v":0},{"$f":"+H238+'Hoja3 (2)'!$G239","v":2},{"$f":"+'Hoja3 (2)'!$H239*'Hoja3 (2)'!$G239","v":0},"MANTENER/AJUSTAR TEXTO","Activa","PERJUICIOS OCASIONADOS POR NO EXPEDICION DE DOCUMENTO",null,"ACTIVA"]
[{"$f":"+'Hoja3 (2)'!$I240","v":0},"FALLA EN EL SERVICIO POR FALTA DE SUSCRIPCION DE POLIZA DE SEGURO",1,{"$f":"+IF('Hoja3 (2)'!$C240=1,'Hoja3 (2)'!$B240,\"No\")","v":"FALLA EN EL SERVICIO POR FALTA DE SUSCRIPCION DE POLIZA DE SEGURO"},{"$f":"+'Hoja3 (2)'!$C240&'Hoja3 (2)'!$B240","v":"1FALLA EN EL SERVICIO POR FALTA DE SUSCRIPCION DE POLIZA DE SEGURO"},{"$f":"IFERROR(FIND(UPPER('Causas anteriores'!$D$4),D240),0)","v":0},{"$f":"+IF('Hoja3 (2)'!$F240=0,0,1)","v":0},{"$f":"+H239+'Hoja3 (2)'!$G240","v":2},{"$f":"+'Hoja3 (2)'!$H240*'Hoja3 (2)'!$G240","v":0},"MANTENER/AJUSTAR TEXTO","Activa","INCUMPLIMIENTO DE LA OBLIGACION DE SUSCRIBIR CONTRATO DE SEGURO",null,"ACTIVA"]
[{"$f":"+'Hoja3 (2)'!$I241","v":0},"FALLA EN EL SERVICIO POR INDEBIDA INCORPORACION DE CONSCRIPTOS",1,{"$f":"+IF('Hoja3 (2)'!$C241=1,'Hoja3 (2)'!$B241,\"No\")","v":"FALLA EN EL SERVICIO POR INDEBIDA INCORPORACION DE CONSCRIPTOS"},{"$f":"+'Hoja3 (2)'!$C241&'Hoja3 (2)'!$B241","v":"1FALLA EN EL SERVICIO POR INDEBIDA INCORPORACION DE CONSCRIPTOS"},{"$f":"IFERROR(FIND(UPPER('Causas anteriores'!$D$4),D241),0)","v":0},{"$f":"+IF('Hoja3 (2)'!$F241=0,0,1)","v":0},{"$f":"+H240+'Hoja3 (2)'!$G241","v":2},{"$f":"+'Hoja3 (2)'!$H241*'Hoja3 (2)'!$G241","v":0},"MANTENER/AJUSTAR TEXTO","Activa","INDEBIDA INCORPORACION DE CONSCRIPTOS",null,"ACTIVA"]
[{"$f":"+'Hoja3 (2)'!$I242","v":0},"FALLA EN EL SERVICIO POR OMISION EN LA DEVOLUCION OPORTUNA DE TRIBUTOS ADUANEROS PAGADOS EN EXCESO",1,{"$f":"+IF('Hoja3 (2)'!$C242=1,'Hoja3 (2)'!$B242,\"No\")","v":"FALLA EN EL SERVICIO POR OMISION EN LA DEVOLUCION OPORTUNA DE TRIBUTOS ADUANEROS PAGADOS EN EXCESO"},{"$f":"+'Hoja3 (2)'!$C242&'Hoja3 (2)'!$B242","v":"1FALLA EN EL SERVICIO POR OMISION EN LA DEVOLUCION OPORTUNA DE TRIBUTOS ADUANEROS PAGADOS EN EXCESO"},{"$f":"IFERROR(FIND(UPPER('Causas anteriores'!$D$4),D242),0)","v":0},{"$f":"+IF('Hoja3 (2)'!$F242=0,0,1)","v":0},{"$f":"+H241+'Hoja3 (2)'!$G242","v":2},{"$f":"+'Hoja3 (2)'!$H242*'Hoja3 (2)'!$G242","v":0},"MANTENER/AJUSTAR TEXTO","Activa","OMISION EN LA DEVOLUCION OPORTUNA DE TRIBUTOS ADUANEROS PAGADOS EN EXCESO",null,"ACTIVA"]
[{"$f":"+'Hoja3 (2)'!$I243","v":0},"FALLA EN EL SERVICIO POR OMISION EN LA EXPEDICION DE DOCUMENTOS",1,{"$f":"+IF('Hoja3 (2)'!$C243=1,'Hoja3 (2)'!$B243,\"No\")","v":"FALLA EN EL SERVICIO POR OMISION EN LA EXPEDICION DE DOCUMENTOS"},{"$f":"+'Hoja3 (2)'!$C243&'Hoja3 (2)'!$B243","v":"1FALLA EN EL SERVICIO POR OMISION EN LA EXPEDICION DE DOCUMENTOS"},{"$f":"IFERROR(FIND(UPPER('Causas anteriores'!$D$4),D243),0)","v":0},{"$f":"+IF('Hoja3 (2)'!$F243=0,0,1)","v":0},{"$f":"+H242+'Hoja3 (2)'!$G243","v":2},{"$f":"+'Hoja3 (2)'!$H243*'Hoja3 (2)'!$G243","v":0},"ESTABA INACTIVA","Inactiva",null,null,"INACTIVA"]
[{"$f":"+'Hoja3 (2)'!$I244","v":0},"FALLA EN LA PRESTACION DEL SERVICIO CATASTRAL",1,{"$f":"+IF('Hoja3 (2)'!$C244=1,'Hoja3 (2)'!$B244,\"No\")","v":"FALLA EN LA PRESTACION DEL SERVICIO CATASTRAL"},{"$f":"+'Hoja3 (2)'!$C244&'Hoja3 (2)'!$B244","v":"1FALLA EN LA PRESTACION DEL SERVICIO CATASTRAL"},{"$f":"IFERROR(FIND(UPPER('Causas anteriores'!$D$4),D244),0)","v":0},{"$f":"+IF('Hoja3 (2)'!$F244=0,0,1)","v":0},{"$f":"+H243+'Hoja3 (2)'!$G244","v":2},{"$f":"+'Hoja3 (2)'!$H244*'Hoja3 (2)'!$G244","v":0},"MANTENER/AJUSTAR TEXTO","Activa","PRESTACION INADECUADA DEL SERVICIO CATASTRAL",null,"ACTIVA"]
[{"$f":"+'Hoja3 (2)'!$I245","v":0},"FALLA EN LA PRESTACION DEL SERVICIO DE SALUD",1,{"$f":"+IF('Hoja3 (2)'!$C245=1,'Hoja3 (2)'!$B245,\"No\")","v":"FALLA EN LA PRESTACION DEL SERVICIO DE SALUD"},{"$f":"+'Hoja3 (2)'!$C245&'Hoja3 (2)'!$B245","v":"1FALLA EN LA PRESTACION DEL SERVICIO DE SALUD"},{"$f":"IFERROR(FIND(UPPER('Causas anteriores'!$D$4),D245),0)","v":0},{"$f":"+IF('Hoja3 (2)'!$F245=0,0,1)","v":0},{"$f":"+H244+'Hoja3 (2)'!$G245","v":2},{"$f":"+'Hoja3 (2)'!$H245*'Hoja3 (2)'!$G245","v":0},"INACTIVAR PARA DESAGREGAR","Inactiva",null,null,"ACTIVA"]
[{"$f":"+'Hoja3 (2)'!$I246","v":0},"FALLA EN LA PRESTACION DEL SERVICIO DE SALUD",2,{"$f":"+IF('Hoja3 (2)'!$C246=1,'Hoja3 (2)'!$B246,\"No\")","v":"No"},{"$f":"+'Hoja3 (2)'!$C246&'Hoja3 (2)'!$B246","v":"2FALLA EN LA PRESTACION DEL SERVICIO DE SALUD"},{"$f":"IFERROR(FIND(UPPER('Causas anteriores'!$D$4),D246),0)","v":0},{"$f":"+IF('Hoja3 (2)'!$F246=0,0,1)","v":0},{"$f":"+H245+'Hoja3 (2)'!$G246","v":2},{"$f":"+'Hoja3 (2)'!$H246*'Hoja3 (2)'!$G246","v":0},"CREAR","Activa","LESION POR INDEBIDA PRESTACION DEL SERVICIO DE SALUD GINECO OBSTETRICO"]
[{"$f":"+'Hoja3 (2)'!$I247","v":0},"FALLA EN LA PRESTACION DEL SERVICIO DE SALUD",3,{"$f":"+IF('Hoja3 (2)'!$C247=1,'Hoja3 (2)'!$B247,\"No\")","v":"No"},{"$f":"+'Hoja3 (2)'!$C247&'Hoja3 (2)'!$B247","v":"3FALLA EN LA PRESTACION DEL SERVICIO DE SALUD"},{"$f":"IFERROR(FIND(UPPER('Causas anteriores'!$D$4),D247),0)","v":0},{"$f":"+IF('Hoja3 (2)'!$F247=0,0,1)","v":0},{"$f":"+H246+'Hoja3 (2)'!$G247","v":2},{"$f":"+'Hoja3 (2)'!$H247*'Hoja3 (2)'!$G247","v":0},"CREAR","Activa","MUERTE POR INDEBIDA PRESTACION DEL SERVICIO DE SALUD GINECO OBSTETRICO"]
[{"$f":"+'Hoja3 (2)'!$I248","v":0},"FALLA EN LA PRESTACION DEL SERVICIO DE SALUD",4,{"$f":"+IF('Hoja3 (2)'!$C248=1,'Hoja3 (2)'!$B248,\"No\")","v":"No"},{"$f":"+'Hoja3 (2)'!$C248&'Hoja3 (2)'!$B248","v":"4FALLA EN LA PRESTACION DEL SERVICIO DE SALUD"},{"$f":"IFERROR(FIND(UPPER('Causas anteriores'!$D$4),D248),0)","v":0},{"$f":"+IF('Hoja3 (2)'!$F248=0,0,1)","v":0},{"$f":"+H247+'Hoja3 (2)'!$G248","v":2},{"$f":"+'Hoja3 (2)'!$H248*'Hoja3 (2)'!$G248","v":0},"CREAR","Activa","LESION POR INDEBIDO CONSENTIMIENTO INFORMADO EN LA PRESTACION DEL SERVICIO DE SALUD"]
[{"$f":"+'Hoja3 (2)'!$I249","v":0},"FALLA EN LA PRESTACION DEL SERVICIO DE SALUD",5,{"$f":"+IF('Hoja3 (2)'!$C249=1,'Hoja3 (2)'!$B249,\"No\")","v":"No"},{"$f":"+'Hoja3 (2)'!$C249&'Hoja3 (2)'!$B249","v":"5FALLA EN LA PRESTACION DEL SERVICIO DE SALUD"},{"$f":"IFERROR(FIND(UPPER('Causas anteriores'!$D$4),D249),0)","v":0},{"$f":"+IF('Hoja3 (2)'!$F249=0,0,1)","v":0},{"$f":"+H248+'Hoja3 (2)'!$G249","v":2},{"$f":"+'Hoja3 (2)'!$H249*'Hoja3 (2)'!$G249","v":0},"CREAR","Activa","MUERTE POR INDEBIDO CONSENTIMIENTO INFORMADO EN LA PRESTACION DEL SERVICIO DE SALUD"]
[{"$f":"+'Hoja3 (2)'!$I250","v":0},"FALLA EN LA PRESTACION DEL SERVICIO DE SALUD",6,{"$f":"+IF('Hoja3 (2)'!$C250=1,'Hoja3 (2)'!$B250,\"No\")","v":"No"},{"$f":"+'Hoja3 (2)'!$C250&'Hoja3 (2)'!$B250","v":"6FALLA EN LA PRESTACION DEL SERVICIO DE SALUD"},{"$f":"IFERROR(FIND(UPPER('Causas anteriores'!$D$4),D250),0)","v":0},{"$f":"+IF('Hoja3 (2)'!$F250=0,0,1)","v":0},{"$f":"+H249+'Hoja3 (2)'!$G250","v":2},{"$f":"+'Hoja3 (2)'!$H250*'Hoja3 (2)'!$G250","v":0},"CREAR","Activa","LESION POR INCUMPLIMIENTO DEL DEBER DE SEGURIDAD EN LA ATENCION HOSPITALARIA"]
[{"$f":"+'Hoja3 (2)'!$I251","v":0},"FALLA EN LA PRESTACION DEL SERVICIO DE SALUD",7,{"$f":"+IF('Hoja3 (2)'!$C251=1,'Hoja3 (2)'!$B251,\"No\")","v":"No"},{"$f":"+'Hoja3 (2)'!$C251&'Hoja3 (2)'!$B251","v":"7FALLA EN LA PRESTACION DEL SERVICIO DE SALUD"},{"$f":"IFERROR(FIND(UPPER('Causas anteriores'!$D$4),D251),0)","v":0},{"$f":"+IF('Hoja3 (2)'!$F251=0,0,1)","v":0},{"$f":"+H250+'Hoja3 (2)'!$G251","v":2},{"$f":"+'Hoja3 (2)'!$H251*'Hoja3 (2)'!$G251","v":0},"CREAR","Activa","MUERTE POR INCUMPLIMIENTO DEL DEBER DE SEGURIDAD EN LA ATENCION HOSPITALARIA"]
[{"$f":"+'Hoja3 (2)'!$I252","v":0},"FALLA EN LA PRESTACION DEL SERVICIO DE SALUD",8,{"$f":"+IF('Hoja3 (2)'!$C252=1,'Hoja3 (2)'!$B252,\"No\")","v":"No"},{"$f":"+'Hoja3 (2)'!$C252&'Hoja3 (2)'!$B252","v":"8FALLA EN LA PRESTACION DEL SERVICIO DE SALUD"},{"$f":"IFERROR(FIND(UPPER('Causas anteriores'!$D$4),D252),0)","v":0},{"$f":"+IF('Hoja3 (2)'!$F252=0,0,1)","v":0},{"$f":"+H251+'Hoja3 (2)'!$G252","v":2},{"$f":"+'Hoja3 (2)'!$H252*'Hoja3 (2)'!$G252","v":0},"CREAR","Activa","LESION POR INDEBIDA PRESTACION DEL SERVICIO DE SALUD"]
[{"$f":"+'Hoja3 (2)'!$I253","v":0},"FALLA EN LA PRESTACION DEL SERVICIO DE SALUD",9,{"$f":"+IF('Hoja3 (2)'!$C253=1,'Hoja3 (2)'!$B253,\"No\")","v":"No"},{"$f":"+'Hoja3 (2)'!$C253&'Hoja3 (2)'!$B253","v":"9FALLA EN LA PRESTACION DEL SERVICIO DE SALUD"},{"$f":"IFERROR(FIND(UPPER('Causas anteriores'!$D$4),D253),0)","v":0},{"$f":"+IF('Hoja3 (2)'!$F253=0,0,1)","v":0},{"$f":"+H252+'Hoja3 (2)'!$G253","v":2},{"$f":"+'Hoja3 (2)'!$H253*'Hoja3 (2)'!$G253","v":0},"CREAR","Activa","MUERTE POR INDEBIDA PRESTACION DEL SERVICIO DE SALUD"]
[{"$f":"+'Hoja3 (2)'!$I254","v":0},"FALLA EN LA PRESTACION DEL SERVICIO REGISTRAL Y NOTARIAL",1,{"$f":"+IF('Hoja3 (2)'!$C254=1,'Hoja3 (2)'!$B254,\"No\")","v":"FALLA EN LA PRESTACION DEL SERVICIO REGISTRAL Y NOTARIAL"},{"$f":"+'Hoja3 (2)'!$C254&'Hoja3 (2)'!$B254","v":"1FALLA EN LA PRESTACION DEL SERVICIO REGISTRAL Y NOTARIAL"},{"$f":"IFERROR(FIND(UPPER('Causas anteriores'!$D$4),D254),0)","v":0},{"$f":"+IF('Hoja3 (2)'!$F254=0,0,1)","v":0},{"$f":"+H253+'Hoja3 (2)'!$G254","v":2},{"$f":"+'Hoja3 (2)'!$H254*'Hoja3 (2)'!$G254","v":0},"MANTENER/AJUSTAR TEXTO","Activa","PRESTACION INADECUADA DEL SERVICIO NOTARIAL Y REGISTRAL",null,"ACTIVA"]
[{"$f":"+'Hoja3 (2)'!$I255","v":0},"FALTA DE HEREDEROS EN SUCESION INTESTADA",1,{"$f":"+IF('Hoja3 (2)'!$C255=1,'Hoja3 (2)'!$B255,\"No\")","v":"FALTA DE HEREDEROS EN SUCESION INTESTADA"},{"$f":"+'Hoja3 (2)'!$C255&'Hoja3 (2)'!$B255","v":"1FALTA DE HEREDEROS EN SUCESION INTESTADA"},{"$f":"IFERROR(FIND(UPPER('Causas anteriores'!$D$4),D255),0)","v":0},{"$f":"+IF('Hoja3 (2)'!$F255=0,0,1)","v":0},{"$f":"+H254+'Hoja3 (2)'!$G255","v":2},{"$f":"+'Hoja3 (2)'!$H255*'Hoja3 (2)'!$G255","v":0},"ESTABA INACTIVA","Inactiva",null,null,"INACTIVA"]
[{"$f":"+'Hoja3 (2)'!$I256","v":0},"FALTA DE REPARACION INTEGRAL A VICTIMAS DEL CONFLICTO ARMADO INTERNO",1,{"$f":"+IF('Hoja3 (2)'!$C256=1,'Hoja3 (2)'!$B256,\"No\")","v":"FALTA DE REPARACION INTEGRAL A VICTIMAS DEL CONFLICTO ARMADO INTERNO"},{"$f":"+'Hoja3 (2)'!$C256&'Hoja3 (2)'!$B256","v":"1FALTA DE REPARACION INTEGRAL A VICTIMAS DEL CONFLICTO ARMADO INTERNO"},{"$f":"IFERROR(FIND(UPPER('Causas anteriores'!$D$4),D256),0)","v":0},{"$f":"+IF('Hoja3 (2)'!$F256=0,0,1)","v":0},{"$f":"+H255+'Hoja3 (2)'!$G256","v":2},{"$f":"+'Hoja3 (2)'!$H256*'Hoja3 (2)'!$G256","v":0},"MANTENER/AJUSTAR TEXTO","Activa","FALTA DE REPARACION INTEGRAL A VICTIMAS DEL CONFLICTO ARMADO INTERNO",null,"ACTIVA"]
[{"$f":"+'Hoja3 (2)'!$I257","v":0},"GOCE DE UN AMBIENTE SANO",1,{"$f":"+IF('Hoja3 (2)'!$C257=1,'Hoja3 (2)'!$B257,\"No\")","v":"GOCE DE UN AMBIENTE SANO"},{"$f":"+'Hoja3 (2)'!$C257&'Hoja3 (2)'!$B257","v":"1GOCE DE UN AMBIENTE SANO"},{"$f":"IFERROR(FIND(UPPER('Causas anteriores'!$D$4),D257),0)","v":0},{"$f":"+IF('Hoja3 (2)'!$F257=0,0,1)","v":0},{"$f":"+H256+'Hoja3 (2)'!$G257","v":2},{"$f":"+'Hoja3 (2)'!$H257*'Hoja3 (2)'!$G257","v":0},"ESTABA INACTIVA","Inactiva",null,null,"INACTIVA"]
[{"$f":"+'Hoja3 (2)'!$I258","v":0},"ILEGALIDAD DEL ACTO ADMINISTRATIVO COMPLEJO QUE CREA UN ENTE TERRITORIAL",1,{"$f":"+IF('Hoja3 (2)'!$C258=1,'Hoja3 (2)'!$B258,\"No\")","v":"ILEGALIDAD DEL ACTO ADMINISTRATIVO COMPLEJO QUE CREA UN ENTE TERRITORIAL"},{"$f":"+'Hoja3 (2)'!$C258&'Hoja3 (2)'!$B258","v":"1ILEGALIDAD DEL ACTO ADMINISTRATIVO COMPLEJO QUE CREA UN ENTE TERRITORIAL"},{"$f":"IFERROR(FIND(UPPER('Causas anteriores'!$D$4),D258),0)","v":0},{"$f":"+IF('Hoja3 (2)'!$F258=0,0,1)","v":0},{"$f":"+H257+'Hoja3 (2)'!$G258","v":2},{"$f":"+'Hoja3 (2)'!$H258*'Hoja3 (2)'!$G258","v":0},"INACTIVAR EN NUEVA MATRIZ","Inactiva",null,null,"ACTIVA"]
[{"$f":"+'Hoja3 (2)'!$I259","v":0},"ILEGALIDAD DEL ACTO ADMINISTRATIVO DE DESVINCULACION DE LOS MIEMBROS DE LA FUERZA PUBLICA POR LLAMAMIENTO A CALIFICAR SERVICIOS O RETIRO DISCRECIONAL",1,{"$f":"+IF('Hoja3 (2)'!$C259=1,'Hoja3 (2)'!$B259,\"No\")","v":"ILEGALIDAD DEL ACTO ADMINISTRATIVO DE DESVINCULACION DE LOS MIEMBROS DE LA FUERZA PUBLICA POR LLAMAMIENTO A CALIFICAR SERVICIOS O RETIRO DISCRECIONAL"},{"$f":"+'Hoja3 (2)'!$C259&'Hoja3 (2)'!$B259","v":"1ILEGALIDAD DEL ACTO ADMINISTRATIVO DE DESVINCULACION DE LOS MIEMBROS DE LA FUERZA PUBLICA POR LLAMAMIENTO A CALIFICAR SERVICIOS O RETIRO DISCRECIONAL"},{"$f":"IFERROR(FIND(UPPER('Causas anteriores'!$D$4),D259),0)","v":0},{"$f":"+IF('Hoja3 (2)'!$F259=0,0,1)","v":0},{"$f":"+H258+'Hoja3 (2)'!$G259","v":2},{"$f":"+'Hoja3 (2)'!$H259*'Hoja3 (2)'!$G259","v":0},"INACTIVAR EN NUEVA MATRIZ","Inactiva",null,null,"ACTIVA"]
[{"$f":"+'Hoja3 (2)'!$I260","v":0},"ILEGALIDAD DEL ACTO ADMINISTRATIVO EXPEDIDO IRREGULARMENTE",1,{"$f":"+IF('Hoja3 (2)'!$C260=1,'Hoja3 (2)'!$B260,\"No\")","v":"ILEGALIDAD DEL ACTO ADMINISTRATIVO EXPEDIDO IRREGULARMENTE"},{"$f":"+'Hoja3 (2)'!$C260&'Hoja3 (2)'!$B260","v":"1ILEGALIDAD DEL ACTO ADMINISTRATIVO EXPEDIDO IRREGULARMENTE"},{"$f":"IFERROR(FIND(UPPER('Causas anteriores'!$D$4),D260),0)","v":0},{"$f":"+IF('Hoja3 (2)'!$F260=0,0,1)","v":0},{"$f":"+H259+'Hoja3 (2)'!$G260","v":2},{"$f":"+'Hoja3 (2)'!$H260*'Hoja3 (2)'!$G260","v":0},"ESTABA INACTIVA","Inactiva",null,null,"INACTIVA"]
[{"$f":"+'Hoja3 (2)'!$I261","v":0},"ILEGALIDAD DEL ACTO ADMINISTRATIVO POR FALSA MOTIVACION",1,{"$f":"+IF('Hoja3 (2)'!$C261=1,'Hoja3 (2)'!$B261,\"No\")","v":"ILEGALIDAD DEL ACTO ADMINISTRATIVO POR FALSA MOTIVACION"},{"$f":"+'Hoja3 (2)'!$C261&'Hoja3 (2)'!$B261","v":"1ILEGALIDAD DEL ACTO ADMINISTRATIVO POR FALSA MOTIVACION"},{"$f":"IFERROR(FIND(UPPER('Causas anteriores'!$D$4),D261),0)","v":0},{"$f":"+IF('Hoja3 (2)'!$F261=0,0,1)","v":0},{"$f":"+H260+'Hoja3 (2)'!$G261","v":2},{"$f":"+'Hoja3 (2)'!$H261*'Hoja3 (2)'!$G261","v":0},"ESTABA INACTIVA","Inactiva",null,null,"INACTIVA"]
[{"$f":"+'Hoja3 (2)'!$I262","v":0},"ILEGALIDAD DEL ACTO ADMINISTRATIVO POR MEDIO DEL CUAL SE EFECTUA LA CLASIFICACION ARANCELARIA DE UNA MERCANCIA",1,{"$f":"+IF('Hoja3 (2)'!$C262=1,'Hoja3 (2)'!$B262,\"No\")","v":"ILEGALIDAD DEL ACTO ADMINISTRATIVO POR MEDIO DEL CUAL SE EFECTUA LA CLASIFICACION ARANCELARIA DE UNA MERCANCIA"},{"$f":"+'Hoja3 (2)'!$C262&'Hoja3 (2)'!$B262","v":"1ILEGALIDAD DEL ACTO ADMINISTRATIVO POR MEDIO DEL CUAL SE EFECTUA LA CLASIFICACION ARANCELARIA DE UNA MERCANCIA"},{"$f":"IFERROR(FIND(UPPER('Causas anteriores'!$D$4),D262),0)","v":0},{"$f":"+IF('Hoja3 (2)'!$F262=0,0,1)","v":0},{"$f":"+H261+'Hoja3 (2)'!$G262","v":2},{"$f":"+'Hoja3 (2)'!$H262*'Hoja3 (2)'!$G262","v":0},"MANTENER/AJUSTAR TEXTO","Activa","ILEGALIDAD DEL ACTO ADMINISTRATIVO QUE EFECTUA CLASIFICACION ARANCELARIA MERCANCIAS",null,"ACTIVA"]
[{"$f":"+'Hoja3 (2)'!$I263","v":0},"ILEGALIDAD DEL ACTO ADMINISTRATIVO QUE ADJUDICA UN BIEN INMUEBLE",1,{"$f":"+IF('Hoja3 (2)'!$C263=1,'Hoja3 (2)'!$B263,\"No\")","v":"ILEGALIDAD DEL ACTO ADMINISTRATIVO QUE ADJUDICA UN BIEN INMUEBLE"},{"$f":"+'Hoja3 (2)'!$C263&'Hoja3 (2)'!$B263","v":"1ILEGALIDAD DEL ACTO ADMINISTRATIVO QUE ADJUDICA UN BIEN INMUEBLE"},{"$f":"IFERROR(FIND(UPPER('Causas anteriores'!$D$4),D263),0)","v":0},{"$f":"+IF('Hoja3 (2)'!$F263=0,0,1)","v":0},{"$f":"+H262+'Hoja3 (2)'!$G263","v":2},{"$f":"+'Hoja3 (2)'!$H263*'Hoja3 (2)'!$G263","v":0},"MANTENER/AJUSTAR TEXTO","Activa","ILEGALIDAD DEL ACTO ADMINISTRATIVO QUE ADJUDICA UN BIEN INMUEBLE",null,"ACTIVA"]
[{"$f":"+'Hoja3 (2)'!$I264","v":0},"ILEGALIDAD DEL ACTO ADMINISTRATIVO QUE ADJUDICA UN CONTRATO",1,{"$f":"+IF('Hoja3 (2)'!$C264=1,'Hoja3 (2)'!$B264,\"No\")","v":"ILEGALIDAD DEL ACTO ADMINISTRATIVO QUE ADJUDICA UN CONTRATO"},{"$f":"+'Hoja3 (2)'!$C264&'Hoja3 (2)'!$B264","v":"1ILEGALIDAD DEL ACTO ADMINISTRATIVO QUE ADJUDICA UN CONTRATO"},{"$f":"IFERROR(FIND(UPPER('Causas anteriores'!$D$4),D264),0)","v":0},{"$f":"+IF('Hoja3 (2)'!$F264=0,0,1)","v":0},{"$f":"+H263+'Hoja3 (2)'!$G264","v":2},{"$f":"+'Hoja3 (2)'!$H264*'Hoja3 (2)'!$G264","v":0},"MANTENER/AJUSTAR TEXTO","Activa","ILEGALIDAD DEL ACTO ADMINISTRATIVO QUE ADJUDICA UN CONTRATO",null,"ACTIVA"]
[{"$f":"+'Hoja3 (2)'!$I265","v":0},"ILEGALIDAD DEL ACTO ADMINISTRATIVO QUE APLICA INDEBIDAMENTE LA NORMA",1,{"$f":"+IF('Hoja3 (2)'!$C265=1,'Hoja3 (2)'!$B265,\"No\")","v":"ILEGALIDAD DEL ACTO ADMINISTRATIVO QUE APLICA INDEBIDAMENTE LA NORMA"},{"$f":"+'Hoja3 (2)'!$C265&'Hoja3 (2)'!$B265","v":"1ILEGALIDAD DEL ACTO ADMINISTRATIVO QUE APLICA INDEBIDAMENTE LA NORMA"},{"$f":"IFERROR(FIND(UPPER('Causas anteriores'!$D$4),D265),0)","v":0},{"$f":"+IF('Hoja3 (2)'!$F265=0,0,1)","v":0},{"$f":"+H264+'Hoja3 (2)'!$G265","v":2},{"$f":"+'Hoja3 (2)'!$H265*'Hoja3 (2)'!$G265","v":0},"ESTABA INACTIVA","Inactiva",null,null,"INACTIVA"]
[{"$f":"+'Hoja3 (2)'!$I266","v":0},"ILEGALIDAD DEL ACTO ADMINISTRATIVO QUE APRUEBA TARIFAS DE ENERGIA Y GAS COMBUSTIBLE",1,{"$f":"+IF('Hoja3 (2)'!$C266=1,'Hoja3 (2)'!$B266,\"No\")","v":"ILEGALIDAD DEL ACTO ADMINISTRATIVO QUE APRUEBA TARIFAS DE ENERGIA Y GAS COMBUSTIBLE"},{"$f":"+'Hoja3 (2)'!$C266&'Hoja3 (2)'!$B266","v":"1ILEGALIDAD DEL ACTO ADMINISTRATIVO QUE APRUEBA TARIFAS DE ENERGIA Y GAS COMBUSTIBLE"},{"$f":"IFERROR(FIND(UPPER('Causas anteriores'!$D$4),D266),0)","v":0},{"$f":"+IF('Hoja3 (2)'!$F266=0,0,1)","v":0},{"$f":"+H265+'Hoja3 (2)'!$G266","v":2},{"$f":"+'Hoja3 (2)'!$H266*'Hoja3 (2)'!$G266","v":0},"MANTENER/AJUSTAR TEXTO","Activa","ILEGALIDAD DEL ACTO ADMINISTRATIVO QUE APRUEBA TARIFAS DE ENERGIA Y GAS COMBUSTIBLE",null,"ACTIVA"]
[{"$f":"+'Hoja3 (2)'!$I267","v":0},"ILEGALIDAD DEL ACTO ADMINISTRATIVO QUE AUTORIZA LA CONSTITUCION DE SINDICATO",1,{"$f":"+IF('Hoja3 (2)'!$C267=1,'Hoja3 (2)'!$B267,\"No\")","v":"ILEGALIDAD DEL ACTO ADMINISTRATIVO QUE AUTORIZA LA CONSTITUCION DE SINDICATO"},{"$f":"+'Hoja3 (2)'!$C267&'Hoja3 (2)'!$B267","v":"1ILEGALIDAD DEL ACTO ADMINISTRATIVO QUE AUTORIZA LA CONSTITUCION DE SINDICATO"},{"$f":"IFERROR(FIND(UPPER('Causas anteriores'!$D$4),D267),0)","v":0},{"$f":"+IF('Hoja3 (2)'!$F267=0,0,1)","v":0},{"$f":"+H266+'Hoja3 (2)'!$G267","v":2},{"$f":"+'Hoja3 (2)'!$H267*'Hoja3 (2)'!$G267","v":0},"MANTENER/AJUSTAR TEXTO","Activa","INDEBIDA CONSTITUCION DE SINDICATO",null,"ACTIVA"]
[{"$f":"+'Hoja3 (2)'!$I268","v":0},"ILEGALIDAD DEL ACTO ADMINISTRATIVO QUE AUTORIZA O NIEGA UN ASCENSO",1,{"$f":"+IF('Hoja3 (2)'!$C268=1,'Hoja3 (2)'!$B268,\"No\")","v":"ILEGALIDAD DEL ACTO ADMINISTRATIVO QUE AUTORIZA O NIEGA UN ASCENSO"},{"$f":"+'Hoja3 (2)'!$C268&'Hoja3 (2)'!$B268","v":"1ILEGALIDAD DEL ACTO ADMINISTRATIVO QUE AUTORIZA O NIEGA UN ASCENSO"},{"$f":"IFERROR(FIND(UPPER('Causas anteriores'!$D$4),D268),0)","v":0},{"$f":"+IF('Hoja3 (2)'!$F268=0,0,1)","v":0},{"$f":"+H267+'Hoja3 (2)'!$G268","v":2},{"$f":"+'Hoja3 (2)'!$H268*'Hoja3 (2)'!$G268","v":0},"MANTENER/AJUSTAR TEXTO","Activa","ILEGALIDAD DEL ACTO ADMINISTRATIVO QUE AUTORIZA O NIEGA UN ASCENSO",null,"ACTIVA"]
[{"$f":"+'Hoja3 (2)'!$I269","v":0},"ILEGALIDAD DEL ACTO ADMINISTRATIVO QUE CALIFICA LA PERDIDA DE CAPACIDAD LABORAL",1,{"$f":"+IF('Hoja3 (2)'!$C269=1,'Hoja3 (2)'!$B269,\"No\")","v":"ILEGALIDAD DEL ACTO ADMINISTRATIVO QUE CALIFICA LA PERDIDA DE CAPACIDAD LABORAL"},{"$f":"+'Hoja3 (2)'!$C269&'Hoja3 (2)'!$B269","v":"1ILEGALIDAD DEL ACTO ADMINISTRATIVO QUE CALIFICA LA PERDIDA DE CAPACIDAD LABORAL"},{"$f":"IFERROR(FIND(UPPER('Causas anteriores'!$D$4),D269),0)","v":0},{"$f":"+IF('Hoja3 (2)'!$F269=0,0,1)","v":0},{"$f":"+H268+'Hoja3 (2)'!$G269","v":2},{"$f":"+'Hoja3 (2)'!$H269*'Hoja3 (2)'!$G269","v":0},"MANTENER/AJUSTAR TEXTO","Activa","ILEGALIDAD DEL ACTO ADMINISTRATIVO QUE CALIFICA LA PERDIDA DE CAPACIDAD LABORAL",null,"ACTIVA"]
[{"$f":"+'Hoja3 (2)'!$I270","v":0},"ILEGALIDAD DEL ACTO ADMINISTRATIVO QUE CARECE DE COMPETENCIA",1,{"$f":"+IF('Hoja3 (2)'!$C270=1,'Hoja3 (2)'!$B270,\"No\")","v":"ILEGALIDAD DEL ACTO ADMINISTRATIVO QUE CARECE DE COMPETENCIA"},{"$f":"+'Hoja3 (2)'!$C270&'Hoja3 (2)'!$B270","v":"1ILEGALIDAD DEL ACTO ADMINISTRATIVO QUE CARECE DE COMPETENCIA"},{"$f":"IFERROR(FIND(UPPER('Causas anteriores'!$D$4),D270),0)","v":0},{"$f":"+IF('Hoja3 (2)'!$F270=0,0,1)","v":0},{"$f":"+H269+'Hoja3 (2)'!$G270","v":2},{"$f":"+'Hoja3 (2)'!$H270*'Hoja3 (2)'!$G270","v":0},"ESTABA INACTIVA","Inactiva",null,null,"INACTIVA"]
[{"$f":"+'Hoja3 (2)'!$I271","v":0},"ILEGALIDAD DEL ACTO ADMINISTRATIVO QUE CONTIENE ABUSO DE LAS FACULTADES DISCRECIONALES",1,{"$f":"+IF('Hoja3 (2)'!$C271=1,'Hoja3 (2)'!$B271,\"No\")","v":"ILEGALIDAD DEL ACTO ADMINISTRATIVO QUE CONTIENE ABUSO DE LAS FACULTADES DISCRECIONALES"},{"$f":"+'Hoja3 (2)'!$C271&'Hoja3 (2)'!$B271","v":"1ILEGALIDAD DEL ACTO ADMINISTRATIVO QUE CONTIENE ABUSO DE LAS FACULTADES DISCRECIONALES"},{"$f":"IFERROR(FIND(UPPER('Causas anteriores'!$D$4),D271),0)","v":0},{"$f":"+IF('Hoja3 (2)'!$F271=0,0,1)","v":0},{"$f":"+H270+'Hoja3 (2)'!$G271","v":2},{"$f":"+'Hoja3 (2)'!$H271*'Hoja3 (2)'!$G271","v":0},"ESTABA INACTIVA","Inactiva",null,null,"INACTIVA"]
[{"$f":"+'Hoja3 (2)'!$I272","v":0},"ILEGALIDAD DEL ACTO ADMINISTRATIVO QUE CONTIENE DESVIACION DE PODER",1,{"$f":"+IF('Hoja3 (2)'!$C272=1,'Hoja3 (2)'!$B272,\"No\")","v":"ILEGALIDAD DEL ACTO ADMINISTRATIVO QUE CONTIENE DESVIACION DE PODER"},{"$f":"+'Hoja3 (2)'!$C272&'Hoja3 (2)'!$B272","v":"1ILEGALIDAD DEL ACTO ADMINISTRATIVO QUE CONTIENE DESVIACION DE PODER"},{"$f":"IFERROR(FIND(UPPER('Causas anteriores'!$D$4),D272),0)","v":0},{"$f":"+IF('Hoja3 (2)'!$F272=0,0,1)","v":0},{"$f":"+H271+'Hoja3 (2)'!$G272","v":2},{"$f":"+'Hoja3 (2)'!$H272*'Hoja3 (2)'!$G272","v":0},"ESTABA INACTIVA","Inactiva",null,null,"INACTIVA"]
[{"$f":"+'Hoja3 (2)'!$I273","v":0},"ILEGALIDAD DEL ACTO ADMINISTRATIVO QUE CONTIENE UNA FALSA MOTIVACION",1,{"$f":"+IF('Hoja3 (2)'!$C273=1,'Hoja3 (2)'!$B273,\"No\")","v":"ILEGALIDAD DEL ACTO ADMINISTRATIVO QUE CONTIENE UNA FALSA MOTIVACION"},{"$f":"+'Hoja3 (2)'!$C273&'Hoja3 (2)'!$B273","v":"1ILEGALIDAD DEL ACTO ADMINISTRATIVO QUE CONTIENE UNA FALSA MOTIVACION"},{"$f":"IFERROR(FIND(UPPER('Causas anteriores'!$D$4),D273),0)","v":0},{"$f":"+IF('Hoja3 (2)'!$F273=0,0,1)","v":0},{"$f":"+H272+'Hoja3 (2)'!$G273","v":2},{"$f":"+'Hoja3 (2)'!$H273*'Hoja3 (2)'!$G273","v":0},"ESTABA INACTIVA","Inactiva",null,null,"INACTIVA"]
[{"$f":"+'Hoja3 (2)'!$I274","v":0},"ILEGALIDAD DEL ACTO ADMINISTRATIVO QUE CONVOCA A CONCURSO PUBLICO O PROVEE CARGOS",1,{"$f":"+IF('Hoja3 (2)'!$C274=1,'Hoja3 (2)'!$B274,\"No\")","v":"ILEGALIDAD DEL ACTO ADMINISTRATIVO QUE CONVOCA A CONCURSO PUBLICO O PROVEE CARGOS"},{"$f":"+'Hoja3 (2)'!$C274&'Hoja3 (2)'!$B274","v":"1ILEGALIDAD DEL ACTO ADMINISTRATIVO QUE CONVOCA A CONCURSO PUBLICO O PROVEE CARGOS"},{"$f":"IFERROR(FIND(UPPER('Causas anteriores'!$D$4),D274),0)","v":0},{"$f":"+IF('Hoja3 (2)'!$F274=0,0,1)","v":0},{"$f":"+H273+'Hoja3 (2)'!$G274","v":2},{"$f":"+'Hoja3 (2)'!$H274*'Hoja3 (2)'!$G274","v":0},"MANTENER/AJUSTAR TEXTO","Activa","ILEGALIDAD DEL ACTO ADMINISTRATIVO QUE CONVOCA A CONCURSO PUBLICO DE MERITOS PARA PROVEER CARGOS PUBLICOS",null,"ACTIVA"]
[{"$f":"+'Hoja3 (2)'!$I275","v":0},"ILEGALIDAD DEL ACTO ADMINISTRATIVO QUE CREA O MODIFICA PLANTA DE PERSONAL",1,{"$f":"+IF('Hoja3 (2)'!$C275=1,'Hoja3 (2)'!$B275,\"No\")","v":"ILEGALIDAD DEL ACTO ADMINISTRATIVO QUE CREA O MODIFICA PLANTA DE PERSONAL"},{"$f":"+'Hoja3 (2)'!$C275&'Hoja3 (2)'!$B275","v":"1ILEGALIDAD DEL ACTO ADMINISTRATIVO QUE CREA O MODIFICA PLANTA DE PERSONAL"},{"$f":"IFERROR(FIND(UPPER('Causas anteriores'!$D$4),D275),0)","v":0},{"$f":"+IF('Hoja3 (2)'!$F275=0,0,1)","v":0},{"$f":"+H274+'Hoja3 (2)'!$G275","v":2},{"$f":"+'Hoja3 (2)'!$H275*'Hoja3 (2)'!$G275","v":0},"MANTENER/AJUSTAR TEXTO","Activa","ILEGALIDAD DEL ACTO ADMINISTRATIVO QUE MODIFICA PLANTA DE PERSONAL",null,"ACTIVA"]
[{"$f":"+'Hoja3 (2)'!$I276","v":0},"ILEGALIDAD DEL ACTO ADMINISTRATIVO QUE DECLARA DESIERTA LICITACION",1,{"$f":"+IF('Hoja3 (2)'!$C276=1,'Hoja3 (2)'!$B276,\"No\")","v":"ILEGALIDAD DEL ACTO ADMINISTRATIVO QUE DECLARA DESIERTA LICITACION"},{"$f":"+'Hoja3 (2)'!$C276&'Hoja3 (2)'!$B276","v":"1ILEGALIDAD DEL ACTO ADMINISTRATIVO QUE DECLARA DESIERTA LICITACION"},{"$f":"IFERROR(FIND(UPPER('Causas anteriores'!$D$4),D276),0)","v":0},{"$f":"+IF('Hoja3 (2)'!$F276=0,0,1)","v":0},{"$f":"+H275+'Hoja3 (2)'!$G276","v":2},{"$f":"+'Hoja3 (2)'!$H276*'Hoja3 (2)'!$G276","v":0},"MANTENER/AJUSTAR TEXTO","Activa","ILEGALIDAD DEL ACTO ADMINISTRATIVO QUE DECLARA DESIERTA LA LICITACION",null,"ACTIVA"]
[{"$f":"+'Hoja3 (2)'!$I277","v":0},"ILEGALIDAD DEL ACTO ADMINISTRATIVO QUE DECLARA LA CADUCIDAD CONTRACTUAL",1,{"$f":"+IF('Hoja3 (2)'!$C277=1,'Hoja3 (2)'!$B277,\"No\")","v":"ILEGALIDAD DEL ACTO ADMINISTRATIVO QUE DECLARA LA CADUCIDAD CONTRACTUAL"},{"$f":"+'Hoja3 (2)'!$C277&'Hoja3 (2)'!$B277","v":"1ILEGALIDAD DEL ACTO ADMINISTRATIVO QUE DECLARA LA CADUCIDAD CONTRACTUAL"},{"$f":"IFERROR(FIND(UPPER('Causas anteriores'!$D$4),D277),0)","v":0},{"$f":"+IF('Hoja3 (2)'!$F277=0,0,1)","v":0},{"$f":"+H276+'Hoja3 (2)'!$G277","v":2},{"$f":"+'Hoja3 (2)'!$H277*'Hoja3 (2)'!$G277","v":0},"MANTENER/AJUSTAR TEXTO","Activa","ILEGALIDAD DEL ACTO ADMINISTRATIVO QUE DECLARA LA CADUCIDAD CONTRACTUAL",null,"ACTIVA"]
[{"$f":"+'Hoja3 (2)'!$I278","v":0},"ILEGALIDAD DEL ACTO ADMINISTRATIVO QUE DECLARA LA INSUBSISTENCIA DE FUNCIONARIO DE CARRERA",1,{"$f":"+IF('Hoja3 (2)'!$C278=1,'Hoja3 (2)'!$B278,\"No\")","v":"ILEGALIDAD DEL ACTO ADMINISTRATIVO QUE DECLARA LA INSUBSISTENCIA DE FUNCIONARIO DE CARRERA"},{"$f":"+'Hoja3 (2)'!$C278&'Hoja3 (2)'!$B278","v":"1ILEGALIDAD DEL ACTO ADMINISTRATIVO QUE DECLARA LA INSUBSISTENCIA DE FUNCIONARIO DE CARRERA"},{"$f":"IFERROR(FIND(UPPER('Causas anteriores'!$D$4),D278),0)","v":0},{"$f":"+IF('Hoja3 (2)'!$F278=0,0,1)","v":0},{"$f":"+H277+'Hoja3 (2)'!$G278","v":2},{"$f":"+'Hoja3 (2)'!$H278*'Hoja3 (2)'!$G278","v":0},"MANTENER/AJUSTAR TEXTO","Activa","ILEGALIDAD DEL ACTO ADMINISTRATIVO QUE DECLARA LA INSUBSISTENCIA DE FUNCIONARIO DE CARRERA",null,"ACTIVA"]
[{"$f":"+'Hoja3 (2)'!$I279","v":0},"ILEGALIDAD DEL ACTO ADMINISTRATIVO QUE DECLARA LA INSUBSISTENCIA DE FUNCIONARIO DE LIBRE NOMBRAMIENTO Y REMOCION",1,{"$f":"+IF('Hoja3 (2)'!$C279=1,'Hoja3 (2)'!$B279,\"No\")","v":"ILEGALIDAD DEL ACTO ADMINISTRATIVO QUE DECLARA LA INSUBSISTENCIA DE FUNCIONARIO DE LIBRE NOMBRAMIENTO Y REMOCION"},{"$f":"+'Hoja3 (2)'!$C279&'Hoja3 (2)'!$B279","v":"1ILEGALIDAD DEL ACTO ADMINISTRATIVO QUE DECLARA LA INSUBSISTENCIA DE FUNCIONARIO DE LIBRE NOMBRAMIENTO Y REMOCION"},{"$f":"IFERROR(FIND(UPPER('Causas anteriores'!$D$4),D279),0)","v":0},{"$f":"+IF('Hoja3 (2)'!$F279=0,0,1)","v":0},{"$f":"+H278+'Hoja3 (2)'!$G279","v":2},{"$f":"+'Hoja3 (2)'!$H279*'Hoja3 (2)'!$G279","v":0},"MANTENER/AJUSTAR TEXTO","Activa","ILEGALIDAD DEL ACTO ADMINISTRATIVO QUE DECLARA LA INSUBSISTENCIA DE FUNCIONARIO DE LIBRE NOMBRAMIENTO Y REMOCION",null,"ACTIVA"]
[{"$f":"+'Hoja3 (2)'!$I280","v":0},"ILEGALIDAD DEL ACTO ADMINISTRATIVO QUE DECLARA LA INSUBSISTENCIA DE FUNCIONARIO EN PROVISIONALIDAD",1,{"$f":"+IF('Hoja3 (2)'!$C280=1,'Hoja3 (2)'!$B280,\"No\")","v":"ILEGALIDAD DEL ACTO ADMINISTRATIVO QUE DECLARA LA INSUBSISTENCIA DE FUNCIONARIO EN PROVISIONALIDAD"},{"$f":"+'Hoja3 (2)'!$C280&'Hoja3 (2)'!$B280","v":"1ILEGALIDAD DEL ACTO ADMINISTRATIVO QUE DECLARA LA INSUBSISTENCIA DE FUNCIONARIO EN PROVISIONALIDAD"},{"$f":"IFERROR(FIND(UPPER('Causas anteriores'!$D$4),D280),0)","v":0},{"$f":"+IF('Hoja3 (2)'!$F280=0,0,1)","v":0},{"$f":"+H279+'Hoja3 (2)'!$G280","v":2},{"$f":"+'Hoja3 (2)'!$H280*'Hoja3 (2)'!$G280","v":0},"MANTENER/AJUSTAR TEXTO","Activa","ILEGALIDAD DEL ACTO ADMINISTRATIVO QUE DECLARA LA INSUBSISTENCIA DE FUNCIONARIO EN PROVISIONALIDAD",null,"ACTIVA"]
[{"$f":"+'Hoja3 (2)'!$I281","v":0},"ILEGALIDAD DEL ACTO ADMINISTRATIVO QUE DECLARA LA OCURRENCIA DEL SINIESTRO Y ORDENA HACER EFECTIVA LA POLIZA",1,{"$f":"+IF('Hoja3 (2)'!$C281=1,'Hoja3 (2)'!$B281,\"No\")","v":"ILEGALIDAD DEL ACTO ADMINISTRATIVO QUE DECLARA LA OCURRENCIA DEL SINIESTRO Y ORDENA HACER EFECTIVA LA POLIZA"},{"$f":"+'Hoja3 (2)'!$C281&'Hoja3 (2)'!$B281","v":"1ILEGALIDAD DEL ACTO ADMINISTRATIVO QUE DECLARA LA OCURRENCIA DEL SINIESTRO Y ORDENA HACER EFECTIVA LA POLIZA"},{"$f":"IFERROR(FIND(UPPER('Causas anteriores'!$D$4),D281),0)","v":0},{"$f":"+IF('Hoja3 (2)'!$F281=0,0,1)","v":0},{"$f":"+H280+'Hoja3 (2)'!$G281","v":2},{"$f":"+'Hoja3 (2)'!$H281*'Hoja3 (2)'!$G281","v":0},"MANTENER/AJUSTAR TEXTO","Activa","ILEGALIDAD DEL ACTO ADMINISTRATIVO QUE DECLARA LA OCURRENCIA DEL SINIESTRO Y ORDENA HACER EFECTIVA LA POLIZA",null,"ACTIVA"]
[{"$f":"+'Hoja3 (2)'!$I282","v":0},"ILEGALIDAD DEL ACTO ADMINISTRATIVO QUE DECLARA OBLIGACIONES A FAVOR DEL TESORO PUBLICO",1,{"$f":"+IF('Hoja3 (2)'!$C282=1,'Hoja3 (2)'!$B282,\"No\")","v":"ILEGALIDAD DEL ACTO ADMINISTRATIVO QUE DECLARA OBLIGACIONES A FAVOR DEL TESORO PUBLICO"},{"$f":"+'Hoja3 (2)'!$C282&'Hoja3 (2)'!$B282","v":"1ILEGALIDAD DEL ACTO ADMINISTRATIVO QUE DECLARA OBLIGACIONES A FAVOR DEL TESORO PUBLICO"},{"$f":"IFERROR(FIND(UPPER('Causas anteriores'!$D$4),D282),0)","v":0},{"$f":"+IF('Hoja3 (2)'!$F282=0,0,1)","v":0},{"$f":"+H281+'Hoja3 (2)'!$G282","v":2},{"$f":"+'Hoja3 (2)'!$H282*'Hoja3 (2)'!$G282","v":0},"INACTIVAR EN NUEVA MATRIZ","Inactiva",null,null,"ACTIVA"]
[{"$f":"+'Hoja3 (2)'!$I283","v":0},"ILEGALIDAD DEL ACTO ADMINISTRATIVO QUE DECOMISA MERCANCIAS",1,{"$f":"+IF('Hoja3 (2)'!$C283=1,'Hoja3 (2)'!$B283,\"No\")","v":"ILEGALIDAD DEL ACTO ADMINISTRATIVO QUE DECOMISA MERCANCIAS"},{"$f":"+'Hoja3 (2)'!$C283&'Hoja3 (2)'!$B283","v":"1ILEGALIDAD DEL ACTO ADMINISTRATIVO QUE DECOMISA MERCANCIAS"},{"$f":"IFERROR(FIND(UPPER('Causas anteriores'!$D$4),D283),0)","v":0},{"$f":"+IF('Hoja3 (2)'!$F283=0,0,1)","v":0},{"$f":"+H282+'Hoja3 (2)'!$G283","v":2},{"$f":"+'Hoja3 (2)'!$H283*'Hoja3 (2)'!$G283","v":0},"MANTENER/AJUSTAR TEXTO","Activa","ILEGALIDAD DEL ACTO ADMINISTRATIVO QUE DISPONE DECOMISO DE MERCANCIAS",null,"ACTIVA"]
[{"$f":"+'Hoja3 (2)'!$I284","v":0},"ILEGALIDAD DEL ACTO ADMINISTRATIVO QUE DECRETA LA EXPROPIACION",1,{"$f":"+IF('Hoja3 (2)'!$C284=1,'Hoja3 (2)'!$B284,\"No\")","v":"ILEGALIDAD DEL ACTO ADMINISTRATIVO QUE DECRETA LA EXPROPIACION"},{"$f":"+'Hoja3 (2)'!$C284&'Hoja3 (2)'!$B284","v":"1ILEGALIDAD DEL ACTO ADMINISTRATIVO QUE DECRETA LA EXPROPIACION"},{"$f":"IFERROR(FIND(UPPER('Causas anteriores'!$D$4),D284),0)","v":0},{"$f":"+IF('Hoja3 (2)'!$F284=0,0,1)","v":0},{"$f":"+H283+'Hoja3 (2)'!$G284","v":2},{"$f":"+'Hoja3 (2)'!$H284*'Hoja3 (2)'!$G284","v":0},"MANTENER/AJUSTAR TEXTO","Activa","ILEGALIDAD DEL ACTO ADMINISTRATIVO QUE DECRETA LA EXPROPIACION",null,"ACTIVA"]
[{"$f":"+'Hoja3 (2)'!$I285","v":0},"ILEGALIDAD DEL ACTO ADMINISTRATIVO QUE DECRETA MEDIDAS CAUTELARES",1,{"$f":"+IF('Hoja3 (2)'!$C285=1,'Hoja3 (2)'!$B285,\"No\")","v":"ILEGALIDAD DEL ACTO ADMINISTRATIVO QUE DECRETA MEDIDAS CAUTELARES"},{"$f":"+'Hoja3 (2)'!$C285&'Hoja3 (2)'!$B285","v":"1ILEGALIDAD DEL ACTO ADMINISTRATIVO QUE DECRETA MEDIDAS CAUTELARES"},{"$f":"IFERROR(FIND(UPPER('Causas anteriores'!$D$4),D285),0)","v":0},{"$f":"+IF('Hoja3 (2)'!$F285=0,0,1)","v":0},{"$f":"+H284+'Hoja3 (2)'!$G285","v":2},{"$f":"+'Hoja3 (2)'!$H285*'Hoja3 (2)'!$G285","v":0},"MANTENER/AJUSTAR TEXTO","Activa","ILEGALIDAD DEL ACTO ADMINISTRATIVO QUE DECRETA MEDIDAS CAUTELARES",null,"ACTIVA"]
[{"$f":"+'Hoja3 (2)'!$I286","v":0},"ILEGALIDAD DEL ACTO ADMINISTRATIVO QUE DEFINE LA COMPETENCIA",1,{"$f":"+IF('Hoja3 (2)'!$C286=1,'Hoja3 (2)'!$B286,\"No\")","v":"ILEGALIDAD DEL ACTO ADMINISTRATIVO QUE DEFINE LA COMPETENCIA"},{"$f":"+'Hoja3 (2)'!$C286&'Hoja3 (2)'!$B286","v":"1ILEGALIDAD DEL ACTO ADMINISTRATIVO QUE DEFINE LA COMPETENCIA"},{"$f":"IFERROR(FIND(UPPER('Causas anteriores'!$D$4),D286),0)","v":0},{"$f":"+IF('Hoja3 (2)'!$F286=0,0,1)","v":0},{"$f":"+H285+'Hoja3 (2)'!$G286","v":2},{"$f":"+'Hoja3 (2)'!$H286*'Hoja3 (2)'!$G286","v":0},"ESTABA INACTIVA","Inactiva",null,null,"INACTIVA"]
[{"$f":"+'Hoja3 (2)'!$I287","v":0},"ILEGALIDAD DEL ACTO ADMINISTRATIVO QUE DEFINE LA SOLICITUD DE REVISION DE AVALUO CATASTRAL",1,{"$f":"+IF('Hoja3 (2)'!$C287=1,'Hoja3 (2)'!$B287,\"No\")","v":"ILEGALIDAD DEL ACTO ADMINISTRATIVO QUE DEFINE LA SOLICITUD DE REVISION DE AVALUO CATASTRAL"},{"$f":"+'Hoja3 (2)'!$C287&'Hoja3 (2)'!$B287","v":"1ILEGALIDAD DEL ACTO ADMINISTRATIVO QUE DEFINE LA SOLICITUD DE REVISION DE AVALUO CATASTRAL"},{"$f":"IFERROR(FIND(UPPER('Causas anteriores'!$D$4),D287),0)","v":0},{"$f":"+IF('Hoja3 (2)'!$F287=0,0,1)","v":0},{"$f":"+H286+'Hoja3 (2)'!$G287","v":2},{"$f":"+'Hoja3 (2)'!$H287*'Hoja3 (2)'!$G287","v":0},"MANTENER/AJUSTAR TEXTO","Activa","ILEGALIDAD DEL ACTO ADMINISTRATIVO QUE DEFINE AVALUO CATASTRAL",null,"ACTIVA"]
[{"$f":"+'Hoja3 (2)'!$I288","v":0},"ILEGALIDAD DEL ACTO ADMINISTRATIVO QUE DEFINE LA TITULARIDAD DE TIERRAS",1,{"$f":"+IF('Hoja3 (2)'!$C288=1,'Hoja3 (2)'!$B288,\"No\")","v":"ILEGALIDAD DEL ACTO ADMINISTRATIVO QUE DEFINE LA TITULARIDAD DE TIERRAS"},{"$f":"+'Hoja3 (2)'!$C288&'Hoja3 (2)'!$B288","v":"1ILEGALIDAD DEL ACTO ADMINISTRATIVO QUE DEFINE LA TITULARIDAD DE TIERRAS"},{"$f":"IFERROR(FIND(UPPER('Causas anteriores'!$D$4),D288),0)","v":0},{"$f":"+IF('Hoja3 (2)'!$F288=0,0,1)","v":0},{"$f":"+H287+'Hoja3 (2)'!$G288","v":2},{"$f":"+'Hoja3 (2)'!$H288*'Hoja3 (2)'!$G288","v":0},"INACTIVAR EN NUEVA MATRIZ","Inactiva",null,null,"ACTIVA"]
[{"$f":"+'Hoja3 (2)'!$I289","v":0},"ILEGALIDAD DEL ACTO ADMINISTRATIVO QUE DEFINE UNA SOLICITUD DE REVISION DE AREA Y LINDEROS DE INMUEBLE",1,{"$f":"+IF('Hoja3 (2)'!$C289=1,'Hoja3 (2)'!$B289,\"No\")","v":"ILEGALIDAD DEL ACTO ADMINISTRATIVO QUE DEFINE UNA SOLICITUD DE REVISION DE AREA Y LINDEROS DE INMUEBLE"},{"$f":"+'Hoja3 (2)'!$C289&'Hoja3 (2)'!$B289","v":"1ILEGALIDAD DEL ACTO ADMINISTRATIVO QUE DEFINE UNA SOLICITUD DE REVISION DE AREA Y LINDEROS DE INMUEBLE"},{"$f":"IFERROR(FIND(UPPER('Causas anteriores'!$D$4),D289),0)","v":0},{"$f":"+IF('Hoja3 (2)'!$F289=0,0,1)","v":0},{"$f":"+H288+'Hoja3 (2)'!$G289","v":2},{"$f":"+'Hoja3 (2)'!$H289*'Hoja3 (2)'!$G289","v":0},"INACTIVAR EN NUEVA MATRIZ","Inactiva",null,null,"ACTIVA"]
[{"$f":"+'Hoja3 (2)'!$I290","v":0},"ILEGALIDAD DEL ACTO ADMINISTRATIVO QUE DEJA SIN EFECTO FACILIDAD DE PAGO",1,{"$f":"+IF('Hoja3 (2)'!$C290=1,'Hoja3 (2)'!$B290,\"No\")","v":"ILEGALIDAD DEL ACTO ADMINISTRATIVO QUE DEJA SIN EFECTO FACILIDAD DE PAGO"},{"$f":"+'Hoja3 (2)'!$C290&'Hoja3 (2)'!$B290","v":"1ILEGALIDAD DEL ACTO ADMINISTRATIVO QUE DEJA SIN EFECTO FACILIDAD DE PAGO"},{"$f":"IFERROR(FIND(UPPER('Causas anteriores'!$D$4),D290),0)","v":0},{"$f":"+IF('Hoja3 (2)'!$F290=0,0,1)","v":0},{"$f":"+H289+'Hoja3 (2)'!$G290","v":2},{"$f":"+'Hoja3 (2)'!$H290*'Hoja3 (2)'!$G290","v":0},"MANTENER/AJUSTAR TEXTO","Activa","ILEGALIDAD DEL ACTO ADMINISTRATIVO QUE DEJA SIN EFECTO FACILIDAD DE PAGO",null,"ACTIVA"]
[{"$f":"+'Hoja3 (2)'!$I291","v":0},"ILEGALIDAD DEL ACTO ADMINISTRATIVO QUE DESCONOCE EL AMPARO POR RETEN SOCIAL PARA MADRES Y PADRES CABEZA DE FAMILIA",1,{"$f":"+IF('Hoja3 (2)'!$C291=1,'Hoja3 (2)'!$B291,\"No\")","v":"ILEGALIDAD DEL ACTO ADMINISTRATIVO QUE DESCONOCE EL AMPARO POR RETEN SOCIAL PARA MADRES Y PADRES CABEZA DE FAMILIA"},{"$f":"+'Hoja3 (2)'!$C291&'Hoja3 (2)'!$B291","v":"1ILEGALIDAD DEL ACTO ADMINISTRATIVO QUE DESCONOCE EL AMPARO POR RETEN SOCIAL PARA MADRES Y PADRES CABEZA DE FAMILIA"},{"$f":"IFERROR(FIND(UPPER('Causas anteriores'!$D$4),D291),0)","v":0},{"$f":"+IF('Hoja3 (2)'!$F291=0,0,1)","v":0},{"$f":"+H290+'Hoja3 (2)'!$G291","v":2},{"$f":"+'Hoja3 (2)'!$H291*'Hoja3 (2)'!$G291","v":0},"MANTENER/AJUSTAR TEXTO","Activa","DESCONOCIMIENTO DEL AMPARO POR RETEN SOCIAL POR CONDICION DE MADRE O PADRE CABEZA DE FAMILIA DURANTE LOS PROCESOS DE REESTRUCTURACION Y LIQUIDACION DE ENTIDADES PUBLICAS",null,"ACTIVA"]
[{"$f":"+'Hoja3 (2)'!$I292","v":0},"ILEGALIDAD DEL ACTO ADMINISTRATIVO QUE DESCONOCE EL AMPARO POR RETEN SOCIAL PARA PERSONAS CON DISCAPACIDAD",1,{"$f":"+IF('Hoja3 (2)'!$C292=1,'Hoja3 (2)'!$B292,\"No\")","v":"ILEGALIDAD DEL ACTO ADMINISTRATIVO QUE DESCONOCE EL AMPARO POR RETEN SOCIAL PARA PERSONAS CON DISCAPACIDAD"},{"$f":"+'Hoja3 (2)'!$C292&'Hoja3 (2)'!$B292","v":"1ILEGALIDAD DEL ACTO ADMINISTRATIVO QUE DESCONOCE EL AMPARO POR RETEN SOCIAL PARA PERSONAS CON DISCAPACIDAD"},{"$f":"IFERROR(FIND(UPPER('Causas anteriores'!$D$4),D292),0)","v":0},{"$f":"+IF('Hoja3 (2)'!$F292=0,0,1)","v":0},{"$f":"+H291+'Hoja3 (2)'!$G292","v":2},{"$f":"+'Hoja3 (2)'!$H292*'Hoja3 (2)'!$G292","v":0},"MANTENER/AJUSTAR TEXTO","Activa","DESCONOCIMIENTO DEL AMPARO POR RETEN SOCIAL POR CONDICION DE PERSONA CON DISCAPACIDAD DURANTE LOS PROCESOS DE REESTRUCTURACION Y LIQUIDACION DE ENTIDADES PUBLICAS",null,"ACTIVA"]
[{"$f":"+'Hoja3 (2)'!$I293","v":0},"ILEGALIDAD DEL ACTO ADMINISTRATIVO QUE DESCONOCE EL AMPARO POR RETEN SOCIAL PARA PRE-PENSIONADOS",1,{"$f":"+IF('Hoja3 (2)'!$C293=1,'Hoja3 (2)'!$B293,\"No\")","v":"ILEGALIDAD DEL ACTO ADMINISTRATIVO QUE DESCONOCE EL AMPARO POR RETEN SOCIAL PARA PRE-PENSIONADOS"},{"$f":"+'Hoja3 (2)'!$C293&'Hoja3 (2)'!$B293","v":"1ILEGALIDAD DEL ACTO ADMINISTRATIVO QUE DESCONOCE EL AMPARO POR RETEN SOCIAL PARA PRE-PENSIONADOS"},{"$f":"IFERROR(FIND(UPPER('Causas anteriores'!$D$4),D293),0)","v":0},{"$f":"+IF('Hoja3 (2)'!$F293=0,0,1)","v":0},{"$f":"+H292+'Hoja3 (2)'!$G293","v":2},{"$f":"+'Hoja3 (2)'!$H293*'Hoja3 (2)'!$G293","v":0},"MANTENER/AJUSTAR TEXTO","Activa","DESCONOCIMIENTO DEL AMPARO POR RETEN SOCIAL POR CONDICION DE PREPENSIONADO DURANTE LOS PROCESOS DE REESTRUCTURACION Y LIQUIDACION DE ENTIDADES PUBLICAS",null,"ACTIVA"]
[{"$f":"+'Hoja3 (2)'!$I294","v":0},"ILEGALIDAD DEL ACTO ADMINISTRATIVO QUE DESCONOCE EL COMPUTO DE TIEMPO DOBLE DE SERVICIO PRESTADO EN ESTADO DE CONMOCION INTERIOR O DE GUERRA INTERNACIONAL",1,{"$f":"+IF('Hoja3 (2)'!$C294=1,'Hoja3 (2)'!$B294,\"No\")","v":"ILEGALIDAD DEL ACTO ADMINISTRATIVO QUE DESCONOCE EL COMPUTO DE TIEMPO DOBLE DE SERVICIO PRESTADO EN ESTADO DE CONMOCION INTERIOR O DE GUERRA INTERNACIONAL"},{"$f":"+'Hoja3 (2)'!$C294&'Hoja3 (2)'!$B294","v":"1ILEGALIDAD DEL ACTO ADMINISTRATIVO QUE DESCONOCE EL COMPUTO DE TIEMPO DOBLE DE SERVICIO PRESTADO EN ESTADO DE CONMOCION INTERIOR O DE GUERRA INTERNACIONAL"},{"$f":"IFERROR(FIND(UPPER('Causas anteriores'!$D$4),D294),0)","v":0},{"$f":"+IF('Hoja3 (2)'!$F294=0,0,1)","v":0},{"$f":"+H293+'Hoja3 (2)'!$G294","v":2},{"$f":"+'Hoja3 (2)'!$H294*'Hoja3 (2)'!$G294","v":0},"MANTENER/AJUSTAR TEXTO","Activa","NO RECONOCIMIENTO DE TIEMPO DOBLE DE SERVICIO PRESTADO EN ESTADO DE CONMOCION INTERIOR O DE GUERRA INTERNACIONAL",null,"ACTIVA"]
[{"$f":"+'Hoja3 (2)'!$I295","v":0},"ILEGALIDAD DEL ACTO ADMINISTRATIVO QUE DESCONOCE EL FUERO SINDICAL",1,{"$f":"+IF('Hoja3 (2)'!$C295=1,'Hoja3 (2)'!$B295,\"No\")","v":"ILEGALIDAD DEL ACTO ADMINISTRATIVO QUE DESCONOCE EL FUERO SINDICAL"},{"$f":"+'Hoja3 (2)'!$C295&'Hoja3 (2)'!$B295","v":"1ILEGALIDAD DEL ACTO ADMINISTRATIVO QUE DESCONOCE EL FUERO SINDICAL"},{"$f":"IFERROR(FIND(UPPER('Causas anteriores'!$D$4),D295),0)","v":0},{"$f":"+IF('Hoja3 (2)'!$F295=0,0,1)","v":0},{"$f":"+H294+'Hoja3 (2)'!$G295","v":2},{"$f":"+'Hoja3 (2)'!$H295*'Hoja3 (2)'!$G295","v":0},"INACTIVAR PARA DESAGREGAR","Inactiva",null,null,"ACTIVA"]
[{"$f":"+'Hoja3 (2)'!$I296","v":0},"ILEGALIDAD DEL ACTO ADMINISTRATIVO QUE DESCONOCE EL FUERO SINDICAL",2,{"$f":"+IF('Hoja3 (2)'!$C296=1,'Hoja3 (2)'!$B296,\"No\")","v":"No"},{"$f":"+'Hoja3 (2)'!$C296&'Hoja3 (2)'!$B296","v":"2ILEGALIDAD DEL ACTO ADMINISTRATIVO QUE DESCONOCE EL FUERO SINDICAL"},{"$f":"IFERROR(FIND(UPPER('Causas anteriores'!$D$4),D296),0)","v":0},{"$f":"+IF('Hoja3 (2)'!$F296=0,0,1)","v":0},{"$f":"+H295+'Hoja3 (2)'!$G296","v":2},{"$f":"+'Hoja3 (2)'!$H296*'Hoja3 (2)'!$G296","v":0},"CREAR","Activa","DESCONOCIMIENTO DEL FUERO SINDICAL"]
[{"$f":"+'Hoja3 (2)'!$I297","v":0},"ILEGALIDAD DEL ACTO ADMINISTRATIVO QUE DESCONOCE EL FUERO SINDICAL",3,{"$f":"+IF('Hoja3 (2)'!$C297=1,'Hoja3 (2)'!$B297,\"No\")","v":"No"},{"$f":"+'Hoja3 (2)'!$C297&'Hoja3 (2)'!$B297","v":"3ILEGALIDAD DEL ACTO ADMINISTRATIVO QUE DESCONOCE EL FUERO SINDICAL"},{"$f":"IFERROR(FIND(UPPER('Causas anteriores'!$D$4),D297),0)","v":0},{"$f":"+IF('Hoja3 (2)'!$F297=0,0,1)","v":0},{"$f":"+H296+'Hoja3 (2)'!$G297","v":2},{"$f":"+'Hoja3 (2)'!$H297*'Hoja3 (2)'!$G297","v":0},"CREAR","Activa","DESCONOCIMIENTO DEL FUERO SINDICAL EN LOS PROCESOS DE REESTRUCTURACION Y LIQUIDACION DE ENTIDADES PUBLICAS"]
[{"$f":"+'Hoja3 (2)'!$I298","v":0},"ILEGALIDAD DEL ACTO ADMINISTRATIVO QUE DESVINCULA A SUPERNUMERARIO",1,{"$f":"+IF('Hoja3 (2)'!$C298=1,'Hoja3 (2)'!$B298,\"No\")","v":"ILEGALIDAD DEL ACTO ADMINISTRATIVO QUE DESVINCULA A SUPERNUMERARIO"},{"$f":"+'Hoja3 (2)'!$C298&'Hoja3 (2)'!$B298","v":"1ILEGALIDAD DEL ACTO ADMINISTRATIVO QUE DESVINCULA A SUPERNUMERARIO"},{"$f":"IFERROR(FIND(UPPER('Causas anteriores'!$D$4),D298),0)","v":0},{"$f":"+IF('Hoja3 (2)'!$F298=0,0,1)","v":0},{"$f":"+H297+'Hoja3 (2)'!$G298","v":2},{"$f":"+'Hoja3 (2)'!$H298*'Hoja3 (2)'!$G298","v":0},"MANTENER/AJUSTAR TEXTO","Activa","ILEGALIDAD DEL ACTO ADMINISTRATIVO QUE DESVINCULA A SUPERNUMERARIO",null,"ACTIVA"]
[{"$f":"+'Hoja3 (2)'!$I299","v":0},"ILEGALIDAD DEL ACTO ADMINISTRATIVO QUE ESTABLECE CUPOS DE COMBUSTIBLE LIBRE DE IMPUESTOS",1,{"$f":"+IF('Hoja3 (2)'!$C299=1,'Hoja3 (2)'!$B299,\"No\")","v":"ILEGALIDAD DEL ACTO ADMINISTRATIVO QUE ESTABLECE CUPOS DE COMBUSTIBLE LIBRE DE IMPUESTOS"},{"$f":"+'Hoja3 (2)'!$C299&'Hoja3 (2)'!$B299","v":"1ILEGALIDAD DEL ACTO ADMINISTRATIVO QUE ESTABLECE CUPOS DE COMBUSTIBLE LIBRE DE IMPUESTOS"},{"$f":"IFERROR(FIND(UPPER('Causas anteriores'!$D$4),D299),0)","v":0},{"$f":"+IF('Hoja3 (2)'!$F299=0,0,1)","v":0},{"$f":"+H298+'Hoja3 (2)'!$G299","v":2},{"$f":"+'Hoja3 (2)'!$H299*'Hoja3 (2)'!$G299","v":0},"MANTENER/AJUSTAR TEXTO","Activa","ILEGALIDAD DEL ACTO ADMINISTRATIVO QUE ESTABLECE CUPOS DE COMBUSTIBLE LIBRE DE IMPUESTOS",null,"ACTIVA"]
[{"$f":"+'Hoja3 (2)'!$I300","v":0},"ILEGALIDAD DEL ACTO ADMINISTRATIVO QUE HACE EFECTIVA LA CLAUSULA PENAL PECUNIARIA",1,{"$f":"+IF('Hoja3 (2)'!$C300=1,'Hoja3 (2)'!$B300,\"No\")","v":"ILEGALIDAD DEL ACTO ADMINISTRATIVO QUE HACE EFECTIVA LA CLAUSULA PENAL PECUNIARIA"},{"$f":"+'Hoja3 (2)'!$C300&'Hoja3 (2)'!$B300","v":"1ILEGALIDAD DEL ACTO ADMINISTRATIVO QUE HACE EFECTIVA LA CLAUSULA PENAL PECUNIARIA"},{"$f":"IFERROR(FIND(UPPER('Causas anteriores'!$D$4),D300),0)","v":0},{"$f":"+IF('Hoja3 (2)'!$F300=0,0,1)","v":0},{"$f":"+H299+'Hoja3 (2)'!$G300","v":2},{"$f":"+'Hoja3 (2)'!$H300*'Hoja3 (2)'!$G300","v":0},"MANTENER/AJUSTAR TEXTO","Activa","ILEGALIDAD DEL ACTO ADMINISTRATIVO QUE HACE EFECTIVA LA CLAUSULA PENAL PECUNIARIA",null,"ACTIVA"]
[{"$f":"+'Hoja3 (2)'!$I301","v":0},"ILEGALIDAD DEL ACTO ADMINISTRATIVO QUE IMPONE MULTA POR INCUMPLIMIENTO AL REGIMEN QUE REGLAMENTA EL CONTRATO DE APRENDIZAJE",1,{"$f":"+IF('Hoja3 (2)'!$C301=1,'Hoja3 (2)'!$B301,\"No\")","v":"ILEGALIDAD DEL ACTO ADMINISTRATIVO QUE IMPONE MULTA POR INCUMPLIMIENTO AL REGIMEN QUE REGLAMENTA EL CONTRATO DE APRENDIZAJE"},{"$f":"+'Hoja3 (2)'!$C301&'Hoja3 (2)'!$B301","v":"1ILEGALIDAD DEL ACTO ADMINISTRATIVO QUE IMPONE MULTA POR INCUMPLIMIENTO AL REGIMEN QUE REGLAMENTA EL CONTRATO DE APRENDIZAJE"},{"$f":"IFERROR(FIND(UPPER('Causas anteriores'!$D$4),D301),0)","v":0},{"$f":"+IF('Hoja3 (2)'!$F301=0,0,1)","v":0},{"$f":"+H300+'Hoja3 (2)'!$G301","v":2},{"$f":"+'Hoja3 (2)'!$H301*'Hoja3 (2)'!$G301","v":0},"MANTENER/AJUSTAR TEXTO","Activa","ILEGALIDAD DEL ACTO ADMINISTRATIVO QUE IMPONE SANCION POR VIOLACION DE NORMAS SOBRE CONTRATO DE APRENDIZAJE",null,"ACTIVA"]
[{"$f":"+'Hoja3 (2)'!$I302","v":0},"ILEGALIDAD DEL ACTO ADMINISTRATIVO QUE IMPONE MULTA POR INCUMPLIMIENTO DEL CONTRATO",1,{"$f":"+IF('Hoja3 (2)'!$C302=1,'Hoja3 (2)'!$B302,\"No\")","v":"ILEGALIDAD DEL ACTO ADMINISTRATIVO QUE IMPONE MULTA POR INCUMPLIMIENTO DEL CONTRATO"},{"$f":"+'Hoja3 (2)'!$C302&'Hoja3 (2)'!$B302","v":"1ILEGALIDAD DEL ACTO ADMINISTRATIVO QUE IMPONE MULTA POR INCUMPLIMIENTO DEL CONTRATO"},{"$f":"IFERROR(FIND(UPPER('Causas anteriores'!$D$4),D302),0)","v":0},{"$f":"+IF('Hoja3 (2)'!$F302=0,0,1)","v":0},{"$f":"+H301+'Hoja3 (2)'!$G302","v":2},{"$f":"+'Hoja3 (2)'!$H302*'Hoja3 (2)'!$G302","v":0},"MANTENER/AJUSTAR TEXTO","Activa","ILEGALIDAD DEL ACTO ADMINISTRATIVO QUE IMPONE MULTA POR INCUMPLIMIENTO DEL CONTRATO",null,"ACTIVA"]
[{"$f":"+'Hoja3 (2)'!$I303","v":0},"ILEGALIDAD DEL ACTO ADMINISTRATIVO QUE IMPONE MULTA POR INCUMPLIMIENTO DEL CONTRATO DE CONDICIONES UNIFORMES",1,{"$f":"+IF('Hoja3 (2)'!$C303=1,'Hoja3 (2)'!$B303,\"No\")","v":"ILEGALIDAD DEL ACTO ADMINISTRATIVO QUE IMPONE MULTA POR INCUMPLIMIENTO DEL CONTRATO DE CONDICIONES UNIFORMES"},{"$f":"+'Hoja3 (2)'!$C303&'Hoja3 (2)'!$B303","v":"1ILEGALIDAD DEL ACTO ADMINISTRATIVO QUE IMPONE MULTA POR INCUMPLIMIENTO DEL CONTRATO DE CONDICIONES UNIFORMES"},{"$f":"IFERROR(FIND(UPPER('Causas anteriores'!$D$4),D303),0)","v":0},{"$f":"+IF('Hoja3 (2)'!$F303=0,0,1)","v":0},{"$f":"+H302+'Hoja3 (2)'!$G303","v":2},{"$f":"+'Hoja3 (2)'!$H303*'Hoja3 (2)'!$G303","v":0},"INACTIVAR EN NUEVA MATRIZ","Inactiva",null,null,"ACTIVA"]
[{"$f":"+'Hoja3 (2)'!$I304","v":0},"ILEGALIDAD DEL ACTO ADMINISTRATIVO QUE IMPONE MULTA POR NEGATIVA O DILACION EN EL INICIO DE ETAPA DE ARREGLO DIRECTO",1,{"$f":"+IF('Hoja3 (2)'!$C304=1,'Hoja3 (2)'!$B304,\"No\")","v":"ILEGALIDAD DEL ACTO ADMINISTRATIVO QUE IMPONE MULTA POR NEGATIVA O DILACION EN EL INICIO DE ETAPA DE ARREGLO DIRECTO"},{"$f":"+'Hoja3 (2)'!$C304&'Hoja3 (2)'!$B304","v":"1ILEGALIDAD DEL ACTO ADMINISTRATIVO QUE IMPONE MULTA POR NEGATIVA O DILACION EN EL INICIO DE ETAPA DE ARREGLO DIRECTO"},{"$f":"IFERROR(FIND(UPPER('Causas anteriores'!$D$4),D304),0)","v":0},{"$f":"+IF('Hoja3 (2)'!$F304=0,0,1)","v":0},{"$f":"+H303+'Hoja3 (2)'!$G304","v":2},{"$f":"+'Hoja3 (2)'!$H304*'Hoja3 (2)'!$G304","v":0},"INACTIVAR EN NUEVA MATRIZ","Inactiva",null,null,"ACTIVA"]
[{"$f":"+'Hoja3 (2)'!$I305","v":0},"ILEGALIDAD DEL ACTO ADMINISTRATIVO QUE IMPONE MULTA POR VIOLACION DE NORMAS DEL SISTEMA DE RIESGOS LABORALES",1,{"$f":"+IF('Hoja3 (2)'!$C305=1,'Hoja3 (2)'!$B305,\"No\")","v":"ILEGALIDAD DEL ACTO ADMINISTRATIVO QUE IMPONE MULTA POR VIOLACION DE NORMAS DEL SISTEMA DE RIESGOS LABORALES"},{"$f":"+'Hoja3 (2)'!$C305&'Hoja3 (2)'!$B305","v":"1ILEGALIDAD DEL ACTO ADMINISTRATIVO QUE IMPONE MULTA POR VIOLACION DE NORMAS DEL SISTEMA DE RIESGOS LABORALES"},{"$f":"IFERROR(FIND(UPPER('Causas anteriores'!$D$4),D305),0)","v":0},{"$f":"+IF('Hoja3 (2)'!$F305=0,0,1)","v":0},{"$f":"+H304+'Hoja3 (2)'!$G305","v":2},{"$f":"+'Hoja3 (2)'!$H305*'Hoja3 (2)'!$G305","v":0},"INACTIVAR EN NUEVA MATRIZ","Inactiva",null,null,"ACTIVA"]
[{"$f":"+'Hoja3 (2)'!$I306","v":0},"ILEGALIDAD DEL ACTO ADMINISTRATIVO QUE IMPONE MULTA POR VIOLACION DE NORMAS DEL SISTEMA GENERAL DE SEGURIDAD SOCIAL EN PENSIONES",1,{"$f":"+IF('Hoja3 (2)'!$C306=1,'Hoja3 (2)'!$B306,\"No\")","v":"ILEGALIDAD DEL ACTO ADMINISTRATIVO QUE IMPONE MULTA POR VIOLACION DE NORMAS DEL SISTEMA GENERAL DE SEGURIDAD SOCIAL EN PENSIONES"},{"$f":"+'Hoja3 (2)'!$C306&'Hoja3 (2)'!$B306","v":"1ILEGALIDAD DEL ACTO ADMINISTRATIVO QUE IMPONE MULTA POR VIOLACION DE NORMAS DEL SISTEMA GENERAL DE SEGURIDAD SOCIAL EN PENSIONES"},{"$f":"IFERROR(FIND(UPPER('Causas anteriores'!$D$4),D306),0)","v":0},{"$f":"+IF('Hoja3 (2)'!$F306=0,0,1)","v":0},{"$f":"+H305+'Hoja3 (2)'!$G306","v":2},{"$f":"+'Hoja3 (2)'!$H306*'Hoja3 (2)'!$G306","v":0},"MANTENER/AJUSTAR TEXTO","Activa","ILEGALIDAD DEL ACTO ADMINISTRATIVO QUE IMPONE SANCION POR VIOLACION DE NORMAS DEL SISTEMA DE SEGURIDAD SOCIAL INTEGRAL",null,"ACTIVA"]
[{"$f":"+'Hoja3 (2)'!$I307","v":0},"ILEGALIDAD DEL ACTO ADMINISTRATIVO QUE IMPONE MULTA POR VIOLACION DE NORMAS LABORALES DE DERECHO COLECTIVO",1,{"$f":"+IF('Hoja3 (2)'!$C307=1,'Hoja3 (2)'!$B307,\"No\")","v":"ILEGALIDAD DEL ACTO ADMINISTRATIVO QUE IMPONE MULTA POR VIOLACION DE NORMAS LABORALES DE DERECHO COLECTIVO"},{"$f":"+'Hoja3 (2)'!$C307&'Hoja3 (2)'!$B307","v":"1ILEGALIDAD DEL ACTO ADMINISTRATIVO QUE IMPONE MULTA POR VIOLACION DE NORMAS LABORALES DE DERECHO COLECTIVO"},{"$f":"IFERROR(FIND(UPPER('Causas anteriores'!$D$4),D307),0)","v":0},{"$f":"+IF('Hoja3 (2)'!$F307=0,0,1)","v":0},{"$f":"+H306+'Hoja3 (2)'!$G307","v":2},{"$f":"+'Hoja3 (2)'!$H307*'Hoja3 (2)'!$G307","v":0},"MANTENER/AJUSTAR TEXTO","Activa","ILEGALIDAD DEL ACTO ADMINISTRATIVO QUE IMPONE SANCION POR VIOLACION DE NORMAS DE DERECHO LABORAL COLECTIVO",null,"ACTIVA"]
[{"$f":"+'Hoja3 (2)'!$I308","v":0},"ILEGALIDAD DEL ACTO ADMINISTRATIVO QUE IMPONE SANCION A CONTADORES PUBLICOS",1,{"$f":"+IF('Hoja3 (2)'!$C308=1,'Hoja3 (2)'!$B308,\"No\")","v":"ILEGALIDAD DEL ACTO ADMINISTRATIVO QUE IMPONE SANCION A CONTADORES PUBLICOS"},{"$f":"+'Hoja3 (2)'!$C308&'Hoja3 (2)'!$B308","v":"1ILEGALIDAD DEL ACTO ADMINISTRATIVO QUE IMPONE SANCION A CONTADORES PUBLICOS"},{"$f":"IFERROR(FIND(UPPER('Causas anteriores'!$D$4),D308),0)","v":0},{"$f":"+IF('Hoja3 (2)'!$F308=0,0,1)","v":0},{"$f":"+H307+'Hoja3 (2)'!$G308","v":2},{"$f":"+'Hoja3 (2)'!$H308*'Hoja3 (2)'!$G308","v":0},"MANTENER/AJUSTAR TEXTO","Activa","ILEGALIDAD DEL ACTO ADMINISTRATIVO QUE IMPONE SANCION A CONTADORES PUBLICOS",null,"ACTIVA"]
[{"$f":"+'Hoja3 (2)'!$I309","v":0},"ILEGALIDAD DEL ACTO ADMINISTRATIVO QUE IMPONE SANCION A ENTIDADES AUTORIZADAS PARA LA RECEPCION DE DECLARACIONES Y RECAUDO DE IMPUESTOS",1,{"$f":"+IF('Hoja3 (2)'!$C309=1,'Hoja3 (2)'!$B309,\"No\")","v":"ILEGALIDAD DEL ACTO ADMINISTRATIVO QUE IMPONE SANCION A ENTIDADES AUTORIZADAS PARA LA RECEPCION DE DECLARACIONES Y RECAUDO DE IMPUESTOS"},{"$f":"+'Hoja3 (2)'!$C309&'Hoja3 (2)'!$B309","v":"1ILEGALIDAD DEL ACTO ADMINISTRATIVO QUE IMPONE SANCION A ENTIDADES AUTORIZADAS PARA LA RECEPCION DE DECLARACIONES Y RECAUDO DE IMPUESTOS"},{"$f":"IFERROR(FIND(UPPER('Causas anteriores'!$D$4),D309),0)","v":0},{"$f":"+IF('Hoja3 (2)'!$F309=0,0,1)","v":0},{"$f":"+H308+'Hoja3 (2)'!$G309","v":2},{"$f":"+'Hoja3 (2)'!$H309*'Hoja3 (2)'!$G309","v":0},"MANTENER/AJUSTAR TEXTO","Activa","ILEGALIDAD DEL ACTO ADMINISTRATIVO QUE IMPONE SANCION A ENTIDADES AUTORIZADAS PARA LA RECEPCION Y RECAUDO DE IMPUESTOS",null,"ACTIVA"]
[{"$f":"+'Hoja3 (2)'!$I310","v":0},"ILEGALIDAD DEL ACTO ADMINISTRATIVO QUE IMPONE SANCION A NOTARIOS",1,{"$f":"+IF('Hoja3 (2)'!$C310=1,'Hoja3 (2)'!$B310,\"No\")","v":"ILEGALIDAD DEL ACTO ADMINISTRATIVO QUE IMPONE SANCION A NOTARIOS"},{"$f":"+'Hoja3 (2)'!$C310&'Hoja3 (2)'!$B310","v":"1ILEGALIDAD DEL ACTO ADMINISTRATIVO QUE IMPONE SANCION A NOTARIOS"},{"$f":"IFERROR(FIND(UPPER('Causas anteriores'!$D$4),D310),0)","v":0},{"$f":"+IF('Hoja3 (2)'!$F310=0,0,1)","v":0},{"$f":"+H309+'Hoja3 (2)'!$G310","v":2},{"$f":"+'Hoja3 (2)'!$H310*'Hoja3 (2)'!$G310","v":0},"INACTIVAR EN NUEVA MATRIZ","Inactiva",null,null,"ACTIVA"]
[{"$f":"+'Hoja3 (2)'!$I311","v":0},"ILEGALIDAD DEL ACTO ADMINISTRATIVO QUE IMPONE SANCION DE CLAUSURA DE ESTABLECIMIENTO DE COMERCIO",1,{"$f":"+IF('Hoja3 (2)'!$C311=1,'Hoja3 (2)'!$B311,\"No\")","v":"ILEGALIDAD DEL ACTO ADMINISTRATIVO QUE IMPONE SANCION DE CLAUSURA DE ESTABLECIMIENTO DE COMERCIO"},{"$f":"+'Hoja3 (2)'!$C311&'Hoja3 (2)'!$B311","v":"1ILEGALIDAD DEL ACTO ADMINISTRATIVO QUE IMPONE SANCION DE CLAUSURA DE ESTABLECIMIENTO DE COMERCIO"},{"$f":"IFERROR(FIND(UPPER('Causas anteriores'!$D$4),D311),0)","v":0},{"$f":"+IF('Hoja3 (2)'!$F311=0,0,1)","v":0},{"$f":"+H310+'Hoja3 (2)'!$G311","v":2},{"$f":"+'Hoja3 (2)'!$H311*'Hoja3 (2)'!$G311","v":0},"MANTENER/AJUSTAR TEXTO","Activa","ILEGALIDAD DEL ACTO ADMINISTRATIVO QUE CLAUSURA ESTABLECIMIENTO DE COMERCIO",null,"ACTIVA"]
[{"$f":"+'Hoja3 (2)'!$I312","v":0},"ILEGALIDAD DEL ACTO ADMINISTRATIVO QUE IMPONE SANCION DE TRANSITO",1,{"$f":"+IF('Hoja3 (2)'!$C312=1,'Hoja3 (2)'!$B312,\"No\")","v":"ILEGALIDAD DEL ACTO ADMINISTRATIVO QUE IMPONE SANCION DE TRANSITO"},{"$f":"+'Hoja3 (2)'!$C312&'Hoja3 (2)'!$B312","v":"1ILEGALIDAD DEL ACTO ADMINISTRATIVO QUE IMPONE SANCION DE TRANSITO"},{"$f":"IFERROR(FIND(UPPER('Causas anteriores'!$D$4),D312),0)","v":0},{"$f":"+IF('Hoja3 (2)'!$F312=0,0,1)","v":0},{"$f":"+H311+'Hoja3 (2)'!$G312","v":2},{"$f":"+'Hoja3 (2)'!$H312*'Hoja3 (2)'!$G312","v":0},"MANTENER/AJUSTAR TEXTO","Activa","ILEGALIDAD DEL ACTO ADMINISTRATIVO QUE IMPONE SANCION POR INFRACCION DE TRANSITO",null,"ACTIVA"]
[{"$f":"+'Hoja3 (2)'!$I313","v":0},"ILEGALIDAD DEL ACTO ADMINISTRATIVO QUE IMPONE SANCION POR DECLARACION DE PROVEEDOR FICTICIO O INSOLVENTE",1,{"$f":"+IF('Hoja3 (2)'!$C313=1,'Hoja3 (2)'!$B313,\"No\")","v":"ILEGALIDAD DEL ACTO ADMINISTRATIVO QUE IMPONE SANCION POR DECLARACION DE PROVEEDOR FICTICIO O INSOLVENTE"},{"$f":"+'Hoja3 (2)'!$C313&'Hoja3 (2)'!$B313","v":"1ILEGALIDAD DEL ACTO ADMINISTRATIVO QUE IMPONE SANCION POR DECLARACION DE PROVEEDOR FICTICIO O INSOLVENTE"},{"$f":"IFERROR(FIND(UPPER('Causas anteriores'!$D$4),D313),0)","v":0},{"$f":"+IF('Hoja3 (2)'!$F313=0,0,1)","v":0},{"$f":"+H312+'Hoja3 (2)'!$G313","v":2},{"$f":"+'Hoja3 (2)'!$H313*'Hoja3 (2)'!$G313","v":0},"MANTENER/AJUSTAR TEXTO","Activa","ILEGALIDAD DEL ACTO ADMINISTRATIVO QUE IMPONE SANCION POR DECLARACION DE PROVEEDOR FICTICIO O INSOLVENTE",null,"ACTIVA"]
[{"$f":"+'Hoja3 (2)'!$I314","v":0},"ILEGALIDAD DEL ACTO ADMINISTRATIVO QUE IMPONE SANCION POR DEVOLUCION Y/O COMPENSACION IMPROCEDENTE",1,{"$f":"+IF('Hoja3 (2)'!$C314=1,'Hoja3 (2)'!$B314,\"No\")","v":"ILEGALIDAD DEL ACTO ADMINISTRATIVO QUE IMPONE SANCION POR DEVOLUCION Y/O COMPENSACION IMPROCEDENTE"},{"$f":"+'Hoja3 (2)'!$C314&'Hoja3 (2)'!$B314","v":"1ILEGALIDAD DEL ACTO ADMINISTRATIVO QUE IMPONE SANCION POR DEVOLUCION Y/O COMPENSACION IMPROCEDENTE"},{"$f":"IFERROR(FIND(UPPER('Causas anteriores'!$D$4),D314),0)","v":0},{"$f":"+IF('Hoja3 (2)'!$F314=0,0,1)","v":0},{"$f":"+H313+'Hoja3 (2)'!$G314","v":2},{"$f":"+'Hoja3 (2)'!$H314*'Hoja3 (2)'!$G314","v":0},"MANTENER/AJUSTAR TEXTO","Activa","ILEGALIDAD DEL ACTO ADMINISTRATIVO QUE IMPONE SANCION POR DEVOLUCION O COMPENSACION IMPROCEDENTE",null,"ACTIVA"]
[{"$f":"+'Hoja3 (2)'!$I315","v":0},"ILEGALIDAD DEL ACTO ADMINISTRATIVO QUE IMPONE SANCION POR EXTEMPORANEIDAD DE LA PRESENTACION DE INFORMACION EXOGENA",1,{"$f":"+IF('Hoja3 (2)'!$C315=1,'Hoja3 (2)'!$B315,\"No\")","v":"ILEGALIDAD DEL ACTO ADMINISTRATIVO QUE IMPONE SANCION POR EXTEMPORANEIDAD DE LA PRESENTACION DE INFORMACION EXOGENA"},{"$f":"+'Hoja3 (2)'!$C315&'Hoja3 (2)'!$B315","v":"1ILEGALIDAD DEL ACTO ADMINISTRATIVO QUE IMPONE SANCION POR EXTEMPORANEIDAD DE LA PRESENTACION DE INFORMACION EXOGENA"},{"$f":"IFERROR(FIND(UPPER('Causas anteriores'!$D$4),D315),0)","v":0},{"$f":"+IF('Hoja3 (2)'!$F315=0,0,1)","v":0},{"$f":"+H314+'Hoja3 (2)'!$G315","v":2},{"$f":"+'Hoja3 (2)'!$H315*'Hoja3 (2)'!$G315","v":0},"MANTENER/AJUSTAR TEXTO","Activa","ILEGALIDAD DEL ACTO ADMINISTRATIVO QUE IMPONE SANCION POR EXTEMPORANEIDAD DE LA PRESENTACION DE INFORMACION EXOGENA",null,"ACTIVA"]
[{"$f":"+'Hoja3 (2)'!$I316","v":0},"ILEGALIDAD DEL ACTO ADMINISTRATIVO QUE IMPONE SANCION POR EXTEMPORANEIDAD EN LA DECLARACION INFORMATIVA DE PRECIOS DE TRANSFERENCIA",1,{"$f":"+IF('Hoja3 (2)'!$C316=1,'Hoja3 (2)'!$B316,\"No\")","v":"ILEGALIDAD DEL ACTO ADMINISTRATIVO QUE IMPONE SANCION POR EXTEMPORANEIDAD EN LA DECLARACION INFORMATIVA DE PRECIOS DE TRANSFERENCIA"},{"$f":"+'Hoja3 (2)'!$C316&'Hoja3 (2)'!$B316","v":"1ILEGALIDAD DEL ACTO ADMINISTRATIVO QUE IMPONE SANCION POR EXTEMPORANEIDAD EN LA DECLARACION INFORMATIVA DE PRECIOS DE TRANSFERENCIA"},{"$f":"IFERROR(FIND(UPPER('Causas anteriores'!$D$4),D316),0)","v":0},{"$f":"+IF('Hoja3 (2)'!$F316=0,0,1)","v":0},{"$f":"+H315+'Hoja3 (2)'!$G316","v":2},{"$f":"+'Hoja3 (2)'!$H316*'Hoja3 (2)'!$G316","v":0},"MANTENER/AJUSTAR TEXTO","Activa","ILEGALIDAD DEL ACTO ADMINISTRATIVO QUE IMPONE SANCION POR EXTEMPORANEIDAD EN LA DECLARACION INFORMATIVA DE PRECIOS DE TRANSFERENCIA",null,"ACTIVA"]
[{"$f":"+'Hoja3 (2)'!$I317","v":0},"ILEGALIDAD DEL ACTO ADMINISTRATIVO QUE IMPONE SANCION POR EXTEMPORANEIDAD EN LA DOCUMENTACION COMPROBATORIA DE PRECIOS DE TRANSFERENCIA",1,{"$f":"+IF('Hoja3 (2)'!$C317=1,'Hoja3 (2)'!$B317,\"No\")","v":"ILEGALIDAD DEL ACTO ADMINISTRATIVO QUE IMPONE SANCION POR EXTEMPORANEIDAD EN LA DOCUMENTACION COMPROBATORIA DE PRECIOS DE TRANSFERENCIA"},{"$f":"+'Hoja3 (2)'!$C317&'Hoja3 (2)'!$B317","v":"1ILEGALIDAD DEL ACTO ADMINISTRATIVO QUE IMPONE SANCION POR EXTEMPORANEIDAD EN LA DOCUMENTACION COMPROBATORIA DE PRECIOS DE TRANSFERENCIA"},{"$f":"IFERROR(FIND(UPPER('Causas anteriores'!$D$4),D317),0)","v":0},{"$f":"+IF('Hoja3 (2)'!$F317=0,0,1)","v":0},{"$f":"+H316+'Hoja3 (2)'!$G317","v":2},{"$f":"+'Hoja3 (2)'!$H317*'Hoja3 (2)'!$G317","v":0},"MANTENER/AJUSTAR TEXTO","Activa","ILEGALIDAD DEL ACTO ADMINISTRATIVO QUE IMPONE SANCION POR EXTEMPORANEIDAD EN LA DOCUMENTACION COMPROBATORIA DE PRECIOS DE TRANSFERENCIA",null,"ACTIVA"]
[{"$f":"+'Hoja3 (2)'!$I318","v":0},"ILEGALIDAD DEL ACTO ADMINISTRATIVO QUE IMPONE SANCION POR EXTEMPORANEIDAD EN LA INSCRIPCION EN EL REGISTRO NACIONAL DE VENDEDORES",1,{"$f":"+IF('Hoja3 (2)'!$C318=1,'Hoja3 (2)'!$B318,\"No\")","v":"ILEGALIDAD DEL ACTO ADMINISTRATIVO QUE IMPONE SANCION POR EXTEMPORANEIDAD EN LA INSCRIPCION EN EL REGISTRO NACIONAL DE VENDEDORES"},{"$f":"+'Hoja3 (2)'!$C318&'Hoja3 (2)'!$B318","v":"1ILEGALIDAD DEL ACTO ADMINISTRATIVO QUE IMPONE SANCION POR EXTEMPORANEIDAD EN LA INSCRIPCION EN EL REGISTRO NACIONAL DE VENDEDORES"},{"$f":"IFERROR(FIND(UPPER('Causas anteriores'!$D$4),D318),0)","v":0},{"$f":"+IF('Hoja3 (2)'!$F318=0,0,1)","v":0},{"$f":"+H317+'Hoja3 (2)'!$G318","v":2},{"$f":"+'Hoja3 (2)'!$H318*'Hoja3 (2)'!$G318","v":0},"MANTENER/AJUSTAR TEXTO","Activa","ILEGALIDAD DEL ACTO ADMINISTRATIVO QUE IMPONE SANCION POR EXTEMPORANEIDAD EN LA INSCRIPCION EN EL REGISTRO NACIONAL DE VENDEDORES",null,"ACTIVA"]
[{"$f":"+'Hoja3 (2)'!$I319","v":0},"ILEGALIDAD DEL ACTO ADMINISTRATIVO QUE IMPONE SANCION POR FALTA ADUANERA DE LOS AGENTES DE ADUANAS",1,{"$f":"+IF('Hoja3 (2)'!$C319=1,'Hoja3 (2)'!$B319,\"No\")","v":"ILEGALIDAD DEL ACTO ADMINISTRATIVO QUE IMPONE SANCION POR FALTA ADUANERA DE LOS AGENTES DE ADUANAS"},{"$f":"+'Hoja3 (2)'!$C319&'Hoja3 (2)'!$B319","v":"1ILEGALIDAD DEL ACTO ADMINISTRATIVO QUE IMPONE SANCION POR FALTA ADUANERA DE LOS AGENTES DE ADUANAS"},{"$f":"IFERROR(FIND(UPPER('Causas anteriores'!$D$4),D319),0)","v":0},{"$f":"+IF('Hoja3 (2)'!$F319=0,0,1)","v":0},{"$f":"+H318+'Hoja3 (2)'!$G319","v":2},{"$f":"+'Hoja3 (2)'!$H319*'Hoja3 (2)'!$G319","v":0},"MANTENER/AJUSTAR TEXTO","Activa","ILEGALIDAD DEL ACTO ADMINISTRATIVO QUE IMPONE SANCION POR FALTA ADUANERA DE LOS AGENTES DE ADUANAS",null,"ACTIVA"]
[{"$f":"+'Hoja3 (2)'!$I320","v":0},"ILEGALIDAD DEL ACTO ADMINISTRATIVO QUE IMPONE SANCION POR FALTA ADUANERA DE LOS AGENTES DE CARGA INTERNACIONAL",1,{"$f":"+IF('Hoja3 (2)'!$C320=1,'Hoja3 (2)'!$B320,\"No\")","v":"ILEGALIDAD DEL ACTO ADMINISTRATIVO QUE IMPONE SANCION POR FALTA ADUANERA DE LOS AGENTES DE CARGA INTERNACIONAL"},{"$f":"+'Hoja3 (2)'!$C320&'Hoja3 (2)'!$B320","v":"1ILEGALIDAD DEL ACTO ADMINISTRATIVO QUE IMPONE SANCION POR FALTA ADUANERA DE LOS AGENTES DE CARGA INTERNACIONAL"},{"$f":"IFERROR(FIND(UPPER('Causas anteriores'!$D$4),D320),0)","v":0},{"$f":"+IF('Hoja3 (2)'!$F320=0,0,1)","v":0},{"$f":"+H319+'Hoja3 (2)'!$G320","v":2},{"$f":"+'Hoja3 (2)'!$H320*'Hoja3 (2)'!$G320","v":0},"MANTENER/AJUSTAR TEXTO","Activa","ILEGALIDAD DEL ACTO ADMINISTRATIVO QUE IMPONE SANCION POR FALTA ADUANERA DE LOS AGENTES DE CARGA INTERNACIONAL",null,"ACTIVA"]
[{"$f":"+'Hoja3 (2)'!$I321","v":0},"ILEGALIDAD DEL ACTO ADMINISTRATIVO QUE IMPONE SANCION POR FALTA ADUANERA DE LOS BENEFICIOS DE PROGRAMAS ESPECIALES DE EXPORATACION",1,{"$f":"+IF('Hoja3 (2)'!$C321=1,'Hoja3 (2)'!$B321,\"No\")","v":"ILEGALIDAD DEL ACTO ADMINISTRATIVO QUE IMPONE SANCION POR FALTA ADUANERA DE LOS BENEFICIOS DE PROGRAMAS ESPECIALES DE EXPORATACION"},{"$f":"+'Hoja3 (2)'!$C321&'Hoja3 (2)'!$B321","v":"1ILEGALIDAD DEL ACTO ADMINISTRATIVO QUE IMPONE SANCION POR FALTA ADUANERA DE LOS BENEFICIOS DE PROGRAMAS ESPECIALES DE EXPORATACION"},{"$f":"IFERROR(FIND(UPPER('Causas anteriores'!$D$4),D321),0)","v":0},{"$f":"+IF('Hoja3 (2)'!$F321=0,0,1)","v":0},{"$f":"+H320+'Hoja3 (2)'!$G321","v":2},{"$f":"+'Hoja3 (2)'!$H321*'Hoja3 (2)'!$G321","v":0},"INACTIVAR EN NUEVA MATRIZ","Inactiva",null,null,"ACTIVA"]
[{"$f":"+'Hoja3 (2)'!$I322","v":0},"ILEGALIDAD DEL ACTO ADMINISTRATIVO QUE IMPONE SANCION POR FALTA ADUANERA DE LOS DECLARANTES EN EL REGIMEN DE EXPORTACION",1,{"$f":"+IF('Hoja3 (2)'!$C322=1,'Hoja3 (2)'!$B322,\"No\")","v":"ILEGALIDAD DEL ACTO ADMINISTRATIVO QUE IMPONE SANCION POR FALTA ADUANERA DE LOS DECLARANTES EN EL REGIMEN DE EXPORTACION"},{"$f":"+'Hoja3 (2)'!$C322&'Hoja3 (2)'!$B322","v":"1ILEGALIDAD DEL ACTO ADMINISTRATIVO QUE IMPONE SANCION POR FALTA ADUANERA DE LOS DECLARANTES EN EL REGIMEN DE EXPORTACION"},{"$f":"IFERROR(FIND(UPPER('Causas anteriores'!$D$4),D322),0)","v":0},{"$f":"+IF('Hoja3 (2)'!$F322=0,0,1)","v":0},{"$f":"+H321+'Hoja3 (2)'!$G322","v":2},{"$f":"+'Hoja3 (2)'!$H322*'Hoja3 (2)'!$G322","v":0},"MANTENER/AJUSTAR TEXTO","Activa","ILEGALIDAD DEL ACTO ADMINISTRATIVO QUE IMPONE SANCION POR FALTA ADUANERA DE LOS DECLARANTES EN EL REGIMEN DE EXPORTACION",null,"ACTIVA"]
[{"$f":"+'Hoja3 (2)'!$I323","v":0},"ILEGALIDAD DEL ACTO ADMINISTRATIVO QUE IMPONE SANCION POR FALTA ADUANERA DE LOS DECLARANTES EN EL REGIMEN DE IMPORTACION",1,{"$f":"+IF('Hoja3 (2)'!$C323=1,'Hoja3 (2)'!$B323,\"No\")","v":"ILEGALIDAD DEL ACTO ADMINISTRATIVO QUE IMPONE SANCION POR FALTA ADUANERA DE LOS DECLARANTES EN EL REGIMEN DE IMPORTACION"},{"$f":"+'Hoja3 (2)'!$C323&'Hoja3 (2)'!$B323","v":"1ILEGALIDAD DEL ACTO ADMINISTRATIVO QUE IMPONE SANCION POR FALTA ADUANERA DE LOS DECLARANTES EN EL REGIMEN DE IMPORTACION"},{"$f":"IFERROR(FIND(UPPER('Causas anteriores'!$D$4),D323),0)","v":0},{"$f":"+IF('Hoja3 (2)'!$F323=0,0,1)","v":0},{"$f":"+H322+'Hoja3 (2)'!$G323","v":2},{"$f":"+'Hoja3 (2)'!$H323*'Hoja3 (2)'!$G323","v":0},"MANTENER/AJUSTAR TEXTO","Activa","ILEGALIDAD DEL ACTO ADMINISTRATIVO QUE IMPONE SANCION POR FALTA ADUANERA DE LOS DECLARANTES EN EL REGIMEN DE IMPORTACION",null,"ACTIVA"]
[{"$f":"+'Hoja3 (2)'!$I324","v":0},"ILEGALIDAD DEL ACTO ADMINISTRATIVO QUE IMPONE SANCION POR FALTA ADUANERA DE LOS DECLARANTES EN EL REGIMEN DE TRANSITO ADUANERO",1,{"$f":"+IF('Hoja3 (2)'!$C324=1,'Hoja3 (2)'!$B324,\"No\")","v":"ILEGALIDAD DEL ACTO ADMINISTRATIVO QUE IMPONE SANCION POR FALTA ADUANERA DE LOS DECLARANTES EN EL REGIMEN DE TRANSITO ADUANERO"},{"$f":"+'Hoja3 (2)'!$C324&'Hoja3 (2)'!$B324","v":"1ILEGALIDAD DEL ACTO ADMINISTRATIVO QUE IMPONE SANCION POR FALTA ADUANERA DE LOS DECLARANTES EN EL REGIMEN DE TRANSITO ADUANERO"},{"$f":"IFERROR(FIND(UPPER('Causas anteriores'!$D$4),D324),0)","v":0},{"$f":"+IF('Hoja3 (2)'!$F324=0,0,1)","v":0},{"$f":"+H323+'Hoja3 (2)'!$G324","v":2},{"$f":"+'Hoja3 (2)'!$H324*'Hoja3 (2)'!$G324","v":0},"MANTENER/AJUSTAR TEXTO","Activa","ILEGALIDAD DEL ACTO ADMINISTRATIVO QUE IMPONE SANCION POR FALTA ADUANERA DE LOS DECLARANTES EN EL REGIMEN DE TRANSITO ADUANERO",null,"ACTIVA"]
[{"$f":"+'Hoja3 (2)'!$I325","v":0},"ILEGALIDAD DEL ACTO ADMINISTRATIVO QUE IMPONE SANCION POR FALTA ADUANERA DE LOS DEPOSITOS PUBLICOS Y PRIVADOS",1,{"$f":"+IF('Hoja3 (2)'!$C325=1,'Hoja3 (2)'!$B325,\"No\")","v":"ILEGALIDAD DEL ACTO ADMINISTRATIVO QUE IMPONE SANCION POR FALTA ADUANERA DE LOS DEPOSITOS PUBLICOS Y PRIVADOS"},{"$f":"+'Hoja3 (2)'!$C325&'Hoja3 (2)'!$B325","v":"1ILEGALIDAD DEL ACTO ADMINISTRATIVO QUE IMPONE SANCION POR FALTA ADUANERA DE LOS DEPOSITOS PUBLICOS Y PRIVADOS"},{"$f":"IFERROR(FIND(UPPER('Causas anteriores'!$D$4),D325),0)","v":0},{"$f":"+IF('Hoja3 (2)'!$F325=0,0,1)","v":0},{"$f":"+H324+'Hoja3 (2)'!$G325","v":2},{"$f":"+'Hoja3 (2)'!$H325*'Hoja3 (2)'!$G325","v":0},"MANTENER/AJUSTAR TEXTO","Activa","ILEGALIDAD DEL ACTO ADMINISTRATIVO QUE IMPONE SANCION POR FALTA ADUANERA DE LOS DEPOSITOS PUBLICOS Y PRIVADOS",null,"ACTIVA"]
[{"$f":"+'Hoja3 (2)'!$I326","v":0},"ILEGALIDAD DEL ACTO ADMINISTRATIVO QUE IMPONE SANCION POR FALTA ADUANERA DE LOS INTERMEDIARIOS DE TRAFICO POSTAL Y ENVIOS URGENTES",1,{"$f":"+IF('Hoja3 (2)'!$C326=1,'Hoja3 (2)'!$B326,\"No\")","v":"ILEGALIDAD DEL ACTO ADMINISTRATIVO QUE IMPONE SANCION POR FALTA ADUANERA DE LOS INTERMEDIARIOS DE TRAFICO POSTAL Y ENVIOS URGENTES"},{"$f":"+'Hoja3 (2)'!$C326&'Hoja3 (2)'!$B326","v":"1ILEGALIDAD DEL ACTO ADMINISTRATIVO QUE IMPONE SANCION POR FALTA ADUANERA DE LOS INTERMEDIARIOS DE TRAFICO POSTAL Y ENVIOS URGENTES"},{"$f":"IFERROR(FIND(UPPER('Causas anteriores'!$D$4),D326),0)","v":0},{"$f":"+IF('Hoja3 (2)'!$F326=0,0,1)","v":0},{"$f":"+H325+'Hoja3 (2)'!$G326","v":2},{"$f":"+'Hoja3 (2)'!$H326*'Hoja3 (2)'!$G326","v":0},"MANTENER/AJUSTAR TEXTO","Activa","ILEGALIDAD DEL ACTO ADMINISTRATIVO QUE IMPONE SANCION POR FALTA ADUANERA DE LOS INTERMEDIARIOS DE TRAFICO POSTAL Y ENVIOS URGENTES",null,"ACTIVA"]
[{"$f":"+'Hoja3 (2)'!$I327","v":0},"ILEGALIDAD DEL ACTO ADMINISTRATIVO QUE IMPONE SANCION POR FALTA ADUANERA DE LOS TRANSPORTADORES",1,{"$f":"+IF('Hoja3 (2)'!$C327=1,'Hoja3 (2)'!$B327,\"No\")","v":"ILEGALIDAD DEL ACTO ADMINISTRATIVO QUE IMPONE SANCION POR FALTA ADUANERA DE LOS TRANSPORTADORES"},{"$f":"+'Hoja3 (2)'!$C327&'Hoja3 (2)'!$B327","v":"1ILEGALIDAD DEL ACTO ADMINISTRATIVO QUE IMPONE SANCION POR FALTA ADUANERA DE LOS TRANSPORTADORES"},{"$f":"IFERROR(FIND(UPPER('Causas anteriores'!$D$4),D327),0)","v":0},{"$f":"+IF('Hoja3 (2)'!$F327=0,0,1)","v":0},{"$f":"+H326+'Hoja3 (2)'!$G327","v":2},{"$f":"+'Hoja3 (2)'!$H327*'Hoja3 (2)'!$G327","v":0},"MANTENER/AJUSTAR TEXTO","Activa","ILEGALIDAD DEL ACTO ADMINISTRATIVO QUE IMPONE SANCION POR FALTA ADUANERA DE LOS TRANSPORTADORES",null,"ACTIVA"]
[{"$f":"+'Hoja3 (2)'!$I328","v":0},"ILEGALIDAD DEL ACTO ADMINISTRATIVO QUE IMPONE SANCION POR FALTA ADUANERA DE LOS USUARIOS ADUANEROS PERMANENTES",1,{"$f":"+IF('Hoja3 (2)'!$C328=1,'Hoja3 (2)'!$B328,\"No\")","v":"ILEGALIDAD DEL ACTO ADMINISTRATIVO QUE IMPONE SANCION POR FALTA ADUANERA DE LOS USUARIOS ADUANEROS PERMANENTES"},{"$f":"+'Hoja3 (2)'!$C328&'Hoja3 (2)'!$B328","v":"1ILEGALIDAD DEL ACTO ADMINISTRATIVO QUE IMPONE SANCION POR FALTA ADUANERA DE LOS USUARIOS ADUANEROS PERMANENTES"},{"$f":"IFERROR(FIND(UPPER('Causas anteriores'!$D$4),D328),0)","v":0},{"$f":"+IF('Hoja3 (2)'!$F328=0,0,1)","v":0},{"$f":"+H327+'Hoja3 (2)'!$G328","v":2},{"$f":"+'Hoja3 (2)'!$H328*'Hoja3 (2)'!$G328","v":0},"MANTENER/AJUSTAR TEXTO","Activa","ILEGALIDAD DEL ACTO ADMINISTRATIVO QUE IMPONE SANCION POR FALTA ADUANERA DE LOS USUARIOS ADUANEROS PERMANENTES",null,"ACTIVA"]
[{"$f":"+'Hoja3 (2)'!$I329","v":0},"ILEGALIDAD DEL ACTO ADMINISTRATIVO QUE IMPONE SANCION POR FALTA ADUANERA DE LOS USUARIOS INDUSTRIALES Y COMERCIALES DE ZONA FRANCA",1,{"$f":"+IF('Hoja3 (2)'!$C329=1,'Hoja3 (2)'!$B329,\"No\")","v":"ILEGALIDAD DEL ACTO ADMINISTRATIVO QUE IMPONE SANCION POR FALTA ADUANERA DE LOS USUARIOS INDUSTRIALES Y COMERCIALES DE ZONA FRANCA"},{"$f":"+'Hoja3 (2)'!$C329&'Hoja3 (2)'!$B329","v":"1ILEGALIDAD DEL ACTO ADMINISTRATIVO QUE IMPONE SANCION POR FALTA ADUANERA DE LOS USUARIOS INDUSTRIALES Y COMERCIALES DE ZONA FRANCA"},{"$f":"IFERROR(FIND(UPPER('Causas anteriores'!$D$4),D329),0)","v":0},{"$f":"+IF('Hoja3 (2)'!$F329=0,0,1)","v":0},{"$f":"+H328+'Hoja3 (2)'!$G329","v":2},{"$f":"+'Hoja3 (2)'!$H329*'Hoja3 (2)'!$G329","v":0},"MANTENER/AJUSTAR TEXTO","Activa","ILEGALIDAD DEL ACTO ADMINISTRATIVO QUE IMPONE SANCION POR FALTA ADUANERA DE LOS USUARIOS INDUSTRIALES Y COMERCIALES DE ZONA FRANCA",null,"ACTIVA"]
[{"$f":"+'Hoja3 (2)'!$I330","v":0},"ILEGALIDAD DEL ACTO ADMINISTRATIVO QUE IMPONE SANCION POR FALTA ADUANERA DE LOS USUARIOS OPERADORES DE ZONA FRANCA",1,{"$f":"+IF('Hoja3 (2)'!$C330=1,'Hoja3 (2)'!$B330,\"No\")","v":"ILEGALIDAD DEL ACTO ADMINISTRATIVO QUE IMPONE SANCION POR FALTA ADUANERA DE LOS USUARIOS OPERADORES DE ZONA FRANCA"},{"$f":"+'Hoja3 (2)'!$C330&'Hoja3 (2)'!$B330","v":"1ILEGALIDAD DEL ACTO ADMINISTRATIVO QUE IMPONE SANCION POR FALTA ADUANERA DE LOS USUARIOS OPERADORES DE ZONA FRANCA"},{"$f":"IFERROR(FIND(UPPER('Causas anteriores'!$D$4),D330),0)","v":0},{"$f":"+IF('Hoja3 (2)'!$F330=0,0,1)","v":0},{"$f":"+H329+'Hoja3 (2)'!$G330","v":2},{"$f":"+'Hoja3 (2)'!$H330*'Hoja3 (2)'!$G330","v":0},"MANTENER/AJUSTAR TEXTO","Activa","ILEGALIDAD DEL ACTO ADMINISTRATIVO QUE IMPONE SANCION POR FALTA ADUANERA DE LOS USUARIOS OPERADORES DE ZONA FRANCA",null,"ACTIVA"]
[{"$f":"+'Hoja3 (2)'!$I331","v":0},"ILEGALIDAD DEL ACTO ADMINISTRATIVO QUE IMPONE SANCION POR FALTA ADUANERA EN MATERIA DE VALORACION DE MERCANCIAS",1,{"$f":"+IF('Hoja3 (2)'!$C331=1,'Hoja3 (2)'!$B331,\"No\")","v":"ILEGALIDAD DEL ACTO ADMINISTRATIVO QUE IMPONE SANCION POR FALTA ADUANERA EN MATERIA DE VALORACION DE MERCANCIAS"},{"$f":"+'Hoja3 (2)'!$C331&'Hoja3 (2)'!$B331","v":"1ILEGALIDAD DEL ACTO ADMINISTRATIVO QUE IMPONE SANCION POR FALTA ADUANERA EN MATERIA DE VALORACION DE MERCANCIAS"},{"$f":"IFERROR(FIND(UPPER('Causas anteriores'!$D$4),D331),0)","v":0},{"$f":"+IF('Hoja3 (2)'!$F331=0,0,1)","v":0},{"$f":"+H330+'Hoja3 (2)'!$G331","v":2},{"$f":"+'Hoja3 (2)'!$H331*'Hoja3 (2)'!$G331","v":0},"MANTENER/AJUSTAR TEXTO","Activa","ILEGALIDAD DEL ACTO ADMINISTRATIVO QUE IMPONE SANCION POR FALTA ADUANERA EN MATERIA DE VALORACION DE MERCANCIAS",null,"ACTIVA"]
[{"$f":"+'Hoja3 (2)'!$I332","v":0},"ILEGALIDAD DEL ACTO ADMINISTRATIVO QUE IMPONE SANCION POR INCONSISTENCIAS EN LA DECLARACION INFORMATIVA DE PRECIOS DE TRANSFERENCIA",1,{"$f":"+IF('Hoja3 (2)'!$C332=1,'Hoja3 (2)'!$B332,\"No\")","v":"ILEGALIDAD DEL ACTO ADMINISTRATIVO QUE IMPONE SANCION POR INCONSISTENCIAS EN LA DECLARACION INFORMATIVA DE PRECIOS DE TRANSFERENCIA"},{"$f":"+'Hoja3 (2)'!$C332&'Hoja3 (2)'!$B332","v":"1ILEGALIDAD DEL ACTO ADMINISTRATIVO QUE IMPONE SANCION POR INCONSISTENCIAS EN LA DECLARACION INFORMATIVA DE PRECIOS DE TRANSFERENCIA"},{"$f":"IFERROR(FIND(UPPER('Causas anteriores'!$D$4),D332),0)","v":0},{"$f":"+IF('Hoja3 (2)'!$F332=0,0,1)","v":0},{"$f":"+H331+'Hoja3 (2)'!$G332","v":2},{"$f":"+'Hoja3 (2)'!$H332*'Hoja3 (2)'!$G332","v":0},"MANTENER/AJUSTAR TEXTO","Activa","ILEGALIDAD DEL ACTO ADMINISTRATIVO QUE IMPONE SANCION POR INCONSISTENCIAS EN LA DECLARACION INFORMATIVA DE PRECIOS DE TRANSFERENCIA",null,"ACTIVA"]
[{"$f":"+'Hoja3 (2)'!$I333","v":0},"ILEGALIDAD DEL ACTO ADMINISTRATIVO QUE IMPONE SANCION POR INCONSISTENCIAS EN LA DOCUMENTACION COMPROBATORIA DE PRECIOS DE TRANSFERENCIA",1,{"$f":"+IF('Hoja3 (2)'!$C333=1,'Hoja3 (2)'!$B333,\"No\")","v":"ILEGALIDAD DEL ACTO ADMINISTRATIVO QUE IMPONE SANCION POR INCONSISTENCIAS EN LA DOCUMENTACION COMPROBATORIA DE PRECIOS DE TRANSFERENCIA"},{"$f":"+'Hoja3 (2)'!$C333&'Hoja3 (2)'!$B333","v":"1ILEGALIDAD DEL ACTO ADMINISTRATIVO QUE IMPONE SANCION POR INCONSISTENCIAS EN LA DOCUMENTACION COMPROBATORIA DE PRECIOS DE TRANSFERENCIA"},{"$f":"IFERROR(FIND(UPPER('Causas anteriores'!$D$4),D333),0)","v":0},{"$f":"+IF('Hoja3 (2)'!$F333=0,0,1)","v":0},{"$f":"+H332+'Hoja3 (2)'!$G333","v":2},{"$f":"+'Hoja3 (2)'!$H333*'Hoja3 (2)'!$G333","v":0},"MANTENER/AJUSTAR TEXTO","Activa","ILEGALIDAD DEL ACTO ADMINISTRATIVO QUE IMPONE SANCION POR INCONSISTENCIAS EN LA DOCUMENTACION COMPROBATORIA DE PRECIOS DE TRANSFERENCIA",null,"ACTIVA"]
[{"$f":"+'Hoja3 (2)'!$I334","v":0},"ILEGALIDAD DEL ACTO ADMINISTRATIVO QUE IMPONE SANCION POR INCONSISTENCIAS EN LA PRESENTACION DE INFORMACION EXOGENA",1,{"$f":"+IF('Hoja3 (2)'!$C334=1,'Hoja3 (2)'!$B334,\"No\")","v":"ILEGALIDAD DEL ACTO ADMINISTRATIVO QUE IMPONE SANCION POR INCONSISTENCIAS EN LA PRESENTACION DE INFORMACION EXOGENA"},{"$f":"+'Hoja3 (2)'!$C334&'Hoja3 (2)'!$B334","v":"1ILEGALIDAD DEL ACTO ADMINISTRATIVO QUE IMPONE SANCION POR INCONSISTENCIAS EN LA PRESENTACION DE INFORMACION EXOGENA"},{"$f":"IFERROR(FIND(UPPER('Causas anteriores'!$D$4),D334),0)","v":0},{"$f":"+IF('Hoja3 (2)'!$F334=0,0,1)","v":0},{"$f":"+H333+'Hoja3 (2)'!$G334","v":2},{"$f":"+'Hoja3 (2)'!$H334*'Hoja3 (2)'!$G334","v":0},"MANTENER/AJUSTAR TEXTO","Activa","ILEGALIDAD DEL ACTO ADMINISTRATIVO QUE IMPONE SANCION POR INCONSISTENCIAS EN LA PRESENTACION DE INFORMACION EXOGENA",null,"ACTIVA"]
[{"$f":"+'Hoja3 (2)'!$I335","v":0},"ILEGALIDAD DEL ACTO ADMINISTRATIVO QUE IMPONE SANCION POR INCUMPLIMIENTO DE NORMAS DE PROTECCION AMBIENTAL",1,{"$f":"+IF('Hoja3 (2)'!$C335=1,'Hoja3 (2)'!$B335,\"No\")","v":"ILEGALIDAD DEL ACTO ADMINISTRATIVO QUE IMPONE SANCION POR INCUMPLIMIENTO DE NORMAS DE PROTECCION AMBIENTAL"},{"$f":"+'Hoja3 (2)'!$C335&'Hoja3 (2)'!$B335","v":"1ILEGALIDAD DEL ACTO ADMINISTRATIVO QUE IMPONE SANCION POR INCUMPLIMIENTO DE NORMAS DE PROTECCION AMBIENTAL"},{"$f":"IFERROR(FIND(UPPER('Causas anteriores'!$D$4),D335),0)","v":0},{"$f":"+IF('Hoja3 (2)'!$F335=0,0,1)","v":0},{"$f":"+H334+'Hoja3 (2)'!$G335","v":2},{"$f":"+'Hoja3 (2)'!$H335*'Hoja3 (2)'!$G335","v":0},"MANTENER/AJUSTAR TEXTO","Activa","ILEGALIDAD DEL ACTO ADMINISTRATIVO QUE IMPONE SANCION POR VIOLACION DE NORMAS DE PROTECCION AMBIENTAL",null,"ACTIVA"]
[{"$f":"+'Hoja3 (2)'!$I336","v":0},"ILEGALIDAD DEL ACTO ADMINISTRATIVO QUE IMPONE SANCION POR INSOLVENCIA",1,{"$f":"+IF('Hoja3 (2)'!$C336=1,'Hoja3 (2)'!$B336,\"No\")","v":"ILEGALIDAD DEL ACTO ADMINISTRATIVO QUE IMPONE SANCION POR INSOLVENCIA"},{"$f":"+'Hoja3 (2)'!$C336&'Hoja3 (2)'!$B336","v":"1ILEGALIDAD DEL ACTO ADMINISTRATIVO QUE IMPONE SANCION POR INSOLVENCIA"},{"$f":"IFERROR(FIND(UPPER('Causas anteriores'!$D$4),D336),0)","v":0},{"$f":"+IF('Hoja3 (2)'!$F336=0,0,1)","v":0},{"$f":"+H335+'Hoja3 (2)'!$G336","v":2},{"$f":"+'Hoja3 (2)'!$H336*'Hoja3 (2)'!$G336","v":0},"MANTENER/AJUSTAR TEXTO","Activa","ILEGALIDAD DEL ACTO ADMINISTRATIVO QUE IMPONE SANCION POR DECLARACION DE INSOLVENCIA",null,"ACTIVA"]
[{"$f":"+'Hoja3 (2)'!$I337","v":0},"ILEGALIDAD DEL ACTO ADMINISTRATIVO QUE IMPONE SANCION POR LA NO PRESENTACION DE INFORMACION EXOGENA",1,{"$f":"+IF('Hoja3 (2)'!$C337=1,'Hoja3 (2)'!$B337,\"No\")","v":"ILEGALIDAD DEL ACTO ADMINISTRATIVO QUE IMPONE SANCION POR LA NO PRESENTACION DE INFORMACION EXOGENA"},{"$f":"+'Hoja3 (2)'!$C337&'Hoja3 (2)'!$B337","v":"1ILEGALIDAD DEL ACTO ADMINISTRATIVO QUE IMPONE SANCION POR LA NO PRESENTACION DE INFORMACION EXOGENA"},{"$f":"IFERROR(FIND(UPPER('Causas anteriores'!$D$4),D337),0)","v":0},{"$f":"+IF('Hoja3 (2)'!$F337=0,0,1)","v":0},{"$f":"+H336+'Hoja3 (2)'!$G337","v":2},{"$f":"+'Hoja3 (2)'!$H337*'Hoja3 (2)'!$G337","v":0},"MANTENER/AJUSTAR TEXTO","Activa","ILEGALIDAD DEL ACTO ADMINISTRATIVO QUE IMPONE SANCION POR LA NO PRESENTACION DE INFORMACION EXOGENA",null,"ACTIVA"]
[{"$f":"+'Hoja3 (2)'!$I338","v":0},"ILEGALIDAD DEL ACTO ADMINISTRATIVO QUE IMPONE SANCION POR LA NO PRESENTACION DE LA DECLARACION INFORMATIVA DE PRECIOS DE TRANSFERENCIA",1,{"$f":"+IF('Hoja3 (2)'!$C338=1,'Hoja3 (2)'!$B338,\"No\")","v":"ILEGALIDAD DEL ACTO ADMINISTRATIVO QUE IMPONE SANCION POR LA NO PRESENTACION DE LA DECLARACION INFORMATIVA DE PRECIOS DE TRANSFERENCIA"},{"$f":"+'Hoja3 (2)'!$C338&'Hoja3 (2)'!$B338","v":"1ILEGALIDAD DEL ACTO ADMINISTRATIVO QUE IMPONE SANCION POR LA NO PRESENTACION DE LA DECLARACION INFORMATIVA DE PRECIOS DE TRANSFERENCIA"},{"$f":"IFERROR(FIND(UPPER('Causas anteriores'!$D$4),D338),0)","v":0},{"$f":"+IF('Hoja3 (2)'!$F338=0,0,1)","v":0},{"$f":"+H337+'Hoja3 (2)'!$G338","v":2},{"$f":"+'Hoja3 (2)'!$H338*'Hoja3 (2)'!$G338","v":0},"MANTENER/AJUSTAR TEXTO","Activa","ILEGALIDAD DEL ACTO ADMINISTRATIVO QUE IMPONE SANCION POR LA NO PRESENTACION DE LA DECLARACION INFORMATIVA DE PRECIOS DE TRANSFERENCIA",null,"ACTIVA"]
[{"$f":"+'Hoja3 (2)'!$I339","v":0},"ILEGALIDAD DEL ACTO ADMINISTRATIVO QUE IMPONE SANCION POR LA NO PRESENTACION DE LA DOCUMENTACION COMPROBATORIA DE PRECIOS DE TRANSFERENCIA",1,{"$f":"+IF('Hoja3 (2)'!$C339=1,'Hoja3 (2)'!$B339,\"No\")","v":"ILEGALIDAD DEL ACTO ADMINISTRATIVO QUE IMPONE SANCION POR LA NO PRESENTACION DE LA DOCUMENTACION COMPROBATORIA DE PRECIOS DE TRANSFERENCIA"},{"$f":"+'Hoja3 (2)'!$C339&'Hoja3 (2)'!$B339","v":"1ILEGALIDAD DEL ACTO ADMINISTRATIVO QUE IMPONE SANCION POR LA NO PRESENTACION DE LA DOCUMENTACION COMPROBATORIA DE PRECIOS DE TRANSFERENCIA"},{"$f":"IFERROR(FIND(UPPER('Causas anteriores'!$D$4),D339),0)","v":0},{"$f":"+IF('Hoja3 (2)'!$F339=0,0,1)","v":0},{"$f":"+H338+'Hoja3 (2)'!$G339","v":2},{"$f":"+'Hoja3 (2)'!$H339*'Hoja3 (2)'!$G339","v":0},"MANTENER/AJUSTAR TEXTO","Activa","ILEGALIDAD DEL ACTO ADMINISTRATIVO QUE IMPONE SANCION POR LA NO PRESENTACION DE LA DOCUMENTACION COMPROBATORIA DE PRECIOS DE TRANSFERENCIA",null,"ACTIVA"]
[{"$f":"+'Hoja3 (2)'!$I340","v":0},"ILEGALIDAD DEL ACTO ADMINISTRATIVO QUE IMPONE SANCION POR LA OMISION EN LA EXPEDICION DE CERTIFICADOS",1,{"$f":"+IF('Hoja3 (2)'!$C340=1,'Hoja3 (2)'!$B340,\"No\")","v":"ILEGALIDAD DEL ACTO ADMINISTRATIVO QUE IMPONE SANCION POR LA OMISION EN LA EXPEDICION DE CERTIFICADOS"},{"$f":"+'Hoja3 (2)'!$C340&'Hoja3 (2)'!$B340","v":"1ILEGALIDAD DEL ACTO ADMINISTRATIVO QUE IMPONE SANCION POR LA OMISION EN LA EXPEDICION DE CERTIFICADOS"},{"$f":"IFERROR(FIND(UPPER('Causas anteriores'!$D$4),D340),0)","v":0},{"$f":"+IF('Hoja3 (2)'!$F340=0,0,1)","v":0},{"$f":"+H339+'Hoja3 (2)'!$G340","v":2},{"$f":"+'Hoja3 (2)'!$H340*'Hoja3 (2)'!$G340","v":0},"MANTENER/AJUSTAR TEXTO","Activa","ILEGALIDAD DEL ACTO ADMINISTRATIVO QUE IMPONE SANCION POR LA OMISION EN LA EXPEDICION DE CERTIFICADOS",null,"ACTIVA"]
[{"$f":"+'Hoja3 (2)'!$I341","v":0},"ILEGALIDAD DEL ACTO ADMINISTRATIVO QUE IMPONE SANCION POR OMISION EN LA OBLIGACION DE LLEVAR LIBROS DE CONTABILIDAD",1,{"$f":"+IF('Hoja3 (2)'!$C341=1,'Hoja3 (2)'!$B341,\"No\")","v":"ILEGALIDAD DEL ACTO ADMINISTRATIVO QUE IMPONE SANCION POR OMISION EN LA OBLIGACION DE LLEVAR LIBROS DE CONTABILIDAD"},{"$f":"+'Hoja3 (2)'!$C341&'Hoja3 (2)'!$B341","v":"1ILEGALIDAD DEL ACTO ADMINISTRATIVO QUE IMPONE SANCION POR OMISION EN LA OBLIGACION DE LLEVAR LIBROS DE CONTABILIDAD"},{"$f":"IFERROR(FIND(UPPER('Causas anteriores'!$D$4),D341),0)","v":0},{"$f":"+IF('Hoja3 (2)'!$F341=0,0,1)","v":0},{"$f":"+H340+'Hoja3 (2)'!$G341","v":2},{"$f":"+'Hoja3 (2)'!$H341*'Hoja3 (2)'!$G341","v":0},"MANTENER/AJUSTAR TEXTO","Activa","ILEGALIDAD DEL ACTO ADMINISTRATIVO QUE IMPONE SANCION POR OMISION EN LA OBLIGACION DE LLEVAR LIBROS DE CONTABILIDAD",null,"ACTIVA"]
[{"$f":"+'Hoja3 (2)'!$I342","v":0},"ILEGALIDAD DEL ACTO ADMINISTRATIVO QUE IMPONE SANCION POR OMISION O INEXACTITUD DE LAS CONTRIBUCIONES PARAFISCALES DE LA PROTECCION SOCIAL",1,{"$f":"+IF('Hoja3 (2)'!$C342=1,'Hoja3 (2)'!$B342,\"No\")","v":"ILEGALIDAD DEL ACTO ADMINISTRATIVO QUE IMPONE SANCION POR OMISION O INEXACTITUD DE LAS CONTRIBUCIONES PARAFISCALES DE LA PROTECCION SOCIAL"},{"$f":"+'Hoja3 (2)'!$C342&'Hoja3 (2)'!$B342","v":"1ILEGALIDAD DEL ACTO ADMINISTRATIVO QUE IMPONE SANCION POR OMISION O INEXACTITUD DE LAS CONTRIBUCIONES PARAFISCALES DE LA PROTECCION SOCIAL"},{"$f":"IFERROR(FIND(UPPER('Causas anteriores'!$D$4),D342),0)","v":0},{"$f":"+IF('Hoja3 (2)'!$F342=0,0,1)","v":0},{"$f":"+H341+'Hoja3 (2)'!$G342","v":2},{"$f":"+'Hoja3 (2)'!$H342*'Hoja3 (2)'!$G342","v":0},"INACTIVAR EN NUEVA MATRIZ","Inactiva",null,null,"ACTIVA"]
[{"$f":"+'Hoja3 (2)'!$I343","v":0},"ILEGALIDAD DEL ACTO ADMINISTRATIVO QUE IMPONE SANCIONES DERIVADAS DE LA FACULTAD DE INSPECCION, VIGILANCIA Y CONTROL",1,{"$f":"+IF('Hoja3 (2)'!$C343=1,'Hoja3 (2)'!$B343,\"No\")","v":"ILEGALIDAD DEL ACTO ADMINISTRATIVO QUE IMPONE SANCIONES DERIVADAS DE LA FACULTAD DE INSPECCION, VIGILANCIA Y CONTROL"},{"$f":"+'Hoja3 (2)'!$C343&'Hoja3 (2)'!$B343","v":"1ILEGALIDAD DEL ACTO ADMINISTRATIVO QUE IMPONE SANCIONES DERIVADAS DE LA FACULTAD DE INSPECCION, VIGILANCIA Y CONTROL"},{"$f":"IFERROR(FIND(UPPER('Causas anteriores'!$D$4),D343),0)","v":0},{"$f":"+IF('Hoja3 (2)'!$F343=0,0,1)","v":0},{"$f":"+H342+'Hoja3 (2)'!$G343","v":2},{"$f":"+'Hoja3 (2)'!$H343*'Hoja3 (2)'!$G343","v":0},"MANTENER/AJUSTAR TEXTO","Activa","ILEGALIDAD DEL ACTO ADMINISTRATIVO QUE IMPONE SANCIONES DERIVADAS DE LA FACULTAD DE INSPECCION, VIGILANCIA Y CONTROL",null,"ACTIVA"]
[{"$f":"+'Hoja3 (2)'!$I344","v":0},"ILEGALIDAD DEL ACTO ADMINISTRATIVO QUE IMPONE SANCIONES PECUNIARIAS A LAS EMPRESAS DE SERVICIOS PUBLICOS POR VIOLACION AL ESTATUTO DEL CONSUMIDOR",1,{"$f":"+IF('Hoja3 (2)'!$C344=1,'Hoja3 (2)'!$B344,\"No\")","v":"ILEGALIDAD DEL ACTO ADMINISTRATIVO QUE IMPONE SANCIONES PECUNIARIAS A LAS EMPRESAS DE SERVICIOS PUBLICOS POR VIOLACION AL ESTATUTO DEL CONSUMIDOR"},{"$f":"+'Hoja3 (2)'!$C344&'Hoja3 (2)'!$B344","v":"1ILEGALIDAD DEL ACTO ADMINISTRATIVO QUE IMPONE SANCIONES PECUNIARIAS A LAS EMPRESAS DE SERVICIOS PUBLICOS POR VIOLACION AL ESTATUTO DEL CONSUMIDOR"},{"$f":"IFERROR(FIND(UPPER('Causas anteriores'!$D$4),D344),0)","v":0},{"$f":"+IF('Hoja3 (2)'!$F344=0,0,1)","v":0},{"$f":"+H343+'Hoja3 (2)'!$G344","v":2},{"$f":"+'Hoja3 (2)'!$H344*'Hoja3 (2)'!$G344","v":0},"MANTENER/AJUSTAR TEXTO","Activa","ILEGALIDAD DEL ACTO ADMINISTRATIVO QUE IMPONE SANCION A EMPRESA PRESTADORA DE SERVICIOS PUBLICOS DOMICILIARIOS POR VIOLACION AL ESTATUTO DEL CONSUMIDOR",null,"ACTIVA"]
[{"$f":"+'Hoja3 (2)'!$I345","v":0},"ILEGALIDAD DEL ACTO ADMINISTRATIVO QUE IMPONE SANCIONES PECUNIARIAS A LOS USUARIOS POR PARTE DE LAS EMPRESAS DE SERVICIOS PUBLICOS",1,{"$f":"+IF('Hoja3 (2)'!$C345=1,'Hoja3 (2)'!$B345,\"No\")","v":"ILEGALIDAD DEL ACTO ADMINISTRATIVO QUE IMPONE SANCIONES PECUNIARIAS A LOS USUARIOS POR PARTE DE LAS EMPRESAS DE SERVICIOS PUBLICOS"},{"$f":"+'Hoja3 (2)'!$C345&'Hoja3 (2)'!$B345","v":"1ILEGALIDAD DEL ACTO ADMINISTRATIVO QUE IMPONE SANCIONES PECUNIARIAS A LOS USUARIOS POR PARTE DE LAS EMPRESAS DE SERVICIOS PUBLICOS"},{"$f":"IFERROR(FIND(UPPER('Causas anteriores'!$D$4),D345),0)","v":0},{"$f":"+IF('Hoja3 (2)'!$F345=0,0,1)","v":0},{"$f":"+H344+'Hoja3 (2)'!$G345","v":2},{"$f":"+'Hoja3 (2)'!$H345*'Hoja3 (2)'!$G345","v":0},"MANTENER/AJUSTAR TEXTO","Activa","ILEGALIDAD DEL ACTO ADMINISTRATIVO QUE IMPONE SANCION A LOS USUARIOS DE SERVICIOS PUBLICOS DOMICILIARIOS",null,"ACTIVA"]
[{"$f":"+'Hoja3 (2)'!$I346","v":0},"ILEGALIDAD DEL ACTO ADMINISTRATIVO QUE IMPONE TASA, IMPUESTO O TRIBUTO",1,{"$f":"+IF('Hoja3 (2)'!$C346=1,'Hoja3 (2)'!$B346,\"No\")","v":"ILEGALIDAD DEL ACTO ADMINISTRATIVO QUE IMPONE TASA, IMPUESTO O TRIBUTO"},{"$f":"+'Hoja3 (2)'!$C346&'Hoja3 (2)'!$B346","v":"1ILEGALIDAD DEL ACTO ADMINISTRATIVO QUE IMPONE TASA, IMPUESTO O TRIBUTO"},{"$f":"IFERROR(FIND(UPPER('Causas anteriores'!$D$4),D346),0)","v":0},{"$f":"+IF('Hoja3 (2)'!$F346=0,0,1)","v":0},{"$f":"+H345+'Hoja3 (2)'!$G346","v":2},{"$f":"+'Hoja3 (2)'!$H346*'Hoja3 (2)'!$G346","v":0},"INACTIVAR PARA DESAGREGAR","Inactiva",null,null,"ACTIVA"]
[{"$f":"+'Hoja3 (2)'!$I347","v":0},"ILEGALIDAD DEL ACTO ADMINISTRATIVO QUE IMPONE TASA, IMPUESTO O TRIBUTO",2,{"$f":"+IF('Hoja3 (2)'!$C347=1,'Hoja3 (2)'!$B347,\"No\")","v":"No"},{"$f":"+'Hoja3 (2)'!$C347&'Hoja3 (2)'!$B347","v":"2ILEGALIDAD DEL ACTO ADMINISTRATIVO QUE IMPONE TASA, IMPUESTO O TRIBUTO"},{"$f":"IFERROR(FIND(UPPER('Causas anteriores'!$D$4),D347),0)","v":0},{"$f":"+IF('Hoja3 (2)'!$F347=0,0,1)","v":0},{"$f":"+H346+'Hoja3 (2)'!$G347","v":2},{"$f":"+'Hoja3 (2)'!$H347*'Hoja3 (2)'!$G347","v":0},"CREAR","Activa","ILEGALIDAD DEL ACTO ADMINISTRATIVO QUE CREA UN IMPUESTO"]
[{"$f":"+'Hoja3 (2)'!$I348","v":0},"ILEGALIDAD DEL ACTO ADMINISTRATIVO QUE IMPONE TASA, IMPUESTO O TRIBUTO",3,{"$f":"+IF('Hoja3 (2)'!$C348=1,'Hoja3 (2)'!$B348,\"No\")","v":"No"},{"$f":"+'Hoja3 (2)'!$C348&'Hoja3 (2)'!$B348","v":"3ILEGALIDAD DEL ACTO ADMINISTRATIVO QUE IMPONE TASA, IMPUESTO O TRIBUTO"},{"$f":"IFERROR(FIND(UPPER('Causas anteriores'!$D$4),D348),0)","v":0},{"$f":"+IF('Hoja3 (2)'!$F348=0,0,1)","v":0},{"$f":"+H347+'Hoja3 (2)'!$G348","v":2},{"$f":"+'Hoja3 (2)'!$H348*'Hoja3 (2)'!$G348","v":0},"CREAR","Activa","ILEGALIDAD DEL ACTO ADMINISTRATIVO QUE LIQUIDA UN IMPUESTO"]
[{"$f":"+'Hoja3 (2)'!$I349","v":0},"ILEGALIDAD DEL ACTO ADMINISTRATIVO QUE IMPONE TASA, IMPUESTO O TRIBUTO",4,{"$f":"+IF('Hoja3 (2)'!$C349=1,'Hoja3 (2)'!$B349,\"No\")","v":"No"},{"$f":"+'Hoja3 (2)'!$C349&'Hoja3 (2)'!$B349","v":"4ILEGALIDAD DEL ACTO ADMINISTRATIVO QUE IMPONE TASA, IMPUESTO O TRIBUTO"},{"$f":"IFERROR(FIND(UPPER('Causas anteriores'!$D$4),D349),0)","v":0},{"$f":"+IF('Hoja3 (2)'!$F349=0,0,1)","v":0},{"$f":"+H348+'Hoja3 (2)'!$G349","v":2},{"$f":"+'Hoja3 (2)'!$H349*'Hoja3 (2)'!$G349","v":0},"CREAR","Activa","ILEGALIDAD DEL ACTO ADMINISTRATIVO QUE CREA UNA TASA"]
[{"$f":"+'Hoja3 (2)'!$I350","v":0},"ILEGALIDAD DEL ACTO ADMINISTRATIVO QUE IMPONE TASA, IMPUESTO O TRIBUTO",5,{"$f":"+IF('Hoja3 (2)'!$C350=1,'Hoja3 (2)'!$B350,\"No\")","v":"No"},{"$f":"+'Hoja3 (2)'!$C350&'Hoja3 (2)'!$B350","v":"5ILEGALIDAD DEL ACTO ADMINISTRATIVO QUE IMPONE TASA, IMPUESTO O TRIBUTO"},{"$f":"IFERROR(FIND(UPPER('Causas anteriores'!$D$4),D350),0)","v":0},{"$f":"+IF('Hoja3 (2)'!$F350=0,0,1)","v":0},{"$f":"+H349+'Hoja3 (2)'!$G350","v":2},{"$f":"+'Hoja3 (2)'!$H350*'Hoja3 (2)'!$G350","v":0},"CREAR","Activa","ILEGALIDAD DEL ACTO ADMINISTRATIVO QUE LIQUIDA UNA TASA"]
[{"$f":"+'Hoja3 (2)'!$I351","v":0},"ILEGALIDAD DEL ACTO ADMINISTRATIVO QUE IMPONE TASA, IMPUESTO O TRIBUTO",6,{"$f":"+IF('Hoja3 (2)'!$C351=1,'Hoja3 (2)'!$B351,\"No\")","v":"No"},{"$f":"+'Hoja3 (2)'!$C351&'Hoja3 (2)'!$B351","v":"6ILEGALIDAD DEL ACTO ADMINISTRATIVO QUE IMPONE TASA, IMPUESTO O TRIBUTO"},{"$f":"IFERROR(FIND(UPPER('Causas anteriores'!$D$4),D351),0)","v":0},{"$f":"+IF('Hoja3 (2)'!$F351=0,0,1)","v":0},{"$f":"+H350+'Hoja3 (2)'!$G351","v":2},{"$f":"+'Hoja3 (2)'!$H351*'Hoja3 (2)'!$G351","v":0},"CREAR","Activa","ILEGALIDAD DEL ACTO ADMINISTRATIVO QUE CREA UNA CONTRIBUCION ESPECIAL"]
[{"$f":"+'Hoja3 (2)'!$I352","v":0},"ILEGALIDAD DEL ACTO ADMINISTRATIVO QUE IMPONE TASA, IMPUESTO O TRIBUTO",7,{"$f":"+IF('Hoja3 (2)'!$C352=1,'Hoja3 (2)'!$B352,\"No\")","v":"No"},{"$f":"+'Hoja3 (2)'!$C352&'Hoja3 (2)'!$B352","v":"7ILEGALIDAD DEL ACTO ADMINISTRATIVO QUE IMPONE TASA, IMPUESTO O TRIBUTO"},{"$f":"IFERROR(FIND(UPPER('Causas anteriores'!$D$4),D352),0)","v":0},{"$f":"+IF('Hoja3 (2)'!$F352=0,0,1)","v":0},{"$f":"+H351+'Hoja3 (2)'!$G352","v":2},{"$f":"+'Hoja3 (2)'!$H352*'Hoja3 (2)'!$G352","v":0},"CREAR","Activa","ILEGALIDAD DEL ACTO ADMINISTRATIVO QUE LIQUIDA UNA CONTRIBUCION ESPECIAL"]
[{"$f":"+'Hoja3 (2)'!$I353","v":0},"ILEGALIDAD DEL ACTO ADMINISTRATIVO QUE IMPONE UNA SANCION DISCIPLINARIA",1,{"$f":"+IF('Hoja3 (2)'!$C353=1,'Hoja3 (2)'!$B353,\"No\")","v":"ILEGALIDAD DEL ACTO ADMINISTRATIVO QUE IMPONE UNA SANCION DISCIPLINARIA"},{"$f":"+'Hoja3 (2)'!$C353&'Hoja3 (2)'!$B353","v":"1ILEGALIDAD DEL ACTO ADMINISTRATIVO QUE IMPONE UNA SANCION DISCIPLINARIA"},{"$f":"IFERROR(FIND(UPPER('Causas anteriores'!$D$4),D353),0)","v":0},{"$f":"+IF('Hoja3 (2)'!$F353=0,0,1)","v":0},{"$f":"+H352+'Hoja3 (2)'!$G353","v":2},{"$f":"+'Hoja3 (2)'!$H353*'Hoja3 (2)'!$G353","v":0},"MANTENER/AJUSTAR TEXTO","Activa","ILEGALIDAD DEL ACTO ADMINISTRATIVO QUE IMPONE SANCION DISCIPLINARIA",null,"ACTIVA"]
[{"$f":"+'Hoja3 (2)'!$I354","v":0},"ILEGALIDAD DEL ACTO ADMINISTRATIVO QUE IMPONE UNA SANCION FISCAL",1,{"$f":"+IF('Hoja3 (2)'!$C354=1,'Hoja3 (2)'!$B354,\"No\")","v":"ILEGALIDAD DEL ACTO ADMINISTRATIVO QUE IMPONE UNA SANCION FISCAL"},{"$f":"+'Hoja3 (2)'!$C354&'Hoja3 (2)'!$B354","v":"1ILEGALIDAD DEL ACTO ADMINISTRATIVO QUE IMPONE UNA SANCION FISCAL"},{"$f":"IFERROR(FIND(UPPER('Causas anteriores'!$D$4),D354),0)","v":0},{"$f":"+IF('Hoja3 (2)'!$F354=0,0,1)","v":0},{"$f":"+H353+'Hoja3 (2)'!$G354","v":2},{"$f":"+'Hoja3 (2)'!$H354*'Hoja3 (2)'!$G354","v":0},"MANTENER/AJUSTAR TEXTO","Activa","ILEGALIDAD DEL ACTO ADMINISTRATIVO QUE IMPONE SANCION EN EJERCICIO DEL CONTROL FISCAL",null,"ACTIVA"]
[{"$f":"+'Hoja3 (2)'!$I355","v":0},"ILEGALIDAD DEL ACTO ADMINISTRATIVO QUE IMPONE UNA SANCION POR OMISION O INEXACTITUD DE LAS CONTRIBUCIONES PARAFISCALES DE LA PROTECCION SOCIAL",1,{"$f":"+IF('Hoja3 (2)'!$C355=1,'Hoja3 (2)'!$B355,\"No\")","v":"ILEGALIDAD DEL ACTO ADMINISTRATIVO QUE IMPONE UNA SANCION POR OMISION O INEXACTITUD DE LAS CONTRIBUCIONES PARAFISCALES DE LA PROTECCION SOCIAL"},{"$f":"+'Hoja3 (2)'!$C355&'Hoja3 (2)'!$B355","v":"1ILEGALIDAD DEL ACTO ADMINISTRATIVO QUE IMPONE UNA SANCION POR OMISION O INEXACTITUD DE LAS CONTRIBUCIONES PARAFISCALES DE LA PROTECCION SOCIAL"},{"$f":"IFERROR(FIND(UPPER('Causas anteriores'!$D$4),D355),0)","v":0},{"$f":"+IF('Hoja3 (2)'!$F355=0,0,1)","v":0},{"$f":"+H354+'Hoja3 (2)'!$G355","v":2},{"$f":"+'Hoja3 (2)'!$H355*'Hoja3 (2)'!$G355","v":0},"MANTENER/AJUSTAR TEXTO","Activa","ILEGALIDAD DEL ACTO ADMINISTRATIVO QUE IMPONE SANCION POR NO PAGO DE APORTES PARAFISCALES",null,"ACTIVA"]
[{"$f":"+'Hoja3 (2)'!$I356","v":0},"ILEGALIDAD DEL ACTO ADMINISTRATIVO QUE IMPONE UNA SANCION POR PRACTICA RESTRICTIVA DE LA COMPETENCIA",1,{"$f":"+IF('Hoja3 (2)'!$C356=1,'Hoja3 (2)'!$B356,\"No\")","v":"ILEGALIDAD DEL ACTO ADMINISTRATIVO QUE IMPONE UNA SANCION POR PRACTICA RESTRICTIVA DE LA COMPETENCIA"},{"$f":"+'Hoja3 (2)'!$C356&'Hoja3 (2)'!$B356","v":"1ILEGALIDAD DEL ACTO ADMINISTRATIVO QUE IMPONE UNA SANCION POR PRACTICA RESTRICTIVA DE LA COMPETENCIA"},{"$f":"IFERROR(FIND(UPPER('Causas anteriores'!$D$4),D356),0)","v":0},{"$f":"+IF('Hoja3 (2)'!$F356=0,0,1)","v":0},{"$f":"+H355+'Hoja3 (2)'!$G356","v":2},{"$f":"+'Hoja3 (2)'!$H356*'Hoja3 (2)'!$G356","v":0},"MANTENER/AJUSTAR TEXTO","Activa","ILEGALIDAD DEL ACTO ADMINISTRATIVO QUE IMPONE SANCION POR PRACTICA RESTRICTIVA DE LA COMPETENCIA",null,"ACTIVA"]
[{"$f":"+'Hoja3 (2)'!$I357","v":0},"ILEGALIDAD DEL ACTO ADMINISTRATIVO QUE INTERPRETA ERRONEAMENTE LA NORMA",1,{"$f":"+IF('Hoja3 (2)'!$C357=1,'Hoja3 (2)'!$B357,\"No\")","v":"ILEGALIDAD DEL ACTO ADMINISTRATIVO QUE INTERPRETA ERRONEAMENTE LA NORMA"},{"$f":"+'Hoja3 (2)'!$C357&'Hoja3 (2)'!$B357","v":"1ILEGALIDAD DEL ACTO ADMINISTRATIVO QUE INTERPRETA ERRONEAMENTE LA NORMA"},{"$f":"IFERROR(FIND(UPPER('Causas anteriores'!$D$4),D357),0)","v":0},{"$f":"+IF('Hoja3 (2)'!$F357=0,0,1)","v":0},{"$f":"+H356+'Hoja3 (2)'!$G357","v":2},{"$f":"+'Hoja3 (2)'!$H357*'Hoja3 (2)'!$G357","v":0},"ESTABA INACTIVA","Inactiva",null,null,"INACTIVA"]
[{"$f":"+'Hoja3 (2)'!$I358","v":0},"ILEGALIDAD DEL ACTO ADMINISTRATIVO QUE LIBRA MANDAMIENTO DE PAGO",1,{"$f":"+IF('Hoja3 (2)'!$C358=1,'Hoja3 (2)'!$B358,\"No\")","v":"ILEGALIDAD DEL ACTO ADMINISTRATIVO QUE LIBRA MANDAMIENTO DE PAGO"},{"$f":"+'Hoja3 (2)'!$C358&'Hoja3 (2)'!$B358","v":"1ILEGALIDAD DEL ACTO ADMINISTRATIVO QUE LIBRA MANDAMIENTO DE PAGO"},{"$f":"IFERROR(FIND(UPPER('Causas anteriores'!$D$4),D358),0)","v":0},{"$f":"+IF('Hoja3 (2)'!$F358=0,0,1)","v":0},{"$f":"+H357+'Hoja3 (2)'!$G358","v":2},{"$f":"+'Hoja3 (2)'!$H358*'Hoja3 (2)'!$G358","v":0},"MANTENER/AJUSTAR TEXTO","Activa","ILEGALIDAD DEL ACTO ADMINISTRATIVO QUE LIBRA MANDAMIENTO DE PAGO",null,"ACTIVA"]
[{"$f":"+'Hoja3 (2)'!$I359","v":0},"ILEGALIDAD DEL ACTO ADMINISTRATIVO QUE LIQUIDA CONTRIBUCION ESPECIAL DE REGULACION DE ENERGIA Y GAS",1,{"$f":"+IF('Hoja3 (2)'!$C359=1,'Hoja3 (2)'!$B359,\"No\")","v":"ILEGALIDAD DEL ACTO ADMINISTRATIVO QUE LIQUIDA CONTRIBUCION ESPECIAL DE REGULACION DE ENERGIA Y GAS"},{"$f":"+'Hoja3 (2)'!$C359&'Hoja3 (2)'!$B359","v":"1ILEGALIDAD DEL ACTO ADMINISTRATIVO QUE LIQUIDA CONTRIBUCION ESPECIAL DE REGULACION DE ENERGIA Y GAS"},{"$f":"IFERROR(FIND(UPPER('Causas anteriores'!$D$4),D359),0)","v":0},{"$f":"+IF('Hoja3 (2)'!$F359=0,0,1)","v":0},{"$f":"+H358+'Hoja3 (2)'!$G359","v":2},{"$f":"+'Hoja3 (2)'!$H359*'Hoja3 (2)'!$G359","v":0},"INACTIVAR EN NUEVA MATRIZ","Inactiva",null,null,"ACTIVA"]
[{"$f":"+'Hoja3 (2)'!$I360","v":0},"ILEGALIDAD DEL ACTO ADMINISTRATIVO QUE LIQUIDA CUOTA PARTE PENSIONAL",1,{"$f":"+IF('Hoja3 (2)'!$C360=1,'Hoja3 (2)'!$B360,\"No\")","v":"ILEGALIDAD DEL ACTO ADMINISTRATIVO QUE LIQUIDA CUOTA PARTE PENSIONAL"},{"$f":"+'Hoja3 (2)'!$C360&'Hoja3 (2)'!$B360","v":"1ILEGALIDAD DEL ACTO ADMINISTRATIVO QUE LIQUIDA CUOTA PARTE PENSIONAL"},{"$f":"IFERROR(FIND(UPPER('Causas anteriores'!$D$4),D360),0)","v":0},{"$f":"+IF('Hoja3 (2)'!$F360=0,0,1)","v":0},{"$f":"+H359+'Hoja3 (2)'!$G360","v":2},{"$f":"+'Hoja3 (2)'!$H360*'Hoja3 (2)'!$G360","v":0},"MANTENER/AJUSTAR TEXTO","Activa","INDEBIDA LIQUIDACION DE CUOTA PARTE PENSIONAL",null,"ACTIVA"]
[{"$f":"+'Hoja3 (2)'!$I361","v":0},"ILEGALIDAD DEL ACTO ADMINISTRATIVO QUE LIQUIDA EL AUXILIO DE CESANTIAS",1,{"$f":"+IF('Hoja3 (2)'!$C361=1,'Hoja3 (2)'!$B361,\"No\")","v":"ILEGALIDAD DEL ACTO ADMINISTRATIVO QUE LIQUIDA EL AUXILIO DE CESANTIAS"},{"$f":"+'Hoja3 (2)'!$C361&'Hoja3 (2)'!$B361","v":"1ILEGALIDAD DEL ACTO ADMINISTRATIVO QUE LIQUIDA EL AUXILIO DE CESANTIAS"},{"$f":"IFERROR(FIND(UPPER('Causas anteriores'!$D$4),D361),0)","v":0},{"$f":"+IF('Hoja3 (2)'!$F361=0,0,1)","v":0},{"$f":"+H360+'Hoja3 (2)'!$G361","v":2},{"$f":"+'Hoja3 (2)'!$H361*'Hoja3 (2)'!$G361","v":0},"INACTIVAR PARA DESAGREGAR","Inactiva",null,null,"ACTIVA"]
[{"$f":"+'Hoja3 (2)'!$I362","v":0},"ILEGALIDAD DEL ACTO ADMINISTRATIVO QUE LIQUIDA EL AUXILIO DE CESANTIAS",2,{"$f":"+IF('Hoja3 (2)'!$C362=1,'Hoja3 (2)'!$B362,\"No\")","v":"No"},{"$f":"+'Hoja3 (2)'!$C362&'Hoja3 (2)'!$B362","v":"2ILEGALIDAD DEL ACTO ADMINISTRATIVO QUE LIQUIDA EL AUXILIO DE CESANTIAS"},{"$f":"IFERROR(FIND(UPPER('Causas anteriores'!$D$4),D362),0)","v":0},{"$f":"+IF('Hoja3 (2)'!$F362=0,0,1)","v":0},{"$f":"+H361+'Hoja3 (2)'!$G362","v":2},{"$f":"+'Hoja3 (2)'!$H362*'Hoja3 (2)'!$G362","v":0},"CREAR","Activa","NO RECONOCIMIENTO DEL AUXILIO DE CESANTIAS"]
[{"$f":"+'Hoja3 (2)'!$I363","v":0},"ILEGALIDAD DEL ACTO ADMINISTRATIVO QUE LIQUIDA EL AUXILIO DE CESANTIAS",3,{"$f":"+IF('Hoja3 (2)'!$C363=1,'Hoja3 (2)'!$B363,\"No\")","v":"No"},{"$f":"+'Hoja3 (2)'!$C363&'Hoja3 (2)'!$B363","v":"3ILEGALIDAD DEL ACTO ADMINISTRATIVO QUE LIQUIDA EL AUXILIO DE CESANTIAS"},{"$f":"IFERROR(FIND(UPPER('Causas anteriores'!$D$4),D363),0)","v":0},{"$f":"+IF('Hoja3 (2)'!$F363=0,0,1)","v":0},{"$f":"+H362+'Hoja3 (2)'!$G363","v":2},{"$f":"+'Hoja3 (2)'!$H363*'Hoja3 (2)'!$G363","v":0},"CREAR","Activa","INDEBIDA LIQUIDACION DEL AUXILIO DE CESANTIAS"]
[{"$f":"+'Hoja3 (2)'!$I364","v":0},"ILEGALIDAD DEL ACTO ADMINISTRATIVO QUE LIQUIDA EL BONO PENSIONAL",1,{"$f":"+IF('Hoja3 (2)'!$C364=1,'Hoja3 (2)'!$B364,\"No\")","v":"ILEGALIDAD DEL ACTO ADMINISTRATIVO QUE LIQUIDA EL BONO PENSIONAL"},{"$f":"+'Hoja3 (2)'!$C364&'Hoja3 (2)'!$B364","v":"1ILEGALIDAD DEL ACTO ADMINISTRATIVO QUE LIQUIDA EL BONO PENSIONAL"},{"$f":"IFERROR(FIND(UPPER('Causas anteriores'!$D$4),D364),0)","v":0},{"$f":"+IF('Hoja3 (2)'!$F364=0,0,1)","v":0},{"$f":"+H363+'Hoja3 (2)'!$G364","v":2},{"$f":"+'Hoja3 (2)'!$H364*'Hoja3 (2)'!$G364","v":0},"MANTENER/AJUSTAR TEXTO","Activa","INDEBIDA LIQUIDACION DE BONO PENSIONAL",null,"ACTIVA"]
[{"$f":"+'Hoja3 (2)'!$I365","v":0},"ILEGALIDAD DEL ACTO ADMINISTRATIVO QUE LIQUIDA INDEMNIZACION POR DESPIDO SIN JUSTA CAUSA",1,{"$f":"+IF('Hoja3 (2)'!$C365=1,'Hoja3 (2)'!$B365,\"No\")","v":"ILEGALIDAD DEL ACTO ADMINISTRATIVO QUE LIQUIDA INDEMNIZACION POR DESPIDO SIN JUSTA CAUSA"},{"$f":"+'Hoja3 (2)'!$C365&'Hoja3 (2)'!$B365","v":"1ILEGALIDAD DEL ACTO ADMINISTRATIVO QUE LIQUIDA INDEMNIZACION POR DESPIDO SIN JUSTA CAUSA"},{"$f":"IFERROR(FIND(UPPER('Causas anteriores'!$D$4),D365),0)","v":0},{"$f":"+IF('Hoja3 (2)'!$F365=0,0,1)","v":0},{"$f":"+H364+'Hoja3 (2)'!$G365","v":2},{"$f":"+'Hoja3 (2)'!$H365*'Hoja3 (2)'!$G365","v":0},"MANTENER/AJUSTAR TEXTO","Activa","INDEBIDA LIQUIDACION DE INDEMNIZACION POR DESPIDO SIN JUSTA CAUSA",null,"ACTIVA"]
[{"$f":"+'Hoja3 (2)'!$I366","v":0},"ILEGALIDAD DEL ACTO ADMINISTRATIVO QUE LIQUIDA INTERESES SOBRE EL AUXILIO DE CESANTIA",1,{"$f":"+IF('Hoja3 (2)'!$C366=1,'Hoja3 (2)'!$B366,\"No\")","v":"ILEGALIDAD DEL ACTO ADMINISTRATIVO QUE LIQUIDA INTERESES SOBRE EL AUXILIO DE CESANTIA"},{"$f":"+'Hoja3 (2)'!$C366&'Hoja3 (2)'!$B366","v":"1ILEGALIDAD DEL ACTO ADMINISTRATIVO QUE LIQUIDA INTERESES SOBRE EL AUXILIO DE CESANTIA"},{"$f":"IFERROR(FIND(UPPER('Causas anteriores'!$D$4),D366),0)","v":0},{"$f":"+IF('Hoja3 (2)'!$F366=0,0,1)","v":0},{"$f":"+H365+'Hoja3 (2)'!$G366","v":2},{"$f":"+'Hoja3 (2)'!$H366*'Hoja3 (2)'!$G366","v":0},"INACTIVAR PARA DESAGREGAR","Inactiva",null,null,"ACTIVA"]
[{"$f":"+'Hoja3 (2)'!$I367","v":0},"ILEGALIDAD DEL ACTO ADMINISTRATIVO QUE LIQUIDA INTERESES SOBRE EL AUXILIO DE CESANTIA",2,{"$f":"+IF('Hoja3 (2)'!$C367=1,'Hoja3 (2)'!$B367,\"No\")","v":"No"},{"$f":"+'Hoja3 (2)'!$C367&'Hoja3 (2)'!$B367","v":"2ILEGALIDAD DEL ACTO ADMINISTRATIVO QUE LIQUIDA INTERESES SOBRE EL AUXILIO DE CESANTIA"},{"$f":"IFERROR(FIND(UPPER('Causas anteriores'!$D$4),D367),0)","v":0},{"$f":"+IF('Hoja3 (2)'!$F367=0,0,1)","v":0},{"$f":"+H366+'Hoja3 (2)'!$G367","v":2},{"$f":"+'Hoja3 (2)'!$H367*'Hoja3 (2)'!$G367","v":0},"CREAR","Activa","NO RECONOCIMIENTO DE INTERESES SOBRE AUXILIO DE CESANTIAS"]
[{"$f":"+'Hoja3 (2)'!$I368","v":0},"ILEGALIDAD DEL ACTO ADMINISTRATIVO QUE LIQUIDA INTERESES SOBRE EL AUXILIO DE CESANTIA",3,{"$f":"+IF('Hoja3 (2)'!$C368=1,'Hoja3 (2)'!$B368,\"No\")","v":"No"},{"$f":"+'Hoja3 (2)'!$C368&'Hoja3 (2)'!$B368","v":"3ILEGALIDAD DEL ACTO ADMINISTRATIVO QUE LIQUIDA INTERESES SOBRE EL AUXILIO DE CESANTIA"},{"$f":"IFERROR(FIND(UPPER('Causas anteriores'!$D$4),D368),0)","v":0},{"$f":"+IF('Hoja3 (2)'!$F368=0,0,1)","v":0},{"$f":"+H367+'Hoja3 (2)'!$G368","v":2},{"$f":"+'Hoja3 (2)'!$H368*'Hoja3 (2)'!$G368","v":0},"CREAR","Activa","INDEBIDA LIQUIDACION DE INTERESES SOBRE AUXILIO DE CESANTIAS"]
[{"$f":"+'Hoja3 (2)'!$I369","v":0},"ILEGALIDAD DEL ACTO ADMINISTRATIVO QUE LIQUIDA LA ASIGNACION DE RETIRO",1,{"$f":"+IF('Hoja3 (2)'!$C369=1,'Hoja3 (2)'!$B369,\"No\")","v":"ILEGALIDAD DEL ACTO ADMINISTRATIVO QUE LIQUIDA LA ASIGNACION DE RETIRO"},{"$f":"+'Hoja3 (2)'!$C369&'Hoja3 (2)'!$B369","v":"1ILEGALIDAD DEL ACTO ADMINISTRATIVO QUE LIQUIDA LA ASIGNACION DE RETIRO"},{"$f":"IFERROR(FIND(UPPER('Causas anteriores'!$D$4),D369),0)","v":0},{"$f":"+IF('Hoja3 (2)'!$F369=0,0,1)","v":0},{"$f":"+H368+'Hoja3 (2)'!$G369","v":2},{"$f":"+'Hoja3 (2)'!$H369*'Hoja3 (2)'!$G369","v":0},"MANTENER/AJUSTAR TEXTO","Activa","INDEBIDA LIQUIDACION DE ASIGNACION DE RETIRO",null,"ACTIVA"]
[{"$f":"+'Hoja3 (2)'!$I370","v":0},"ILEGALIDAD DEL ACTO ADMINISTRATIVO QUE LIQUIDA PENSION",1,{"$f":"+IF('Hoja3 (2)'!$C370=1,'Hoja3 (2)'!$B370,\"No\")","v":"ILEGALIDAD DEL ACTO ADMINISTRATIVO QUE LIQUIDA PENSION"},{"$f":"+'Hoja3 (2)'!$C370&'Hoja3 (2)'!$B370","v":"1ILEGALIDAD DEL ACTO ADMINISTRATIVO QUE LIQUIDA PENSION"},{"$f":"IFERROR(FIND(UPPER('Causas anteriores'!$D$4),D370),0)","v":0},{"$f":"+IF('Hoja3 (2)'!$F370=0,0,1)","v":0},{"$f":"+H369+'Hoja3 (2)'!$G370","v":2},{"$f":"+'Hoja3 (2)'!$H370*'Hoja3 (2)'!$G370","v":0},"INACTIVAR PARA DESAGREGAR","Inactiva",null,null,"ACTIVA"]
[{"$f":"+'Hoja3 (2)'!$I371","v":0},"ILEGALIDAD DEL ACTO ADMINISTRATIVO QUE LIQUIDA PENSION",2,{"$f":"+IF('Hoja3 (2)'!$C371=1,'Hoja3 (2)'!$B371,\"No\")","v":"No"},{"$f":"+'Hoja3 (2)'!$C371&'Hoja3 (2)'!$B371","v":"2ILEGALIDAD DEL ACTO ADMINISTRATIVO QUE LIQUIDA PENSION"},{"$f":"IFERROR(FIND(UPPER('Causas anteriores'!$D$4),D371),0)","v":0},{"$f":"+IF('Hoja3 (2)'!$F371=0,0,1)","v":0},{"$f":"+H370+'Hoja3 (2)'!$G371","v":2},{"$f":"+'Hoja3 (2)'!$H371*'Hoja3 (2)'!$G371","v":0},"CREAR","Activa","INDEBIDA LIQUIDACION DE PENSION DE VEJEZ"]
[{"$f":"+'Hoja3 (2)'!$I372","v":0},"ILEGALIDAD DEL ACTO ADMINISTRATIVO QUE LIQUIDA PENSION",3,{"$f":"+IF('Hoja3 (2)'!$C372=1,'Hoja3 (2)'!$B372,\"No\")","v":"No"},{"$f":"+'Hoja3 (2)'!$C372&'Hoja3 (2)'!$B372","v":"3ILEGALIDAD DEL ACTO ADMINISTRATIVO QUE LIQUIDA PENSION"},{"$f":"IFERROR(FIND(UPPER('Causas anteriores'!$D$4),D372),0)","v":0},{"$f":"+IF('Hoja3 (2)'!$F372=0,0,1)","v":0},{"$f":"+H371+'Hoja3 (2)'!$G372","v":2},{"$f":"+'Hoja3 (2)'!$H372*'Hoja3 (2)'!$G372","v":0},"CREAR","Activa","INDEBIDA LIQUIDACION DE PENSION DE INVALIDEZ"]
[{"$f":"+'Hoja3 (2)'!$I373","v":0},"ILEGALIDAD DEL ACTO ADMINISTRATIVO QUE LIQUIDA PENSION",4,{"$f":"+IF('Hoja3 (2)'!$C373=1,'Hoja3 (2)'!$B373,\"No\")","v":"No"},{"$f":"+'Hoja3 (2)'!$C373&'Hoja3 (2)'!$B373","v":"4ILEGALIDAD DEL ACTO ADMINISTRATIVO QUE LIQUIDA PENSION"},{"$f":"IFERROR(FIND(UPPER('Causas anteriores'!$D$4),D373),0)","v":0},{"$f":"+IF('Hoja3 (2)'!$F373=0,0,1)","v":0},{"$f":"+H372+'Hoja3 (2)'!$G373","v":2},{"$f":"+'Hoja3 (2)'!$H373*'Hoja3 (2)'!$G373","v":0},"CREAR","Activa","INDEBIDA LIQUIDACION DE PENSION DE SOBREVIVIENTE"]
[{"$f":"+'Hoja3 (2)'!$I374","v":0},"ILEGALIDAD DEL ACTO ADMINISTRATIVO QUE LIQUIDA REGALIAS",1,{"$f":"+IF('Hoja3 (2)'!$C374=1,'Hoja3 (2)'!$B374,\"No\")","v":"ILEGALIDAD DEL ACTO ADMINISTRATIVO QUE LIQUIDA REGALIAS"},{"$f":"+'Hoja3 (2)'!$C374&'Hoja3 (2)'!$B374","v":"1ILEGALIDAD DEL ACTO ADMINISTRATIVO QUE LIQUIDA REGALIAS"},{"$f":"IFERROR(FIND(UPPER('Causas anteriores'!$D$4),D374),0)","v":0},{"$f":"+IF('Hoja3 (2)'!$F374=0,0,1)","v":0},{"$f":"+H373+'Hoja3 (2)'!$G374","v":2},{"$f":"+'Hoja3 (2)'!$H374*'Hoja3 (2)'!$G374","v":0},"MANTENER/AJUSTAR TEXTO","Activa","INDEBIDA LIQUIDACION DE REGALIAS",null,"ACTIVA"]
[{"$f":"+'Hoja3 (2)'!$I375","v":0},"ILEGALIDAD DEL ACTO ADMINISTRATIVO QUE LIQUIDA UN CONTRATO",1,{"$f":"+IF('Hoja3 (2)'!$C375=1,'Hoja3 (2)'!$B375,\"No\")","v":"ILEGALIDAD DEL ACTO ADMINISTRATIVO QUE LIQUIDA UN CONTRATO"},{"$f":"+'Hoja3 (2)'!$C375&'Hoja3 (2)'!$B375","v":"1ILEGALIDAD DEL ACTO ADMINISTRATIVO QUE LIQUIDA UN CONTRATO"},{"$f":"IFERROR(FIND(UPPER('Causas anteriores'!$D$4),D375),0)","v":0},{"$f":"+IF('Hoja3 (2)'!$F375=0,0,1)","v":0},{"$f":"+H374+'Hoja3 (2)'!$G375","v":2},{"$f":"+'Hoja3 (2)'!$H375*'Hoja3 (2)'!$G375","v":0},"MANTENER/AJUSTAR TEXTO","Activa","ILEGALIDAD DEL ACTO ADMINISTRATIVO QUE LIQUIDA UN CONTRATO",null,"ACTIVA"]
[{"$f":"+'Hoja3 (2)'!$I376","v":0},"ILEGALIDAD DEL ACTO ADMINISTRATIVO QUE NIEGA APLICACION DE EXTENSION DE JURISPRUDENCIA",1,{"$f":"+IF('Hoja3 (2)'!$C376=1,'Hoja3 (2)'!$B376,\"No\")","v":"ILEGALIDAD DEL ACTO ADMINISTRATIVO QUE NIEGA APLICACION DE EXTENSION DE JURISPRUDENCIA"},{"$f":"+'Hoja3 (2)'!$C376&'Hoja3 (2)'!$B376","v":"1ILEGALIDAD DEL ACTO ADMINISTRATIVO QUE NIEGA APLICACION DE EXTENSION DE JURISPRUDENCIA"},{"$f":"IFERROR(FIND(UPPER('Causas anteriores'!$D$4),D376),0)","v":0},{"$f":"+IF('Hoja3 (2)'!$F376=0,0,1)","v":0},{"$f":"+H375+'Hoja3 (2)'!$G376","v":2},{"$f":"+'Hoja3 (2)'!$H376*'Hoja3 (2)'!$G376","v":0},"MANTENER/AJUSTAR TEXTO","Activa","DENEGACION DE PETICION DE EXTENSION DE JURISPRUDENCIA",null,"ACTIVA"]
[{"$f":"+'Hoja3 (2)'!$I377","v":0},"ILEGALIDAD DEL ACTO ADMINISTRATIVO QUE NIEGA CONCESION MINERA",1,{"$f":"+IF('Hoja3 (2)'!$C377=1,'Hoja3 (2)'!$B377,\"No\")","v":"ILEGALIDAD DEL ACTO ADMINISTRATIVO QUE NIEGA CONCESION MINERA"},{"$f":"+'Hoja3 (2)'!$C377&'Hoja3 (2)'!$B377","v":"1ILEGALIDAD DEL ACTO ADMINISTRATIVO QUE NIEGA CONCESION MINERA"},{"$f":"IFERROR(FIND(UPPER('Causas anteriores'!$D$4),D377),0)","v":0},{"$f":"+IF('Hoja3 (2)'!$F377=0,0,1)","v":0},{"$f":"+H376+'Hoja3 (2)'!$G377","v":2},{"$f":"+'Hoja3 (2)'!$H377*'Hoja3 (2)'!$G377","v":0},"INACTIVAR PARA DESAGREGAR","Inactiva",null,null,"ACTIVA"]
[{"$f":"+'Hoja3 (2)'!$I378","v":0},"ILEGALIDAD DEL ACTO ADMINISTRATIVO QUE NIEGA CONCESION PORTUARIA",1,{"$f":"+IF('Hoja3 (2)'!$C378=1,'Hoja3 (2)'!$B378,\"No\")","v":"ILEGALIDAD DEL ACTO ADMINISTRATIVO QUE NIEGA CONCESION PORTUARIA"},{"$f":"+'Hoja3 (2)'!$C378&'Hoja3 (2)'!$B378","v":"1ILEGALIDAD DEL ACTO ADMINISTRATIVO QUE NIEGA CONCESION PORTUARIA"},{"$f":"IFERROR(FIND(UPPER('Causas anteriores'!$D$4),D378),0)","v":0},{"$f":"+IF('Hoja3 (2)'!$F378=0,0,1)","v":0},{"$f":"+H377+'Hoja3 (2)'!$G378","v":2},{"$f":"+'Hoja3 (2)'!$H378*'Hoja3 (2)'!$G378","v":0},"MANTENER/AJUSTAR TEXTO","Activa","NO SUSCRIPCION DE CONTRATO DE CONCESION PORTUARIA",null,"ACTIVA"]
[{"$f":"+'Hoja3 (2)'!$I379","v":0},"ILEGALIDAD DEL ACTO ADMINISTRATIVO QUE NIEGA CONDONACION DE INTERESES",1,{"$f":"+IF('Hoja3 (2)'!$C379=1,'Hoja3 (2)'!$B379,\"No\")","v":"ILEGALIDAD DEL ACTO ADMINISTRATIVO QUE NIEGA CONDONACION DE INTERESES"},{"$f":"+'Hoja3 (2)'!$C379&'Hoja3 (2)'!$B379","v":"1ILEGALIDAD DEL ACTO ADMINISTRATIVO QUE NIEGA CONDONACION DE INTERESES"},{"$f":"IFERROR(FIND(UPPER('Causas anteriores'!$D$4),D379),0)","v":0},{"$f":"+IF('Hoja3 (2)'!$F379=0,0,1)","v":0},{"$f":"+H378+'Hoja3 (2)'!$G379","v":2},{"$f":"+'Hoja3 (2)'!$H379*'Hoja3 (2)'!$G379","v":0},"INACTIVAR EN NUEVA MATRIZ","Inactiva",null,null,"ACTIVA"]
[{"$f":"+'Hoja3 (2)'!$I380","v":0},"ILEGALIDAD DEL ACTO ADMINISTRATIVO QUE NIEGA CREACION DE ZONA FRANCA",1,{"$f":"+IF('Hoja3 (2)'!$C380=1,'Hoja3 (2)'!$B380,\"No\")","v":"ILEGALIDAD DEL ACTO ADMINISTRATIVO QUE NIEGA CREACION DE ZONA FRANCA"},{"$f":"+'Hoja3 (2)'!$C380&'Hoja3 (2)'!$B380","v":"1ILEGALIDAD DEL ACTO ADMINISTRATIVO QUE NIEGA CREACION DE ZONA FRANCA"},{"$f":"IFERROR(FIND(UPPER('Causas anteriores'!$D$4),D380),0)","v":0},{"$f":"+IF('Hoja3 (2)'!$F380=0,0,1)","v":0},{"$f":"+H379+'Hoja3 (2)'!$G380","v":2},{"$f":"+'Hoja3 (2)'!$H380*'Hoja3 (2)'!$G380","v":0},"MANTENER/AJUSTAR TEXTO","Activa","ILEGALIDAD DEL ACTO ADMINISTRATIVO QUE NIEGA CREACION DE ZONA FRANCA",null,"ACTIVA"]
[{"$f":"+'Hoja3 (2)'!$I381","v":0},"ILEGALIDAD DEL ACTO ADMINISTRATIVO QUE NIEGA EL RECONOCIMIENTO DEL CERTIFICADO DE INCENTIVO FORESTAL",1,{"$f":"+IF('Hoja3 (2)'!$C381=1,'Hoja3 (2)'!$B381,\"No\")","v":"ILEGALIDAD DEL ACTO ADMINISTRATIVO QUE NIEGA EL RECONOCIMIENTO DEL CERTIFICADO DE INCENTIVO FORESTAL"},{"$f":"+'Hoja3 (2)'!$C381&'Hoja3 (2)'!$B381","v":"1ILEGALIDAD DEL ACTO ADMINISTRATIVO QUE NIEGA EL RECONOCIMIENTO DEL CERTIFICADO DE INCENTIVO FORESTAL"},{"$f":"IFERROR(FIND(UPPER('Causas anteriores'!$D$4),D381),0)","v":0},{"$f":"+IF('Hoja3 (2)'!$F381=0,0,1)","v":0},{"$f":"+H380+'Hoja3 (2)'!$G381","v":2},{"$f":"+'Hoja3 (2)'!$H381*'Hoja3 (2)'!$G381","v":0},"INACTIVAR EN NUEVA MATRIZ","Inactiva",null,null,"ACTIVA"]
[{"$f":"+'Hoja3 (2)'!$I382","v":0},"ILEGALIDAD DEL ACTO ADMINISTRATIVO QUE NIEGA EL RECONOCIMIENTO E INSCRIPCION O RENOVACION DE LOS AUXILIARES DE LA FUNCION ADUANERA",1,{"$f":"+IF('Hoja3 (2)'!$C382=1,'Hoja3 (2)'!$B382,\"No\")","v":"ILEGALIDAD DEL ACTO ADMINISTRATIVO QUE NIEGA EL RECONOCIMIENTO E INSCRIPCION O RENOVACION DE LOS AUXILIARES DE LA FUNCION ADUANERA"},{"$f":"+'Hoja3 (2)'!$C382&'Hoja3 (2)'!$B382","v":"1ILEGALIDAD DEL ACTO ADMINISTRATIVO QUE NIEGA EL RECONOCIMIENTO E INSCRIPCION O RENOVACION DE LOS AUXILIARES DE LA FUNCION ADUANERA"},{"$f":"IFERROR(FIND(UPPER('Causas anteriores'!$D$4),D382),0)","v":0},{"$f":"+IF('Hoja3 (2)'!$F382=0,0,1)","v":0},{"$f":"+H381+'Hoja3 (2)'!$G382","v":2},{"$f":"+'Hoja3 (2)'!$H382*'Hoja3 (2)'!$G382","v":0},"INACTIVAR EN NUEVA MATRIZ","Inactiva",null,null,"ACTIVA"]
[{"$f":"+'Hoja3 (2)'!$I383","v":0},"ILEGALIDAD DEL ACTO ADMINISTRATIVO QUE NIEGA EL RECONOCIMIENTO E INSCRIPCION O RENOVACION DE LOS USUARIOS ADUANEROS PERMANENTES",1,{"$f":"+IF('Hoja3 (2)'!$C383=1,'Hoja3 (2)'!$B383,\"No\")","v":"ILEGALIDAD DEL ACTO ADMINISTRATIVO QUE NIEGA EL RECONOCIMIENTO E INSCRIPCION O RENOVACION DE LOS USUARIOS ADUANEROS PERMANENTES"},{"$f":"+'Hoja3 (2)'!$C383&'Hoja3 (2)'!$B383","v":"1ILEGALIDAD DEL ACTO ADMINISTRATIVO QUE NIEGA EL RECONOCIMIENTO E INSCRIPCION O RENOVACION DE LOS USUARIOS ADUANEROS PERMANENTES"},{"$f":"IFERROR(FIND(UPPER('Causas anteriores'!$D$4),D383),0)","v":0},{"$f":"+IF('Hoja3 (2)'!$F383=0,0,1)","v":0},{"$f":"+H382+'Hoja3 (2)'!$G383","v":2},{"$f":"+'Hoja3 (2)'!$H383*'Hoja3 (2)'!$G383","v":0},"MANTENER/AJUSTAR TEXTO","Activa","ILEGALIDAD DEL ACTO ADMINISTRATIVO QUE NIEGA EL RECONOCIMIENTO E INSCRIPCION O RENOVACION DE LOS USUARIOS ADUANEROS PERMANENTES",null,"ACTIVA"]
[{"$f":"+'Hoja3 (2)'!$I384","v":0},"ILEGALIDAD DEL ACTO ADMINISTRATIVO QUE NIEGA EL RECONOCIMIENTO E INSCRIPCION O RENOVACION DE LOS USUARIOS ALTAMENTE EXPORTADORES",1,{"$f":"+IF('Hoja3 (2)'!$C384=1,'Hoja3 (2)'!$B384,\"No\")","v":"ILEGALIDAD DEL ACTO ADMINISTRATIVO QUE NIEGA EL RECONOCIMIENTO E INSCRIPCION O RENOVACION DE LOS USUARIOS ALTAMENTE EXPORTADORES"},{"$f":"+'Hoja3 (2)'!$C384&'Hoja3 (2)'!$B384","v":"1ILEGALIDAD DEL ACTO ADMINISTRATIVO QUE NIEGA EL RECONOCIMIENTO E INSCRIPCION O RENOVACION DE LOS USUARIOS ALTAMENTE EXPORTADORES"},{"$f":"IFERROR(FIND(UPPER('Causas anteriores'!$D$4),D384),0)","v":0},{"$f":"+IF('Hoja3 (2)'!$F384=0,0,1)","v":0},{"$f":"+H383+'Hoja3 (2)'!$G384","v":2},{"$f":"+'Hoja3 (2)'!$H384*'Hoja3 (2)'!$G384","v":0},"INACTIVAR EN NUEVA MATRIZ","Inactiva",null,null,"ACTIVA"]
[{"$f":"+'Hoja3 (2)'!$I385","v":0},"ILEGALIDAD DEL ACTO ADMINISTRATIVO QUE NIEGA EL SUBSIDIO DE VIVIENDA",1,{"$f":"+IF('Hoja3 (2)'!$C385=1,'Hoja3 (2)'!$B385,\"No\")","v":"ILEGALIDAD DEL ACTO ADMINISTRATIVO QUE NIEGA EL SUBSIDIO DE VIVIENDA"},{"$f":"+'Hoja3 (2)'!$C385&'Hoja3 (2)'!$B385","v":"1ILEGALIDAD DEL ACTO ADMINISTRATIVO QUE NIEGA EL SUBSIDIO DE VIVIENDA"},{"$f":"IFERROR(FIND(UPPER('Causas anteriores'!$D$4),D385),0)","v":0},{"$f":"+IF('Hoja3 (2)'!$F385=0,0,1)","v":0},{"$f":"+H384+'Hoja3 (2)'!$G385","v":2},{"$f":"+'Hoja3 (2)'!$H385*'Hoja3 (2)'!$G385","v":0},"INACTIVAR PARA DESAGREGAR","Inactiva",null,null,"ACTIVA"]
[{"$f":"+'Hoja3 (2)'!$I386","v":0},"ILEGALIDAD DEL ACTO ADMINISTRATIVO QUE NIEGA EL SUBSIDIO DE VIVIENDA",2,{"$f":"+IF('Hoja3 (2)'!$C386=1,'Hoja3 (2)'!$B386,\"No\")","v":"No"},{"$f":"+'Hoja3 (2)'!$C386&'Hoja3 (2)'!$B386","v":"2ILEGALIDAD DEL ACTO ADMINISTRATIVO QUE NIEGA EL SUBSIDIO DE VIVIENDA"},{"$f":"IFERROR(FIND(UPPER('Causas anteriores'!$D$4),D386),0)","v":0},{"$f":"+IF('Hoja3 (2)'!$F386=0,0,1)","v":0},{"$f":"+H385+'Hoja3 (2)'!$G386","v":2},{"$f":"+'Hoja3 (2)'!$H386*'Hoja3 (2)'!$G386","v":0},"CREAR","Activa","NO RECONOCIMIENTO DE SUBSIDIO DE VIVIENDA"]
[{"$f":"+'Hoja3 (2)'!$I387","v":0},"ILEGALIDAD DEL ACTO ADMINISTRATIVO QUE NIEGA EL SUBSIDIO DE VIVIENDA",3,{"$f":"+IF('Hoja3 (2)'!$C387=1,'Hoja3 (2)'!$B387,\"No\")","v":"No"},{"$f":"+'Hoja3 (2)'!$C387&'Hoja3 (2)'!$B387","v":"3ILEGALIDAD DEL ACTO ADMINISTRATIVO QUE NIEGA EL SUBSIDIO DE VIVIENDA"},{"$f":"IFERROR(FIND(UPPER('Causas anteriores'!$D$4),D387),0)","v":0},{"$f":"+IF('Hoja3 (2)'!$F387=0,0,1)","v":0},{"$f":"+H386+'Hoja3 (2)'!$G387","v":2},{"$f":"+'Hoja3 (2)'!$H387*'Hoja3 (2)'!$G387","v":0},"CREAR","Activa","INDEBIDA LIQUIDACION DE SUBSIDIO DE VIVIENDA"]
[{"$f":"+'Hoja3 (2)'!$I388","v":0},"ILEGALIDAD DEL ACTO ADMINISTRATIVO QUE NIEGA EL SUBSIDIO DE VIVIENDA",4,{"$f":"+IF('Hoja3 (2)'!$C388=1,'Hoja3 (2)'!$B388,\"No\")","v":"No"},{"$f":"+'Hoja3 (2)'!$C388&'Hoja3 (2)'!$B388","v":"4ILEGALIDAD DEL ACTO ADMINISTRATIVO QUE NIEGA EL SUBSIDIO DE VIVIENDA"},{"$f":"IFERROR(FIND(UPPER('Causas anteriores'!$D$4),D388),0)","v":0},{"$f":"+IF('Hoja3 (2)'!$F388=0,0,1)","v":0},{"$f":"+H387+'Hoja3 (2)'!$G388","v":2},{"$f":"+'Hoja3 (2)'!$H388*'Hoja3 (2)'!$G388","v":0},"CREAR","Activa","INCUMPLIMIENTO EN EL PAGO DE SUBSIDIO DE VIVIENDA"]
[{"$f":"+'Hoja3 (2)'!$I389","v":0},"ILEGALIDAD DEL ACTO ADMINISTRATIVO QUE NIEGA EXPEDICION DE HOJA DE SERVICIOS",1,{"$f":"+IF('Hoja3 (2)'!$C389=1,'Hoja3 (2)'!$B389,\"No\")","v":"ILEGALIDAD DEL ACTO ADMINISTRATIVO QUE NIEGA EXPEDICION DE HOJA DE SERVICIOS"},{"$f":"+'Hoja3 (2)'!$C389&'Hoja3 (2)'!$B389","v":"1ILEGALIDAD DEL ACTO ADMINISTRATIVO QUE NIEGA EXPEDICION DE HOJA DE SERVICIOS"},{"$f":"IFERROR(FIND(UPPER('Causas anteriores'!$D$4),D389),0)","v":0},{"$f":"+IF('Hoja3 (2)'!$F389=0,0,1)","v":0},{"$f":"+H388+'Hoja3 (2)'!$G389","v":2},{"$f":"+'Hoja3 (2)'!$H389*'Hoja3 (2)'!$G389","v":0},"MANTENER/AJUSTAR TEXTO","Activa","ILEGALIDAD DEL ACTO ADMINISTRATIVO QUE NIEGA EXPEDICION DE HOJA DE SERVICIOS",null,"ACTIVA"]
[{"$f":"+'Hoja3 (2)'!$I390","v":0},"ILEGALIDAD DEL ACTO ADMINISTRATIVO QUE NIEGA FINANCIACION DE ESTUDIOS",1,{"$f":"+IF('Hoja3 (2)'!$C390=1,'Hoja3 (2)'!$B390,\"No\")","v":"ILEGALIDAD DEL ACTO ADMINISTRATIVO QUE NIEGA FINANCIACION DE ESTUDIOS"},{"$f":"+'Hoja3 (2)'!$C390&'Hoja3 (2)'!$B390","v":"1ILEGALIDAD DEL ACTO ADMINISTRATIVO QUE NIEGA FINANCIACION DE ESTUDIOS"},{"$f":"IFERROR(FIND(UPPER('Causas anteriores'!$D$4),D390),0)","v":0},{"$f":"+IF('Hoja3 (2)'!$F390=0,0,1)","v":0},{"$f":"+H389+'Hoja3 (2)'!$G390","v":2},{"$f":"+'Hoja3 (2)'!$H390*'Hoja3 (2)'!$G390","v":0},"MANTENER/AJUSTAR TEXTO","Activa","ILEGALIDAD DEL ACTO ADMINISTRATIVO QUE NIEGA FINANCIACION DE ESTUDIOS",null,"ACTIVA"]
[{"$f":"+'Hoja3 (2)'!$I391","v":0},"ILEGALIDAD DEL ACTO ADMINISTRATIVO QUE NIEGA INICIATIVA LEGISLATIVA Y NORMATIVA",1,{"$f":"+IF('Hoja3 (2)'!$C391=1,'Hoja3 (2)'!$B391,\"No\")","v":"ILEGALIDAD DEL ACTO ADMINISTRATIVO QUE NIEGA INICIATIVA LEGISLATIVA Y NORMATIVA"},{"$f":"+'Hoja3 (2)'!$C391&'Hoja3 (2)'!$B391","v":"1ILEGALIDAD DEL ACTO ADMINISTRATIVO QUE NIEGA INICIATIVA LEGISLATIVA Y NORMATIVA"},{"$f":"IFERROR(FIND(UPPER('Causas anteriores'!$D$4),D391),0)","v":0},{"$f":"+IF('Hoja3 (2)'!$F391=0,0,1)","v":0},{"$f":"+H390+'Hoja3 (2)'!$G391","v":2},{"$f":"+'Hoja3 (2)'!$H391*'Hoja3 (2)'!$G391","v":0},"MANTENER/AJUSTAR TEXTO","Activa","ILEGALIDAD DEL ACTO ADMINISTRATIVO QUE DECLARA EL RESULTADO DE UN PROCESO ELECTORAL",null,"ACTIVA"]
[{"$f":"+'Hoja3 (2)'!$I392","v":0},"ILEGALIDAD DEL ACTO ADMINISTRATIVO QUE NIEGA INSCRIPCION DE FUNCIONARIO EN EL REGISTRO PUBLICO DE CARRERA ADMINISTRATIVA",1,{"$f":"+IF('Hoja3 (2)'!$C392=1,'Hoja3 (2)'!$B392,\"No\")","v":"ILEGALIDAD DEL ACTO ADMINISTRATIVO QUE NIEGA INSCRIPCION DE FUNCIONARIO EN EL REGISTRO PUBLICO DE CARRERA ADMINISTRATIVA"},{"$f":"+'Hoja3 (2)'!$C392&'Hoja3 (2)'!$B392","v":"1ILEGALIDAD DEL ACTO ADMINISTRATIVO QUE NIEGA INSCRIPCION DE FUNCIONARIO EN EL REGISTRO PUBLICO DE CARRERA ADMINISTRATIVA"},{"$f":"IFERROR(FIND(UPPER('Causas anteriores'!$D$4),D392),0)","v":0},{"$f":"+IF('Hoja3 (2)'!$F392=0,0,1)","v":0},{"$f":"+H391+'Hoja3 (2)'!$G392","v":2},{"$f":"+'Hoja3 (2)'!$H392*'Hoja3 (2)'!$G392","v":0},"MANTENER/AJUSTAR TEXTO","Activa","ILEGALIDAD DEL ACTO ADMINISTRATIVO QUE NIEGA INSCRIPCION DE FUNCIONARIO EN EL REGISTRO PUBLICO DE CARRERA ADMINISTRATIVA",null,"ACTIVA"]
[{"$f":"+'Hoja3 (2)'!$I393","v":0},"ILEGALIDAD DEL ACTO ADMINISTRATIVO QUE NIEGA LA AUTORIZACION COMO DEPOSITO PUBLICO O PRIVADO DE MERCANCIAS BAJO CONTROL ADUANERO",1,{"$f":"+IF('Hoja3 (2)'!$C393=1,'Hoja3 (2)'!$B393,\"No\")","v":"ILEGALIDAD DEL ACTO ADMINISTRATIVO QUE NIEGA LA AUTORIZACION COMO DEPOSITO PUBLICO O PRIVADO DE MERCANCIAS BAJO CONTROL ADUANERO"},{"$f":"+'Hoja3 (2)'!$C393&'Hoja3 (2)'!$B393","v":"1ILEGALIDAD DEL ACTO ADMINISTRATIVO QUE NIEGA LA AUTORIZACION COMO DEPOSITO PUBLICO O PRIVADO DE MERCANCIAS BAJO CONTROL ADUANERO"},{"$f":"IFERROR(FIND(UPPER('Causas anteriores'!$D$4),D393),0)","v":0},{"$f":"+IF('Hoja3 (2)'!$F393=0,0,1)","v":0},{"$f":"+H392+'Hoja3 (2)'!$G393","v":2},{"$f":"+'Hoja3 (2)'!$H393*'Hoja3 (2)'!$G393","v":0},"MANTENER/AJUSTAR TEXTO","Activa","ILEGALIDAD DEL ACTO ADMINISTRATIVO QUE NIEGA LA AUTORIZACION COMO DEPOSITO PUBLICO O PRIVADO DE MERCANCIAS BAJO CONTROL ADUANERO",null,"ACTIVA"]
[{"$f":"+'Hoja3 (2)'!$I394","v":0},"ILEGALIDAD DEL ACTO ADMINISTRATIVO QUE NIEGA LA HABILITACION DE LUGARES PARA EL INGRESO Y SALIDA DE MERCANCIAS BAJO CONTROL ADUANERO",1,{"$f":"+IF('Hoja3 (2)'!$C394=1,'Hoja3 (2)'!$B394,\"No\")","v":"ILEGALIDAD DEL ACTO ADMINISTRATIVO QUE NIEGA LA HABILITACION DE LUGARES PARA EL INGRESO Y SALIDA DE MERCANCIAS BAJO CONTROL ADUANERO"},{"$f":"+'Hoja3 (2)'!$C394&'Hoja3 (2)'!$B394","v":"1ILEGALIDAD DEL ACTO ADMINISTRATIVO QUE NIEGA LA HABILITACION DE LUGARES PARA EL INGRESO Y SALIDA DE MERCANCIAS BAJO CONTROL ADUANERO"},{"$f":"IFERROR(FIND(UPPER('Causas anteriores'!$D$4),D394),0)","v":0},{"$f":"+IF('Hoja3 (2)'!$F394=0,0,1)","v":0},{"$f":"+H393+'Hoja3 (2)'!$G394","v":2},{"$f":"+'Hoja3 (2)'!$H394*'Hoja3 (2)'!$G394","v":0},"MANTENER/AJUSTAR TEXTO","Activa","ILEGALIDAD DEL ACTO ADMINISTRATIVO QUE NIEGA LA HABILITACION DE LUGARES PARA EL INGRESO Y SALIDA DE MERCANCIAS BAJO CONTROL ADUANERO",null,"ACTIVA"]
[{"$f":"+'Hoja3 (2)'!$I395","v":0},"ILEGALIDAD DEL ACTO ADMINISTRATIVO QUE NIEGA LA HOMOLOGACION O CONVALIDACION DE TITULOS OTORGADOS EN EL EXTRANJERO",1,{"$f":"+IF('Hoja3 (2)'!$C395=1,'Hoja3 (2)'!$B395,\"No\")","v":"ILEGALIDAD DEL ACTO ADMINISTRATIVO QUE NIEGA LA HOMOLOGACION O CONVALIDACION DE TITULOS OTORGADOS EN EL EXTRANJERO"},{"$f":"+'Hoja3 (2)'!$C395&'Hoja3 (2)'!$B395","v":"1ILEGALIDAD DEL ACTO ADMINISTRATIVO QUE NIEGA LA HOMOLOGACION O CONVALIDACION DE TITULOS OTORGADOS EN EL EXTRANJERO"},{"$f":"IFERROR(FIND(UPPER('Causas anteriores'!$D$4),D395),0)","v":0},{"$f":"+IF('Hoja3 (2)'!$F395=0,0,1)","v":0},{"$f":"+H394+'Hoja3 (2)'!$G395","v":2},{"$f":"+'Hoja3 (2)'!$H395*'Hoja3 (2)'!$G395","v":0},"MANTENER/AJUSTAR TEXTO","Activa","ILEGALIDAD DEL ACTO ADMINISTRATIVO QUE NIEGA LA HOMOLOGACION O CONVALIDACION DE TITULOS OTORGADOS EN EL EXTRANJERO",null,"ACTIVA"]
[{"$f":"+'Hoja3 (2)'!$I396","v":0},"ILEGALIDAD DEL ACTO ADMINISTRATIVO QUE NIEGA LA RESTITUCION DE BIEN INMUEBLE",1,{"$f":"+IF('Hoja3 (2)'!$C396=1,'Hoja3 (2)'!$B396,\"No\")","v":"ILEGALIDAD DEL ACTO ADMINISTRATIVO QUE NIEGA LA RESTITUCION DE BIEN INMUEBLE"},{"$f":"+'Hoja3 (2)'!$C396&'Hoja3 (2)'!$B396","v":"1ILEGALIDAD DEL ACTO ADMINISTRATIVO QUE NIEGA LA RESTITUCION DE BIEN INMUEBLE"},{"$f":"IFERROR(FIND(UPPER('Causas anteriores'!$D$4),D396),0)","v":0},{"$f":"+IF('Hoja3 (2)'!$F396=0,0,1)","v":0},{"$f":"+H395+'Hoja3 (2)'!$G396","v":2},{"$f":"+'Hoja3 (2)'!$H396*'Hoja3 (2)'!$G396","v":0},"INACTIVAR EN NUEVA MATRIZ","Inactiva",null,null,"ACTIVA"]
[{"$f":"+'Hoja3 (2)'!$I397","v":0},"ILEGALIDAD DEL ACTO ADMINISTRATIVO QUE NIEGA LICENCIA DE FUNCIONAMIENTO",1,{"$f":"+IF('Hoja3 (2)'!$C397=1,'Hoja3 (2)'!$B397,\"No\")","v":"ILEGALIDAD DEL ACTO ADMINISTRATIVO QUE NIEGA LICENCIA DE FUNCIONAMIENTO"},{"$f":"+'Hoja3 (2)'!$C397&'Hoja3 (2)'!$B397","v":"1ILEGALIDAD DEL ACTO ADMINISTRATIVO QUE NIEGA LICENCIA DE FUNCIONAMIENTO"},{"$f":"IFERROR(FIND(UPPER('Causas anteriores'!$D$4),D397),0)","v":0},{"$f":"+IF('Hoja3 (2)'!$F397=0,0,1)","v":0},{"$f":"+H396+'Hoja3 (2)'!$G397","v":2},{"$f":"+'Hoja3 (2)'!$H397*'Hoja3 (2)'!$G397","v":0},"MANTENER/AJUSTAR TEXTO","Activa","NO OTORGAMIENTO DE LICENCIA DE FUNCIONAMIENTO",null,"ACTIVA"]
[{"$f":"+'Hoja3 (2)'!$I398","v":0},"ILEGALIDAD DEL ACTO ADMINISTRATIVO QUE NIEGA LIQUIDACION OFICIAL PARA EFECTOS DE DEVOLUCION",1,{"$f":"+IF('Hoja3 (2)'!$C398=1,'Hoja3 (2)'!$B398,\"No\")","v":"ILEGALIDAD DEL ACTO ADMINISTRATIVO QUE NIEGA LIQUIDACION OFICIAL PARA EFECTOS DE DEVOLUCION"},{"$f":"+'Hoja3 (2)'!$C398&'Hoja3 (2)'!$B398","v":"1ILEGALIDAD DEL ACTO ADMINISTRATIVO QUE NIEGA LIQUIDACION OFICIAL PARA EFECTOS DE DEVOLUCION"},{"$f":"IFERROR(FIND(UPPER('Causas anteriores'!$D$4),D398),0)","v":0},{"$f":"+IF('Hoja3 (2)'!$F398=0,0,1)","v":0},{"$f":"+H397+'Hoja3 (2)'!$G398","v":2},{"$f":"+'Hoja3 (2)'!$H398*'Hoja3 (2)'!$G398","v":0},"MANTENER/AJUSTAR TEXTO","Activa","ILEGALIDAD DEL ACTO ADMINISTRATIVO QUE NIEGA LIQUIDACION OFICIAL PARA EFECTOS DE DEVOLUCION DE ARANCELES ADUANEROS",null,"ACTIVA"]
[{"$f":"+'Hoja3 (2)'!$I399","v":0},"ILEGALIDAD DEL ACTO ADMINISTRATIVO QUE NIEGA LOS TRES (3) MESES DE ALTA ESTABLECIDOS EN EL DECRETO 1214 DE 1990",1,{"$f":"+IF('Hoja3 (2)'!$C399=1,'Hoja3 (2)'!$B399,\"No\")","v":"ILEGALIDAD DEL ACTO ADMINISTRATIVO QUE NIEGA LOS TRES (3) MESES DE ALTA ESTABLECIDOS EN EL DECRETO 1214 DE 1990"},{"$f":"+'Hoja3 (2)'!$C399&'Hoja3 (2)'!$B399","v":"1ILEGALIDAD DEL ACTO ADMINISTRATIVO QUE NIEGA LOS TRES (3) MESES DE ALTA ESTABLECIDOS EN EL DECRETO 1214 DE 1990"},{"$f":"IFERROR(FIND(UPPER('Causas anteriores'!$D$4),D399),0)","v":0},{"$f":"+IF('Hoja3 (2)'!$F399=0,0,1)","v":0},{"$f":"+H398+'Hoja3 (2)'!$G399","v":2},{"$f":"+'Hoja3 (2)'!$H399*'Hoja3 (2)'!$G399","v":0},"MANTENER/AJUSTAR TEXTO","Activa","NO RECONOCIMIENTO DE LOS TRES (3) MESES DE ALTA ESTABLECIDOS EN EL DECRETO 1214 DE 1990",null,"ACTIVA"]
[{"$f":"+'Hoja3 (2)'!$I400","v":0},"ILEGALIDAD DEL ACTO ADMINISTRATIVO QUE NIEGA O ADMITE ACUERDO ANTICIPADO DE PRECIOS",1,{"$f":"+IF('Hoja3 (2)'!$C400=1,'Hoja3 (2)'!$B400,\"No\")","v":"ILEGALIDAD DEL ACTO ADMINISTRATIVO QUE NIEGA O ADMITE ACUERDO ANTICIPADO DE PRECIOS"},{"$f":"+'Hoja3 (2)'!$C400&'Hoja3 (2)'!$B400","v":"1ILEGALIDAD DEL ACTO ADMINISTRATIVO QUE NIEGA O ADMITE ACUERDO ANTICIPADO DE PRECIOS"},{"$f":"IFERROR(FIND(UPPER('Causas anteriores'!$D$4),D400),0)","v":0},{"$f":"+IF('Hoja3 (2)'!$F400=0,0,1)","v":0},{"$f":"+H399+'Hoja3 (2)'!$G400","v":2},{"$f":"+'Hoja3 (2)'!$H400*'Hoja3 (2)'!$G400","v":0},"MANTENER/AJUSTAR TEXTO","Activa","ILEGALIDAD DEL ACTO ADMINISTRATIVO QUE NIEGA O ADMITE ACUERDO ANTICIPADO DE PRECIOS",null,"ACTIVA"]
[{"$f":"+'Hoja3 (2)'!$I401","v":0},"ILEGALIDAD DEL ACTO ADMINISTRATIVO QUE NIEGA O ADMITE CONTRATO DE ESTABILIDAD JURIDICA",1,{"$f":"+IF('Hoja3 (2)'!$C401=1,'Hoja3 (2)'!$B401,\"No\")","v":"ILEGALIDAD DEL ACTO ADMINISTRATIVO QUE NIEGA O ADMITE CONTRATO DE ESTABILIDAD JURIDICA"},{"$f":"+'Hoja3 (2)'!$C401&'Hoja3 (2)'!$B401","v":"1ILEGALIDAD DEL ACTO ADMINISTRATIVO QUE NIEGA O ADMITE CONTRATO DE ESTABILIDAD JURIDICA"},{"$f":"IFERROR(FIND(UPPER('Causas anteriores'!$D$4),D401),0)","v":0},{"$f":"+IF('Hoja3 (2)'!$F401=0,0,1)","v":0},{"$f":"+H400+'Hoja3 (2)'!$G401","v":2},{"$f":"+'Hoja3 (2)'!$H401*'Hoja3 (2)'!$G401","v":0},"MANTENER/AJUSTAR TEXTO","Activa","ILEGALIDAD DEL ACTO ADMINISTRATIVO QUE NIEGA O ADMITE CONTRATO DE ESTABILIDAD JURIDICA",null,"ACTIVA"]
[{"$f":"+'Hoja3 (2)'!$I402","v":0},"ILEGALIDAD DEL ACTO ADMINISTRATIVO QUE NIEGA O ADMITE FACILIDAD DE PAGO",1,{"$f":"+IF('Hoja3 (2)'!$C402=1,'Hoja3 (2)'!$B402,\"No\")","v":"ILEGALIDAD DEL ACTO ADMINISTRATIVO QUE NIEGA O ADMITE FACILIDAD DE PAGO"},{"$f":"+'Hoja3 (2)'!$C402&'Hoja3 (2)'!$B402","v":"1ILEGALIDAD DEL ACTO ADMINISTRATIVO QUE NIEGA O ADMITE FACILIDAD DE PAGO"},{"$f":"IFERROR(FIND(UPPER('Causas anteriores'!$D$4),D402),0)","v":0},{"$f":"+IF('Hoja3 (2)'!$F402=0,0,1)","v":0},{"$f":"+H401+'Hoja3 (2)'!$G402","v":2},{"$f":"+'Hoja3 (2)'!$H402*'Hoja3 (2)'!$G402","v":0},"MANTENER/AJUSTAR TEXTO","Activa","ILEGALIDAD DEL ACTO ADMINISTRATIVO QUE NIEGA O APRUEBA FACILIDAD DE PAGO",null,"ACTIVA"]
[{"$f":"+'Hoja3 (2)'!$I403","v":0},"ILEGALIDAD DEL ACTO ADMINISTRATIVO QUE NIEGA O ADMITE REGISTRO DE CONTRATO",1,{"$f":"+IF('Hoja3 (2)'!$C403=1,'Hoja3 (2)'!$B403,\"No\")","v":"ILEGALIDAD DEL ACTO ADMINISTRATIVO QUE NIEGA O ADMITE REGISTRO DE CONTRATO"},{"$f":"+'Hoja3 (2)'!$C403&'Hoja3 (2)'!$B403","v":"1ILEGALIDAD DEL ACTO ADMINISTRATIVO QUE NIEGA O ADMITE REGISTRO DE CONTRATO"},{"$f":"IFERROR(FIND(UPPER('Causas anteriores'!$D$4),D403),0)","v":0},{"$f":"+IF('Hoja3 (2)'!$F403=0,0,1)","v":0},{"$f":"+H402+'Hoja3 (2)'!$G403","v":2},{"$f":"+'Hoja3 (2)'!$H403*'Hoja3 (2)'!$G403","v":0},"MANTENER/AJUSTAR TEXTO","Activa","ILEGALIDAD DEL ACTO ADMINISTRATIVO QUE NIEGA O ADMITE REGISTRO DE CONTRATO",null,"ACTIVA"]
[{"$f":"+'Hoja3 (2)'!$I404","v":0},"ILEGALIDAD DEL ACTO ADMINISTRATIVO QUE NIEGA O APRUEBA CONCILIACION",1,{"$f":"+IF('Hoja3 (2)'!$C404=1,'Hoja3 (2)'!$B404,\"No\")","v":"ILEGALIDAD DEL ACTO ADMINISTRATIVO QUE NIEGA O APRUEBA CONCILIACION"},{"$f":"+'Hoja3 (2)'!$C404&'Hoja3 (2)'!$B404","v":"1ILEGALIDAD DEL ACTO ADMINISTRATIVO QUE NIEGA O APRUEBA CONCILIACION"},{"$f":"IFERROR(FIND(UPPER('Causas anteriores'!$D$4),D404),0)","v":0},{"$f":"+IF('Hoja3 (2)'!$F404=0,0,1)","v":0},{"$f":"+H403+'Hoja3 (2)'!$G404","v":2},{"$f":"+'Hoja3 (2)'!$H404*'Hoja3 (2)'!$G404","v":0},"MANTENER/AJUSTAR TEXTO","Activa","ILEGALIDAD DEL ACTO ADMINISTRATIVO QUE NIEGA O APRUEBA CONCILIACION",null,"ACTIVA"]
[{"$f":"+'Hoja3 (2)'!$I405","v":0},"ILEGALIDAD DEL ACTO ADMINISTRATIVO QUE NIEGA O APRUEBA CRUCE DE CUENTAS",1,{"$f":"+IF('Hoja3 (2)'!$C405=1,'Hoja3 (2)'!$B405,\"No\")","v":"ILEGALIDAD DEL ACTO ADMINISTRATIVO QUE NIEGA O APRUEBA CRUCE DE CUENTAS"},{"$f":"+'Hoja3 (2)'!$C405&'Hoja3 (2)'!$B405","v":"1ILEGALIDAD DEL ACTO ADMINISTRATIVO QUE NIEGA O APRUEBA CRUCE DE CUENTAS"},{"$f":"IFERROR(FIND(UPPER('Causas anteriores'!$D$4),D405),0)","v":0},{"$f":"+IF('Hoja3 (2)'!$F405=0,0,1)","v":0},{"$f":"+H404+'Hoja3 (2)'!$G405","v":2},{"$f":"+'Hoja3 (2)'!$H405*'Hoja3 (2)'!$G405","v":0},"MANTENER/AJUSTAR TEXTO","Activa","ILEGALIDAD DEL ACTO ADMINISTRATIVO QUE NIEGA O APRUEBA CRUCE DE CUENTAS",null,"ACTIVA"]
[{"$f":"+'Hoja3 (2)'!$I406","v":0},"ILEGALIDAD DEL ACTO ADMINISTRATIVO QUE NIEGA O APRUEBA DACION EN PAGO",1,{"$f":"+IF('Hoja3 (2)'!$C406=1,'Hoja3 (2)'!$B406,\"No\")","v":"ILEGALIDAD DEL ACTO ADMINISTRATIVO QUE NIEGA O APRUEBA DACION EN PAGO"},{"$f":"+'Hoja3 (2)'!$C406&'Hoja3 (2)'!$B406","v":"1ILEGALIDAD DEL ACTO ADMINISTRATIVO QUE NIEGA O APRUEBA DACION EN PAGO"},{"$f":"IFERROR(FIND(UPPER('Causas anteriores'!$D$4),D406),0)","v":0},{"$f":"+IF('Hoja3 (2)'!$F406=0,0,1)","v":0},{"$f":"+H405+'Hoja3 (2)'!$G406","v":2},{"$f":"+'Hoja3 (2)'!$H406*'Hoja3 (2)'!$G406","v":0},"MANTENER/AJUSTAR TEXTO","Activa","ILEGALIDAD DEL ACTO ADMINISTRATIVO QUE NIEGA O APRUEBA DACION EN PAGO",null,"ACTIVA"]
[{"$f":"+'Hoja3 (2)'!$I407","v":0},"ILEGALIDAD DEL ACTO ADMINISTRATIVO QUE NIEGA PERMISO PARA EL PORTE O TENENCIA DE ARMAS A PARTICULARES",1,{"$f":"+IF('Hoja3 (2)'!$C407=1,'Hoja3 (2)'!$B407,\"No\")","v":"ILEGALIDAD DEL ACTO ADMINISTRATIVO QUE NIEGA PERMISO PARA EL PORTE O TENENCIA DE ARMAS A PARTICULARES"},{"$f":"+'Hoja3 (2)'!$C407&'Hoja3 (2)'!$B407","v":"1ILEGALIDAD DEL ACTO ADMINISTRATIVO QUE NIEGA PERMISO PARA EL PORTE O TENENCIA DE ARMAS A PARTICULARES"},{"$f":"IFERROR(FIND(UPPER('Causas anteriores'!$D$4),D407),0)","v":0},{"$f":"+IF('Hoja3 (2)'!$F407=0,0,1)","v":0},{"$f":"+H406+'Hoja3 (2)'!$G407","v":2},{"$f":"+'Hoja3 (2)'!$H407*'Hoja3 (2)'!$G407","v":0},"MANTENER/AJUSTAR TEXTO","Activa","ILEGALIDAD DEL ACTO ADMINISTRATIVO QUE NIEGA PERMISO PARA PORTE O TENENCIA DE ARMAS",null,"ACTIVA"]
[{"$f":"+'Hoja3 (2)'!$I408","v":0},"ILEGALIDAD DEL ACTO ADMINISTRATIVO QUE NIEGA REINTEGRO DE FUNCIONARIO PUBLICO",1,{"$f":"+IF('Hoja3 (2)'!$C408=1,'Hoja3 (2)'!$B408,\"No\")","v":"ILEGALIDAD DEL ACTO ADMINISTRATIVO QUE NIEGA REINTEGRO DE FUNCIONARIO PUBLICO"},{"$f":"+'Hoja3 (2)'!$C408&'Hoja3 (2)'!$B408","v":"1ILEGALIDAD DEL ACTO ADMINISTRATIVO QUE NIEGA REINTEGRO DE FUNCIONARIO PUBLICO"},{"$f":"IFERROR(FIND(UPPER('Causas anteriores'!$D$4),D408),0)","v":0},{"$f":"+IF('Hoja3 (2)'!$F408=0,0,1)","v":0},{"$f":"+H407+'Hoja3 (2)'!$G408","v":2},{"$f":"+'Hoja3 (2)'!$H408*'Hoja3 (2)'!$G408","v":0},"INACTIVAR EN NUEVA MATRIZ","Inactiva",null,null,"ACTIVA"]
[{"$f":"+'Hoja3 (2)'!$I409","v":0},"ILEGALIDAD DEL ACTO ADMINISTRATIVO QUE NIEGA REINTEGRO DE TRABAJADOR OFICIAL",1,{"$f":"+IF('Hoja3 (2)'!$C409=1,'Hoja3 (2)'!$B409,\"No\")","v":"ILEGALIDAD DEL ACTO ADMINISTRATIVO QUE NIEGA REINTEGRO DE TRABAJADOR OFICIAL"},{"$f":"+'Hoja3 (2)'!$C409&'Hoja3 (2)'!$B409","v":"1ILEGALIDAD DEL ACTO ADMINISTRATIVO QUE NIEGA REINTEGRO DE TRABAJADOR OFICIAL"},{"$f":"IFERROR(FIND(UPPER('Causas anteriores'!$D$4),D409),0)","v":0},{"$f":"+IF('Hoja3 (2)'!$F409=0,0,1)","v":0},{"$f":"+H408+'Hoja3 (2)'!$G409","v":2},{"$f":"+'Hoja3 (2)'!$H409*'Hoja3 (2)'!$G409","v":0},"INACTIVAR EN NUEVA MATRIZ","Inactiva",null,null,"ACTIVA"]
[{"$f":"+'Hoja3 (2)'!$I410","v":0},"ILEGALIDAD DEL ACTO ADMINISTRATIVO QUE NIEGA REUBICACION DE SERVIDOR PUBLICO",1,{"$f":"+IF('Hoja3 (2)'!$C410=1,'Hoja3 (2)'!$B410,\"No\")","v":"ILEGALIDAD DEL ACTO ADMINISTRATIVO QUE NIEGA REUBICACION DE SERVIDOR PUBLICO"},{"$f":"+'Hoja3 (2)'!$C410&'Hoja3 (2)'!$B410","v":"1ILEGALIDAD DEL ACTO ADMINISTRATIVO QUE NIEGA REUBICACION DE SERVIDOR PUBLICO"},{"$f":"IFERROR(FIND(UPPER('Causas anteriores'!$D$4),D410),0)","v":0},{"$f":"+IF('Hoja3 (2)'!$F410=0,0,1)","v":0},{"$f":"+H409+'Hoja3 (2)'!$G410","v":2},{"$f":"+'Hoja3 (2)'!$H410*'Hoja3 (2)'!$G410","v":0},"MANTENER/AJUSTAR TEXTO","Activa","DESCONOCIMIENTO DEL DERECHO A REUBICACION LABORAL",null,"ACTIVA"]
[{"$f":"+'Hoja3 (2)'!$I411","v":0},"ILEGALIDAD DEL ACTO ADMINISTRATIVO QUE NIEGA SUBSIDIOS AL SECTOR AGROPECUARIO",1,{"$f":"+IF('Hoja3 (2)'!$C411=1,'Hoja3 (2)'!$B411,\"No\")","v":"ILEGALIDAD DEL ACTO ADMINISTRATIVO QUE NIEGA SUBSIDIOS AL SECTOR AGROPECUARIO"},{"$f":"+'Hoja3 (2)'!$C411&'Hoja3 (2)'!$B411","v":"1ILEGALIDAD DEL ACTO ADMINISTRATIVO QUE NIEGA SUBSIDIOS AL SECTOR AGROPECUARIO"},{"$f":"IFERROR(FIND(UPPER('Causas anteriores'!$D$4),D411),0)","v":0},{"$f":"+IF('Hoja3 (2)'!$F411=0,0,1)","v":0},{"$f":"+H410+'Hoja3 (2)'!$G411","v":2},{"$f":"+'Hoja3 (2)'!$H411*'Hoja3 (2)'!$G411","v":0},"INACTIVAR EN NUEVA MATRIZ","Inactiva",null,null,"ACTIVA"]
[{"$f":"+'Hoja3 (2)'!$I412","v":0},"ILEGALIDAD DEL ACTO ADMINISTRATIVO QUE NIEGA SUSCRIPCION DEL CONTRATO DE ESTABILIDAD JURIDICA",1,{"$f":"+IF('Hoja3 (2)'!$C412=1,'Hoja3 (2)'!$B412,\"No\")","v":"ILEGALIDAD DEL ACTO ADMINISTRATIVO QUE NIEGA SUSCRIPCION DEL CONTRATO DE ESTABILIDAD JURIDICA"},{"$f":"+'Hoja3 (2)'!$C412&'Hoja3 (2)'!$B412","v":"1ILEGALIDAD DEL ACTO ADMINISTRATIVO QUE NIEGA SUSCRIPCION DEL CONTRATO DE ESTABILIDAD JURIDICA"},{"$f":"IFERROR(FIND(UPPER('Causas anteriores'!$D$4),D412),0)","v":0},{"$f":"+IF('Hoja3 (2)'!$F412=0,0,1)","v":0},{"$f":"+H411+'Hoja3 (2)'!$G412","v":2},{"$f":"+'Hoja3 (2)'!$H412*'Hoja3 (2)'!$G412","v":0},"INACTIVAR EN NUEVA MATRIZ","Inactiva",null,null,"ACTIVA"]
[{"$f":"+'Hoja3 (2)'!$I413","v":0},"ILEGALIDAD DEL ACTO ADMINISTRATIVO QUE NO ADJUDICA BIEN INMUEBLE",1,{"$f":"+IF('Hoja3 (2)'!$C413=1,'Hoja3 (2)'!$B413,\"No\")","v":"ILEGALIDAD DEL ACTO ADMINISTRATIVO QUE NO ADJUDICA BIEN INMUEBLE"},{"$f":"+'Hoja3 (2)'!$C413&'Hoja3 (2)'!$B413","v":"1ILEGALIDAD DEL ACTO ADMINISTRATIVO QUE NO ADJUDICA BIEN INMUEBLE"},{"$f":"IFERROR(FIND(UPPER('Causas anteriores'!$D$4),D413),0)","v":0},{"$f":"+IF('Hoja3 (2)'!$F413=0,0,1)","v":0},{"$f":"+H412+'Hoja3 (2)'!$G413","v":2},{"$f":"+'Hoja3 (2)'!$H413*'Hoja3 (2)'!$G413","v":0},"MANTENER/AJUSTAR TEXTO","Activa","ILEGALIDAD DEL ACTO ADMINISTRATIVO QUE NO ADJUDICA UN BIEN INMUEBLE",null,"ACTIVA"]
[{"$f":"+'Hoja3 (2)'!$I414","v":0},"ILEGALIDAD DEL ACTO ADMINISTRATIVO QUE NO RECONOCE BONO PENSIONAL",1,{"$f":"+IF('Hoja3 (2)'!$C414=1,'Hoja3 (2)'!$B414,\"No\")","v":"ILEGALIDAD DEL ACTO ADMINISTRATIVO QUE NO RECONOCE BONO PENSIONAL"},{"$f":"+'Hoja3 (2)'!$C414&'Hoja3 (2)'!$B414","v":"1ILEGALIDAD DEL ACTO ADMINISTRATIVO QUE NO RECONOCE BONO PENSIONAL"},{"$f":"IFERROR(FIND(UPPER('Causas anteriores'!$D$4),D414),0)","v":0},{"$f":"+IF('Hoja3 (2)'!$F414=0,0,1)","v":0},{"$f":"+H413+'Hoja3 (2)'!$G414","v":2},{"$f":"+'Hoja3 (2)'!$H414*'Hoja3 (2)'!$G414","v":0},"MANTENER/AJUSTAR TEXTO","Activa","NO RECONOCIMIENTO DE BONO PENSIONAL",null,"ACTIVA"]
[{"$f":"+'Hoja3 (2)'!$I415","v":0},"ILEGALIDAD DEL ACTO ADMINISTRATIVO QUE NO RECONOCE CONDONACION DE CREDITO EDUCATIVO",1,{"$f":"+IF('Hoja3 (2)'!$C415=1,'Hoja3 (2)'!$B415,\"No\")","v":"ILEGALIDAD DEL ACTO ADMINISTRATIVO QUE NO RECONOCE CONDONACION DE CREDITO EDUCATIVO"},{"$f":"+'Hoja3 (2)'!$C415&'Hoja3 (2)'!$B415","v":"1ILEGALIDAD DEL ACTO ADMINISTRATIVO QUE NO RECONOCE CONDONACION DE CREDITO EDUCATIVO"},{"$f":"IFERROR(FIND(UPPER('Causas anteriores'!$D$4),D415),0)","v":0},{"$f":"+IF('Hoja3 (2)'!$F415=0,0,1)","v":0},{"$f":"+H414+'Hoja3 (2)'!$G415","v":2},{"$f":"+'Hoja3 (2)'!$H415*'Hoja3 (2)'!$G415","v":0},"MANTENER/AJUSTAR TEXTO","Activa","ILEGALIDAD DEL ACTO ADMINISTRATIVO QUE NIEGA CONDONACION DE CREDITO EDUCATIVO",null,"ACTIVA"]
[{"$f":"+'Hoja3 (2)'!$I416","v":0},"ILEGALIDAD DEL ACTO ADMINISTRATIVO QUE NO RECONOCE CORRECCION DE HISTORIA LABORAL",1,{"$f":"+IF('Hoja3 (2)'!$C416=1,'Hoja3 (2)'!$B416,\"No\")","v":"ILEGALIDAD DEL ACTO ADMINISTRATIVO QUE NO RECONOCE CORRECCION DE HISTORIA LABORAL"},{"$f":"+'Hoja3 (2)'!$C416&'Hoja3 (2)'!$B416","v":"1ILEGALIDAD DEL ACTO ADMINISTRATIVO QUE NO RECONOCE CORRECCION DE HISTORIA LABORAL"},{"$f":"IFERROR(FIND(UPPER('Causas anteriores'!$D$4),D416),0)","v":0},{"$f":"+IF('Hoja3 (2)'!$F416=0,0,1)","v":0},{"$f":"+H415+'Hoja3 (2)'!$G416","v":2},{"$f":"+'Hoja3 (2)'!$H416*'Hoja3 (2)'!$G416","v":0},"MANTENER/AJUSTAR TEXTO","Activa","ILEGALIDAD DEL ACTO ADMINISTRATIVO QUE NO EFECTUA CORRECCION DE HISTORIA LABORAL",null,"ACTIVA"]
[{"$f":"+'Hoja3 (2)'!$I417","v":0},"ILEGALIDAD DEL ACTO ADMINISTRATIVO QUE NO RECONOCE CUOTA PARTE PENSIONAL",1,{"$f":"+IF('Hoja3 (2)'!$C417=1,'Hoja3 (2)'!$B417,\"No\")","v":"ILEGALIDAD DEL ACTO ADMINISTRATIVO QUE NO RECONOCE CUOTA PARTE PENSIONAL"},{"$f":"+'Hoja3 (2)'!$C417&'Hoja3 (2)'!$B417","v":"1ILEGALIDAD DEL ACTO ADMINISTRATIVO QUE NO RECONOCE CUOTA PARTE PENSIONAL"},{"$f":"IFERROR(FIND(UPPER('Causas anteriores'!$D$4),D417),0)","v":0},{"$f":"+IF('Hoja3 (2)'!$F417=0,0,1)","v":0},{"$f":"+H416+'Hoja3 (2)'!$G417","v":2},{"$f":"+'Hoja3 (2)'!$H417*'Hoja3 (2)'!$G417","v":0},"MANTENER/AJUSTAR TEXTO","Activa","NO RECONOCIMIENTO DE CUOTA PARTE PENSIONAL",null,"ACTIVA"]
[{"$f":"+'Hoja3 (2)'!$I418","v":0},"ILEGALIDAD DEL ACTO ADMINISTRATIVO QUE NO RECONOCE EL TIEMPO DE SERVICIO MILITAR",1,{"$f":"+IF('Hoja3 (2)'!$C418=1,'Hoja3 (2)'!$B418,\"No\")","v":"ILEGALIDAD DEL ACTO ADMINISTRATIVO QUE NO RECONOCE EL TIEMPO DE SERVICIO MILITAR"},{"$f":"+'Hoja3 (2)'!$C418&'Hoja3 (2)'!$B418","v":"1ILEGALIDAD DEL ACTO ADMINISTRATIVO QUE NO RECONOCE EL TIEMPO DE SERVICIO MILITAR"},{"$f":"IFERROR(FIND(UPPER('Causas anteriores'!$D$4),D418),0)","v":0},{"$f":"+IF('Hoja3 (2)'!$F418=0,0,1)","v":0},{"$f":"+H417+'Hoja3 (2)'!$G418","v":2},{"$f":"+'Hoja3 (2)'!$H418*'Hoja3 (2)'!$G418","v":0},"MANTENER/AJUSTAR TEXTO","Activa","NO RECONOCIMIENTO DEL TIEMPO DE SERVICIO MILITAR OBLIGATORIO",null,"ACTIVA"]
[{"$f":"+'Hoja3 (2)'!$I419","v":0},"ILEGALIDAD DEL ACTO ADMINISTRATIVO QUE NO RECONOCE INCENTIVO AGROPECUARIO ESTABLECIDO EN LA LEY 101 DE 1993",1,{"$f":"+IF('Hoja3 (2)'!$C419=1,'Hoja3 (2)'!$B419,\"No\")","v":"ILEGALIDAD DEL ACTO ADMINISTRATIVO QUE NO RECONOCE INCENTIVO AGROPECUARIO ESTABLECIDO EN LA LEY 101 DE 1993"},{"$f":"+'Hoja3 (2)'!$C419&'Hoja3 (2)'!$B419","v":"1ILEGALIDAD DEL ACTO ADMINISTRATIVO QUE NO RECONOCE INCENTIVO AGROPECUARIO ESTABLECIDO EN LA LEY 101 DE 1993"},{"$f":"IFERROR(FIND(UPPER('Causas anteriores'!$D$4),D419),0)","v":0},{"$f":"+IF('Hoja3 (2)'!$F419=0,0,1)","v":0},{"$f":"+H418+'Hoja3 (2)'!$G419","v":2},{"$f":"+'Hoja3 (2)'!$H419*'Hoja3 (2)'!$G419","v":0},"MANTENER/AJUSTAR TEXTO","Activa","NO RECONOCIMIENTO DEL INCENTIVO A LA CAPITALIZACION RURAL ESTABLECIDO EN LA LEY 101 DE 1993",null,"ACTIVA"]
[{"$f":"+'Hoja3 (2)'!$I420","v":0},"ILEGALIDAD DEL ACTO ADMINISTRATIVO QUE NO RECONOCE INDEMNIZACION",1,{"$f":"+IF('Hoja3 (2)'!$C420=1,'Hoja3 (2)'!$B420,\"No\")","v":"ILEGALIDAD DEL ACTO ADMINISTRATIVO QUE NO RECONOCE INDEMNIZACION"},{"$f":"+'Hoja3 (2)'!$C420&'Hoja3 (2)'!$B420","v":"1ILEGALIDAD DEL ACTO ADMINISTRATIVO QUE NO RECONOCE INDEMNIZACION"},{"$f":"IFERROR(FIND(UPPER('Causas anteriores'!$D$4),D420),0)","v":0},{"$f":"+IF('Hoja3 (2)'!$F420=0,0,1)","v":0},{"$f":"+H419+'Hoja3 (2)'!$G420","v":2},{"$f":"+'Hoja3 (2)'!$H420*'Hoja3 (2)'!$G420","v":0},"ESTABA INACTIVA","Inactiva",null,null,"INACTIVA"]
[{"$f":"+'Hoja3 (2)'!$I421","v":0},"ILEGALIDAD DEL ACTO ADMINISTRATIVO QUE NO RECONOCE LA ASIGNACION DE RETIRO",1,{"$f":"+IF('Hoja3 (2)'!$C421=1,'Hoja3 (2)'!$B421,\"No\")","v":"ILEGALIDAD DEL ACTO ADMINISTRATIVO QUE NO RECONOCE LA ASIGNACION DE RETIRO"},{"$f":"+'Hoja3 (2)'!$C421&'Hoja3 (2)'!$B421","v":"1ILEGALIDAD DEL ACTO ADMINISTRATIVO QUE NO RECONOCE LA ASIGNACION DE RETIRO"},{"$f":"IFERROR(FIND(UPPER('Causas anteriores'!$D$4),D421),0)","v":0},{"$f":"+IF('Hoja3 (2)'!$F421=0,0,1)","v":0},{"$f":"+H420+'Hoja3 (2)'!$G421","v":2},{"$f":"+'Hoja3 (2)'!$H421*'Hoja3 (2)'!$G421","v":0},"MANTENER/AJUSTAR TEXTO","Activa","NO RECONOCIMIENTO DE ASIGNACION DE RETIRO",null,"ACTIVA"]
[{"$f":"+'Hoja3 (2)'!$I422","v":0},"ILEGALIDAD DEL ACTO ADMINISTRATIVO QUE NO RECONOCE LA BONIFICACION POR COMPENSACION",1,{"$f":"+IF('Hoja3 (2)'!$C422=1,'Hoja3 (2)'!$B422,\"No\")","v":"ILEGALIDAD DEL ACTO ADMINISTRATIVO QUE NO RECONOCE LA BONIFICACION POR COMPENSACION"},{"$f":"+'Hoja3 (2)'!$C422&'Hoja3 (2)'!$B422","v":"1ILEGALIDAD DEL ACTO ADMINISTRATIVO QUE NO RECONOCE LA BONIFICACION POR COMPENSACION"},{"$f":"IFERROR(FIND(UPPER('Causas anteriores'!$D$4),D422),0)","v":0},{"$f":"+IF('Hoja3 (2)'!$F422=0,0,1)","v":0},{"$f":"+H421+'Hoja3 (2)'!$G422","v":2},{"$f":"+'Hoja3 (2)'!$H422*'Hoja3 (2)'!$G422","v":0},"MANTENER/AJUSTAR TEXTO","Activa","NO RECONOCIMIENTO DE LA BONIFICACION POR COMPENSACION",null,"ACTIVA"]
[{"$f":"+'Hoja3 (2)'!$I423","v":0},"ILEGALIDAD DEL ACTO ADMINISTRATIVO QUE NO RECONOCE LA DEVOLUCION DE APORTES DE LA PENSION GRACIA",1,{"$f":"+IF('Hoja3 (2)'!$C423=1,'Hoja3 (2)'!$B423,\"No\")","v":"ILEGALIDAD DEL ACTO ADMINISTRATIVO QUE NO RECONOCE LA DEVOLUCION DE APORTES DE LA PENSION GRACIA"},{"$f":"+'Hoja3 (2)'!$C423&'Hoja3 (2)'!$B423","v":"1ILEGALIDAD DEL ACTO ADMINISTRATIVO QUE NO RECONOCE LA DEVOLUCION DE APORTES DE LA PENSION GRACIA"},{"$f":"IFERROR(FIND(UPPER('Causas anteriores'!$D$4),D423),0)","v":0},{"$f":"+IF('Hoja3 (2)'!$F423=0,0,1)","v":0},{"$f":"+H422+'Hoja3 (2)'!$G423","v":2},{"$f":"+'Hoja3 (2)'!$H423*'Hoja3 (2)'!$G423","v":0},"MANTENER/AJUSTAR TEXTO","Activa","NO DEVOLUCION DE APORTES A SALUD DESCONTADOS DE LA PENSION GRACIA",null,"ACTIVA"]
[{"$f":"+'Hoja3 (2)'!$I424","v":0},"ILEGALIDAD DEL ACTO ADMINISTRATIVO QUE NO RECONOCE LA DEVOLUCION DE APORTES ENTRE ADMINISTRADORAS DE PENSIONES",1,{"$f":"+IF('Hoja3 (2)'!$C424=1,'Hoja3 (2)'!$B424,\"No\")","v":"ILEGALIDAD DEL ACTO ADMINISTRATIVO QUE NO RECONOCE LA DEVOLUCION DE APORTES ENTRE ADMINISTRADORAS DE PENSIONES"},{"$f":"+'Hoja3 (2)'!$C424&'Hoja3 (2)'!$B424","v":"1ILEGALIDAD DEL ACTO ADMINISTRATIVO QUE NO RECONOCE LA DEVOLUCION DE APORTES ENTRE ADMINISTRADORAS DE PENSIONES"},{"$f":"IFERROR(FIND(UPPER('Causas anteriores'!$D$4),D424),0)","v":0},{"$f":"+IF('Hoja3 (2)'!$F424=0,0,1)","v":0},{"$f":"+H423+'Hoja3 (2)'!$G424","v":2},{"$f":"+'Hoja3 (2)'!$H424*'Hoja3 (2)'!$G424","v":0},"MANTENER/AJUSTAR TEXTO","Activa","NO RECONOCIMIENTO DE DEVOLUCION DE APORTES ENTRE ADMINISTRADORAS DEL SISTEMA DE SEGURIDAD SOCIAL INTEGRAL",null,"ACTIVA"]
[{"$f":"+'Hoja3 (2)'!$I425","v":0},"ILEGALIDAD DEL ACTO ADMINISTRATIVO QUE NO RECONOCE LA INDEXACION Y REAJUSTE DE LA ASIGNACION DE RETIRO",1,{"$f":"+IF('Hoja3 (2)'!$C425=1,'Hoja3 (2)'!$B425,\"No\")","v":"ILEGALIDAD DEL ACTO ADMINISTRATIVO QUE NO RECONOCE LA INDEXACION Y REAJUSTE DE LA ASIGNACION DE RETIRO"},{"$f":"+'Hoja3 (2)'!$C425&'Hoja3 (2)'!$B425","v":"1ILEGALIDAD DEL ACTO ADMINISTRATIVO QUE NO RECONOCE LA INDEXACION Y REAJUSTE DE LA ASIGNACION DE RETIRO"},{"$f":"IFERROR(FIND(UPPER('Causas anteriores'!$D$4),D425),0)","v":0},{"$f":"+IF('Hoja3 (2)'!$F425=0,0,1)","v":0},{"$f":"+H424+'Hoja3 (2)'!$G425","v":2},{"$f":"+'Hoja3 (2)'!$H425*'Hoja3 (2)'!$G425","v":0},"MANTENER/AJUSTAR TEXTO","Activa","NO RECONOCIMIENTO DE LA INDEXACION Y REAJUSTE DE LA ASIGNACION DE RETIRO",null,"ACTIVA"]
[{"$f":"+'Hoja3 (2)'!$I426","v":0},"ILEGALIDAD DEL ACTO ADMINISTRATIVO QUE NO RECONOCE LA INDEXACION Y REAJUSTE DE LA PENSION",1,{"$f":"+IF('Hoja3 (2)'!$C426=1,'Hoja3 (2)'!$B426,\"No\")","v":"ILEGALIDAD DEL ACTO ADMINISTRATIVO QUE NO RECONOCE LA INDEXACION Y REAJUSTE DE LA PENSION"},{"$f":"+'Hoja3 (2)'!$C426&'Hoja3 (2)'!$B426","v":"1ILEGALIDAD DEL ACTO ADMINISTRATIVO QUE NO RECONOCE LA INDEXACION Y REAJUSTE DE LA PENSION"},{"$f":"IFERROR(FIND(UPPER('Causas anteriores'!$D$4),D426),0)","v":0},{"$f":"+IF('Hoja3 (2)'!$F426=0,0,1)","v":0},{"$f":"+H425+'Hoja3 (2)'!$G426","v":2},{"$f":"+'Hoja3 (2)'!$H426*'Hoja3 (2)'!$G426","v":0},"INACTIVAR PARA DESAGREGAR","Inactiva",null,null,"ACTIVA"]
[{"$f":"+'Hoja3 (2)'!$I427","v":0},"ILEGALIDAD DEL ACTO ADMINISTRATIVO QUE NO RECONOCE LA INDEXACION Y REAJUSTE DE LA PENSION",2,{"$f":"+IF('Hoja3 (2)'!$C427=1,'Hoja3 (2)'!$B427,\"No\")","v":"No"},{"$f":"+'Hoja3 (2)'!$C427&'Hoja3 (2)'!$B427","v":"2ILEGALIDAD DEL ACTO ADMINISTRATIVO QUE NO RECONOCE LA INDEXACION Y REAJUSTE DE LA PENSION"},{"$f":"IFERROR(FIND(UPPER('Causas anteriores'!$D$4),D427),0)","v":0},{"$f":"+IF('Hoja3 (2)'!$F427=0,0,1)","v":0},{"$f":"+H426+'Hoja3 (2)'!$G427","v":2},{"$f":"+'Hoja3 (2)'!$H427*'Hoja3 (2)'!$G427","v":0},"CREAR","Activa","NO RECONOCIMIENTO DE LA INDEXACION Y REAJUSTE DE LA PENSION DE VEJEZ"]
[{"$f":"+'Hoja3 (2)'!$I428","v":0},"ILEGALIDAD DEL ACTO ADMINISTRATIVO QUE NO RECONOCE LA INDEXACION Y REAJUSTE DE LA PENSION",3,{"$f":"+IF('Hoja3 (2)'!$C428=1,'Hoja3 (2)'!$B428,\"No\")","v":"No"},{"$f":"+'Hoja3 (2)'!$C428&'Hoja3 (2)'!$B428","v":"3ILEGALIDAD DEL ACTO ADMINISTRATIVO QUE NO RECONOCE LA INDEXACION Y REAJUSTE DE LA PENSION"},{"$f":"IFERROR(FIND(UPPER('Causas anteriores'!$D$4),D428),0)","v":0},{"$f":"+IF('Hoja3 (2)'!$F428=0,0,1)","v":0},{"$f":"+H427+'Hoja3 (2)'!$G428","v":2},{"$f":"+'Hoja3 (2)'!$H428*'Hoja3 (2)'!$G428","v":0},"CREAR","Activa","NO RECONOCIMIENTO DE LA INDEXACION Y REAJUSTE DE LA PENSION DE INVALIDEZ"]
[{"$f":"+'Hoja3 (2)'!$I429","v":0},"ILEGALIDAD DEL ACTO ADMINISTRATIVO QUE NO RECONOCE LA INDEXACION Y REAJUSTE DE LA PENSION",4,{"$f":"+IF('Hoja3 (2)'!$C429=1,'Hoja3 (2)'!$B429,\"No\")","v":"No"},{"$f":"+'Hoja3 (2)'!$C429&'Hoja3 (2)'!$B429","v":"4ILEGALIDAD DEL ACTO ADMINISTRATIVO QUE NO RECONOCE LA INDEXACION Y REAJUSTE DE LA PENSION"},{"$f":"IFERROR(FIND(UPPER('Causas anteriores'!$D$4),D429),0)","v":0},{"$f":"+IF('Hoja3 (2)'!$F429=0,0,1)","v":0},{"$f":"+H428+'Hoja3 (2)'!$G429","v":2},{"$f":"+'Hoja3 (2)'!$H429*'Hoja3 (2)'!$G429","v":0},"CREAR","Activa","NO RECONOCIMIENTO DE LA INDEXACION Y REAJUSTE DE LA PENSION DE SOBREVIVIENTE"]
[{"$f":"+'Hoja3 (2)'!$I430","v":0},"ILEGALIDAD DEL ACTO ADMINISTRATIVO QUE NO RECONOCE LA INDEXACION Y REAJUSTE DE LA PENSION",5,{"$f":"+IF('Hoja3 (2)'!$C430=1,'Hoja3 (2)'!$B430,\"No\")","v":"No"},{"$f":"+'Hoja3 (2)'!$C430&'Hoja3 (2)'!$B430","v":"5ILEGALIDAD DEL ACTO ADMINISTRATIVO QUE NO RECONOCE LA INDEXACION Y REAJUSTE DE LA PENSION"},{"$f":"IFERROR(FIND(UPPER('Causas anteriores'!$D$4),D430),0)","v":0},{"$f":"+IF('Hoja3 (2)'!$F430=0,0,1)","v":0},{"$f":"+H429+'Hoja3 (2)'!$G430","v":2},{"$f":"+'Hoja3 (2)'!$H430*'Hoja3 (2)'!$G430","v":0},"CREAR","Activa","INCUMPLIMIENTO EN EL PAGO DE LA INDEXACION Y REAJUSTE DE LA PENSION DE VEJEZ"]
[{"$f":"+'Hoja3 (2)'!$I431","v":0},"ILEGALIDAD DEL ACTO ADMINISTRATIVO QUE NO RECONOCE LA INDEXACION Y REAJUSTE DE LA PENSION",6,{"$f":"+IF('Hoja3 (2)'!$C431=1,'Hoja3 (2)'!$B431,\"No\")","v":"No"},{"$f":"+'Hoja3 (2)'!$C431&'Hoja3 (2)'!$B431","v":"6ILEGALIDAD DEL ACTO ADMINISTRATIVO QUE NO RECONOCE LA INDEXACION Y REAJUSTE DE LA PENSION"},{"$f":"IFERROR(FIND(UPPER('Causas anteriores'!$D$4),D431),0)","v":0},{"$f":"+IF('Hoja3 (2)'!$F431=0,0,1)","v":0},{"$f":"+H430+'Hoja3 (2)'!$G431","v":2},{"$f":"+'Hoja3 (2)'!$H431*'Hoja3 (2)'!$G431","v":0},"CREAR","Activa","INCUMPLIMIENTO EN EL PAGO DE LA INDEXACION Y REAJUSTE DE LA PENSION DE INVALIDEZ"]
[{"$f":"+'Hoja3 (2)'!$I432","v":0},"ILEGALIDAD DEL ACTO ADMINISTRATIVO QUE NO RECONOCE LA INDEXACION Y REAJUSTE DE LA PENSION",7,{"$f":"+IF('Hoja3 (2)'!$C432=1,'Hoja3 (2)'!$B432,\"No\")","v":"No"},{"$f":"+'Hoja3 (2)'!$C432&'Hoja3 (2)'!$B432","v":"7ILEGALIDAD DEL ACTO ADMINISTRATIVO QUE NO RECONOCE LA INDEXACION Y REAJUSTE DE LA PENSION"},{"$f":"IFERROR(FIND(UPPER('Causas anteriores'!$D$4),D432),0)","v":0},{"$f":"+IF('Hoja3 (2)'!$F432=0,0,1)","v":0},{"$f":"+H431+'Hoja3 (2)'!$G432","v":2},{"$f":"+'Hoja3 (2)'!$H432*'Hoja3 (2)'!$G432","v":0},"CREAR","Activa","INCUMPLIMIENTO EN EL PAGO DE LA INDEXACION Y REAJUSTE DE LA PENSION DE SOBREVIVIENTE"]
[{"$f":"+'Hoja3 (2)'!$I433","v":0},"ILEGALIDAD DEL ACTO ADMINISTRATIVO QUE NO RECONOCE LA RELIQUIDACION DE BONO PENSIONAL",1,{"$f":"+IF('Hoja3 (2)'!$C433=1,'Hoja3 (2)'!$B433,\"No\")","v":"ILEGALIDAD DEL ACTO ADMINISTRATIVO QUE NO RECONOCE LA RELIQUIDACION DE BONO PENSIONAL"},{"$f":"+'Hoja3 (2)'!$C433&'Hoja3 (2)'!$B433","v":"1ILEGALIDAD DEL ACTO ADMINISTRATIVO QUE NO RECONOCE LA RELIQUIDACION DE BONO PENSIONAL"},{"$f":"IFERROR(FIND(UPPER('Causas anteriores'!$D$4),D433),0)","v":0},{"$f":"+IF('Hoja3 (2)'!$F433=0,0,1)","v":0},{"$f":"+H432+'Hoja3 (2)'!$G433","v":2},{"$f":"+'Hoja3 (2)'!$H433*'Hoja3 (2)'!$G433","v":0},"INACTIVAR EN NUEVA MATRIZ","Inactiva",null,null,"ACTIVA"]
[{"$f":"+'Hoja3 (2)'!$I434","v":0},"ILEGALIDAD DEL ACTO ADMINISTRATIVO QUE NO RECONOCE LA RELIQUIDACION DE LA ASIGNACION DE RETIRO",1,{"$f":"+IF('Hoja3 (2)'!$C434=1,'Hoja3 (2)'!$B434,\"No\")","v":"ILEGALIDAD DEL ACTO ADMINISTRATIVO QUE NO RECONOCE LA RELIQUIDACION DE LA ASIGNACION DE RETIRO"},{"$f":"+'Hoja3 (2)'!$C434&'Hoja3 (2)'!$B434","v":"1ILEGALIDAD DEL ACTO ADMINISTRATIVO QUE NO RECONOCE LA RELIQUIDACION DE LA ASIGNACION DE RETIRO"},{"$f":"IFERROR(FIND(UPPER('Causas anteriores'!$D$4),D434),0)","v":0},{"$f":"+IF('Hoja3 (2)'!$F434=0,0,1)","v":0},{"$f":"+H433+'Hoja3 (2)'!$G434","v":2},{"$f":"+'Hoja3 (2)'!$H434*'Hoja3 (2)'!$G434","v":0},"INACTIVAR EN NUEVA MATRIZ","Inactiva",null,null,"ACTIVA"]
[{"$f":"+'Hoja3 (2)'!$I435","v":0},"ILEGALIDAD DEL ACTO ADMINISTRATIVO QUE NO RECONOCE LA RELIQUIDACION DE LA ASIGNACION DE RETIRO",2,{"$f":"+IF('Hoja3 (2)'!$C435=1,'Hoja3 (2)'!$B435,\"No\")","v":"No"},{"$f":"+'Hoja3 (2)'!$C435&'Hoja3 (2)'!$B435","v":"2ILEGALIDAD DEL ACTO ADMINISTRATIVO QUE NO RECONOCE LA RELIQUIDACION DE LA ASIGNACION DE RETIRO"},{"$f":"IFERROR(FIND(UPPER('Causas anteriores'!$D$4),D435),0)","v":0},{"$f":"+IF('Hoja3 (2)'!$F435=0,0,1)","v":0},{"$f":"+H434+'Hoja3 (2)'!$G435","v":2},{"$f":"+'Hoja3 (2)'!$H435*'Hoja3 (2)'!$G435","v":0},"MANTENER/AJUSTAR TEXTO","Activa","NO RECONOCIMIENTO DE LA INDEXACION Y REAJUSTE DE LA ASIGNACION DE RETIRO"]
[{"$f":"+'Hoja3 (2)'!$I436","v":0},"ILEGALIDAD DEL ACTO ADMINISTRATIVO QUE NO RECONOCE LA RELIQUIDACION DE LA ASIGNACION DE RETIRO",3,{"$f":"+IF('Hoja3 (2)'!$C436=1,'Hoja3 (2)'!$B436,\"No\")","v":"No"},{"$f":"+'Hoja3 (2)'!$C436&'Hoja3 (2)'!$B436","v":"3ILEGALIDAD DEL ACTO ADMINISTRATIVO QUE NO RECONOCE LA RELIQUIDACION DE LA ASIGNACION DE RETIRO"},{"$f":"IFERROR(FIND(UPPER('Causas anteriores'!$D$4),D436),0)","v":0},{"$f":"+IF('Hoja3 (2)'!$F436=0,0,1)","v":0},{"$f":"+H435+'Hoja3 (2)'!$G436","v":2},{"$f":"+'Hoja3 (2)'!$H436*'Hoja3 (2)'!$G436","v":0},"MANTENER/AJUSTAR TEXTO","Activa","NO RECONOCIMIENTO DE ASIGNACION DE RETIRO"]
[{"$f":"+'Hoja3 (2)'!$I437","v":0},"ILEGALIDAD DEL ACTO ADMINISTRATIVO QUE NO RECONOCE LA RELIQUIDACION DE LA ASIGNACION DE RETIRO",4,{"$f":"+IF('Hoja3 (2)'!$C437=1,'Hoja3 (2)'!$B437,\"No\")","v":"No"},{"$f":"+'Hoja3 (2)'!$C437&'Hoja3 (2)'!$B437","v":"4ILEGALIDAD DEL ACTO ADMINISTRATIVO QUE NO RECONOCE LA RELIQUIDACION DE LA ASIGNACION DE RETIRO"},{"$f":"IFERROR(FIND(UPPER('Causas anteriores'!$D$4),D437),0)","v":0},{"$f":"+IF('Hoja3 (2)'!$F437=0,0,1)","v":0},{"$f":"+H436+'Hoja3 (2)'!$G437","v":2},{"$f":"+'Hoja3 (2)'!$H437*'Hoja3 (2)'!$G437","v":0},"MANTENER/AJUSTAR TEXTO","Activa","NO RECONOCIMIENTO DE SUSTITUCION DE LA ASIGNACION DE RETIRO"]
[{"$f":"+'Hoja3 (2)'!$I438","v":0},"ILEGALIDAD DEL ACTO ADMINISTRATIVO QUE NO RECONOCE LA RELIQUIDACION DE LA PENSION",1,{"$f":"+IF('Hoja3 (2)'!$C438=1,'Hoja3 (2)'!$B438,\"No\")","v":"ILEGALIDAD DEL ACTO ADMINISTRATIVO QUE NO RECONOCE LA RELIQUIDACION DE LA PENSION"},{"$f":"+'Hoja3 (2)'!$C438&'Hoja3 (2)'!$B438","v":"1ILEGALIDAD DEL ACTO ADMINISTRATIVO QUE NO RECONOCE LA RELIQUIDACION DE LA PENSION"},{"$f":"IFERROR(FIND(UPPER('Causas anteriores'!$D$4),D438),0)","v":0},{"$f":"+IF('Hoja3 (2)'!$F438=0,0,1)","v":0},{"$f":"+H437+'Hoja3 (2)'!$G438","v":2},{"$f":"+'Hoja3 (2)'!$H438*'Hoja3 (2)'!$G438","v":0},"INACTIVAR EN NUEVA MATRIZ","Activa",null,null,"ACTIVA"]
[{"$f":"+'Hoja3 (2)'!$I439","v":0},"ILEGALIDAD DEL ACTO ADMINISTRATIVO QUE NO RECONOCE LA RELIQUIDACION DE LA PENSION",2,{"$f":"+IF('Hoja3 (2)'!$C439=1,'Hoja3 (2)'!$B439,\"No\")","v":"No"},{"$f":"+'Hoja3 (2)'!$C439&'Hoja3 (2)'!$B439","v":"2ILEGALIDAD DEL ACTO ADMINISTRATIVO QUE NO RECONOCE LA RELIQUIDACION DE LA PENSION"},{"$f":"IFERROR(FIND(UPPER('Causas anteriores'!$D$4),D439),0)","v":0},{"$f":"+IF('Hoja3 (2)'!$F439=0,0,1)","v":0},{"$f":"+H438+'Hoja3 (2)'!$G439","v":2},{"$f":"+'Hoja3 (2)'!$H439*'Hoja3 (2)'!$G439","v":0},"MANTENER/AJUSTAR TEXTO","Activa"]
[{"$f":"+'Hoja3 (2)'!$I440","v":0},"ILEGALIDAD DEL ACTO ADMINISTRATIVO QUE NO RECONOCE LA RELIQUIDACION DE LA PENSION",3,{"$f":"+IF('Hoja3 (2)'!$C440=1,'Hoja3 (2)'!$B440,\"No\")","v":"No"},{"$f":"+'Hoja3 (2)'!$C440&'Hoja3 (2)'!$B440","v":"3ILEGALIDAD DEL ACTO ADMINISTRATIVO QUE NO RECONOCE LA RELIQUIDACION DE LA PENSION"},{"$f":"IFERROR(FIND(UPPER('Causas anteriores'!$D$4),D440),0)","v":0},{"$f":"+IF('Hoja3 (2)'!$F440=0,0,1)","v":0},{"$f":"+H439+'Hoja3 (2)'!$G440","v":2},{"$f":"+'Hoja3 (2)'!$H440*'Hoja3 (2)'!$G440","v":0},"MANTENER/AJUSTAR TEXTO","Activa"]
[{"$f":"+'Hoja3 (2)'!$I441","v":0},"ILEGALIDAD DEL ACTO ADMINISTRATIVO QUE NO RECONOCE LA RELIQUIDACION DE LA PENSION",4,{"$f":"+IF('Hoja3 (2)'!$C441=1,'Hoja3 (2)'!$B441,\"No\")","v":"No"},{"$f":"+'Hoja3 (2)'!$C441&'Hoja3 (2)'!$B441","v":"4ILEGALIDAD DEL ACTO ADMINISTRATIVO QUE NO RECONOCE LA RELIQUIDACION DE LA PENSION"},{"$f":"IFERROR(FIND(UPPER('Causas anteriores'!$D$4),D441),0)","v":0},{"$f":"+IF('Hoja3 (2)'!$F441=0,0,1)","v":0},{"$f":"+H440+'Hoja3 (2)'!$G441","v":2},{"$f":"+'Hoja3 (2)'!$H441*'Hoja3 (2)'!$G441","v":0},"MANTENER/AJUSTAR TEXTO","Activa"]
[{"$f":"+'Hoja3 (2)'!$I442","v":0},"ILEGALIDAD DEL ACTO ADMINISTRATIVO QUE NO RECONOCE LA RELIQUIDACION DE LA PENSION",5,{"$f":"+IF('Hoja3 (2)'!$C442=1,'Hoja3 (2)'!$B442,\"No\")","v":"No"},{"$f":"+'Hoja3 (2)'!$C442&'Hoja3 (2)'!$B442","v":"5ILEGALIDAD DEL ACTO ADMINISTRATIVO QUE NO RECONOCE LA RELIQUIDACION DE LA PENSION"},{"$f":"IFERROR(FIND(UPPER('Causas anteriores'!$D$4),D442),0)","v":0},{"$f":"+IF('Hoja3 (2)'!$F442=0,0,1)","v":0},{"$f":"+H441+'Hoja3 (2)'!$G442","v":2},{"$f":"+'Hoja3 (2)'!$H442*'Hoja3 (2)'!$G442","v":0},"MANTENER/AJUSTAR TEXTO","Activa"]
[{"$f":"+'Hoja3 (2)'!$I443","v":0},"ILEGALIDAD DEL ACTO ADMINISTRATIVO QUE NO RECONOCE LA RELIQUIDACION LOS BENEFICIOS ECONOMICOS PERIODICOS \u0096 BEPS",1,{"$f":"+IF('Hoja3 (2)'!$C443=1,'Hoja3 (2)'!$B443,\"No\")","v":"ILEGALIDAD DEL ACTO ADMINISTRATIVO QUE NO RECONOCE LA RELIQUIDACION LOS BENEFICIOS ECONOMICOS PERIODICOS \u0096 BEPS"},{"$f":"+'Hoja3 (2)'!$C443&'Hoja3 (2)'!$B443","v":"1ILEGALIDAD DEL ACTO ADMINISTRATIVO QUE NO RECONOCE LA RELIQUIDACION LOS BENEFICIOS ECONOMICOS PERIODICOS \u0096 BEPS"},{"$f":"IFERROR(FIND(UPPER('Causas anteriores'!$D$4),D443),0)","v":0},{"$f":"+IF('Hoja3 (2)'!$F443=0,0,1)","v":0},{"$f":"+H442+'Hoja3 (2)'!$G443","v":2},{"$f":"+'Hoja3 (2)'!$H443*'Hoja3 (2)'!$G443","v":0},"INACTIVAR EN NUEVA MATRIZ","Inactiva",null,null,"ACTIVA"]
[{"$f":"+'Hoja3 (2)'!$I444","v":0},"ILEGALIDAD DEL ACTO ADMINISTRATIVO QUE NO RECONOCE LOS BENEFICIOS ECONOMICOS PERIODICOS - BEPS",1,{"$f":"+IF('Hoja3 (2)'!$C444=1,'Hoja3 (2)'!$B444,\"No\")","v":"ILEGALIDAD DEL ACTO ADMINISTRATIVO QUE NO RECONOCE LOS BENEFICIOS ECONOMICOS PERIODICOS - BEPS"},{"$f":"+'Hoja3 (2)'!$C444&'Hoja3 (2)'!$B444","v":"1ILEGALIDAD DEL ACTO ADMINISTRATIVO QUE NO RECONOCE LOS BENEFICIOS ECONOMICOS PERIODICOS - BEPS"},{"$f":"IFERROR(FIND(UPPER('Causas anteriores'!$D$4),D444),0)","v":0},{"$f":"+IF('Hoja3 (2)'!$F444=0,0,1)","v":0},{"$f":"+H443+'Hoja3 (2)'!$G444","v":2},{"$f":"+'Hoja3 (2)'!$H444*'Hoja3 (2)'!$G444","v":0},"INACTIVAR EN NUEVA MATRIZ","Inactiva",null,null,"ACTIVA"]
[{"$f":"+'Hoja3 (2)'!$I445","v":0},"ILEGALIDAD DEL ACTO ADMINISTRATIVO QUE NO RECONOCE PAGO DE INTERESES",1,{"$f":"+IF('Hoja3 (2)'!$C445=1,'Hoja3 (2)'!$B445,\"No\")","v":"ILEGALIDAD DEL ACTO ADMINISTRATIVO QUE NO RECONOCE PAGO DE INTERESES"},{"$f":"+'Hoja3 (2)'!$C445&'Hoja3 (2)'!$B445","v":"1ILEGALIDAD DEL ACTO ADMINISTRATIVO QUE NO RECONOCE PAGO DE INTERESES"},{"$f":"IFERROR(FIND(UPPER('Causas anteriores'!$D$4),D445),0)","v":0},{"$f":"+IF('Hoja3 (2)'!$F445=0,0,1)","v":0},{"$f":"+H444+'Hoja3 (2)'!$G445","v":2},{"$f":"+'Hoja3 (2)'!$H445*'Hoja3 (2)'!$G445","v":0},"INACTIVAR EN NUEVA MATRIZ","Inactiva",null,null,"ACTIVA"]
[{"$f":"+'Hoja3 (2)'!$I446","v":0},"ILEGALIDAD DEL ACTO ADMINISTRATIVO QUE NO RECONOCE PAGO DE PRIMA DE ACTIVIDAD",1,{"$f":"+IF('Hoja3 (2)'!$C446=1,'Hoja3 (2)'!$B446,\"No\")","v":"ILEGALIDAD DEL ACTO ADMINISTRATIVO QUE NO RECONOCE PAGO DE PRIMA DE ACTIVIDAD"},{"$f":"+'Hoja3 (2)'!$C446&'Hoja3 (2)'!$B446","v":"1ILEGALIDAD DEL ACTO ADMINISTRATIVO QUE NO RECONOCE PAGO DE PRIMA DE ACTIVIDAD"},{"$f":"IFERROR(FIND(UPPER('Causas anteriores'!$D$4),D446),0)","v":0},{"$f":"+IF('Hoja3 (2)'!$F446=0,0,1)","v":0},{"$f":"+H445+'Hoja3 (2)'!$G446","v":2},{"$f":"+'Hoja3 (2)'!$H446*'Hoja3 (2)'!$G446","v":0},"MANTENER/AJUSTAR TEXTO","Activa","NO RECONOCIMIENTO DE PRIMA DE ACTIVIDAD",null,"ACTIVA"]
[{"$f":"+'Hoja3 (2)'!$I447","v":0},"ILEGALIDAD DEL ACTO ADMINISTRATIVO QUE NO RECONOCE PAGO DE PRIMA DE SERVICIOS",1,{"$f":"+IF('Hoja3 (2)'!$C447=1,'Hoja3 (2)'!$B447,\"No\")","v":"ILEGALIDAD DEL ACTO ADMINISTRATIVO QUE NO RECONOCE PAGO DE PRIMA DE SERVICIOS"},{"$f":"+'Hoja3 (2)'!$C447&'Hoja3 (2)'!$B447","v":"1ILEGALIDAD DEL ACTO ADMINISTRATIVO QUE NO RECONOCE PAGO DE PRIMA DE SERVICIOS"},{"$f":"IFERROR(FIND(UPPER('Causas anteriores'!$D$4),D447),0)","v":0},{"$f":"+IF('Hoja3 (2)'!$F447=0,0,1)","v":0},{"$f":"+H446+'Hoja3 (2)'!$G447","v":2},{"$f":"+'Hoja3 (2)'!$H447*'Hoja3 (2)'!$G447","v":0},"INACTIVAR PARA DESAGREGAR","Inactiva",null,null,"ACTIVA"]
[{"$f":"+'Hoja3 (2)'!$I448","v":0},"ILEGALIDAD DEL ACTO ADMINISTRATIVO QUE NO RECONOCE PAGO DE PRIMA DE SERVICIOS",2,{"$f":"+IF('Hoja3 (2)'!$C448=1,'Hoja3 (2)'!$B448,\"No\")","v":"No"},{"$f":"+'Hoja3 (2)'!$C448&'Hoja3 (2)'!$B448","v":"2ILEGALIDAD DEL ACTO ADMINISTRATIVO QUE NO RECONOCE PAGO DE PRIMA DE SERVICIOS"},{"$f":"IFERROR(FIND(UPPER('Causas anteriores'!$D$4),D448),0)","v":0},{"$f":"+IF('Hoja3 (2)'!$F448=0,0,1)","v":0},{"$f":"+H447+'Hoja3 (2)'!$G448","v":2},{"$f":"+'Hoja3 (2)'!$H448*'Hoja3 (2)'!$G448","v":0},"CREAR","Activa","NO RECONOCIMIENTO DE PRIMA DE SERVICIOS"]
[{"$f":"+'Hoja3 (2)'!$I449","v":0},"ILEGALIDAD DEL ACTO ADMINISTRATIVO QUE NO RECONOCE PAGO DE PRIMA DE SERVICIOS",3,{"$f":"+IF('Hoja3 (2)'!$C449=1,'Hoja3 (2)'!$B449,\"No\")","v":"No"},{"$f":"+'Hoja3 (2)'!$C449&'Hoja3 (2)'!$B449","v":"3ILEGALIDAD DEL ACTO ADMINISTRATIVO QUE NO RECONOCE PAGO DE PRIMA DE SERVICIOS"},{"$f":"IFERROR(FIND(UPPER('Causas anteriores'!$D$4),D449),0)","v":0},{"$f":"+IF('Hoja3 (2)'!$F449=0,0,1)","v":0},{"$f":"+H448+'Hoja3 (2)'!$G449","v":2},{"$f":"+'Hoja3 (2)'!$H449*'Hoja3 (2)'!$G449","v":0},"CREAR","Activa","INDEBIDA LIQUIDACION DE PRIMA DE SERVICIOS"]
[{"$f":"+'Hoja3 (2)'!$I450","v":0},"ILEGALIDAD DEL ACTO ADMINISTRATIVO QUE NO RECONOCE PAGO DE PRIMA DE SERVICIOS",4,{"$f":"+IF('Hoja3 (2)'!$C450=1,'Hoja3 (2)'!$B450,\"No\")","v":"No"},{"$f":"+'Hoja3 (2)'!$C450&'Hoja3 (2)'!$B450","v":"4ILEGALIDAD DEL ACTO ADMINISTRATIVO QUE NO RECONOCE PAGO DE PRIMA DE SERVICIOS"},{"$f":"IFERROR(FIND(UPPER('Causas anteriores'!$D$4),D450),0)","v":0},{"$f":"+IF('Hoja3 (2)'!$F450=0,0,1)","v":0},{"$f":"+H449+'Hoja3 (2)'!$G450","v":2},{"$f":"+'Hoja3 (2)'!$H450*'Hoja3 (2)'!$G450","v":0},"CREAR","Activa","INCUMPLIMIENTO EN EL PAGO DE PRIMA DE SERVICIOS"]
[{"$f":"+'Hoja3 (2)'!$I451","v":0},"ILEGALIDAD DEL ACTO ADMINISTRATIVO QUE NO RECONOCE PENSION DE INVALIDEZ",1,{"$f":"+IF('Hoja3 (2)'!$C451=1,'Hoja3 (2)'!$B451,\"No\")","v":"ILEGALIDAD DEL ACTO ADMINISTRATIVO QUE NO RECONOCE PENSION DE INVALIDEZ"},{"$f":"+'Hoja3 (2)'!$C451&'Hoja3 (2)'!$B451","v":"1ILEGALIDAD DEL ACTO ADMINISTRATIVO QUE NO RECONOCE PENSION DE INVALIDEZ"},{"$f":"IFERROR(FIND(UPPER('Causas anteriores'!$D$4),D451),0)","v":0},{"$f":"+IF('Hoja3 (2)'!$F451=0,0,1)","v":0},{"$f":"+H450+'Hoja3 (2)'!$G451","v":2},{"$f":"+'Hoja3 (2)'!$H451*'Hoja3 (2)'!$G451","v":0},"MANTENER/AJUSTAR TEXTO","Activa","NO RECONOCIMIENTO DE PENSION DE INVALIDEZ",null,"ACTIVA"]
[{"$f":"+'Hoja3 (2)'!$I452","v":0},"ILEGALIDAD DEL ACTO ADMINISTRATIVO QUE NO RECONOCE PENSION DE JUBILACION",1,{"$f":"+IF('Hoja3 (2)'!$C452=1,'Hoja3 (2)'!$B452,\"No\")","v":"ILEGALIDAD DEL ACTO ADMINISTRATIVO QUE NO RECONOCE PENSION DE JUBILACION"},{"$f":"+'Hoja3 (2)'!$C452&'Hoja3 (2)'!$B452","v":"1ILEGALIDAD DEL ACTO ADMINISTRATIVO QUE NO RECONOCE PENSION DE JUBILACION"},{"$f":"IFERROR(FIND(UPPER('Causas anteriores'!$D$4),D452),0)","v":0},{"$f":"+IF('Hoja3 (2)'!$F452=0,0,1)","v":0},{"$f":"+H451+'Hoja3 (2)'!$G452","v":2},{"$f":"+'Hoja3 (2)'!$H452*'Hoja3 (2)'!$G452","v":0},"INACTIVAR EN NUEVA MATRIZ","Inactiva",null,null,"ACTIVA"]
[{"$f":"+'Hoja3 (2)'!$I453","v":0},"ILEGALIDAD DEL ACTO ADMINISTRATIVO QUE NO RECONOCE PENSION DE SOBREVIVIENTE",1,{"$f":"+IF('Hoja3 (2)'!$C453=1,'Hoja3 (2)'!$B453,\"No\")","v":"ILEGALIDAD DEL ACTO ADMINISTRATIVO QUE NO RECONOCE PENSION DE SOBREVIVIENTE"},{"$f":"+'Hoja3 (2)'!$C453&'Hoja3 (2)'!$B453","v":"1ILEGALIDAD DEL ACTO ADMINISTRATIVO QUE NO RECONOCE PENSION DE SOBREVIVIENTE"},{"$f":"IFERROR(FIND(UPPER('Causas anteriores'!$D$4),D453),0)","v":0},{"$f":"+IF('Hoja3 (2)'!$F453=0,0,1)","v":0},{"$f":"+H452+'Hoja3 (2)'!$G453","v":2},{"$f":"+'Hoja3 (2)'!$H453*'Hoja3 (2)'!$G453","v":0},"MANTENER/AJUSTAR TEXTO","Activa","NO RECONOCIMIENTO DE PENSION DE SOBREVIVIENTE",null,"ACTIVA"]
[{"$f":"+'Hoja3 (2)'!$I454","v":0},"ILEGALIDAD DEL ACTO ADMINISTRATIVO QUE NO RECONOCE PENSION DE VEJEZ",1,{"$f":"+IF('Hoja3 (2)'!$C454=1,'Hoja3 (2)'!$B454,\"No\")","v":"ILEGALIDAD DEL ACTO ADMINISTRATIVO QUE NO RECONOCE PENSION DE VEJEZ"},{"$f":"+'Hoja3 (2)'!$C454&'Hoja3 (2)'!$B454","v":"1ILEGALIDAD DEL ACTO ADMINISTRATIVO QUE NO RECONOCE PENSION DE VEJEZ"},{"$f":"IFERROR(FIND(UPPER('Causas anteriores'!$D$4),D454),0)","v":0},{"$f":"+IF('Hoja3 (2)'!$F454=0,0,1)","v":0},{"$f":"+H453+'Hoja3 (2)'!$G454","v":2},{"$f":"+'Hoja3 (2)'!$H454*'Hoja3 (2)'!$G454","v":0},"MANTENER/AJUSTAR TEXTO","Activa","NO RECONOCIMIENTO DE PENSION DE VEJEZ",null,"ACTIVA"]
[{"$f":"+'Hoja3 (2)'!$I455","v":0},"ILEGALIDAD DEL ACTO ADMINISTRATIVO QUE NO RECONOCE PENSION FAMILIAR (LEY 1580 DE 2012)",1,{"$f":"+IF('Hoja3 (2)'!$C455=1,'Hoja3 (2)'!$B455,\"No\")","v":"ILEGALIDAD DEL ACTO ADMINISTRATIVO QUE NO RECONOCE PENSION FAMILIAR (LEY 1580 DE 2012)"},{"$f":"+'Hoja3 (2)'!$C455&'Hoja3 (2)'!$B455","v":"1ILEGALIDAD DEL ACTO ADMINISTRATIVO QUE NO RECONOCE PENSION FAMILIAR (LEY 1580 DE 2012)"},{"$f":"IFERROR(FIND(UPPER('Causas anteriores'!$D$4),D455),0)","v":0},{"$f":"+IF('Hoja3 (2)'!$F455=0,0,1)","v":0},{"$f":"+H454+'Hoja3 (2)'!$G455","v":2},{"$f":"+'Hoja3 (2)'!$H455*'Hoja3 (2)'!$G455","v":0},"MANTENER/AJUSTAR TEXTO","Activa","NO RECONOCIMIENTO DE PENSION FAMILIAR",null,"ACTIVA"]
[{"$f":"+'Hoja3 (2)'!$I456","v":0},"ILEGALIDAD DEL ACTO ADMINISTRATIVO QUE NO RECONOCE PENSION SUSTITUTIVA",1,{"$f":"+IF('Hoja3 (2)'!$C456=1,'Hoja3 (2)'!$B456,\"No\")","v":"ILEGALIDAD DEL ACTO ADMINISTRATIVO QUE NO RECONOCE PENSION SUSTITUTIVA"},{"$f":"+'Hoja3 (2)'!$C456&'Hoja3 (2)'!$B456","v":"1ILEGALIDAD DEL ACTO ADMINISTRATIVO QUE NO RECONOCE PENSION SUSTITUTIVA"},{"$f":"IFERROR(FIND(UPPER('Causas anteriores'!$D$4),D456),0)","v":0},{"$f":"+IF('Hoja3 (2)'!$F456=0,0,1)","v":0},{"$f":"+H455+'Hoja3 (2)'!$G456","v":2},{"$f":"+'Hoja3 (2)'!$H456*'Hoja3 (2)'!$G456","v":0},"MANTENER/AJUSTAR TEXTO","Activa","NO RECONOCIMIENTO DE PENSION SUSTITUTIVA",null,"ACTIVA"]
[{"$f":"+'Hoja3 (2)'!$I457","v":0},"ILEGALIDAD DEL ACTO ADMINISTRATIVO QUE NO RECONOCE PRIMA DE ACTUALIZACION",1,{"$f":"+IF('Hoja3 (2)'!$C457=1,'Hoja3 (2)'!$B457,\"No\")","v":"ILEGALIDAD DEL ACTO ADMINISTRATIVO QUE NO RECONOCE PRIMA DE ACTUALIZACION"},{"$f":"+'Hoja3 (2)'!$C457&'Hoja3 (2)'!$B457","v":"1ILEGALIDAD DEL ACTO ADMINISTRATIVO QUE NO RECONOCE PRIMA DE ACTUALIZACION"},{"$f":"IFERROR(FIND(UPPER('Causas anteriores'!$D$4),D457),0)","v":0},{"$f":"+IF('Hoja3 (2)'!$F457=0,0,1)","v":0},{"$f":"+H456+'Hoja3 (2)'!$G457","v":2},{"$f":"+'Hoja3 (2)'!$H457*'Hoja3 (2)'!$G457","v":0},"MANTENER/AJUSTAR TEXTO","Activa","NO RECONOCIMIENTO DE PRIMA DE ACTUALIZACION",null,"ACTIVA"]
[{"$f":"+'Hoja3 (2)'!$I458","v":0},"ILEGALIDAD DEL ACTO ADMINISTRATIVO QUE NO RECONOCE PRIMA DE ANTIGUEDAD",1,{"$f":"+IF('Hoja3 (2)'!$C458=1,'Hoja3 (2)'!$B458,\"No\")","v":"ILEGALIDAD DEL ACTO ADMINISTRATIVO QUE NO RECONOCE PRIMA DE ANTIGUEDAD"},{"$f":"+'Hoja3 (2)'!$C458&'Hoja3 (2)'!$B458","v":"1ILEGALIDAD DEL ACTO ADMINISTRATIVO QUE NO RECONOCE PRIMA DE ANTIGUEDAD"},{"$f":"IFERROR(FIND(UPPER('Causas anteriores'!$D$4),D458),0)","v":0},{"$f":"+IF('Hoja3 (2)'!$F458=0,0,1)","v":0},{"$f":"+H457+'Hoja3 (2)'!$G458","v":2},{"$f":"+'Hoja3 (2)'!$H458*'Hoja3 (2)'!$G458","v":0},"MANTENER/AJUSTAR TEXTO","Activa","NO RECONOCIMIENTO DE PRIMA DE ANTIGUEDAD",null,"ACTIVA"]
[{"$f":"+'Hoja3 (2)'!$I459","v":0},"ILEGALIDAD DEL ACTO ADMINISTRATIVO QUE NO RECONOCE PRIMA TECNICA",1,{"$f":"+IF('Hoja3 (2)'!$C459=1,'Hoja3 (2)'!$B459,\"No\")","v":"ILEGALIDAD DEL ACTO ADMINISTRATIVO QUE NO RECONOCE PRIMA TECNICA"},{"$f":"+'Hoja3 (2)'!$C459&'Hoja3 (2)'!$B459","v":"1ILEGALIDAD DEL ACTO ADMINISTRATIVO QUE NO RECONOCE PRIMA TECNICA"},{"$f":"IFERROR(FIND(UPPER('Causas anteriores'!$D$4),D459),0)","v":0},{"$f":"+IF('Hoja3 (2)'!$F459=0,0,1)","v":0},{"$f":"+H458+'Hoja3 (2)'!$G459","v":2},{"$f":"+'Hoja3 (2)'!$H459*'Hoja3 (2)'!$G459","v":0},"MANTENER/AJUSTAR TEXTO","Activa","NO RECONOCIMIENTO DE PRIMA TECNICA",null,"ACTIVA"]
[{"$f":"+'Hoja3 (2)'!$I460","v":0},"ILEGALIDAD DEL ACTO ADMINISTRATIVO QUE NO RECONOCE RELIQUIDACION DE LA PRIMA DE ACTIVIDAD",1,{"$f":"+IF('Hoja3 (2)'!$C460=1,'Hoja3 (2)'!$B460,\"No\")","v":"ILEGALIDAD DEL ACTO ADMINISTRATIVO QUE NO RECONOCE RELIQUIDACION DE LA PRIMA DE ACTIVIDAD"},{"$f":"+'Hoja3 (2)'!$C460&'Hoja3 (2)'!$B460","v":"1ILEGALIDAD DEL ACTO ADMINISTRATIVO QUE NO RECONOCE RELIQUIDACION DE LA PRIMA DE ACTIVIDAD"},{"$f":"IFERROR(FIND(UPPER('Causas anteriores'!$D$4),D460),0)","v":0},{"$f":"+IF('Hoja3 (2)'!$F460=0,0,1)","v":0},{"$f":"+H459+'Hoja3 (2)'!$G460","v":2},{"$f":"+'Hoja3 (2)'!$H460*'Hoja3 (2)'!$G460","v":0},"MANTENER/AJUSTAR TEXTO","Activa","INDEBIDA LIQUIDACION DE PRIMA DE ACTIVIDAD",null,"ACTIVA"]
[{"$f":"+'Hoja3 (2)'!$I461","v":0},"ILEGALIDAD DEL ACTO ADMINISTRATIVO QUE NO RECONOCE SUSTITUCION DE LA ASIGNACION DE RETIRO",1,{"$f":"+IF('Hoja3 (2)'!$C461=1,'Hoja3 (2)'!$B461,\"No\")","v":"ILEGALIDAD DEL ACTO ADMINISTRATIVO QUE NO RECONOCE SUSTITUCION DE LA ASIGNACION DE RETIRO"},{"$f":"+'Hoja3 (2)'!$C461&'Hoja3 (2)'!$B461","v":"1ILEGALIDAD DEL ACTO ADMINISTRATIVO QUE NO RECONOCE SUSTITUCION DE LA ASIGNACION DE RETIRO"},{"$f":"IFERROR(FIND(UPPER('Causas anteriores'!$D$4),D461),0)","v":0},{"$f":"+IF('Hoja3 (2)'!$F461=0,0,1)","v":0},{"$f":"+H460+'Hoja3 (2)'!$G461","v":2},{"$f":"+'Hoja3 (2)'!$H461*'Hoja3 (2)'!$G461","v":0},"MANTENER/AJUSTAR TEXTO","Activa","NO RECONOCIMIENTO DE SUSTITUCION DE LA ASIGNACION DE RETIRO",null,"ACTIVA"]
[{"$f":"+'Hoja3 (2)'!$I462","v":0},"ILEGALIDAD DEL ACTO ADMINISTRATIVO QUE NOMBRA UN SERVIDOR PUBLICO DESCONOCIENDO EL REGIMEN DE CARRERA ADMINISTRATIVA",1,{"$f":"+IF('Hoja3 (2)'!$C462=1,'Hoja3 (2)'!$B462,\"No\")","v":"ILEGALIDAD DEL ACTO ADMINISTRATIVO QUE NOMBRA UN SERVIDOR PUBLICO DESCONOCIENDO EL REGIMEN DE CARRERA ADMINISTRATIVA"},{"$f":"+'Hoja3 (2)'!$C462&'Hoja3 (2)'!$B462","v":"1ILEGALIDAD DEL ACTO ADMINISTRATIVO QUE NOMBRA UN SERVIDOR PUBLICO DESCONOCIENDO EL REGIMEN DE CARRERA ADMINISTRATIVA"},{"$f":"IFERROR(FIND(UPPER('Causas anteriores'!$D$4),D462),0)","v":0},{"$f":"+IF('Hoja3 (2)'!$F462=0,0,1)","v":0},{"$f":"+H461+'Hoja3 (2)'!$G462","v":2},{"$f":"+'Hoja3 (2)'!$H462*'Hoja3 (2)'!$G462","v":0},"MANTENER/AJUSTAR TEXTO","Activa","ILEGALIDAD DEL ACTO ADMINISTRATIVO QUE NOMBRA FUNCIONARIO PUBLICO DESCONOCIENDO EL REGIMEN DE CARRERA ADMINISTRATIVA",null,"ACTIVA"]
[{"$f":"+'Hoja3 (2)'!$I463","v":0},"ILEGALIDAD DEL ACTO ADMINISTRATIVO QUE NOMBRA UN SERVIDOR PUBLICO DESCONOCIENDO EL REGIMEN DE CARRERA DIPLOMATICA Y CONSULAR",1,{"$f":"+IF('Hoja3 (2)'!$C463=1,'Hoja3 (2)'!$B463,\"No\")","v":"ILEGALIDAD DEL ACTO ADMINISTRATIVO QUE NOMBRA UN SERVIDOR PUBLICO DESCONOCIENDO EL REGIMEN DE CARRERA DIPLOMATICA Y CONSULAR"},{"$f":"+'Hoja3 (2)'!$C463&'Hoja3 (2)'!$B463","v":"1ILEGALIDAD DEL ACTO ADMINISTRATIVO QUE NOMBRA UN SERVIDOR PUBLICO DESCONOCIENDO EL REGIMEN DE CARRERA DIPLOMATICA Y CONSULAR"},{"$f":"IFERROR(FIND(UPPER('Causas anteriores'!$D$4),D463),0)","v":0},{"$f":"+IF('Hoja3 (2)'!$F463=0,0,1)","v":0},{"$f":"+H462+'Hoja3 (2)'!$G463","v":2},{"$f":"+'Hoja3 (2)'!$H463*'Hoja3 (2)'!$G463","v":0},"MANTENER/AJUSTAR TEXTO","Activa","ILEGALIDAD DEL ACTO ADMINISTRATIVO QUE NOMBRA FUNCIONARIO PUBLICO DESCONOCIENDO EL REGIMEN DE CARRERA DIPLOMATICA Y CONSULAR",null,"ACTIVA"]
[{"$f":"+'Hoja3 (2)'!$I464","v":0},"ILEGALIDAD DEL ACTO ADMINISTRATIVO QUE NOMBRA UN SERVIDOR PUBLICO DESCONOCIENDO EL REGIMEN DE CARRERA JUDICIAL",1,{"$f":"+IF('Hoja3 (2)'!$C464=1,'Hoja3 (2)'!$B464,\"No\")","v":"ILEGALIDAD DEL ACTO ADMINISTRATIVO QUE NOMBRA UN SERVIDOR PUBLICO DESCONOCIENDO EL REGIMEN DE CARRERA JUDICIAL"},{"$f":"+'Hoja3 (2)'!$C464&'Hoja3 (2)'!$B464","v":"1ILEGALIDAD DEL ACTO ADMINISTRATIVO QUE NOMBRA UN SERVIDOR PUBLICO DESCONOCIENDO EL REGIMEN DE CARRERA JUDICIAL"},{"$f":"IFERROR(FIND(UPPER('Causas anteriores'!$D$4),D464),0)","v":0},{"$f":"+IF('Hoja3 (2)'!$F464=0,0,1)","v":0},{"$f":"+H463+'Hoja3 (2)'!$G464","v":2},{"$f":"+'Hoja3 (2)'!$H464*'Hoja3 (2)'!$G464","v":0},"MANTENER/AJUSTAR TEXTO","Activa","ILEGALIDAD DEL ACTO ADMINISTRATIVO QUE NOMBRA FUNCIONARIO PUBLICO DESCONOCIENDO EL REGIMEN DE CARRERA JUDICIAL",null,"ACTIVA"]
[{"$f":"+'Hoja3 (2)'!$I465","v":0},"ILEGALIDAD DEL ACTO ADMINISTRATIVO QUE NOMBRA UN SERVIDOR PUBLICO DESCONOCIENDO EL REGIMEN DE CARRERA NOTARIAL",1,{"$f":"+IF('Hoja3 (2)'!$C465=1,'Hoja3 (2)'!$B465,\"No\")","v":"ILEGALIDAD DEL ACTO ADMINISTRATIVO QUE NOMBRA UN SERVIDOR PUBLICO DESCONOCIENDO EL REGIMEN DE CARRERA NOTARIAL"},{"$f":"+'Hoja3 (2)'!$C465&'Hoja3 (2)'!$B465","v":"1ILEGALIDAD DEL ACTO ADMINISTRATIVO QUE NOMBRA UN SERVIDOR PUBLICO DESCONOCIENDO EL REGIMEN DE CARRERA NOTARIAL"},{"$f":"IFERROR(FIND(UPPER('Causas anteriores'!$D$4),D465),0)","v":0},{"$f":"+IF('Hoja3 (2)'!$F465=0,0,1)","v":0},{"$f":"+H464+'Hoja3 (2)'!$G465","v":2},{"$f":"+'Hoja3 (2)'!$H465*'Hoja3 (2)'!$G465","v":0},"MANTENER/AJUSTAR TEXTO","Activa","ILEGALIDAD DEL ACTO ADMINISTRATIVO QUE NOMBRA UN SERVIDOR PUBLICO DESCONOCIENDO EL REGIMEN DE CARRERA NOTARIAL",null,"ACTIVA"]
[{"$f":"+'Hoja3 (2)'!$I466","v":0},"ILEGALIDAD DEL ACTO ADMINISTRATIVO QUE NOTIFICA LA TERMINACION DE UN NOMBRAMIENTO PROVISIONAL",1,{"$f":"+IF('Hoja3 (2)'!$C466=1,'Hoja3 (2)'!$B466,\"No\")","v":"ILEGALIDAD DEL ACTO ADMINISTRATIVO QUE NOTIFICA LA TERMINACION DE UN NOMBRAMIENTO PROVISIONAL"},{"$f":"+'Hoja3 (2)'!$C466&'Hoja3 (2)'!$B466","v":"1ILEGALIDAD DEL ACTO ADMINISTRATIVO QUE NOTIFICA LA TERMINACION DE UN NOMBRAMIENTO PROVISIONAL"},{"$f":"IFERROR(FIND(UPPER('Causas anteriores'!$D$4),D466),0)","v":0},{"$f":"+IF('Hoja3 (2)'!$F466=0,0,1)","v":0},{"$f":"+H465+'Hoja3 (2)'!$G466","v":2},{"$f":"+'Hoja3 (2)'!$H466*'Hoja3 (2)'!$G466","v":0},"INACTIVAR EN NUEVA MATRIZ","Inactiva",null,null,"ACTIVA"]
[{"$f":"+'Hoja3 (2)'!$I467","v":0},"ILEGALIDAD DEL ACTO ADMINISTRATIVO QUE ORDENA COMISION DE SERVICIOS",1,{"$f":"+IF('Hoja3 (2)'!$C467=1,'Hoja3 (2)'!$B467,\"No\")","v":"ILEGALIDAD DEL ACTO ADMINISTRATIVO QUE ORDENA COMISION DE SERVICIOS"},{"$f":"+'Hoja3 (2)'!$C467&'Hoja3 (2)'!$B467","v":"1ILEGALIDAD DEL ACTO ADMINISTRATIVO QUE ORDENA COMISION DE SERVICIOS"},{"$f":"IFERROR(FIND(UPPER('Causas anteriores'!$D$4),D467),0)","v":0},{"$f":"+IF('Hoja3 (2)'!$F467=0,0,1)","v":0},{"$f":"+H466+'Hoja3 (2)'!$G467","v":2},{"$f":"+'Hoja3 (2)'!$H467*'Hoja3 (2)'!$G467","v":0},"INACTIVAR EN NUEVA MATRIZ","Inactiva",null,null,"ACTIVA"]
[{"$f":"+'Hoja3 (2)'!$I468","v":0},"ILEGALIDAD DEL ACTO ADMINISTRATIVO QUE ORDENA EL RETIRO FORZOSO",1,{"$f":"+IF('Hoja3 (2)'!$C468=1,'Hoja3 (2)'!$B468,\"No\")","v":"ILEGALIDAD DEL ACTO ADMINISTRATIVO QUE ORDENA EL RETIRO FORZOSO"},{"$f":"+'Hoja3 (2)'!$C468&'Hoja3 (2)'!$B468","v":"1ILEGALIDAD DEL ACTO ADMINISTRATIVO QUE ORDENA EL RETIRO FORZOSO"},{"$f":"IFERROR(FIND(UPPER('Causas anteriores'!$D$4),D468),0)","v":0},{"$f":"+IF('Hoja3 (2)'!$F468=0,0,1)","v":0},{"$f":"+H467+'Hoja3 (2)'!$G468","v":2},{"$f":"+'Hoja3 (2)'!$H468*'Hoja3 (2)'!$G468","v":0},"INACTIVAR EN NUEVA MATRIZ","Inactiva",null,null,"ACTIVA"]
[{"$f":"+'Hoja3 (2)'!$I469","v":0},"ILEGALIDAD DEL ACTO ADMINISTRATIVO QUE ORDENA EL RETIRO FORZOSO",2,{"$f":"+IF('Hoja3 (2)'!$C469=1,'Hoja3 (2)'!$B469,\"No\")","v":"No"},{"$f":"+'Hoja3 (2)'!$C469&'Hoja3 (2)'!$B469","v":"2ILEGALIDAD DEL ACTO ADMINISTRATIVO QUE ORDENA EL RETIRO FORZOSO"},{"$f":"IFERROR(FIND(UPPER('Causas anteriores'!$D$4),D469),0)","v":0},{"$f":"+IF('Hoja3 (2)'!$F469=0,0,1)","v":0},{"$f":"+H468+'Hoja3 (2)'!$G469","v":2},{"$f":"+'Hoja3 (2)'!$H469*'Hoja3 (2)'!$G469","v":0},"CREAR","Activa","ILEGALIDAD DEL ACTO ADMINISTRATIVO QUE ORDENA EL RETIRO DE SERVIDOR PUBLICO POR CUMPLIMIENTO DE LA EDAD DE RETIRO FORZOSO "]
[{"$f":"+'Hoja3 (2)'!$I470","v":0},"ILEGALIDAD DEL ACTO ADMINISTRATIVO QUE ORDENA LA DEVOLUCION DE VALORES POR REINTEGRO AL SERVICIO ACTIVO",1,{"$f":"+IF('Hoja3 (2)'!$C470=1,'Hoja3 (2)'!$B470,\"No\")","v":"ILEGALIDAD DEL ACTO ADMINISTRATIVO QUE ORDENA LA DEVOLUCION DE VALORES POR REINTEGRO AL SERVICIO ACTIVO"},{"$f":"+'Hoja3 (2)'!$C470&'Hoja3 (2)'!$B470","v":"1ILEGALIDAD DEL ACTO ADMINISTRATIVO QUE ORDENA LA DEVOLUCION DE VALORES POR REINTEGRO AL SERVICIO ACTIVO"},{"$f":"IFERROR(FIND(UPPER('Causas anteriores'!$D$4),D470),0)","v":0},{"$f":"+IF('Hoja3 (2)'!$F470=0,0,1)","v":0},{"$f":"+H469+'Hoja3 (2)'!$G470","v":2},{"$f":"+'Hoja3 (2)'!$H470*'Hoja3 (2)'!$G470","v":0},"MANTENER/AJUSTAR TEXTO","Activa","ILEGALIDAD DEL ACTO ADMINISTRATIVO QUE ORDENA LA DEVOLUCION DE VALORES POR REINTEGRO AL SERVICIO ACTIVO",null,"ACTIVA"]
[{"$f":"+'Hoja3 (2)'!$I471","v":0},"ILEGALIDAD DEL ACTO ADMINISTRATIVO QUE ORDENA LA INCAUTACION DE BIENES",1,{"$f":"+IF('Hoja3 (2)'!$C471=1,'Hoja3 (2)'!$B471,\"No\")","v":"ILEGALIDAD DEL ACTO ADMINISTRATIVO QUE ORDENA LA INCAUTACION DE BIENES"},{"$f":"+'Hoja3 (2)'!$C471&'Hoja3 (2)'!$B471","v":"1ILEGALIDAD DEL ACTO ADMINISTRATIVO QUE ORDENA LA INCAUTACION DE BIENES"},{"$f":"IFERROR(FIND(UPPER('Causas anteriores'!$D$4),D471),0)","v":0},{"$f":"+IF('Hoja3 (2)'!$F471=0,0,1)","v":0},{"$f":"+H470+'Hoja3 (2)'!$G471","v":2},{"$f":"+'Hoja3 (2)'!$H471*'Hoja3 (2)'!$G471","v":0},"INACTIVAR EN NUEVA MATRIZ","Inactiva",null,null,"ACTIVA"]
[{"$f":"+'Hoja3 (2)'!$I472","v":0},"ILEGALIDAD DEL ACTO ADMINISTRATIVO QUE ORDENA LA RESTITUCION DE BIEN INMUEBLE",1,{"$f":"+IF('Hoja3 (2)'!$C472=1,'Hoja3 (2)'!$B472,\"No\")","v":"ILEGALIDAD DEL ACTO ADMINISTRATIVO QUE ORDENA LA RESTITUCION DE BIEN INMUEBLE"},{"$f":"+'Hoja3 (2)'!$C472&'Hoja3 (2)'!$B472","v":"1ILEGALIDAD DEL ACTO ADMINISTRATIVO QUE ORDENA LA RESTITUCION DE BIEN INMUEBLE"},{"$f":"IFERROR(FIND(UPPER('Causas anteriores'!$D$4),D472),0)","v":0},{"$f":"+IF('Hoja3 (2)'!$F472=0,0,1)","v":0},{"$f":"+H471+'Hoja3 (2)'!$G472","v":2},{"$f":"+'Hoja3 (2)'!$H472*'Hoja3 (2)'!$G472","v":0},"INACTIVAR EN NUEVA MATRIZ","Inactiva",null,null,"ACTIVA"]
[{"$f":"+'Hoja3 (2)'!$I473","v":0},"ILEGALIDAD DEL ACTO ADMINISTRATIVO QUE ORDENA SUSPENDER ACTIVIDADES DE RECAUDO NO AUTORIZADO",1,{"$f":"+IF('Hoja3 (2)'!$C473=1,'Hoja3 (2)'!$B473,\"No\")","v":"ILEGALIDAD DEL ACTO ADMINISTRATIVO QUE ORDENA SUSPENDER ACTIVIDADES DE RECAUDO NO AUTORIZADO"},{"$f":"+'Hoja3 (2)'!$C473&'Hoja3 (2)'!$B473","v":"1ILEGALIDAD DEL ACTO ADMINISTRATIVO QUE ORDENA SUSPENDER ACTIVIDADES DE RECAUDO NO AUTORIZADO"},{"$f":"IFERROR(FIND(UPPER('Causas anteriores'!$D$4),D473),0)","v":0},{"$f":"+IF('Hoja3 (2)'!$F473=0,0,1)","v":0},{"$f":"+H472+'Hoja3 (2)'!$G473","v":2},{"$f":"+'Hoja3 (2)'!$H473*'Hoja3 (2)'!$G473","v":0},"INACTIVAR EN NUEVA MATRIZ","Inactiva",null,null,"ACTIVA"]
[{"$f":"+'Hoja3 (2)'!$I474","v":0},"ILEGALIDAD DEL ACTO ADMINISTRATIVO QUE ORDENA TOMA DE POSESION DE SOCIEDAD",1,{"$f":"+IF('Hoja3 (2)'!$C474=1,'Hoja3 (2)'!$B474,\"No\")","v":"ILEGALIDAD DEL ACTO ADMINISTRATIVO QUE ORDENA TOMA DE POSESION DE SOCIEDAD"},{"$f":"+'Hoja3 (2)'!$C474&'Hoja3 (2)'!$B474","v":"1ILEGALIDAD DEL ACTO ADMINISTRATIVO QUE ORDENA TOMA DE POSESION DE SOCIEDAD"},{"$f":"IFERROR(FIND(UPPER('Causas anteriores'!$D$4),D474),0)","v":0},{"$f":"+IF('Hoja3 (2)'!$F474=0,0,1)","v":0},{"$f":"+H473+'Hoja3 (2)'!$G474","v":2},{"$f":"+'Hoja3 (2)'!$H474*'Hoja3 (2)'!$G474","v":0},"ESTABA INACTIVA","Inactiva",null,null,"INACTIVA"]
[{"$f":"+'Hoja3 (2)'!$I475","v":0},"ILEGALIDAD DEL ACTO ADMINISTRATIVO QUE ORDENA UN TRASLADO",1,{"$f":"+IF('Hoja3 (2)'!$C475=1,'Hoja3 (2)'!$B475,\"No\")","v":"ILEGALIDAD DEL ACTO ADMINISTRATIVO QUE ORDENA UN TRASLADO"},{"$f":"+'Hoja3 (2)'!$C475&'Hoja3 (2)'!$B475","v":"1ILEGALIDAD DEL ACTO ADMINISTRATIVO QUE ORDENA UN TRASLADO"},{"$f":"IFERROR(FIND(UPPER('Causas anteriores'!$D$4),D475),0)","v":0},{"$f":"+IF('Hoja3 (2)'!$F475=0,0,1)","v":0},{"$f":"+H474+'Hoja3 (2)'!$G475","v":2},{"$f":"+'Hoja3 (2)'!$H475*'Hoja3 (2)'!$G475","v":0},"INACTIVAR PARA DESAGREGAR","Inactiva",null,null,"ACTIVA"]
[{"$f":"+'Hoja3 (2)'!$I476","v":0},"ILEGALIDAD DEL ACTO ADMINISTRATIVO QUE ORDENA UN TRASLADO",2,{"$f":"+IF('Hoja3 (2)'!$C476=1,'Hoja3 (2)'!$B476,\"No\")","v":"No"},{"$f":"+'Hoja3 (2)'!$C476&'Hoja3 (2)'!$B476","v":"2ILEGALIDAD DEL ACTO ADMINISTRATIVO QUE ORDENA UN TRASLADO"},{"$f":"IFERROR(FIND(UPPER('Causas anteriores'!$D$4),D476),0)","v":0},{"$f":"+IF('Hoja3 (2)'!$F476=0,0,1)","v":0},{"$f":"+H475+'Hoja3 (2)'!$G476","v":2},{"$f":"+'Hoja3 (2)'!$H476*'Hoja3 (2)'!$G476","v":0},"CREAR","Activa","INDEBIDO TRASLADO DE FUNCIONARIO PUBLICO"]
[{"$f":"+'Hoja3 (2)'!$I477","v":0},"ILEGALIDAD DEL ACTO ADMINISTRATIVO QUE ORDENA UN TRASLADO",3,{"$f":"+IF('Hoja3 (2)'!$C477=1,'Hoja3 (2)'!$B477,\"No\")","v":"No"},{"$f":"+'Hoja3 (2)'!$C477&'Hoja3 (2)'!$B477","v":"3ILEGALIDAD DEL ACTO ADMINISTRATIVO QUE ORDENA UN TRASLADO"},{"$f":"IFERROR(FIND(UPPER('Causas anteriores'!$D$4),D477),0)","v":0},{"$f":"+IF('Hoja3 (2)'!$F477=0,0,1)","v":0},{"$f":"+H476+'Hoja3 (2)'!$G477","v":2},{"$f":"+'Hoja3 (2)'!$H477*'Hoja3 (2)'!$G477","v":0},"CREAR","Activa","INDEBIDO TRASLADO DE TRABAJADOR OFICIAL"]
[{"$f":"+'Hoja3 (2)'!$I478","v":0},"ILEGALIDAD DEL ACTO ADMINISTRATIVO QUE OTORGA LICENCIA DE FUNCIONAMIENTO",1,{"$f":"+IF('Hoja3 (2)'!$C478=1,'Hoja3 (2)'!$B478,\"No\")","v":"ILEGALIDAD DEL ACTO ADMINISTRATIVO QUE OTORGA LICENCIA DE FUNCIONAMIENTO"},{"$f":"+'Hoja3 (2)'!$C478&'Hoja3 (2)'!$B478","v":"1ILEGALIDAD DEL ACTO ADMINISTRATIVO QUE OTORGA LICENCIA DE FUNCIONAMIENTO"},{"$f":"IFERROR(FIND(UPPER('Causas anteriores'!$D$4),D478),0)","v":0},{"$f":"+IF('Hoja3 (2)'!$F478=0,0,1)","v":0},{"$f":"+H477+'Hoja3 (2)'!$G478","v":2},{"$f":"+'Hoja3 (2)'!$H478*'Hoja3 (2)'!$G478","v":0},"MANTENER/AJUSTAR TEXTO","Activa","REVOCATORIA DE LICENCIA DE FUNCIONAMIENTO",null,"ACTIVA"]
[{"$f":"+'Hoja3 (2)'!$I479","v":0},"ILEGALIDAD DEL ACTO ADMINISTRATIVO QUE PROFIERE LIQUIDACION OFICIAL CREE",1,{"$f":"+IF('Hoja3 (2)'!$C479=1,'Hoja3 (2)'!$B479,\"No\")","v":"ILEGALIDAD DEL ACTO ADMINISTRATIVO QUE PROFIERE LIQUIDACION OFICIAL CREE"},{"$f":"+'Hoja3 (2)'!$C479&'Hoja3 (2)'!$B479","v":"1ILEGALIDAD DEL ACTO ADMINISTRATIVO QUE PROFIERE LIQUIDACION OFICIAL CREE"},{"$f":"IFERROR(FIND(UPPER('Causas anteriores'!$D$4),D479),0)","v":0},{"$f":"+IF('Hoja3 (2)'!$F479=0,0,1)","v":0},{"$f":"+H478+'Hoja3 (2)'!$G479","v":2},{"$f":"+'Hoja3 (2)'!$H479*'Hoja3 (2)'!$G479","v":0},"MANTENER/AJUSTAR TEXTO","Activa","ILEGALIDAD DEL ACTO ADMINISTRATIVO DE LIQUIDACION OFICIAL DE REVISION IMPUESTO CREE",null,"ACTIVA"]
[{"$f":"+'Hoja3 (2)'!$I480","v":0},"ILEGALIDAD DEL ACTO ADMINISTRATIVO QUE PROFIERE LIQUIDACION OFICIAL DE AFORO DEL IMPUESTO CREE",1,{"$f":"+IF('Hoja3 (2)'!$C480=1,'Hoja3 (2)'!$B480,\"No\")","v":"ILEGALIDAD DEL ACTO ADMINISTRATIVO QUE PROFIERE LIQUIDACION OFICIAL DE AFORO DEL IMPUESTO CREE"},{"$f":"+'Hoja3 (2)'!$C480&'Hoja3 (2)'!$B480","v":"1ILEGALIDAD DEL ACTO ADMINISTRATIVO QUE PROFIERE LIQUIDACION OFICIAL DE AFORO DEL IMPUESTO CREE"},{"$f":"IFERROR(FIND(UPPER('Causas anteriores'!$D$4),D480),0)","v":0},{"$f":"+IF('Hoja3 (2)'!$F480=0,0,1)","v":0},{"$f":"+H479+'Hoja3 (2)'!$G480","v":2},{"$f":"+'Hoja3 (2)'!$H480*'Hoja3 (2)'!$G480","v":0},"MANTENER/AJUSTAR TEXTO","Activa","ILEGALIDAD DEL ACTO ADMINISTRATIVO DE LIQUIDACION OFICIAL DE AFORO IMPUESTO CREE",null,"ACTIVA"]
[{"$f":"+'Hoja3 (2)'!$I481","v":0},"ILEGALIDAD DEL ACTO ADMINISTRATIVO QUE PROFIERE LIQUIDACION OFICIAL DE AFORO DEL IMPUESTO DE CONSUMO",1,{"$f":"+IF('Hoja3 (2)'!$C481=1,'Hoja3 (2)'!$B481,\"No\")","v":"ILEGALIDAD DEL ACTO ADMINISTRATIVO QUE PROFIERE LIQUIDACION OFICIAL DE AFORO DEL IMPUESTO DE CONSUMO"},{"$f":"+'Hoja3 (2)'!$C481&'Hoja3 (2)'!$B481","v":"1ILEGALIDAD DEL ACTO ADMINISTRATIVO QUE PROFIERE LIQUIDACION OFICIAL DE AFORO DEL IMPUESTO DE CONSUMO"},{"$f":"IFERROR(FIND(UPPER('Causas anteriores'!$D$4),D481),0)","v":0},{"$f":"+IF('Hoja3 (2)'!$F481=0,0,1)","v":0},{"$f":"+H480+'Hoja3 (2)'!$G481","v":2},{"$f":"+'Hoja3 (2)'!$H481*'Hoja3 (2)'!$G481","v":0},"INACTIVAR EN NUEVA MATRIZ","Inactiva",null,null,"ACTIVA"]
[{"$f":"+'Hoja3 (2)'!$I482","v":0},"ILEGALIDAD DEL ACTO ADMINISTRATIVO QUE PROFIERE LIQUIDACION OFICIAL DE AFORO DEL IMPUESTO DE PATRIMONIO",1,{"$f":"+IF('Hoja3 (2)'!$C482=1,'Hoja3 (2)'!$B482,\"No\")","v":"ILEGALIDAD DEL ACTO ADMINISTRATIVO QUE PROFIERE LIQUIDACION OFICIAL DE AFORO DEL IMPUESTO DE PATRIMONIO"},{"$f":"+'Hoja3 (2)'!$C482&'Hoja3 (2)'!$B482","v":"1ILEGALIDAD DEL ACTO ADMINISTRATIVO QUE PROFIERE LIQUIDACION OFICIAL DE AFORO DEL IMPUESTO DE PATRIMONIO"},{"$f":"IFERROR(FIND(UPPER('Causas anteriores'!$D$4),D482),0)","v":0},{"$f":"+IF('Hoja3 (2)'!$F482=0,0,1)","v":0},{"$f":"+H481+'Hoja3 (2)'!$G482","v":2},{"$f":"+'Hoja3 (2)'!$H482*'Hoja3 (2)'!$G482","v":0},"MANTENER/AJUSTAR TEXTO","Activa","ILEGALIDAD DEL ACTO ADMINISTRATIVO DE LIQUIDACION OFICIAL DE AFORO IMPUESTO AL PATRIMONIO",null,"ACTIVA"]
[{"$f":"+'Hoja3 (2)'!$I483","v":0},"ILEGALIDAD DEL ACTO ADMINISTRATIVO QUE PROFIERE LIQUIDACION OFICIAL DE AFORO DEL IMPUESTO DE RENTA",1,{"$f":"+IF('Hoja3 (2)'!$C483=1,'Hoja3 (2)'!$B483,\"No\")","v":"ILEGALIDAD DEL ACTO ADMINISTRATIVO QUE PROFIERE LIQUIDACION OFICIAL DE AFORO DEL IMPUESTO DE RENTA"},{"$f":"+'Hoja3 (2)'!$C483&'Hoja3 (2)'!$B483","v":"1ILEGALIDAD DEL ACTO ADMINISTRATIVO QUE PROFIERE LIQUIDACION OFICIAL DE AFORO DEL IMPUESTO DE RENTA"},{"$f":"IFERROR(FIND(UPPER('Causas anteriores'!$D$4),D483),0)","v":0},{"$f":"+IF('Hoja3 (2)'!$F483=0,0,1)","v":0},{"$f":"+H482+'Hoja3 (2)'!$G483","v":2},{"$f":"+'Hoja3 (2)'!$H483*'Hoja3 (2)'!$G483","v":0},"MANTENER/AJUSTAR TEXTO","Activa","ILEGALIDAD DEL ACTO ADMINISTRATIVO DE LIQUIDACION OFICIAL DE AFORO IMPUESTO DE RENTA Y COMPLEMENTARIOS",null,"ACTIVA"]
[{"$f":"+'Hoja3 (2)'!$I484","v":0},"ILEGALIDAD DEL ACTO ADMINISTRATIVO QUE PROFIERE LIQUIDACION OFICIAL DE AFORO DEL IMPUESTO DE RETENCION EN LA FUENTE",1,{"$f":"+IF('Hoja3 (2)'!$C484=1,'Hoja3 (2)'!$B484,\"No\")","v":"ILEGALIDAD DEL ACTO ADMINISTRATIVO QUE PROFIERE LIQUIDACION OFICIAL DE AFORO DEL IMPUESTO DE RETENCION EN LA FUENTE"},{"$f":"+'Hoja3 (2)'!$C484&'Hoja3 (2)'!$B484","v":"1ILEGALIDAD DEL ACTO ADMINISTRATIVO QUE PROFIERE LIQUIDACION OFICIAL DE AFORO DEL IMPUESTO DE RETENCION EN LA FUENTE"},{"$f":"IFERROR(FIND(UPPER('Causas anteriores'!$D$4),D484),0)","v":0},{"$f":"+IF('Hoja3 (2)'!$F484=0,0,1)","v":0},{"$f":"+H483+'Hoja3 (2)'!$G484","v":2},{"$f":"+'Hoja3 (2)'!$H484*'Hoja3 (2)'!$G484","v":0},"MANTENER/AJUSTAR TEXTO","Activa","ILEGALIDAD DEL ACTO ADMINISTRATIVO DE LIQUIDACION OFICIAL DE AFORO IMPUESTO DE RETENCION EN LA FUENTE",null,"ACTIVA"]
[{"$f":"+'Hoja3 (2)'!$I485","v":0},"ILEGALIDAD DEL ACTO ADMINISTRATIVO QUE PROFIERE LIQUIDACION OFICIAL DE AFORO DEL IMPUESTO DE RIQUEZA",1,{"$f":"+IF('Hoja3 (2)'!$C485=1,'Hoja3 (2)'!$B485,\"No\")","v":"ILEGALIDAD DEL ACTO ADMINISTRATIVO QUE PROFIERE LIQUIDACION OFICIAL DE AFORO DEL IMPUESTO DE RIQUEZA"},{"$f":"+'Hoja3 (2)'!$C485&'Hoja3 (2)'!$B485","v":"1ILEGALIDAD DEL ACTO ADMINISTRATIVO QUE PROFIERE LIQUIDACION OFICIAL DE AFORO DEL IMPUESTO DE RIQUEZA"},{"$f":"IFERROR(FIND(UPPER('Causas anteriores'!$D$4),D485),0)","v":0},{"$f":"+IF('Hoja3 (2)'!$F485=0,0,1)","v":0},{"$f":"+H484+'Hoja3 (2)'!$G485","v":2},{"$f":"+'Hoja3 (2)'!$H485*'Hoja3 (2)'!$G485","v":0},"MANTENER/AJUSTAR TEXTO","Activa","ILEGALIDAD DEL ACTO ADMINISTRATIVO DE LIQUIDACION OFICIAL DE AFORO IMPUESTO DE RIQUEZA",null,"ACTIVA"]
[{"$f":"+'Hoja3 (2)'!$I486","v":0},"ILEGALIDAD DEL ACTO ADMINISTRATIVO QUE PROFIERE LIQUIDACION OFICIAL DE AFORO DEL IMPUESTO DE SEGURIDAD DEMOCRATICA",1,{"$f":"+IF('Hoja3 (2)'!$C486=1,'Hoja3 (2)'!$B486,\"No\")","v":"ILEGALIDAD DEL ACTO ADMINISTRATIVO QUE PROFIERE LIQUIDACION OFICIAL DE AFORO DEL IMPUESTO DE SEGURIDAD DEMOCRATICA"},{"$f":"+'Hoja3 (2)'!$C486&'Hoja3 (2)'!$B486","v":"1ILEGALIDAD DEL ACTO ADMINISTRATIVO QUE PROFIERE LIQUIDACION OFICIAL DE AFORO DEL IMPUESTO DE SEGURIDAD DEMOCRATICA"},{"$f":"IFERROR(FIND(UPPER('Causas anteriores'!$D$4),D486),0)","v":0},{"$f":"+IF('Hoja3 (2)'!$F486=0,0,1)","v":0},{"$f":"+H485+'Hoja3 (2)'!$G486","v":2},{"$f":"+'Hoja3 (2)'!$H486*'Hoja3 (2)'!$G486","v":0},"MANTENER/AJUSTAR TEXTO","Activa","ILEGALIDAD DEL ACTO ADMINISTRATIVO DE LIQUIDACION OFICIAL DE AFORO IMPUESTO DE SEGURIDAD DEMOCRATICA",null,"ACTIVA"]
[{"$f":"+'Hoja3 (2)'!$I487","v":0},"ILEGALIDAD DEL ACTO ADMINISTRATIVO QUE PROFIERE LIQUIDACION OFICIAL DE AFORO DEL IMPUESTO DE VENTAS",1,{"$f":"+IF('Hoja3 (2)'!$C487=1,'Hoja3 (2)'!$B487,\"No\")","v":"ILEGALIDAD DEL ACTO ADMINISTRATIVO QUE PROFIERE LIQUIDACION OFICIAL DE AFORO DEL IMPUESTO DE VENTAS"},{"$f":"+'Hoja3 (2)'!$C487&'Hoja3 (2)'!$B487","v":"1ILEGALIDAD DEL ACTO ADMINISTRATIVO QUE PROFIERE LIQUIDACION OFICIAL DE AFORO DEL IMPUESTO DE VENTAS"},{"$f":"IFERROR(FIND(UPPER('Causas anteriores'!$D$4),D487),0)","v":0},{"$f":"+IF('Hoja3 (2)'!$F487=0,0,1)","v":0},{"$f":"+H486+'Hoja3 (2)'!$G487","v":2},{"$f":"+'Hoja3 (2)'!$H487*'Hoja3 (2)'!$G487","v":0},"MANTENER/AJUSTAR TEXTO","Activa","ILEGALIDAD DEL ACTO ADMINISTRATIVO DE LIQUIDACION OFICIAL DE AFORO IMPUESTO DE VENTAS",null,"ACTIVA"]
[{"$f":"+'Hoja3 (2)'!$I488","v":0},"ILEGALIDAD DEL ACTO ADMINISTRATIVO QUE PROFIERE LIQUIDACION OFICIAL DE AFORO DEL IMPUESTO GMF",1,{"$f":"+IF('Hoja3 (2)'!$C488=1,'Hoja3 (2)'!$B488,\"No\")","v":"ILEGALIDAD DEL ACTO ADMINISTRATIVO QUE PROFIERE LIQUIDACION OFICIAL DE AFORO DEL IMPUESTO GMF"},{"$f":"+'Hoja3 (2)'!$C488&'Hoja3 (2)'!$B488","v":"1ILEGALIDAD DEL ACTO ADMINISTRATIVO QUE PROFIERE LIQUIDACION OFICIAL DE AFORO DEL IMPUESTO GMF"},{"$f":"IFERROR(FIND(UPPER('Causas anteriores'!$D$4),D488),0)","v":0},{"$f":"+IF('Hoja3 (2)'!$F488=0,0,1)","v":0},{"$f":"+H487+'Hoja3 (2)'!$G488","v":2},{"$f":"+'Hoja3 (2)'!$H488*'Hoja3 (2)'!$G488","v":0},"MANTENER/AJUSTAR TEXTO","Activa","ILEGALIDAD DEL ACTO ADMINISTRATIVO DE LIQUIDACION OFICIAL DE AFORO IMPUESTO GMF",null,"ACTIVA"]
[{"$f":"+'Hoja3 (2)'!$I489","v":0},"ILEGALIDAD DEL ACTO ADMINISTRATIVO QUE PROFIERE LIQUIDACION OFICIAL DE CONSUMO",1,{"$f":"+IF('Hoja3 (2)'!$C489=1,'Hoja3 (2)'!$B489,\"No\")","v":"ILEGALIDAD DEL ACTO ADMINISTRATIVO QUE PROFIERE LIQUIDACION OFICIAL DE CONSUMO"},{"$f":"+'Hoja3 (2)'!$C489&'Hoja3 (2)'!$B489","v":"1ILEGALIDAD DEL ACTO ADMINISTRATIVO QUE PROFIERE LIQUIDACION OFICIAL DE CONSUMO"},{"$f":"IFERROR(FIND(UPPER('Causas anteriores'!$D$4),D489),0)","v":0},{"$f":"+IF('Hoja3 (2)'!$F489=0,0,1)","v":0},{"$f":"+H488+'Hoja3 (2)'!$G489","v":2},{"$f":"+'Hoja3 (2)'!$H489*'Hoja3 (2)'!$G489","v":0},"MANTENER/AJUSTAR TEXTO","Activa","ILEGALIDAD DEL ACTO ADMINISTRATIVO DE LIQUIDACION OFICIAL DE REVISION IMPUESTO AL CONSUMO",null,"ACTIVA"]
[{"$f":"+'Hoja3 (2)'!$I490","v":0},"ILEGALIDAD DEL ACTO ADMINISTRATIVO QUE PROFIERE LIQUIDACION OFICIAL DE CORRECCION DEL IMPUESTO CREE",1,{"$f":"+IF('Hoja3 (2)'!$C490=1,'Hoja3 (2)'!$B490,\"No\")","v":"ILEGALIDAD DEL ACTO ADMINISTRATIVO QUE PROFIERE LIQUIDACION OFICIAL DE CORRECCION DEL IMPUESTO CREE"},{"$f":"+'Hoja3 (2)'!$C490&'Hoja3 (2)'!$B490","v":"1ILEGALIDAD DEL ACTO ADMINISTRATIVO QUE PROFIERE LIQUIDACION OFICIAL DE CORRECCION DEL IMPUESTO CREE"},{"$f":"IFERROR(FIND(UPPER('Causas anteriores'!$D$4),D490),0)","v":0},{"$f":"+IF('Hoja3 (2)'!$F490=0,0,1)","v":0},{"$f":"+H489+'Hoja3 (2)'!$G490","v":2},{"$f":"+'Hoja3 (2)'!$H490*'Hoja3 (2)'!$G490","v":0},"MANTENER/AJUSTAR TEXTO","Activa","ILEGALIDAD DEL ACTO ADMINISTRATIVO DE LIQUIDACION OFICIAL DE CORRECCION IMPUESTO CREE",null,"ACTIVA"]
[{"$f":"+'Hoja3 (2)'!$I491","v":0},"ILEGALIDAD DEL ACTO ADMINISTRATIVO QUE PROFIERE LIQUIDACION OFICIAL DE CORRECCION DEL IMPUESTO DE CONSUMO",1,{"$f":"+IF('Hoja3 (2)'!$C491=1,'Hoja3 (2)'!$B491,\"No\")","v":"ILEGALIDAD DEL ACTO ADMINISTRATIVO QUE PROFIERE LIQUIDACION OFICIAL DE CORRECCION DEL IMPUESTO DE CONSUMO"},{"$f":"+'Hoja3 (2)'!$C491&'Hoja3 (2)'!$B491","v":"1ILEGALIDAD DEL ACTO ADMINISTRATIVO QUE PROFIERE LIQUIDACION OFICIAL DE CORRECCION DEL IMPUESTO DE CONSUMO"},{"$f":"IFERROR(FIND(UPPER('Causas anteriores'!$D$4),D491),0)","v":0},{"$f":"+IF('Hoja3 (2)'!$F491=0,0,1)","v":0},{"$f":"+H490+'Hoja3 (2)'!$G491","v":2},{"$f":"+'Hoja3 (2)'!$H491*'Hoja3 (2)'!$G491","v":0},"INACTIVAR EN NUEVA MATRIZ","Inactiva",null,null,"ACTIVA"]
[{"$f":"+'Hoja3 (2)'!$I492","v":0},"ILEGALIDAD DEL ACTO ADMINISTRATIVO QUE PROFIERE LIQUIDACION OFICIAL DE CORRECCION DEL IMPUESTO DE PATRIMONIO",1,{"$f":"+IF('Hoja3 (2)'!$C492=1,'Hoja3 (2)'!$B492,\"No\")","v":"ILEGALIDAD DEL ACTO ADMINISTRATIVO QUE PROFIERE LIQUIDACION OFICIAL DE CORRECCION DEL IMPUESTO DE PATRIMONIO"},{"$f":"+'Hoja3 (2)'!$C492&'Hoja3 (2)'!$B492","v":"1ILEGALIDAD DEL ACTO ADMINISTRATIVO QUE PROFIERE LIQUIDACION OFICIAL DE CORRECCION DEL IMPUESTO DE PATRIMONIO"},{"$f":"IFERROR(FIND(UPPER('Causas anteriores'!$D$4),D492),0)","v":0},{"$f":"+IF('Hoja3 (2)'!$F492=0,0,1)","v":0},{"$f":"+H491+'Hoja3 (2)'!$G492","v":2},{"$f":"+'Hoja3 (2)'!$H492*'Hoja3 (2)'!$G492","v":0},"MANTENER/AJUSTAR TEXTO","Activa","ILEGALIDAD DEL ACTO ADMINISTRATIVO DE LIQUIDACION OFICIAL DE CORRECCION IMPUESTO AL PATRIMONIO",null,"ACTIVA"]
[{"$f":"+'Hoja3 (2)'!$I493","v":0},"ILEGALIDAD DEL ACTO ADMINISTRATIVO QUE PROFIERE LIQUIDACION OFICIAL DE CORRECCION DEL IMPUESTO DE RENTA",1,{"$f":"+IF('Hoja3 (2)'!$C493=1,'Hoja3 (2)'!$B493,\"No\")","v":"ILEGALIDAD DEL ACTO ADMINISTRATIVO QUE PROFIERE LIQUIDACION OFICIAL DE CORRECCION DEL IMPUESTO DE RENTA"},{"$f":"+'Hoja3 (2)'!$C493&'Hoja3 (2)'!$B493","v":"1ILEGALIDAD DEL ACTO ADMINISTRATIVO QUE PROFIERE LIQUIDACION OFICIAL DE CORRECCION DEL IMPUESTO DE RENTA"},{"$f":"IFERROR(FIND(UPPER('Causas anteriores'!$D$4),D493),0)","v":0},{"$f":"+IF('Hoja3 (2)'!$F493=0,0,1)","v":0},{"$f":"+H492+'Hoja3 (2)'!$G493","v":2},{"$f":"+'Hoja3 (2)'!$H493*'Hoja3 (2)'!$G493","v":0},"MANTENER/AJUSTAR TEXTO","Activa","ILEGALIDAD DEL ACTO ADMINISTRATIVO DE LIQUIDACION OFICIAL DE CORRECCION IMPUESTO DE RENTA Y COMPLEMENTARIOS",null,"ACTIVA"]
[{"$f":"+'Hoja3 (2)'!$I494","v":0},"ILEGALIDAD DEL ACTO ADMINISTRATIVO QUE PROFIERE LIQUIDACION OFICIAL DE CORRECCION DEL IMPUESTO DE RETENCION EN LA FUENTE",1,{"$f":"+IF('Hoja3 (2)'!$C494=1,'Hoja3 (2)'!$B494,\"No\")","v":"ILEGALIDAD DEL ACTO ADMINISTRATIVO QUE PROFIERE LIQUIDACION OFICIAL DE CORRECCION DEL IMPUESTO DE RETENCION EN LA FUENTE"},{"$f":"+'Hoja3 (2)'!$C494&'Hoja3 (2)'!$B494","v":"1ILEGALIDAD DEL ACTO ADMINISTRATIVO QUE PROFIERE LIQUIDACION OFICIAL DE CORRECCION DEL IMPUESTO DE RETENCION EN LA FUENTE"},{"$f":"IFERROR(FIND(UPPER('Causas anteriores'!$D$4),D494),0)","v":0},{"$f":"+IF('Hoja3 (2)'!$F494=0,0,1)","v":0},{"$f":"+H493+'Hoja3 (2)'!$G494","v":2},{"$f":"+'Hoja3 (2)'!$H494*'Hoja3 (2)'!$G494","v":0},"MANTENER/AJUSTAR TEXTO","Activa","ILEGALIDAD DEL ACTO ADMINISTRATIVO DE LIQUIDACION OFICIAL DE CORRECCION IMPUESTO DE RETENCION EN LA FUENTE",null,"ACTIVA"]
[{"$f":"+'Hoja3 (2)'!$I495","v":0},"ILEGALIDAD DEL ACTO ADMINISTRATIVO QUE PROFIERE LIQUIDACION OFICIAL DE CORRECCION DEL IMPUESTO DE RIQUEZA",1,{"$f":"+IF('Hoja3 (2)'!$C495=1,'Hoja3 (2)'!$B495,\"No\")","v":"ILEGALIDAD DEL ACTO ADMINISTRATIVO QUE PROFIERE LIQUIDACION OFICIAL DE CORRECCION DEL IMPUESTO DE RIQUEZA"},{"$f":"+'Hoja3 (2)'!$C495&'Hoja3 (2)'!$B495","v":"1ILEGALIDAD DEL ACTO ADMINISTRATIVO QUE PROFIERE LIQUIDACION OFICIAL DE CORRECCION DEL IMPUESTO DE RIQUEZA"},{"$f":"IFERROR(FIND(UPPER('Causas anteriores'!$D$4),D495),0)","v":0},{"$f":"+IF('Hoja3 (2)'!$F495=0,0,1)","v":0},{"$f":"+H494+'Hoja3 (2)'!$G495","v":2},{"$f":"+'Hoja3 (2)'!$H495*'Hoja3 (2)'!$G495","v":0},"MANTENER/AJUSTAR TEXTO","Activa","ILEGALIDAD DEL ACTO ADMINISTRATIVO DE LIQUIDACION OFICIAL DE CORRECCION IMPUESTO DE RIQUEZA",null,"ACTIVA"]
[{"$f":"+'Hoja3 (2)'!$I496","v":0},"ILEGALIDAD DEL ACTO ADMINISTRATIVO QUE PROFIERE LIQUIDACION OFICIAL DE CORRECCION DEL IMPUESTO DE SEGURIDAD DEMOCRATICA",1,{"$f":"+IF('Hoja3 (2)'!$C496=1,'Hoja3 (2)'!$B496,\"No\")","v":"ILEGALIDAD DEL ACTO ADMINISTRATIVO QUE PROFIERE LIQUIDACION OFICIAL DE CORRECCION DEL IMPUESTO DE SEGURIDAD DEMOCRATICA"},{"$f":"+'Hoja3 (2)'!$C496&'Hoja3 (2)'!$B496","v":"1ILEGALIDAD DEL ACTO ADMINISTRATIVO QUE PROFIERE LIQUIDACION OFICIAL DE CORRECCION DEL IMPUESTO DE SEGURIDAD DEMOCRATICA"},{"$f":"IFERROR(FIND(UPPER('Causas anteriores'!$D$4),D496),0)","v":0},{"$f":"+IF('Hoja3 (2)'!$F496=0,0,1)","v":0},{"$f":"+H495+'Hoja3 (2)'!$G496","v":2},{"$f":"+'Hoja3 (2)'!$H496*'Hoja3 (2)'!$G496","v":0},"MANTENER/AJUSTAR TEXTO","Activa","ILEGALIDAD DEL ACTO ADMINISTRATIVO DE LIQUIDACION OFICIAL DE CORRECCION IMPUESTO DE SEGURIDAD DEMOCRATICA",null,"ACTIVA"]
[{"$f":"+'Hoja3 (2)'!$I497","v":0},"ILEGALIDAD DEL ACTO ADMINISTRATIVO QUE PROFIERE LIQUIDACION OFICIAL DE CORRECCION DEL IMPUESTO DE VENTAS",1,{"$f":"+IF('Hoja3 (2)'!$C497=1,'Hoja3 (2)'!$B497,\"No\")","v":"ILEGALIDAD DEL ACTO ADMINISTRATIVO QUE PROFIERE LIQUIDACION OFICIAL DE CORRECCION DEL IMPUESTO DE VENTAS"},{"$f":"+'Hoja3 (2)'!$C497&'Hoja3 (2)'!$B497","v":"1ILEGALIDAD DEL ACTO ADMINISTRATIVO QUE PROFIERE LIQUIDACION OFICIAL DE CORRECCION DEL IMPUESTO DE VENTAS"},{"$f":"IFERROR(FIND(UPPER('Causas anteriores'!$D$4),D497),0)","v":0},{"$f":"+IF('Hoja3 (2)'!$F497=0,0,1)","v":0},{"$f":"+H496+'Hoja3 (2)'!$G497","v":2},{"$f":"+'Hoja3 (2)'!$H497*'Hoja3 (2)'!$G497","v":0},"MANTENER/AJUSTAR TEXTO","Activa","ILEGALIDAD DEL ACTO ADMINISTRATIVO DE LIQUIDACION OFICIAL DE CORRECCION IMPUESTO DE VENTAS",null,"ACTIVA"]
[{"$f":"+'Hoja3 (2)'!$I498","v":0},"ILEGALIDAD DEL ACTO ADMINISTRATIVO QUE PROFIERE LIQUIDACION OFICIAL DE CORRECCION DEL IMPUESTO GMF",1,{"$f":"+IF('Hoja3 (2)'!$C498=1,'Hoja3 (2)'!$B498,\"No\")","v":"ILEGALIDAD DEL ACTO ADMINISTRATIVO QUE PROFIERE LIQUIDACION OFICIAL DE CORRECCION DEL IMPUESTO GMF"},{"$f":"+'Hoja3 (2)'!$C498&'Hoja3 (2)'!$B498","v":"1ILEGALIDAD DEL ACTO ADMINISTRATIVO QUE PROFIERE LIQUIDACION OFICIAL DE CORRECCION DEL IMPUESTO GMF"},{"$f":"IFERROR(FIND(UPPER('Causas anteriores'!$D$4),D498),0)","v":0},{"$f":"+IF('Hoja3 (2)'!$F498=0,0,1)","v":0},{"$f":"+H497+'Hoja3 (2)'!$G498","v":2},{"$f":"+'Hoja3 (2)'!$H498*'Hoja3 (2)'!$G498","v":0},"MANTENER/AJUSTAR TEXTO","Activa","ILEGALIDAD DEL ACTO ADMINISTRATIVO DE LIQUIDACION OFICIAL DE REVISION IMPUESTO GMF",null,"ACTIVA"]
[{"$f":"+'Hoja3 (2)'!$I499","v":0},"ILEGALIDAD DEL ACTO ADMINISTRATIVO QUE PROFIERE LIQUIDACION OFICIAL DE PATRIMONIO",1,{"$f":"+IF('Hoja3 (2)'!$C499=1,'Hoja3 (2)'!$B499,\"No\")","v":"ILEGALIDAD DEL ACTO ADMINISTRATIVO QUE PROFIERE LIQUIDACION OFICIAL DE PATRIMONIO"},{"$f":"+'Hoja3 (2)'!$C499&'Hoja3 (2)'!$B499","v":"1ILEGALIDAD DEL ACTO ADMINISTRATIVO QUE PROFIERE LIQUIDACION OFICIAL DE PATRIMONIO"},{"$f":"IFERROR(FIND(UPPER('Causas anteriores'!$D$4),D499),0)","v":0},{"$f":"+IF('Hoja3 (2)'!$F499=0,0,1)","v":0},{"$f":"+H498+'Hoja3 (2)'!$G499","v":2},{"$f":"+'Hoja3 (2)'!$H499*'Hoja3 (2)'!$G499","v":0},"MANTENER/AJUSTAR TEXTO","Activa","ILEGALIDAD DEL ACTO ADMINISTRATIVO DE LIQUIDACION OFICIAL DE REVISION IMPUESTO AL PATRIMONIO",null,"ACTIVA"]
[{"$f":"+'Hoja3 (2)'!$I500","v":0},"ILEGALIDAD DEL ACTO ADMINISTRATIVO QUE PROFIERE LIQUIDACION OFICIAL DE RENTA",1,{"$f":"+IF('Hoja3 (2)'!$C500=1,'Hoja3 (2)'!$B500,\"No\")","v":"ILEGALIDAD DEL ACTO ADMINISTRATIVO QUE PROFIERE LIQUIDACION OFICIAL DE RENTA"},{"$f":"+'Hoja3 (2)'!$C500&'Hoja3 (2)'!$B500","v":"1ILEGALIDAD DEL ACTO ADMINISTRATIVO QUE PROFIERE LIQUIDACION OFICIAL DE RENTA"},{"$f":"IFERROR(FIND(UPPER('Causas anteriores'!$D$4),D500),0)","v":0},{"$f":"+IF('Hoja3 (2)'!$F500=0,0,1)","v":0},{"$f":"+H499+'Hoja3 (2)'!$G500","v":2},{"$f":"+'Hoja3 (2)'!$H500*'Hoja3 (2)'!$G500","v":0},"MANTENER/AJUSTAR TEXTO","Activa","ILEGALIDAD DEL ACTO ADMINISTRATIVO DE LIQUIDACION OFICIAL DE REVISION IMPUESTO DE RENTA Y COMPLEMENTARIOS",null,"ACTIVA"]
[{"$f":"+'Hoja3 (2)'!$I501","v":0},"ILEGALIDAD DEL ACTO ADMINISTRATIVO QUE PROFIERE LIQUIDACION OFICIAL DE RETENCION EN LA FUENTE",1,{"$f":"+IF('Hoja3 (2)'!$C501=1,'Hoja3 (2)'!$B501,\"No\")","v":"ILEGALIDAD DEL ACTO ADMINISTRATIVO QUE PROFIERE LIQUIDACION OFICIAL DE RETENCION EN LA FUENTE"},{"$f":"+'Hoja3 (2)'!$C501&'Hoja3 (2)'!$B501","v":"1ILEGALIDAD DEL ACTO ADMINISTRATIVO QUE PROFIERE LIQUIDACION OFICIAL DE RETENCION EN LA FUENTE"},{"$f":"IFERROR(FIND(UPPER('Causas anteriores'!$D$4),D501),0)","v":0},{"$f":"+IF('Hoja3 (2)'!$F501=0,0,1)","v":0},{"$f":"+H500+'Hoja3 (2)'!$G501","v":2},{"$f":"+'Hoja3 (2)'!$H501*'Hoja3 (2)'!$G501","v":0},"MANTENER/AJUSTAR TEXTO","Activa","ILEGALIDAD DEL ACTO ADMINISTRATIVO DE LIQUIDACION OFICIAL DE REVISION IMPUESTO DE RETENCION EN LA FUENTE",null,"ACTIVA"]
[{"$f":"+'Hoja3 (2)'!$I502","v":0},"ILEGALIDAD DEL ACTO ADMINISTRATIVO QUE PROFIERE LIQUIDACION OFICIAL DE REVISION DE VALOR DEL IMPUESTO DE IMPORTACION",1,{"$f":"+IF('Hoja3 (2)'!$C502=1,'Hoja3 (2)'!$B502,\"No\")","v":"ILEGALIDAD DEL ACTO ADMINISTRATIVO QUE PROFIERE LIQUIDACION OFICIAL DE REVISION DE VALOR DEL IMPUESTO DE IMPORTACION"},{"$f":"+'Hoja3 (2)'!$C502&'Hoja3 (2)'!$B502","v":"1ILEGALIDAD DEL ACTO ADMINISTRATIVO QUE PROFIERE LIQUIDACION OFICIAL DE REVISION DE VALOR DEL IMPUESTO DE IMPORTACION"},{"$f":"IFERROR(FIND(UPPER('Causas anteriores'!$D$4),D502),0)","v":0},{"$f":"+IF('Hoja3 (2)'!$F502=0,0,1)","v":0},{"$f":"+H501+'Hoja3 (2)'!$G502","v":2},{"$f":"+'Hoja3 (2)'!$H502*'Hoja3 (2)'!$G502","v":0},"MANTENER/AJUSTAR TEXTO","Activa","ILEGALIDAD DEL ACTO ADMINISTRATIVO QUE PROFIERE LIQUIDACION OFICIAL DE REVISION DE VALOR DEL IMPUESTO DE IMPORTACION",null,"ACTIVA"]
[{"$f":"+'Hoja3 (2)'!$I503","v":0},"ILEGALIDAD DEL ACTO ADMINISTRATIVO QUE PROFIERE LIQUIDACION OFICIAL DE REVISION DEL IMPUESTO DE IMPORTACION",1,{"$f":"+IF('Hoja3 (2)'!$C503=1,'Hoja3 (2)'!$B503,\"No\")","v":"ILEGALIDAD DEL ACTO ADMINISTRATIVO QUE PROFIERE LIQUIDACION OFICIAL DE REVISION DEL IMPUESTO DE IMPORTACION"},{"$f":"+'Hoja3 (2)'!$C503&'Hoja3 (2)'!$B503","v":"1ILEGALIDAD DEL ACTO ADMINISTRATIVO QUE PROFIERE LIQUIDACION OFICIAL DE REVISION DEL IMPUESTO DE IMPORTACION"},{"$f":"IFERROR(FIND(UPPER('Causas anteriores'!$D$4),D503),0)","v":0},{"$f":"+IF('Hoja3 (2)'!$F503=0,0,1)","v":0},{"$f":"+H502+'Hoja3 (2)'!$G503","v":2},{"$f":"+'Hoja3 (2)'!$H503*'Hoja3 (2)'!$G503","v":0},"INACTIVAR EN NUEVA MATRIZ","Inactiva",null,null,"ACTIVA"]
[{"$f":"+'Hoja3 (2)'!$I504","v":0},"ILEGALIDAD DEL ACTO ADMINISTRATIVO QUE PROFIERE LIQUIDACION OFICIAL DE REVISION GMF",1,{"$f":"+IF('Hoja3 (2)'!$C504=1,'Hoja3 (2)'!$B504,\"No\")","v":"ILEGALIDAD DEL ACTO ADMINISTRATIVO QUE PROFIERE LIQUIDACION OFICIAL DE REVISION GMF"},{"$f":"+'Hoja3 (2)'!$C504&'Hoja3 (2)'!$B504","v":"1ILEGALIDAD DEL ACTO ADMINISTRATIVO QUE PROFIERE LIQUIDACION OFICIAL DE REVISION GMF"},{"$f":"IFERROR(FIND(UPPER('Causas anteriores'!$D$4),D504),0)","v":0},{"$f":"+IF('Hoja3 (2)'!$F504=0,0,1)","v":0},{"$f":"+H503+'Hoja3 (2)'!$G504","v":2},{"$f":"+'Hoja3 (2)'!$H504*'Hoja3 (2)'!$G504","v":0},"MANTENER/AJUSTAR TEXTO","Activa","ILEGALIDAD DEL ACTO ADMINISTRATIVO DE LIQUIDACION OFICIAL DE REVISION IMPUESTO GMF",null,"ACTIVA"]
[{"$f":"+'Hoja3 (2)'!$I505","v":0},"ILEGALIDAD DEL ACTO ADMINISTRATIVO QUE PROFIERE LIQUIDACION OFICIAL DE RIQUEZA",1,{"$f":"+IF('Hoja3 (2)'!$C505=1,'Hoja3 (2)'!$B505,\"No\")","v":"ILEGALIDAD DEL ACTO ADMINISTRATIVO QUE PROFIERE LIQUIDACION OFICIAL DE RIQUEZA"},{"$f":"+'Hoja3 (2)'!$C505&'Hoja3 (2)'!$B505","v":"1ILEGALIDAD DEL ACTO ADMINISTRATIVO QUE PROFIERE LIQUIDACION OFICIAL DE RIQUEZA"},{"$f":"IFERROR(FIND(UPPER('Causas anteriores'!$D$4),D505),0)","v":0},{"$f":"+IF('Hoja3 (2)'!$F505=0,0,1)","v":0},{"$f":"+H504+'Hoja3 (2)'!$G505","v":2},{"$f":"+'Hoja3 (2)'!$H505*'Hoja3 (2)'!$G505","v":0},"MANTENER/AJUSTAR TEXTO","Activa","ILEGALIDAD DEL ACTO ADMINISTRATIVO DE LIQUIDACION OFICIAL DE REVISION IMPUESTO DE RIQUEZA",null,"ACTIVA"]
[{"$f":"+'Hoja3 (2)'!$I506","v":0},"ILEGALIDAD DEL ACTO ADMINISTRATIVO QUE PROFIERE LIQUIDACION OFICIAL DE SEGURIDAD DEMOCRATICA",1,{"$f":"+IF('Hoja3 (2)'!$C506=1,'Hoja3 (2)'!$B506,\"No\")","v":"ILEGALIDAD DEL ACTO ADMINISTRATIVO QUE PROFIERE LIQUIDACION OFICIAL DE SEGURIDAD DEMOCRATICA"},{"$f":"+'Hoja3 (2)'!$C506&'Hoja3 (2)'!$B506","v":"1ILEGALIDAD DEL ACTO ADMINISTRATIVO QUE PROFIERE LIQUIDACION OFICIAL DE SEGURIDAD DEMOCRATICA"},{"$f":"IFERROR(FIND(UPPER('Causas anteriores'!$D$4),D506),0)","v":0},{"$f":"+IF('Hoja3 (2)'!$F506=0,0,1)","v":0},{"$f":"+H505+'Hoja3 (2)'!$G506","v":2},{"$f":"+'Hoja3 (2)'!$H506*'Hoja3 (2)'!$G506","v":0},"MANTENER/AJUSTAR TEXTO","Activa","ILEGALIDAD DEL ACTO ADMINISTRATIVO DE LIQUIDACION OFICIAL DE REVISION IMPUESTO DE SEGURIDAD DEMOCRATICA",null,"ACTIVA"]
[{"$f":"+'Hoja3 (2)'!$I507","v":0},"ILEGALIDAD DEL ACTO ADMINISTRATIVO QUE PROFIERE LIQUIDACION OFICIAL DE VENTAS",1,{"$f":"+IF('Hoja3 (2)'!$C507=1,'Hoja3 (2)'!$B507,\"No\")","v":"ILEGALIDAD DEL ACTO ADMINISTRATIVO QUE PROFIERE LIQUIDACION OFICIAL DE VENTAS"},{"$f":"+'Hoja3 (2)'!$C507&'Hoja3 (2)'!$B507","v":"1ILEGALIDAD DEL ACTO ADMINISTRATIVO QUE PROFIERE LIQUIDACION OFICIAL DE VENTAS"},{"$f":"IFERROR(FIND(UPPER('Causas anteriores'!$D$4),D507),0)","v":0},{"$f":"+IF('Hoja3 (2)'!$F507=0,0,1)","v":0},{"$f":"+H506+'Hoja3 (2)'!$G507","v":2},{"$f":"+'Hoja3 (2)'!$H507*'Hoja3 (2)'!$G507","v":0},"MANTENER/AJUSTAR TEXTO","Activa","ILEGALIDAD DEL ACTO ADMINISTRATIVO DE LIQUIDACION OFICIAL DE REVISION IMPUESTO DE VENTAS",null,"ACTIVA"]
[{"$f":"+'Hoja3 (2)'!$I508","v":0},"ILEGALIDAD DEL ACTO ADMINISTRATIVO QUE RECHAZA SOLICITUD DE FORMALIZACION MINERA",1,{"$f":"+IF('Hoja3 (2)'!$C508=1,'Hoja3 (2)'!$B508,\"No\")","v":"ILEGALIDAD DEL ACTO ADMINISTRATIVO QUE RECHAZA SOLICITUD DE FORMALIZACION MINERA"},{"$f":"+'Hoja3 (2)'!$C508&'Hoja3 (2)'!$B508","v":"1ILEGALIDAD DEL ACTO ADMINISTRATIVO QUE RECHAZA SOLICITUD DE FORMALIZACION MINERA"},{"$f":"IFERROR(FIND(UPPER('Causas anteriores'!$D$4),D508),0)","v":0},{"$f":"+IF('Hoja3 (2)'!$F508=0,0,1)","v":0},{"$f":"+H507+'Hoja3 (2)'!$G508","v":2},{"$f":"+'Hoja3 (2)'!$H508*'Hoja3 (2)'!$G508","v":0},"INACTIVAR EN NUEVA MATRIZ","Inactiva",null,null,"ACTIVA"]
[{"$f":"+'Hoja3 (2)'!$I509","v":0},"ILEGALIDAD DEL ACTO ADMINISTRATIVO QUE RECONOCE PAGO DE REGALIAS - ACCION DE LESIVIDAD",1,{"$f":"+IF('Hoja3 (2)'!$C509=1,'Hoja3 (2)'!$B509,\"No\")","v":"ILEGALIDAD DEL ACTO ADMINISTRATIVO QUE RECONOCE PAGO DE REGALIAS - ACCION DE LESIVIDAD"},{"$f":"+'Hoja3 (2)'!$C509&'Hoja3 (2)'!$B509","v":"1ILEGALIDAD DEL ACTO ADMINISTRATIVO QUE RECONOCE PAGO DE REGALIAS - ACCION DE LESIVIDAD"},{"$f":"IFERROR(FIND(UPPER('Causas anteriores'!$D$4),D509),0)","v":0},{"$f":"+IF('Hoja3 (2)'!$F509=0,0,1)","v":0},{"$f":"+H508+'Hoja3 (2)'!$G509","v":2},{"$f":"+'Hoja3 (2)'!$H509*'Hoja3 (2)'!$G509","v":0},"MANTENER/AJUSTAR TEXTO","Activa","NO RECONOCIMIENTO DE REGALIAS",null,"ACTIVA"]
[{"$f":"+'Hoja3 (2)'!$I510","v":0},"ILEGALIDAD DEL ACTO ADMINISTRATIVO QUE RECONOCE PENSION - ACCION DE LESIVIDAD",1,{"$f":"+IF('Hoja3 (2)'!$C510=1,'Hoja3 (2)'!$B510,\"No\")","v":"ILEGALIDAD DEL ACTO ADMINISTRATIVO QUE RECONOCE PENSION - ACCION DE LESIVIDAD"},{"$f":"+'Hoja3 (2)'!$C510&'Hoja3 (2)'!$B510","v":"1ILEGALIDAD DEL ACTO ADMINISTRATIVO QUE RECONOCE PENSION - ACCION DE LESIVIDAD"},{"$f":"IFERROR(FIND(UPPER('Causas anteriores'!$D$4),D510),0)","v":0},{"$f":"+IF('Hoja3 (2)'!$F510=0,0,1)","v":0},{"$f":"+H509+'Hoja3 (2)'!$G510","v":2},{"$f":"+'Hoja3 (2)'!$H510*'Hoja3 (2)'!$G510","v":0},"MANTENER/AJUSTAR TEXTO","Activa","ILEGALIDAD DEL ACTO ADMINISTRATIVO QUE RECONOCE PENSION - ACCION DE LESIVIDAD",null,"ACTIVA"]
[{"$f":"+'Hoja3 (2)'!$I511","v":0},"ILEGALIDAD DEL ACTO ADMINISTRATIVO QUE REGULA LOS SERVICIOS PUBLICOS DE ENERGIA GAS NATURAL GLP O COMBUSTIBLES LIQUIDOS",1,{"$f":"+IF('Hoja3 (2)'!$C511=1,'Hoja3 (2)'!$B511,\"No\")","v":"ILEGALIDAD DEL ACTO ADMINISTRATIVO QUE REGULA LOS SERVICIOS PUBLICOS DE ENERGIA GAS NATURAL GLP O COMBUSTIBLES LIQUIDOS"},{"$f":"+'Hoja3 (2)'!$C511&'Hoja3 (2)'!$B511","v":"1ILEGALIDAD DEL ACTO ADMINISTRATIVO QUE REGULA LOS SERVICIOS PUBLICOS DE ENERGIA GAS NATURAL GLP O COMBUSTIBLES LIQUIDOS"},{"$f":"IFERROR(FIND(UPPER('Causas anteriores'!$D$4),D511),0)","v":0},{"$f":"+IF('Hoja3 (2)'!$F511=0,0,1)","v":0},{"$f":"+H510+'Hoja3 (2)'!$G511","v":2},{"$f":"+'Hoja3 (2)'!$H511*'Hoja3 (2)'!$G511","v":0},"MANTENER/AJUSTAR TEXTO","Activa","ILEGALIDAD DEL ACTO ADMINISTRATIVO QUE REGULA LOS SERVICIOS PUBLICOS DE ENERGIA, GAS NATURAL, GLP Y COMBUSTIBLES LIQUIDOS",null,"ACTIVA"]
[{"$f":"+'Hoja3 (2)'!$I512","v":0},"ILEGALIDAD DEL ACTO ADMINISTRATIVO QUE RELIQUIDA LA PENSION- ACCION DE LESIVIDAD",1,{"$f":"+IF('Hoja3 (2)'!$C512=1,'Hoja3 (2)'!$B512,\"No\")","v":"ILEGALIDAD DEL ACTO ADMINISTRATIVO QUE RELIQUIDA LA PENSION- ACCION DE LESIVIDAD"},{"$f":"+'Hoja3 (2)'!$C512&'Hoja3 (2)'!$B512","v":"1ILEGALIDAD DEL ACTO ADMINISTRATIVO QUE RELIQUIDA LA PENSION- ACCION DE LESIVIDAD"},{"$f":"IFERROR(FIND(UPPER('Causas anteriores'!$D$4),D512),0)","v":0},{"$f":"+IF('Hoja3 (2)'!$F512=0,0,1)","v":0},{"$f":"+H511+'Hoja3 (2)'!$G512","v":2},{"$f":"+'Hoja3 (2)'!$H512*'Hoja3 (2)'!$G512","v":0},"MANTENER/AJUSTAR TEXTO","Activa","ILEGALIDAD DEL ACTO ADMINISTRATIVO QUE LIQUIDA LA PENSION - ACCION DE LESIVIDAD",null,"ACTIVA"]
[{"$f":"+'Hoja3 (2)'!$I513","v":0},"ILEGALIDAD DEL ACTO ADMINISTRATIVO QUE REMUEVE DEL CARGO",1,{"$f":"+IF('Hoja3 (2)'!$C513=1,'Hoja3 (2)'!$B513,\"No\")","v":"ILEGALIDAD DEL ACTO ADMINISTRATIVO QUE REMUEVE DEL CARGO"},{"$f":"+'Hoja3 (2)'!$C513&'Hoja3 (2)'!$B513","v":"1ILEGALIDAD DEL ACTO ADMINISTRATIVO QUE REMUEVE DEL CARGO"},{"$f":"IFERROR(FIND(UPPER('Causas anteriores'!$D$4),D513),0)","v":0},{"$f":"+IF('Hoja3 (2)'!$F513=0,0,1)","v":0},{"$f":"+H512+'Hoja3 (2)'!$G513","v":2},{"$f":"+'Hoja3 (2)'!$H513*'Hoja3 (2)'!$G513","v":0},"ESTABA INACTIVA","Inactiva",null,null,"INACTIVA"]
[{"$f":"+'Hoja3 (2)'!$I514","v":0},"ILEGALIDAD DEL ACTO ADMINISTRATIVO QUE RETIRA A SERVIDOR PUBLICO POR ABANDONO DEL CARGO",1,{"$f":"+IF('Hoja3 (2)'!$C514=1,'Hoja3 (2)'!$B514,\"No\")","v":"ILEGALIDAD DEL ACTO ADMINISTRATIVO QUE RETIRA A SERVIDOR PUBLICO POR ABANDONO DEL CARGO"},{"$f":"+'Hoja3 (2)'!$C514&'Hoja3 (2)'!$B514","v":"1ILEGALIDAD DEL ACTO ADMINISTRATIVO QUE RETIRA A SERVIDOR PUBLICO POR ABANDONO DEL CARGO"},{"$f":"IFERROR(FIND(UPPER('Causas anteriores'!$D$4),D514),0)","v":0},{"$f":"+IF('Hoja3 (2)'!$F514=0,0,1)","v":0},{"$f":"+H513+'Hoja3 (2)'!$G514","v":2},{"$f":"+'Hoja3 (2)'!$H514*'Hoja3 (2)'!$G514","v":0},"INACTIVAR PARA DESAGREGAR","Inactiva",null,null,"ACTIVA"]
[{"$f":"+'Hoja3 (2)'!$I515","v":0},"ILEGALIDAD DEL ACTO ADMINISTRATIVO QUE RETIRA A SERVIDOR PUBLICO POR ABANDONO DEL CARGO",2,{"$f":"+IF('Hoja3 (2)'!$C515=1,'Hoja3 (2)'!$B515,\"No\")","v":"No"},{"$f":"+'Hoja3 (2)'!$C515&'Hoja3 (2)'!$B515","v":"2ILEGALIDAD DEL ACTO ADMINISTRATIVO QUE RETIRA A SERVIDOR PUBLICO POR ABANDONO DEL CARGO"},{"$f":"IFERROR(FIND(UPPER('Causas anteriores'!$D$4),D515),0)","v":0},{"$f":"+IF('Hoja3 (2)'!$F515=0,0,1)","v":0},{"$f":"+H514+'Hoja3 (2)'!$G515","v":2},{"$f":"+'Hoja3 (2)'!$H515*'Hoja3 (2)'!$G515","v":0},"CREAR","Activa","ILEGALIDAD DEL ACTO ADMINISTRATIVO QUE SANCIONA DISCIPLINARIAMENTE A FUNCIONARIO PUBLICO POR ABANDONO DEL CARGO"]
[{"$f":"+'Hoja3 (2)'!$I516","v":0},"ILEGALIDAD DEL ACTO ADMINISTRATIVO QUE RETIRA A SERVIDOR PUBLICO POR ABANDONO DEL CARGO",3,{"$f":"+IF('Hoja3 (2)'!$C516=1,'Hoja3 (2)'!$B516,\"No\")","v":"No"},{"$f":"+'Hoja3 (2)'!$C516&'Hoja3 (2)'!$B516","v":"3ILEGALIDAD DEL ACTO ADMINISTRATIVO QUE RETIRA A SERVIDOR PUBLICO POR ABANDONO DEL CARGO"},{"$f":"IFERROR(FIND(UPPER('Causas anteriores'!$D$4),D516),0)","v":0},{"$f":"+IF('Hoja3 (2)'!$F516=0,0,1)","v":0},{"$f":"+H515+'Hoja3 (2)'!$G516","v":2},{"$f":"+'Hoja3 (2)'!$H516*'Hoja3 (2)'!$G516","v":0},"CREAR","Activa","ILEGALIDAD DEL ACTO ADMINISTRATIVO QUE SANCIONA DISCIPLINARIAMENTE A TRABAJADOR OFICIAL POR ABANDONO DEL SERVICIO"]
[{"$f":"+'Hoja3 (2)'!$I517","v":0},"ILEGALIDAD DEL ACTO ADMINISTRATIVO QUE RETIRA DEL CARGO",1,{"$f":"+IF('Hoja3 (2)'!$C517=1,'Hoja3 (2)'!$B517,\"No\")","v":"ILEGALIDAD DEL ACTO ADMINISTRATIVO QUE RETIRA DEL CARGO"},{"$f":"+'Hoja3 (2)'!$C517&'Hoja3 (2)'!$B517","v":"1ILEGALIDAD DEL ACTO ADMINISTRATIVO QUE RETIRA DEL CARGO"},{"$f":"IFERROR(FIND(UPPER('Causas anteriores'!$D$4),D517),0)","v":0},{"$f":"+IF('Hoja3 (2)'!$F517=0,0,1)","v":0},{"$f":"+H516+'Hoja3 (2)'!$G517","v":2},{"$f":"+'Hoja3 (2)'!$H517*'Hoja3 (2)'!$G517","v":0},"ESTABA INACTIVA","Inactiva",null,null,"INACTIVA"]
[{"$f":"+'Hoja3 (2)'!$I518","v":0},"ILEGALIDAD DEL ACTO ADMINISTRATIVO QUE RETIRA DEL SERVICIO A MIEMBRO DE LA FUERZA PUBLICA",1,{"$f":"+IF('Hoja3 (2)'!$C518=1,'Hoja3 (2)'!$B518,\"No\")","v":"ILEGALIDAD DEL ACTO ADMINISTRATIVO QUE RETIRA DEL SERVICIO A MIEMBRO DE LA FUERZA PUBLICA"},{"$f":"+'Hoja3 (2)'!$C518&'Hoja3 (2)'!$B518","v":"1ILEGALIDAD DEL ACTO ADMINISTRATIVO QUE RETIRA DEL SERVICIO A MIEMBRO DE LA FUERZA PUBLICA"},{"$f":"IFERROR(FIND(UPPER('Causas anteriores'!$D$4),D518),0)","v":0},{"$f":"+IF('Hoja3 (2)'!$F518=0,0,1)","v":0},{"$f":"+H517+'Hoja3 (2)'!$G518","v":2},{"$f":"+'Hoja3 (2)'!$H518*'Hoja3 (2)'!$G518","v":0},"INACTIVAR PARA DESAGREGAR","Inactiva",null,null,"ACTIVA"]
[{"$f":"+'Hoja3 (2)'!$I519","v":0},"ILEGALIDAD DEL ACTO ADMINISTRATIVO QUE RETIRA DEL SERVICIO A MIEMBRO DE LA FUERZA PUBLICA",2,{"$f":"+IF('Hoja3 (2)'!$C519=1,'Hoja3 (2)'!$B519,\"No\")","v":"No"},{"$f":"+'Hoja3 (2)'!$C519&'Hoja3 (2)'!$B519","v":"2ILEGALIDAD DEL ACTO ADMINISTRATIVO QUE RETIRA DEL SERVICIO A MIEMBRO DE LA FUERZA PUBLICA"},{"$f":"IFERROR(FIND(UPPER('Causas anteriores'!$D$4),D519),0)","v":0},{"$f":"+IF('Hoja3 (2)'!$F519=0,0,1)","v":0},{"$f":"+H518+'Hoja3 (2)'!$G519","v":2},{"$f":"+'Hoja3 (2)'!$H519*'Hoja3 (2)'!$G519","v":0},"CREAR","Activa","ILEGALIDAD DEL ACTO ADMINISTRATIVO QUE RETIRA DEL SERVICIO A MIEMBRO DE LA FUERZA PUBLICA POR PERDIDA DE LA CAPACIDAD LABORAL"]
[{"$f":"+'Hoja3 (2)'!$I520","v":0},"ILEGALIDAD DEL ACTO ADMINISTRATIVO QUE RETIRA DEL SERVICIO A MIEMBRO DE LA FUERZA PUBLICA",3,{"$f":"+IF('Hoja3 (2)'!$C520=1,'Hoja3 (2)'!$B520,\"No\")","v":"No"},{"$f":"+'Hoja3 (2)'!$C520&'Hoja3 (2)'!$B520","v":"3ILEGALIDAD DEL ACTO ADMINISTRATIVO QUE RETIRA DEL SERVICIO A MIEMBRO DE LA FUERZA PUBLICA"},{"$f":"IFERROR(FIND(UPPER('Causas anteriores'!$D$4),D520),0)","v":0},{"$f":"+IF('Hoja3 (2)'!$F520=0,0,1)","v":0},{"$f":"+H519+'Hoja3 (2)'!$G520","v":2},{"$f":"+'Hoja3 (2)'!$H520*'Hoja3 (2)'!$G520","v":0},"CREAR","Activa","ILEGALIDAD DEL ACTO ADMINISTRATIVO DE DESVINCULACION DE LOS MIEMBROS DE LA FUERZA PUBLICA POR LLAMAMIENTO A CALIFICAR SERVICIOS"]
[{"$f":"+'Hoja3 (2)'!$I521","v":0},"ILEGALIDAD DEL ACTO ADMINISTRATIVO QUE RETIRA DEL SERVICIO A MIEMBRO DE LA FUERZA PUBLICA",4,{"$f":"+IF('Hoja3 (2)'!$C521=1,'Hoja3 (2)'!$B521,\"No\")","v":"No"},{"$f":"+'Hoja3 (2)'!$C521&'Hoja3 (2)'!$B521","v":"4ILEGALIDAD DEL ACTO ADMINISTRATIVO QUE RETIRA DEL SERVICIO A MIEMBRO DE LA FUERZA PUBLICA"},{"$f":"IFERROR(FIND(UPPER('Causas anteriores'!$D$4),D521),0)","v":0},{"$f":"+IF('Hoja3 (2)'!$F521=0,0,1)","v":0},{"$f":"+H520+'Hoja3 (2)'!$G521","v":2},{"$f":"+'Hoja3 (2)'!$H521*'Hoja3 (2)'!$G521","v":0},"CREAR","Activa","ILEGALIDAD DEL ACTO ADMINISTRATIVO DE DESVINCULACION DE LOS MIEMBROS DE LA FUERZA PUBLICA POR RETIRO DISCRECIONAL"]
[{"$f":"+'Hoja3 (2)'!$I522","v":0},"ILEGALIDAD DEL ACTO ADMINISTRATIVO QUE REVOCA EL NOMBRAMIENTO DE SERVIDOR PUBLICO",1,{"$f":"+IF('Hoja3 (2)'!$C522=1,'Hoja3 (2)'!$B522,\"No\")","v":"ILEGALIDAD DEL ACTO ADMINISTRATIVO QUE REVOCA EL NOMBRAMIENTO DE SERVIDOR PUBLICO"},{"$f":"+'Hoja3 (2)'!$C522&'Hoja3 (2)'!$B522","v":"1ILEGALIDAD DEL ACTO ADMINISTRATIVO QUE REVOCA EL NOMBRAMIENTO DE SERVIDOR PUBLICO"},{"$f":"IFERROR(FIND(UPPER('Causas anteriores'!$D$4),D522),0)","v":0},{"$f":"+IF('Hoja3 (2)'!$F522=0,0,1)","v":0},{"$f":"+H521+'Hoja3 (2)'!$G522","v":2},{"$f":"+'Hoja3 (2)'!$H522*'Hoja3 (2)'!$G522","v":0},"MANTENER/AJUSTAR TEXTO","Activa","ILEGALIDAD DEL ACTO ADMINISTRATIVO QUE REVOCA EL NOMBRAMIENTO DE FUNCIONARIO PUBLICO",null,"ACTIVA"]
[{"$f":"+'Hoja3 (2)'!$I523","v":0},"ILEGALIDAD DEL ACTO ADMINISTRATIVO QUE REVOCA, SUSPENDE O NIEGA UN PROGRAMA DE EDUCACION SUPERIOR",1,{"$f":"+IF('Hoja3 (2)'!$C523=1,'Hoja3 (2)'!$B523,\"No\")","v":"ILEGALIDAD DEL ACTO ADMINISTRATIVO QUE REVOCA, SUSPENDE O NIEGA UN PROGRAMA DE EDUCACION SUPERIOR"},{"$f":"+'Hoja3 (2)'!$C523&'Hoja3 (2)'!$B523","v":"1ILEGALIDAD DEL ACTO ADMINISTRATIVO QUE REVOCA, SUSPENDE O NIEGA UN PROGRAMA DE EDUCACION SUPERIOR"},{"$f":"IFERROR(FIND(UPPER('Causas anteriores'!$D$4),D523),0)","v":0},{"$f":"+IF('Hoja3 (2)'!$F523=0,0,1)","v":0},{"$f":"+H522+'Hoja3 (2)'!$G523","v":2},{"$f":"+'Hoja3 (2)'!$H523*'Hoja3 (2)'!$G523","v":0},"MANTENER/AJUSTAR TEXTO","Activa","ILEGALIDAD DEL ACTO ADMINISTRATIVO QUE REVOCA, SUSPENDE O NIEGA UN PROGRAMA DE EDUCACION SUPERIOR",null,"ACTIVA"]
[{"$f":"+'Hoja3 (2)'!$I524","v":0},"ILEGALIDAD DEL ACTO ADMINISTRATIVO QUE SUPRIME EL CARGO",1,{"$f":"+IF('Hoja3 (2)'!$C524=1,'Hoja3 (2)'!$B524,\"No\")","v":"ILEGALIDAD DEL ACTO ADMINISTRATIVO QUE SUPRIME EL CARGO"},{"$f":"+'Hoja3 (2)'!$C524&'Hoja3 (2)'!$B524","v":"1ILEGALIDAD DEL ACTO ADMINISTRATIVO QUE SUPRIME EL CARGO"},{"$f":"IFERROR(FIND(UPPER('Causas anteriores'!$D$4),D524),0)","v":0},{"$f":"+IF('Hoja3 (2)'!$F524=0,0,1)","v":0},{"$f":"+H523+'Hoja3 (2)'!$G524","v":2},{"$f":"+'Hoja3 (2)'!$H524*'Hoja3 (2)'!$G524","v":0},"INACTIVAR PARA DESAGREGAR","Inactiva",null,null,"ACTIVA"]
[{"$f":"+'Hoja3 (2)'!$I525","v":0},"ILEGALIDAD DEL ACTO ADMINISTRATIVO QUE SUPRIME EL CARGO",2,{"$f":"+IF('Hoja3 (2)'!$C525=1,'Hoja3 (2)'!$B525,\"No\")","v":"No"},{"$f":"+'Hoja3 (2)'!$C525&'Hoja3 (2)'!$B525","v":"2ILEGALIDAD DEL ACTO ADMINISTRATIVO QUE SUPRIME EL CARGO"},{"$f":"IFERROR(FIND(UPPER('Causas anteriores'!$D$4),D525),0)","v":0},{"$f":"+IF('Hoja3 (2)'!$F525=0,0,1)","v":0},{"$f":"+H524+'Hoja3 (2)'!$G525","v":2},{"$f":"+'Hoja3 (2)'!$H525*'Hoja3 (2)'!$G525","v":0},"CREAR","Activa","DAÑOS CAUSADOS A FUNCIONARIO DE CARRERA ADMINISTRATIVA DURANTE LOS PROCESOS DE REESTRUCTURACION Y LIQUIDACION DE ENTIDADES PUBLICAS"]
[{"$f":"+'Hoja3 (2)'!$I526","v":0},"ILEGALIDAD DEL ACTO ADMINISTRATIVO QUE SUPRIME EL CARGO",3,{"$f":"+IF('Hoja3 (2)'!$C526=1,'Hoja3 (2)'!$B526,\"No\")","v":"No"},{"$f":"+'Hoja3 (2)'!$C526&'Hoja3 (2)'!$B526","v":"3ILEGALIDAD DEL ACTO ADMINISTRATIVO QUE SUPRIME EL CARGO"},{"$f":"IFERROR(FIND(UPPER('Causas anteriores'!$D$4),D526),0)","v":0},{"$f":"+IF('Hoja3 (2)'!$F526=0,0,1)","v":0},{"$f":"+H525+'Hoja3 (2)'!$G526","v":2},{"$f":"+'Hoja3 (2)'!$H526*'Hoja3 (2)'!$G526","v":0},"CREAR","Activa","DAÑOS CAUSADOS A FUNCIONARIO DE LIBRE NOMBRAMIENTO Y REMOCION DURANTE LOS PROCESOS DE REESTRUCTURACION Y LIQUIDACION DE ENTIDADES PUBLICAS"]
[{"$f":"+'Hoja3 (2)'!$I527","v":0},"ILEGALIDAD DEL ACTO ADMINISTRATIVO QUE SUPRIME EL CARGO",4,{"$f":"+IF('Hoja3 (2)'!$C527=1,'Hoja3 (2)'!$B527,\"No\")","v":"No"},{"$f":"+'Hoja3 (2)'!$C527&'Hoja3 (2)'!$B527","v":"4ILEGALIDAD DEL ACTO ADMINISTRATIVO QUE SUPRIME EL CARGO"},{"$f":"IFERROR(FIND(UPPER('Causas anteriores'!$D$4),D527),0)","v":0},{"$f":"+IF('Hoja3 (2)'!$F527=0,0,1)","v":0},{"$f":"+H526+'Hoja3 (2)'!$G527","v":2},{"$f":"+'Hoja3 (2)'!$H527*'Hoja3 (2)'!$G527","v":0},"CREAR","Activa","DAÑOS CAUSADOS A FUNCIONARIO EN PROVISIONALIDAD DURANTE LOS PROCESOS DE REESTRUCTURACION Y LIQUIDACION DE ENTIDADES PUBLICAS"]
[{"$f":"+'Hoja3 (2)'!$I528","v":0},"ILEGALIDAD DEL ACTO ADMINISTRATIVO QUE SUPRIME EL CARGO",5,{"$f":"+IF('Hoja3 (2)'!$C528=1,'Hoja3 (2)'!$B528,\"No\")","v":"No"},{"$f":"+'Hoja3 (2)'!$C528&'Hoja3 (2)'!$B528","v":"5ILEGALIDAD DEL ACTO ADMINISTRATIVO QUE SUPRIME EL CARGO"},{"$f":"IFERROR(FIND(UPPER('Causas anteriores'!$D$4),D528),0)","v":0},{"$f":"+IF('Hoja3 (2)'!$F528=0,0,1)","v":0},{"$f":"+H527+'Hoja3 (2)'!$G528","v":2},{"$f":"+'Hoja3 (2)'!$H528*'Hoja3 (2)'!$G528","v":0},"CREAR","Activa","CUMPLIMIENTO DE REQUISITOS LEGALES PARA LEVANTAMIENTO DE FUERO SINDICAL EN PROCESOS DE REESTRUCTURACION Y LIQUIDACION DE ENTIDADES PUBLICAS"]
[{"$f":"+'Hoja3 (2)'!$I529","v":0},"ILEGALIDAD DEL ACTO ADMINISTRATIVO QUE SUPRIME LAS ENTIDADES PUBLICAS",1,{"$f":"+IF('Hoja3 (2)'!$C529=1,'Hoja3 (2)'!$B529,\"No\")","v":"ILEGALIDAD DEL ACTO ADMINISTRATIVO QUE SUPRIME LAS ENTIDADES PUBLICAS"},{"$f":"+'Hoja3 (2)'!$C529&'Hoja3 (2)'!$B529","v":"1ILEGALIDAD DEL ACTO ADMINISTRATIVO QUE SUPRIME LAS ENTIDADES PUBLICAS"},{"$f":"IFERROR(FIND(UPPER('Causas anteriores'!$D$4),D529),0)","v":0},{"$f":"+IF('Hoja3 (2)'!$F529=0,0,1)","v":0},{"$f":"+H528+'Hoja3 (2)'!$G529","v":2},{"$f":"+'Hoja3 (2)'!$H529*'Hoja3 (2)'!$G529","v":0},"MANTENER/AJUSTAR TEXTO","Activa","ILEGALIDAD DEL ACTO ADMINISTRATIVO GENERAL QUE DISPONE LA REESTRUCTURACION O LIQUIDACION LAS ENTIDADES PUBLICAS",null,"ACTIVA"]
[{"$f":"+'Hoja3 (2)'!$I530","v":0},"ILEGALIDAD DEL ACTO ADMINISTRATIVO QUE SUSPENDE EL PAGO DE LA ASIGNACION DE RETIRO",1,{"$f":"+IF('Hoja3 (2)'!$C530=1,'Hoja3 (2)'!$B530,\"No\")","v":"ILEGALIDAD DEL ACTO ADMINISTRATIVO QUE SUSPENDE EL PAGO DE LA ASIGNACION DE RETIRO"},{"$f":"+'Hoja3 (2)'!$C530&'Hoja3 (2)'!$B530","v":"1ILEGALIDAD DEL ACTO ADMINISTRATIVO QUE SUSPENDE EL PAGO DE LA ASIGNACION DE RETIRO"},{"$f":"IFERROR(FIND(UPPER('Causas anteriores'!$D$4),D530),0)","v":0},{"$f":"+IF('Hoja3 (2)'!$F530=0,0,1)","v":0},{"$f":"+H529+'Hoja3 (2)'!$G530","v":2},{"$f":"+'Hoja3 (2)'!$H530*'Hoja3 (2)'!$G530","v":0},"MANTENER/AJUSTAR TEXTO","Activa","ILEGALIDAD DEL ACTO ADMINISTRATIVO QUE SUSPENDE EL PAGO DE LA ASIGNACION DE RETIRO",null,"ACTIVA"]
[{"$f":"+'Hoja3 (2)'!$I531","v":0},"ILEGALIDAD DEL ACTO ADMINISTRATIVO QUE SUSPENDE EL PAGO DE PENSION",1,{"$f":"+IF('Hoja3 (2)'!$C531=1,'Hoja3 (2)'!$B531,\"No\")","v":"ILEGALIDAD DEL ACTO ADMINISTRATIVO QUE SUSPENDE EL PAGO DE PENSION"},{"$f":"+'Hoja3 (2)'!$C531&'Hoja3 (2)'!$B531","v":"1ILEGALIDAD DEL ACTO ADMINISTRATIVO QUE SUSPENDE EL PAGO DE PENSION"},{"$f":"IFERROR(FIND(UPPER('Causas anteriores'!$D$4),D531),0)","v":0},{"$f":"+IF('Hoja3 (2)'!$F531=0,0,1)","v":0},{"$f":"+H530+'Hoja3 (2)'!$G531","v":2},{"$f":"+'Hoja3 (2)'!$H531*'Hoja3 (2)'!$G531","v":0},"MANTENER/AJUSTAR TEXTO","Activa","ILEGALIDAD DEL ACTO ADMINISTRATIVO QUE SUSPENDE EL PAGO DE PENSION",null,"ACTIVA"]
[{"$f":"+'Hoja3 (2)'!$I532","v":0},"ILEGALIDAD DEL ACTO ADMINISTRATIVO QUE VIOLA DIRECTAMENTE LA NORMA",1,{"$f":"+IF('Hoja3 (2)'!$C532=1,'Hoja3 (2)'!$B532,\"No\")","v":"ILEGALIDAD DEL ACTO ADMINISTRATIVO QUE VIOLA DIRECTAMENTE LA NORMA"},{"$f":"+'Hoja3 (2)'!$C532&'Hoja3 (2)'!$B532","v":"1ILEGALIDAD DEL ACTO ADMINISTRATIVO QUE VIOLA DIRECTAMENTE LA NORMA"},{"$f":"IFERROR(FIND(UPPER('Causas anteriores'!$D$4),D532),0)","v":0},{"$f":"+IF('Hoja3 (2)'!$F532=0,0,1)","v":0},{"$f":"+H531+'Hoja3 (2)'!$G532","v":2},{"$f":"+'Hoja3 (2)'!$H532*'Hoja3 (2)'!$G532","v":0},"ESTABA INACTIVA","Inactiva",null,null,"INACTIVA"]
[{"$f":"+'Hoja3 (2)'!$I533","v":0},"ILEGALIDAD DEL ACTO QUE NIEGA LA DEVOLUCION O COMPENSACION DE OBLIGACIONES ADUANERAS",1,{"$f":"+IF('Hoja3 (2)'!$C533=1,'Hoja3 (2)'!$B533,\"No\")","v":"ILEGALIDAD DEL ACTO QUE NIEGA LA DEVOLUCION O COMPENSACION DE OBLIGACIONES ADUANERAS"},{"$f":"+'Hoja3 (2)'!$C533&'Hoja3 (2)'!$B533","v":"1ILEGALIDAD DEL ACTO QUE NIEGA LA DEVOLUCION O COMPENSACION DE OBLIGACIONES ADUANERAS"},{"$f":"IFERROR(FIND(UPPER('Causas anteriores'!$D$4),D533),0)","v":0},{"$f":"+IF('Hoja3 (2)'!$F533=0,0,1)","v":0},{"$f":"+H532+'Hoja3 (2)'!$G533","v":2},{"$f":"+'Hoja3 (2)'!$H533*'Hoja3 (2)'!$G533","v":0},"MANTENER/AJUSTAR TEXTO","Activa","ILEGALIDAD DEL ACTO ADMINISTRATIVO QUE NIEGA LA DEVOLUCION O COMPENSACION DE OBLIGACIONES ADUANERAS",null,"ACTIVA"]
[{"$f":"+'Hoja3 (2)'!$I534","v":0},"ILEGALIDAD DEL ACTO QUE NIEGA LA DEVOLUCION O COMPENSACION DE OBLIGACIONES TRIBUTARIAS",1,{"$f":"+IF('Hoja3 (2)'!$C534=1,'Hoja3 (2)'!$B534,\"No\")","v":"ILEGALIDAD DEL ACTO QUE NIEGA LA DEVOLUCION O COMPENSACION DE OBLIGACIONES TRIBUTARIAS"},{"$f":"+'Hoja3 (2)'!$C534&'Hoja3 (2)'!$B534","v":"1ILEGALIDAD DEL ACTO QUE NIEGA LA DEVOLUCION O COMPENSACION DE OBLIGACIONES TRIBUTARIAS"},{"$f":"IFERROR(FIND(UPPER('Causas anteriores'!$D$4),D534),0)","v":0},{"$f":"+IF('Hoja3 (2)'!$F534=0,0,1)","v":0},{"$f":"+H533+'Hoja3 (2)'!$G534","v":2},{"$f":"+'Hoja3 (2)'!$H534*'Hoja3 (2)'!$G534","v":0},"MANTENER/AJUSTAR TEXTO","Activa","ILEGALIDAD DEL ACTO ADMINISTRATIVO QUE NIEGA LA DEVOLUCION O COMPENSACION DE OBLIGACIONES TRIBUTARIAS",null,"ACTIVA"]
[{"$f":"+'Hoja3 (2)'!$I535","v":0},"ILEGALIDAD DEL ACTO QUE RECONOCE PRIMAS EXTRALEGALES A TRAVES DE NORMAS DE CARACTER TERRITORIAL",1,{"$f":"+IF('Hoja3 (2)'!$C535=1,'Hoja3 (2)'!$B535,\"No\")","v":"ILEGALIDAD DEL ACTO QUE RECONOCE PRIMAS EXTRALEGALES A TRAVES DE NORMAS DE CARACTER TERRITORIAL"},{"$f":"+'Hoja3 (2)'!$C535&'Hoja3 (2)'!$B535","v":"1ILEGALIDAD DEL ACTO QUE RECONOCE PRIMAS EXTRALEGALES A TRAVES DE NORMAS DE CARACTER TERRITORIAL"},{"$f":"IFERROR(FIND(UPPER('Causas anteriores'!$D$4),D535),0)","v":0},{"$f":"+IF('Hoja3 (2)'!$F535=0,0,1)","v":0},{"$f":"+H534+'Hoja3 (2)'!$G535","v":2},{"$f":"+'Hoja3 (2)'!$H535*'Hoja3 (2)'!$G535","v":0},"INACTIVAR EN NUEVA MATRIZ","Inactiva",null,null,"ACTIVA"]
[{"$f":"+'Hoja3 (2)'!$I536","v":0},"ILEGALIDAD DEL ACTO REGULATORIO",1,{"$f":"+IF('Hoja3 (2)'!$C536=1,'Hoja3 (2)'!$B536,\"No\")","v":"ILEGALIDAD DEL ACTO REGULATORIO"},{"$f":"+'Hoja3 (2)'!$C536&'Hoja3 (2)'!$B536","v":"1ILEGALIDAD DEL ACTO REGULATORIO"},{"$f":"IFERROR(FIND(UPPER('Causas anteriores'!$D$4),D536),0)","v":0},{"$f":"+IF('Hoja3 (2)'!$F536=0,0,1)","v":0},{"$f":"+H535+'Hoja3 (2)'!$G536","v":2},{"$f":"+'Hoja3 (2)'!$H536*'Hoja3 (2)'!$G536","v":0},"ESTABA INACTIVA","Inactiva",null,null,"INACTIVA"]
[{"$f":"+'Hoja3 (2)'!$I537","v":0},"ILEGALIDAD DEL CONTRATO POR VIOLACION A LAS NORMAS DE PROTECCION AMBIENTAL",1,{"$f":"+IF('Hoja3 (2)'!$C537=1,'Hoja3 (2)'!$B537,\"No\")","v":"ILEGALIDAD DEL CONTRATO POR VIOLACION A LAS NORMAS DE PROTECCION AMBIENTAL"},{"$f":"+'Hoja3 (2)'!$C537&'Hoja3 (2)'!$B537","v":"1ILEGALIDAD DEL CONTRATO POR VIOLACION A LAS NORMAS DE PROTECCION AMBIENTAL"},{"$f":"IFERROR(FIND(UPPER('Causas anteriores'!$D$4),D537),0)","v":0},{"$f":"+IF('Hoja3 (2)'!$F537=0,0,1)","v":0},{"$f":"+H536+'Hoja3 (2)'!$G537","v":2},{"$f":"+'Hoja3 (2)'!$H537*'Hoja3 (2)'!$G537","v":0},"INACTIVAR EN NUEVA MATRIZ","Inactiva",null,null,"ACTIVA"]
[{"$f":"+'Hoja3 (2)'!$I538","v":0},"ILEGALIDAD POR VIOLACION A DERECHO FUNDAMENTAL",1,{"$f":"+IF('Hoja3 (2)'!$C538=1,'Hoja3 (2)'!$B538,\"No\")","v":"ILEGALIDAD POR VIOLACION A DERECHO FUNDAMENTAL"},{"$f":"+'Hoja3 (2)'!$C538&'Hoja3 (2)'!$B538","v":"1ILEGALIDAD POR VIOLACION A DERECHO FUNDAMENTAL"},{"$f":"IFERROR(FIND(UPPER('Causas anteriores'!$D$4),D538),0)","v":0},{"$f":"+IF('Hoja3 (2)'!$F538=0,0,1)","v":0},{"$f":"+H537+'Hoja3 (2)'!$G538","v":2},{"$f":"+'Hoja3 (2)'!$H538*'Hoja3 (2)'!$G538","v":0},"ESTABA INACTIVA","Inactiva",null,null,"INACTIVA"]
[{"$f":"+'Hoja3 (2)'!$I539","v":0},"INCIDENCIA SALARIAL AUXILIO DE SEGURIDAD",1,{"$f":"+IF('Hoja3 (2)'!$C539=1,'Hoja3 (2)'!$B539,\"No\")","v":"INCIDENCIA SALARIAL AUXILIO DE SEGURIDAD"},{"$f":"+'Hoja3 (2)'!$C539&'Hoja3 (2)'!$B539","v":"1INCIDENCIA SALARIAL AUXILIO DE SEGURIDAD"},{"$f":"IFERROR(FIND(UPPER('Causas anteriores'!$D$4),D539),0)","v":0},{"$f":"+IF('Hoja3 (2)'!$F539=0,0,1)","v":0},{"$f":"+H538+'Hoja3 (2)'!$G539","v":2},{"$f":"+'Hoja3 (2)'!$H539*'Hoja3 (2)'!$G539","v":0},"ESTABA INACTIVA","Inactiva",null,null,"INACTIVA"]
[{"$f":"+'Hoja3 (2)'!$I540","v":0},"INCIDENCIA SALARIAL DE ALIMENTOS EN ESPECIE",1,{"$f":"+IF('Hoja3 (2)'!$C540=1,'Hoja3 (2)'!$B540,\"No\")","v":"INCIDENCIA SALARIAL DE ALIMENTOS EN ESPECIE"},{"$f":"+'Hoja3 (2)'!$C540&'Hoja3 (2)'!$B540","v":"1INCIDENCIA SALARIAL DE ALIMENTOS EN ESPECIE"},{"$f":"IFERROR(FIND(UPPER('Causas anteriores'!$D$4),D540),0)","v":0},{"$f":"+IF('Hoja3 (2)'!$F540=0,0,1)","v":0},{"$f":"+H539+'Hoja3 (2)'!$G540","v":2},{"$f":"+'Hoja3 (2)'!$H540*'Hoja3 (2)'!$G540","v":0},"ESTABA INACTIVA","Inactiva",null,null,"INACTIVA"]
[{"$f":"+'Hoja3 (2)'!$I541","v":0},"INCIDENCIA SALARIAL SUBSIDIO DE TRANSPORTE",1,{"$f":"+IF('Hoja3 (2)'!$C541=1,'Hoja3 (2)'!$B541,\"No\")","v":"INCIDENCIA SALARIAL SUBSIDIO DE TRANSPORTE"},{"$f":"+'Hoja3 (2)'!$C541&'Hoja3 (2)'!$B541","v":"1INCIDENCIA SALARIAL SUBSIDIO DE TRANSPORTE"},{"$f":"IFERROR(FIND(UPPER('Causas anteriores'!$D$4),D541),0)","v":0},{"$f":"+IF('Hoja3 (2)'!$F541=0,0,1)","v":0},{"$f":"+H540+'Hoja3 (2)'!$G541","v":2},{"$f":"+'Hoja3 (2)'!$H541*'Hoja3 (2)'!$G541","v":0},"ESTABA INACTIVA","Inactiva",null,null,"INACTIVA"]
[{"$f":"+'Hoja3 (2)'!$I542","v":0},"INCONSTITUCIONALIDAD DEL ACTO ADMINISTRATIVO",1,{"$f":"+IF('Hoja3 (2)'!$C542=1,'Hoja3 (2)'!$B542,\"No\")","v":"INCONSTITUCIONALIDAD DEL ACTO ADMINISTRATIVO"},{"$f":"+'Hoja3 (2)'!$C542&'Hoja3 (2)'!$B542","v":"1INCONSTITUCIONALIDAD DEL ACTO ADMINISTRATIVO"},{"$f":"IFERROR(FIND(UPPER('Causas anteriores'!$D$4),D542),0)","v":0},{"$f":"+IF('Hoja3 (2)'!$F542=0,0,1)","v":0},{"$f":"+H541+'Hoja3 (2)'!$G542","v":2},{"$f":"+'Hoja3 (2)'!$H542*'Hoja3 (2)'!$G542","v":0},"MANTENER/AJUSTAR TEXTO","Activa","INCONSTITUCIONALIDAD DEL ACTO ADMINISTRATIVO",null,"ACTIVA"]
[{"$f":"+'Hoja3 (2)'!$I543","v":0},"INCUMPLIMIENTO CONTRACTUAL",1,{"$f":"+IF('Hoja3 (2)'!$C543=1,'Hoja3 (2)'!$B543,\"No\")","v":"INCUMPLIMIENTO CONTRACTUAL"},{"$f":"+'Hoja3 (2)'!$C543&'Hoja3 (2)'!$B543","v":"1INCUMPLIMIENTO CONTRACTUAL"},{"$f":"IFERROR(FIND(UPPER('Causas anteriores'!$D$4),D543),0)","v":0},{"$f":"+IF('Hoja3 (2)'!$F543=0,0,1)","v":0},{"$f":"+H542+'Hoja3 (2)'!$G543","v":2},{"$f":"+'Hoja3 (2)'!$H543*'Hoja3 (2)'!$G543","v":0},"INACTIVAR PARA DESAGREGAR","Inactiva",null,null,"ACTIVA"]
[{"$f":"+'Hoja3 (2)'!$I544","v":0},"INCUMPLIMIENTO CONTRACTUAL",2,{"$f":"+IF('Hoja3 (2)'!$C544=1,'Hoja3 (2)'!$B544,\"No\")","v":"No"},{"$f":"+'Hoja3 (2)'!$C544&'Hoja3 (2)'!$B544","v":"2INCUMPLIMIENTO CONTRACTUAL"},{"$f":"IFERROR(FIND(UPPER('Causas anteriores'!$D$4),D544),0)","v":0},{"$f":"+IF('Hoja3 (2)'!$F544=0,0,1)","v":0},{"$f":"+H543+'Hoja3 (2)'!$G544","v":2},{"$f":"+'Hoja3 (2)'!$H544*'Hoja3 (2)'!$G544","v":0},"CREAR","Activa","INCUMPLIMIENTO DEL CONTRATO POR EJECUCION PARCIAL DE PRESTACIONES"]
[{"$f":"+'Hoja3 (2)'!$I545","v":0},"INCUMPLIMIENTO CONTRACTUAL",3,{"$f":"+IF('Hoja3 (2)'!$C545=1,'Hoja3 (2)'!$B545,\"No\")","v":"No"},{"$f":"+'Hoja3 (2)'!$C545&'Hoja3 (2)'!$B545","v":"3INCUMPLIMIENTO CONTRACTUAL"},{"$f":"IFERROR(FIND(UPPER('Causas anteriores'!$D$4),D545),0)","v":0},{"$f":"+IF('Hoja3 (2)'!$F545=0,0,1)","v":0},{"$f":"+H544+'Hoja3 (2)'!$G545","v":2},{"$f":"+'Hoja3 (2)'!$H545*'Hoja3 (2)'!$G545","v":0},"CREAR","Activa","INCUMPLIMIENTO DEL CONTRATO POR EJECUCION TARDIA DE PRESTACIONES"]
[{"$f":"+'Hoja3 (2)'!$I546","v":0},"INCUMPLIMIENTO CONTRACTUAL",4,{"$f":"+IF('Hoja3 (2)'!$C546=1,'Hoja3 (2)'!$B546,\"No\")","v":"No"},{"$f":"+'Hoja3 (2)'!$C546&'Hoja3 (2)'!$B546","v":"4INCUMPLIMIENTO CONTRACTUAL"},{"$f":"IFERROR(FIND(UPPER('Causas anteriores'!$D$4),D546),0)","v":0},{"$f":"+IF('Hoja3 (2)'!$F546=0,0,1)","v":0},{"$f":"+H545+'Hoja3 (2)'!$G546","v":2},{"$f":"+'Hoja3 (2)'!$H546*'Hoja3 (2)'!$G546","v":0},"CREAR","Activa","INCUMPLIMIENTO DEL CONTRATO POR INDEBIDA INTERPRETACION"]
[{"$f":"+'Hoja3 (2)'!$I547","v":0},"INCUMPLIMIENTO CONTRACTUAL",5,{"$f":"+IF('Hoja3 (2)'!$C547=1,'Hoja3 (2)'!$B547,\"No\")","v":"No"},{"$f":"+'Hoja3 (2)'!$C547&'Hoja3 (2)'!$B547","v":"5INCUMPLIMIENTO CONTRACTUAL"},{"$f":"IFERROR(FIND(UPPER('Causas anteriores'!$D$4),D547),0)","v":0},{"$f":"+IF('Hoja3 (2)'!$F547=0,0,1)","v":0},{"$f":"+H546+'Hoja3 (2)'!$G547","v":2},{"$f":"+'Hoja3 (2)'!$H547*'Hoja3 (2)'!$G547","v":0},"CREAR","Activa","INCUMPLIMIENTO DEL CONTRATO POR NO EJECUCION DE PRESTACIONES"]
[{"$f":"+'Hoja3 (2)'!$I548","v":0},"INCUMPLIMIENTO CONTRACTUAL",6,{"$f":"+IF('Hoja3 (2)'!$C548=1,'Hoja3 (2)'!$B548,\"No\")","v":"No"},{"$f":"+'Hoja3 (2)'!$C548&'Hoja3 (2)'!$B548","v":"6INCUMPLIMIENTO CONTRACTUAL"},{"$f":"IFERROR(FIND(UPPER('Causas anteriores'!$D$4),D548),0)","v":0},{"$f":"+IF('Hoja3 (2)'!$F548=0,0,1)","v":0},{"$f":"+H547+'Hoja3 (2)'!$G548","v":2},{"$f":"+'Hoja3 (2)'!$H548*'Hoja3 (2)'!$G548","v":0},"CREAR","Activa","INCUMPLIMIENTO DEL CONTRATO POR VIOLACION DEL PRINCIPIO DE PLANEACION POR PARTE DE LA ENTIDAD CONTRATANTE"]
[{"$f":"+'Hoja3 (2)'!$I549","v":0},"INCUMPLIMIENTO CONTRACTUAL",7,{"$f":"+IF('Hoja3 (2)'!$C549=1,'Hoja3 (2)'!$B549,\"No\")","v":"No"},{"$f":"+'Hoja3 (2)'!$C549&'Hoja3 (2)'!$B549","v":"7INCUMPLIMIENTO CONTRACTUAL"},{"$f":"IFERROR(FIND(UPPER('Causas anteriores'!$D$4),D549),0)","v":0},{"$f":"+IF('Hoja3 (2)'!$F549=0,0,1)","v":0},{"$f":"+H548+'Hoja3 (2)'!$G549","v":2},{"$f":"+'Hoja3 (2)'!$H549*'Hoja3 (2)'!$G549","v":0},"CREAR","Activa","INCUMPLIMIENTO DEL CONTRATO POR VIOLACION DEL PRINCIPIO DE PLANEACION POR PARTE DEL CONTRATISTA"]
[{"$f":"+'Hoja3 (2)'!$I550","v":0},"INCUMPLIMIENTO DE ACUERDO DE PAGO",1,{"$f":"+IF('Hoja3 (2)'!$C550=1,'Hoja3 (2)'!$B550,\"No\")","v":"INCUMPLIMIENTO DE ACUERDO DE PAGO"},{"$f":"+'Hoja3 (2)'!$C550&'Hoja3 (2)'!$B550","v":"1INCUMPLIMIENTO DE ACUERDO DE PAGO"},{"$f":"IFERROR(FIND(UPPER('Causas anteriores'!$D$4),D550),0)","v":0},{"$f":"+IF('Hoja3 (2)'!$F550=0,0,1)","v":0},{"$f":"+H549+'Hoja3 (2)'!$G550","v":2},{"$f":"+'Hoja3 (2)'!$H550*'Hoja3 (2)'!$G550","v":0},"ESTABA INACTIVA","Inactiva",null,null,"INACTIVA"]
[{"$f":"+'Hoja3 (2)'!$I551","v":0},"INCUMPLIMIENTO DE CLAUSULA COMPROMISORIA",1,{"$f":"+IF('Hoja3 (2)'!$C551=1,'Hoja3 (2)'!$B551,\"No\")","v":"INCUMPLIMIENTO DE CLAUSULA COMPROMISORIA"},{"$f":"+'Hoja3 (2)'!$C551&'Hoja3 (2)'!$B551","v":"1INCUMPLIMIENTO DE CLAUSULA COMPROMISORIA"},{"$f":"IFERROR(FIND(UPPER('Causas anteriores'!$D$4),D551),0)","v":0},{"$f":"+IF('Hoja3 (2)'!$F551=0,0,1)","v":0},{"$f":"+H550+'Hoja3 (2)'!$G551","v":2},{"$f":"+'Hoja3 (2)'!$H551*'Hoja3 (2)'!$G551","v":0},"INACTIVAR EN NUEVA MATRIZ","Inactiva",null,null,"ACTIVA"]
[{"$f":"+'Hoja3 (2)'!$I552","v":0},"INCUMPLIMIENTO DE NORMA CON FUERZA MATERIAL DE LEY O ACTO ADMINISTRATIVO",1,{"$f":"+IF('Hoja3 (2)'!$C552=1,'Hoja3 (2)'!$B552,\"No\")","v":"INCUMPLIMIENTO DE NORMA CON FUERZA MATERIAL DE LEY O ACTO ADMINISTRATIVO"},{"$f":"+'Hoja3 (2)'!$C552&'Hoja3 (2)'!$B552","v":"1INCUMPLIMIENTO DE NORMA CON FUERZA MATERIAL DE LEY O ACTO ADMINISTRATIVO"},{"$f":"IFERROR(FIND(UPPER('Causas anteriores'!$D$4),D552),0)","v":0},{"$f":"+IF('Hoja3 (2)'!$F552=0,0,1)","v":0},{"$f":"+H551+'Hoja3 (2)'!$G552","v":2},{"$f":"+'Hoja3 (2)'!$H552*'Hoja3 (2)'!$G552","v":0},"MANTENER/AJUSTAR TEXTO","Activa","INCUMPLIMIENTO DE NORMA JURIDICA",null,"ACTIVA"]
[{"$f":"+'Hoja3 (2)'!$I553","v":0},"INCUMPLIMIENTO DE REQUISITOS LEGALES DE LA FACTURA",1,{"$f":"+IF('Hoja3 (2)'!$C553=1,'Hoja3 (2)'!$B553,\"No\")","v":"INCUMPLIMIENTO DE REQUISITOS LEGALES DE LA FACTURA"},{"$f":"+'Hoja3 (2)'!$C553&'Hoja3 (2)'!$B553","v":"1INCUMPLIMIENTO DE REQUISITOS LEGALES DE LA FACTURA"},{"$f":"IFERROR(FIND(UPPER('Causas anteriores'!$D$4),D553),0)","v":0},{"$f":"+IF('Hoja3 (2)'!$F553=0,0,1)","v":0},{"$f":"+H552+'Hoja3 (2)'!$G553","v":2},{"$f":"+'Hoja3 (2)'!$H553*'Hoja3 (2)'!$G553","v":0},"MANTENER/AJUSTAR TEXTO","Activa","FACTURA EXPEDIDA SIN EL CUMPLIMIENTO DE LOS REQUISITOS LEGALES",null,"ACTIVA"]
[{"$f":"+'Hoja3 (2)'!$I554","v":0},"INCUMPLIMIENTO DE SENTENCIA JUDICIAL O ACUERDO CONCILIATORIO",1,{"$f":"+IF('Hoja3 (2)'!$C554=1,'Hoja3 (2)'!$B554,\"No\")","v":"INCUMPLIMIENTO DE SENTENCIA JUDICIAL O ACUERDO CONCILIATORIO"},{"$f":"+'Hoja3 (2)'!$C554&'Hoja3 (2)'!$B554","v":"1INCUMPLIMIENTO DE SENTENCIA JUDICIAL O ACUERDO CONCILIATORIO"},{"$f":"IFERROR(FIND(UPPER('Causas anteriores'!$D$4),D554),0)","v":0},{"$f":"+IF('Hoja3 (2)'!$F554=0,0,1)","v":0},{"$f":"+H553+'Hoja3 (2)'!$G554","v":2},{"$f":"+'Hoja3 (2)'!$H554*'Hoja3 (2)'!$G554","v":0},"INACTIVAR PARA DESAGREGAR","Inactiva",null,null,"ACTIVA"]
[{"$f":"+'Hoja3 (2)'!$I555","v":0},"INCUMPLIMIENTO DE SENTENCIA JUDICIAL O ACUERDO CONCILIATORIO",2,{"$f":"+IF('Hoja3 (2)'!$C555=1,'Hoja3 (2)'!$B555,\"No\")","v":"No"},{"$f":"+'Hoja3 (2)'!$C555&'Hoja3 (2)'!$B555","v":"2INCUMPLIMIENTO DE SENTENCIA JUDICIAL O ACUERDO CONCILIATORIO"},{"$f":"IFERROR(FIND(UPPER('Causas anteriores'!$D$4),D555),0)","v":0},{"$f":"+IF('Hoja3 (2)'!$F555=0,0,1)","v":0},{"$f":"+H554+'Hoja3 (2)'!$G555","v":2},{"$f":"+'Hoja3 (2)'!$H555*'Hoja3 (2)'!$G555","v":0},"CREAR","Activa","INCUMPLIMIENTO DE SENTENCIA JUDICIAL"]
[{"$f":"+'Hoja3 (2)'!$I556","v":0},"INCUMPLIMIENTO DE SENTENCIA JUDICIAL O ACUERDO CONCILIATORIO",3,{"$f":"+IF('Hoja3 (2)'!$C556=1,'Hoja3 (2)'!$B556,\"No\")","v":"No"},{"$f":"+'Hoja3 (2)'!$C556&'Hoja3 (2)'!$B556","v":"3INCUMPLIMIENTO DE SENTENCIA JUDICIAL O ACUERDO CONCILIATORIO"},{"$f":"IFERROR(FIND(UPPER('Causas anteriores'!$D$4),D556),0)","v":0},{"$f":"+IF('Hoja3 (2)'!$F556=0,0,1)","v":0},{"$f":"+H555+'Hoja3 (2)'!$G556","v":2},{"$f":"+'Hoja3 (2)'!$H556*'Hoja3 (2)'!$G556","v":0},"CREAR","Activa","INCUMPLIMIENTO DE ACUERDO CONCILIATORIO"]
[{"$f":"+'Hoja3 (2)'!$I557","v":0},"INCUMPLIMIENTO DE SENTENCIA JUDICIAL O ACUERDO CONCILIATORIO",4,{"$f":"+IF('Hoja3 (2)'!$C557=1,'Hoja3 (2)'!$B557,\"No\")","v":"No"},{"$f":"+'Hoja3 (2)'!$C557&'Hoja3 (2)'!$B557","v":"4INCUMPLIMIENTO DE SENTENCIA JUDICIAL O ACUERDO CONCILIATORIO"},{"$f":"IFERROR(FIND(UPPER('Causas anteriores'!$D$4),D557),0)","v":0},{"$f":"+IF('Hoja3 (2)'!$F557=0,0,1)","v":0},{"$f":"+H556+'Hoja3 (2)'!$G557","v":2},{"$f":"+'Hoja3 (2)'!$H557*'Hoja3 (2)'!$G557","v":0},"CREAR","Activa","INCUMPLIMIENTO DE LAUDO ARBITRAL"]
[{"$f":"+'Hoja3 (2)'!$I558","v":0},"INCUMPLIMIENTO DE UNA LEY",1,{"$f":"+IF('Hoja3 (2)'!$C558=1,'Hoja3 (2)'!$B558,\"No\")","v":"INCUMPLIMIENTO DE UNA LEY"},{"$f":"+'Hoja3 (2)'!$C558&'Hoja3 (2)'!$B558","v":"1INCUMPLIMIENTO DE UNA LEY"},{"$f":"IFERROR(FIND(UPPER('Causas anteriores'!$D$4),D558),0)","v":0},{"$f":"+IF('Hoja3 (2)'!$F558=0,0,1)","v":0},{"$f":"+H557+'Hoja3 (2)'!$G558","v":2},{"$f":"+'Hoja3 (2)'!$H558*'Hoja3 (2)'!$G558","v":0},"INACTIVAR EN NUEVA MATRIZ","Inactiva",null,null,"ACTIVA"]
[{"$f":"+'Hoja3 (2)'!$I559","v":0},"INCUMPLIMIENTO DEL ACTA DE LIQUIDACION BILATERAL DEL CONTRATO",1,{"$f":"+IF('Hoja3 (2)'!$C559=1,'Hoja3 (2)'!$B559,\"No\")","v":"INCUMPLIMIENTO DEL ACTA DE LIQUIDACION BILATERAL DEL CONTRATO"},{"$f":"+'Hoja3 (2)'!$C559&'Hoja3 (2)'!$B559","v":"1INCUMPLIMIENTO DEL ACTA DE LIQUIDACION BILATERAL DEL CONTRATO"},{"$f":"IFERROR(FIND(UPPER('Causas anteriores'!$D$4),D559),0)","v":0},{"$f":"+IF('Hoja3 (2)'!$F559=0,0,1)","v":0},{"$f":"+H558+'Hoja3 (2)'!$G559","v":2},{"$f":"+'Hoja3 (2)'!$H559*'Hoja3 (2)'!$G559","v":0},"MANTENER/AJUSTAR TEXTO","Activa","INCUMPLIMIENTO DE LAS OBLIGACIONES CONSIGNADAS EN EL ACTA DE LIQUIDACION DEL CONTRATO",null,"ACTIVA"]
[{"$f":"+'Hoja3 (2)'!$I560","v":0},"INCUMPLIMIENTO DEL ACTO ADMINISTRATIVO QUE LIQUIDA UN CONTRATO",1,{"$f":"+IF('Hoja3 (2)'!$C560=1,'Hoja3 (2)'!$B560,\"No\")","v":"INCUMPLIMIENTO DEL ACTO ADMINISTRATIVO QUE LIQUIDA UN CONTRATO"},{"$f":"+'Hoja3 (2)'!$C560&'Hoja3 (2)'!$B560","v":"1INCUMPLIMIENTO DEL ACTO ADMINISTRATIVO QUE LIQUIDA UN CONTRATO"},{"$f":"IFERROR(FIND(UPPER('Causas anteriores'!$D$4),D560),0)","v":0},{"$f":"+IF('Hoja3 (2)'!$F560=0,0,1)","v":0},{"$f":"+H559+'Hoja3 (2)'!$G560","v":2},{"$f":"+'Hoja3 (2)'!$H560*'Hoja3 (2)'!$G560","v":0},"MANTENER/AJUSTAR TEXTO","Activa","INCUMPLIMIENTO DEL ACTO ADMINISTRATIVO QUE LIQUIDA UN CONTRATO",null,"ACTIVA"]
[{"$f":"+'Hoja3 (2)'!$I561","v":0},"INCUMPLIMIENTO DEL DEBER DE CUIDADO Y CUSTODIA DE ESTUDIANTES DENTRO DE LOS CENTROS DE EDUCACION PREESCOLAR, BASICA Y MEDIA",1,{"$f":"+IF('Hoja3 (2)'!$C561=1,'Hoja3 (2)'!$B561,\"No\")","v":"INCUMPLIMIENTO DEL DEBER DE CUIDADO Y CUSTODIA DE ESTUDIANTES DENTRO DE LOS CENTROS DE EDUCACION PREESCOLAR, BASICA Y MEDIA"},{"$f":"+'Hoja3 (2)'!$C561&'Hoja3 (2)'!$B561","v":"1INCUMPLIMIENTO DEL DEBER DE CUIDADO Y CUSTODIA DE ESTUDIANTES DENTRO DE LOS CENTROS DE EDUCACION PREESCOLAR, BASICA Y MEDIA"},{"$f":"IFERROR(FIND(UPPER('Causas anteriores'!$D$4),D561),0)","v":0},{"$f":"+IF('Hoja3 (2)'!$F561=0,0,1)","v":0},{"$f":"+H560+'Hoja3 (2)'!$G561","v":2},{"$f":"+'Hoja3 (2)'!$H561*'Hoja3 (2)'!$G561","v":0},"INACTIVAR EN NUEVA MATRIZ","Inactiva",null,null,"ACTIVA"]
[{"$f":"+'Hoja3 (2)'!$I562","v":0},"INCUMPLIMIENTO DEL DEBER DE PROTECCION Y SEGURIDAD POR PARTE DEL ESTADO",1,{"$f":"+IF('Hoja3 (2)'!$C562=1,'Hoja3 (2)'!$B562,\"No\")","v":"INCUMPLIMIENTO DEL DEBER DE PROTECCION Y SEGURIDAD POR PARTE DEL ESTADO"},{"$f":"+'Hoja3 (2)'!$C562&'Hoja3 (2)'!$B562","v":"1INCUMPLIMIENTO DEL DEBER DE PROTECCION Y SEGURIDAD POR PARTE DEL ESTADO"},{"$f":"IFERROR(FIND(UPPER('Causas anteriores'!$D$4),D562),0)","v":0},{"$f":"+IF('Hoja3 (2)'!$F562=0,0,1)","v":0},{"$f":"+H561+'Hoja3 (2)'!$G562","v":2},{"$f":"+'Hoja3 (2)'!$H562*'Hoja3 (2)'!$G562","v":0},"INACTIVAR PARA DESAGREGAR","Inactiva",null,null,"ACTIVA"]
[{"$f":"+'Hoja3 (2)'!$I563","v":0},"INCUMPLIMIENTO DEL DEBER DE PROTECCION Y SEGURIDAD POR PARTE DEL ESTADO",2,{"$f":"+IF('Hoja3 (2)'!$C563=1,'Hoja3 (2)'!$B563,\"No\")","v":"No"},{"$f":"+'Hoja3 (2)'!$C563&'Hoja3 (2)'!$B563","v":"2INCUMPLIMIENTO DEL DEBER DE PROTECCION Y SEGURIDAD POR PARTE DEL ESTADO"},{"$f":"IFERROR(FIND(UPPER('Causas anteriores'!$D$4),D563),0)","v":0},{"$f":"+IF('Hoja3 (2)'!$F563=0,0,1)","v":0},{"$f":"+H562+'Hoja3 (2)'!$G563","v":2},{"$f":"+'Hoja3 (2)'!$H563*'Hoja3 (2)'!$G563","v":0},"CREAR","Activa","LESION POR FALTA DE ADOPCION DE MEDIDAS DE PROTECCION Y SEGURIDAD"]
[{"$f":"+'Hoja3 (2)'!$I564","v":0},"INCUMPLIMIENTO DEL DEBER DE PROTECCION Y SEGURIDAD POR PARTE DEL ESTADO",3,{"$f":"+IF('Hoja3 (2)'!$C564=1,'Hoja3 (2)'!$B564,\"No\")","v":"No"},{"$f":"+'Hoja3 (2)'!$C564&'Hoja3 (2)'!$B564","v":"3INCUMPLIMIENTO DEL DEBER DE PROTECCION Y SEGURIDAD POR PARTE DEL ESTADO"},{"$f":"IFERROR(FIND(UPPER('Causas anteriores'!$D$4),D564),0)","v":0},{"$f":"+IF('Hoja3 (2)'!$F564=0,0,1)","v":0},{"$f":"+H563+'Hoja3 (2)'!$G564","v":2},{"$f":"+'Hoja3 (2)'!$H564*'Hoja3 (2)'!$G564","v":0},"CREAR","Activa","MUERTE POR FALTA DE ADOPCION DE MEDIDAS DE PROTECCION Y SEGURIDAD"]
[{"$f":"+'Hoja3 (2)'!$I565","v":0},"INCUMPLIMIENTO DEL DEBER DE PROTECCION Y SEGURIDAD POR PARTE DEL ESTADO",4,{"$f":"+IF('Hoja3 (2)'!$C565=1,'Hoja3 (2)'!$B565,\"No\")","v":"No"},{"$f":"+'Hoja3 (2)'!$C565&'Hoja3 (2)'!$B565","v":"4INCUMPLIMIENTO DEL DEBER DE PROTECCION Y SEGURIDAD POR PARTE DEL ESTADO"},{"$f":"IFERROR(FIND(UPPER('Causas anteriores'!$D$4),D565),0)","v":0},{"$f":"+IF('Hoja3 (2)'!$F565=0,0,1)","v":0},{"$f":"+H564+'Hoja3 (2)'!$G565","v":2},{"$f":"+'Hoja3 (2)'!$H565*'Hoja3 (2)'!$G565","v":0},"CREAR","Activa","DAÑOS A BIENES POR FALTA DE ADOPCION DE MEDIDAS DE PROTECCION Y SEGURIDAD"]
[{"$f":"+'Hoja3 (2)'!$I566","v":0},"INCUMPLIMIENTO DEL DEBER DE PROTECCION Y SEGURIDAD POR PARTE DEL ESTADO",5,{"$f":"+IF('Hoja3 (2)'!$C566=1,'Hoja3 (2)'!$B566,\"No\")","v":"No"},{"$f":"+'Hoja3 (2)'!$C566&'Hoja3 (2)'!$B566","v":"5INCUMPLIMIENTO DEL DEBER DE PROTECCION Y SEGURIDAD POR PARTE DEL ESTADO"},{"$f":"IFERROR(FIND(UPPER('Causas anteriores'!$D$4),D566),0)","v":0},{"$f":"+IF('Hoja3 (2)'!$F566=0,0,1)","v":0},{"$f":"+H565+'Hoja3 (2)'!$G566","v":2},{"$f":"+'Hoja3 (2)'!$H566*'Hoja3 (2)'!$G566","v":0},"CREAR","Activa","LESION POR INDEBIDA O INSUFICIENTE ADOPCION DE MEDIDAS DE PROTECCION Y SEGURIDAD"]
[{"$f":"+'Hoja3 (2)'!$I567","v":0},"INCUMPLIMIENTO DEL DEBER DE PROTECCION Y SEGURIDAD POR PARTE DEL ESTADO",6,{"$f":"+IF('Hoja3 (2)'!$C567=1,'Hoja3 (2)'!$B567,\"No\")","v":"No"},{"$f":"+'Hoja3 (2)'!$C567&'Hoja3 (2)'!$B567","v":"6INCUMPLIMIENTO DEL DEBER DE PROTECCION Y SEGURIDAD POR PARTE DEL ESTADO"},{"$f":"IFERROR(FIND(UPPER('Causas anteriores'!$D$4),D567),0)","v":0},{"$f":"+IF('Hoja3 (2)'!$F567=0,0,1)","v":0},{"$f":"+H566+'Hoja3 (2)'!$G567","v":2},{"$f":"+'Hoja3 (2)'!$H567*'Hoja3 (2)'!$G567","v":0},"CREAR","Activa","MUERTE POR INDEBIDA O INSUFICIENTE ADOPCION DE MEDIDAS DE PROTECCION Y SEGURIDAD"]
[{"$f":"+'Hoja3 (2)'!$I568","v":0},"INCUMPLIMIENTO DEL DEBER DE PROTECCION Y SEGURIDAD POR PARTE DEL ESTADO",7,{"$f":"+IF('Hoja3 (2)'!$C568=1,'Hoja3 (2)'!$B568,\"No\")","v":"No"},{"$f":"+'Hoja3 (2)'!$C568&'Hoja3 (2)'!$B568","v":"7INCUMPLIMIENTO DEL DEBER DE PROTECCION Y SEGURIDAD POR PARTE DEL ESTADO"},{"$f":"IFERROR(FIND(UPPER('Causas anteriores'!$D$4),D568),0)","v":0},{"$f":"+IF('Hoja3 (2)'!$F568=0,0,1)","v":0},{"$f":"+H567+'Hoja3 (2)'!$G568","v":2},{"$f":"+'Hoja3 (2)'!$H568*'Hoja3 (2)'!$G568","v":0},"CREAR","Activa","DAÑOS A BIENES POR INDEBIDA O INSUFICIENTE ADOPCION DE MEDIDAS DE PROTECCION Y SEGURIDAD"]
[{"$f":"+'Hoja3 (2)'!$I569","v":0},"INCUMPLIMIENTO DEL DEBER DE PROTECCION Y SEGURIDAD POR PARTE DEL ESTADO",8,{"$f":"+IF('Hoja3 (2)'!$C569=1,'Hoja3 (2)'!$B569,\"No\")","v":"No"},{"$f":"+'Hoja3 (2)'!$C569&'Hoja3 (2)'!$B569","v":"8INCUMPLIMIENTO DEL DEBER DE PROTECCION Y SEGURIDAD POR PARTE DEL ESTADO"},{"$f":"IFERROR(FIND(UPPER('Causas anteriores'!$D$4),D569),0)","v":0},{"$f":"+IF('Hoja3 (2)'!$F569=0,0,1)","v":0},{"$f":"+H568+'Hoja3 (2)'!$G569","v":2},{"$f":"+'Hoja3 (2)'!$H569*'Hoja3 (2)'!$G569","v":0},"CREAR","Activa","LESION POR MODIFICACION O REDUCCION DE LAS MEDIDAS DE PROTECCION Y SEGURIDAD"]
[{"$f":"+'Hoja3 (2)'!$I570","v":0},"INCUMPLIMIENTO DEL DEBER DE PROTECCION Y SEGURIDAD POR PARTE DEL ESTADO",9,{"$f":"+IF('Hoja3 (2)'!$C570=1,'Hoja3 (2)'!$B570,\"No\")","v":"No"},{"$f":"+'Hoja3 (2)'!$C570&'Hoja3 (2)'!$B570","v":"9INCUMPLIMIENTO DEL DEBER DE PROTECCION Y SEGURIDAD POR PARTE DEL ESTADO"},{"$f":"IFERROR(FIND(UPPER('Causas anteriores'!$D$4),D570),0)","v":0},{"$f":"+IF('Hoja3 (2)'!$F570=0,0,1)","v":0},{"$f":"+H569+'Hoja3 (2)'!$G570","v":2},{"$f":"+'Hoja3 (2)'!$H570*'Hoja3 (2)'!$G570","v":0},"CREAR","Activa","MUERTE POR MODIFICACION O REDUCCION DE LAS MEDIDAS DE PROTECCION Y SEGURIDAD"]
[{"$f":"+'Hoja3 (2)'!$I571","v":0},"INCUMPLIMIENTO DEL DEBER DE PROTECCION Y SEGURIDAD POR PARTE DEL ESTADO",10,{"$f":"+IF('Hoja3 (2)'!$C571=1,'Hoja3 (2)'!$B571,\"No\")","v":"No"},{"$f":"+'Hoja3 (2)'!$C571&'Hoja3 (2)'!$B571","v":"10INCUMPLIMIENTO DEL DEBER DE PROTECCION Y SEGURIDAD POR PARTE DEL ESTADO"},{"$f":"IFERROR(FIND(UPPER('Causas anteriores'!$D$4),D571),0)","v":0},{"$f":"+IF('Hoja3 (2)'!$F571=0,0,1)","v":0},{"$f":"+H570+'Hoja3 (2)'!$G571","v":2},{"$f":"+'Hoja3 (2)'!$H571*'Hoja3 (2)'!$G571","v":0},"CREAR","Activa","DAÑOS A BIENES POR MODIFICACION O REDUCCION DE LAS MEDIDAS DE PROTECCION Y SEGURIDAD"]
[{"$f":"+'Hoja3 (2)'!$I572","v":0},"INCUMPLIMIENTO EN EL DEBER DE SEGURIDAD Y PREVENCION DE DESASTRES",1,{"$f":"+IF('Hoja3 (2)'!$C572=1,'Hoja3 (2)'!$B572,\"No\")","v":"INCUMPLIMIENTO EN EL DEBER DE SEGURIDAD Y PREVENCION DE DESASTRES"},{"$f":"+'Hoja3 (2)'!$C572&'Hoja3 (2)'!$B572","v":"1INCUMPLIMIENTO EN EL DEBER DE SEGURIDAD Y PREVENCION DE DESASTRES"},{"$f":"IFERROR(FIND(UPPER('Causas anteriores'!$D$4),D572),0)","v":0},{"$f":"+IF('Hoja3 (2)'!$F572=0,0,1)","v":0},{"$f":"+H571+'Hoja3 (2)'!$G572","v":2},{"$f":"+'Hoja3 (2)'!$H572*'Hoja3 (2)'!$G572","v":0},"MANTENER/AJUSTAR TEXTO","Activa","INCUMPLIMIENTO EN EL DEBER DE SEGURIDAD Y PREVENCION DE DESASTRES",null,"ACTIVA"]
[{"$f":"+'Hoja3 (2)'!$I573","v":0},"INCUMPLIMIENTO EN EL PAGO DE CUOTAS DE COOPROPIEDAD",1,{"$f":"+IF('Hoja3 (2)'!$C573=1,'Hoja3 (2)'!$B573,\"No\")","v":"INCUMPLIMIENTO EN EL PAGO DE CUOTAS DE COOPROPIEDAD"},{"$f":"+'Hoja3 (2)'!$C573&'Hoja3 (2)'!$B573","v":"1INCUMPLIMIENTO EN EL PAGO DE CUOTAS DE COOPROPIEDAD"},{"$f":"IFERROR(FIND(UPPER('Causas anteriores'!$D$4),D573),0)","v":0},{"$f":"+IF('Hoja3 (2)'!$F573=0,0,1)","v":0},{"$f":"+H572+'Hoja3 (2)'!$G573","v":2},{"$f":"+'Hoja3 (2)'!$H573*'Hoja3 (2)'!$G573","v":0},"MANTENER/AJUSTAR TEXTO","Activa","INCUMPLIMIENTO EN EL PAGO DE CUOTAS DE COPROPIEDAD",null,"ACTIVA"]
[{"$f":"+'Hoja3 (2)'!$I574","v":0},"INCUMPLIMIENTO EN EL PAGO DE LA OBLIGACION CONTENIDA EN TITULO VALOR",1,{"$f":"+IF('Hoja3 (2)'!$C574=1,'Hoja3 (2)'!$B574,\"No\")","v":"INCUMPLIMIENTO EN EL PAGO DE LA OBLIGACION CONTENIDA EN TITULO VALOR"},{"$f":"+'Hoja3 (2)'!$C574&'Hoja3 (2)'!$B574","v":"1INCUMPLIMIENTO EN EL PAGO DE LA OBLIGACION CONTENIDA EN TITULO VALOR"},{"$f":"IFERROR(FIND(UPPER('Causas anteriores'!$D$4),D574),0)","v":0},{"$f":"+IF('Hoja3 (2)'!$F574=0,0,1)","v":0},{"$f":"+H573+'Hoja3 (2)'!$G574","v":2},{"$f":"+'Hoja3 (2)'!$H574*'Hoja3 (2)'!$G574","v":0},"MANTENER/AJUSTAR TEXTO","Activa","INCUMPLIMIENTO EN PAGO DE OBLIGACION CONTENIDA EN TITULO VALOR",null,"ACTIVA"]
[{"$f":"+'Hoja3 (2)'!$I575","v":0},"INCUMPLIMIENTO EN EL PAGO DE LA PENSION",1,{"$f":"+IF('Hoja3 (2)'!$C575=1,'Hoja3 (2)'!$B575,\"No\")","v":"INCUMPLIMIENTO EN EL PAGO DE LA PENSION"},{"$f":"+'Hoja3 (2)'!$C575&'Hoja3 (2)'!$B575","v":"1INCUMPLIMIENTO EN EL PAGO DE LA PENSION"},{"$f":"IFERROR(FIND(UPPER('Causas anteriores'!$D$4),D575),0)","v":0},{"$f":"+IF('Hoja3 (2)'!$F575=0,0,1)","v":0},{"$f":"+H574+'Hoja3 (2)'!$G575","v":2},{"$f":"+'Hoja3 (2)'!$H575*'Hoja3 (2)'!$G575","v":0},"INACTIVAR PARA DESAGREGAR","Inactiva",null,null,"ACTIVA"]
[{"$f":"+'Hoja3 (2)'!$I576","v":0},"INCUMPLIMIENTO EN EL PAGO DE LA PENSION",2,{"$f":"+IF('Hoja3 (2)'!$C576=1,'Hoja3 (2)'!$B576,\"No\")","v":"No"},{"$f":"+'Hoja3 (2)'!$C576&'Hoja3 (2)'!$B576","v":"2INCUMPLIMIENTO EN EL PAGO DE LA PENSION"},{"$f":"IFERROR(FIND(UPPER('Causas anteriores'!$D$4),D576),0)","v":0},{"$f":"+IF('Hoja3 (2)'!$F576=0,0,1)","v":0},{"$f":"+H575+'Hoja3 (2)'!$G576","v":2},{"$f":"+'Hoja3 (2)'!$H576*'Hoja3 (2)'!$G576","v":0},"CREAR","Activa","INCUMPLIMIENTO EN EL PAGO DE PENSION DE VEJEZ"]
[{"$f":"+'Hoja3 (2)'!$I577","v":0},"INCUMPLIMIENTO EN EL PAGO DE LA PENSION",3,{"$f":"+IF('Hoja3 (2)'!$C577=1,'Hoja3 (2)'!$B577,\"No\")","v":"No"},{"$f":"+'Hoja3 (2)'!$C577&'Hoja3 (2)'!$B577","v":"3INCUMPLIMIENTO EN EL PAGO DE LA PENSION"},{"$f":"IFERROR(FIND(UPPER('Causas anteriores'!$D$4),D577),0)","v":0},{"$f":"+IF('Hoja3 (2)'!$F577=0,0,1)","v":0},{"$f":"+H576+'Hoja3 (2)'!$G577","v":2},{"$f":"+'Hoja3 (2)'!$H577*'Hoja3 (2)'!$G577","v":0},"CREAR","Activa","INCUMPLIMIENTO EN EL PAGO DE PENSION DE INVALIDEZ"]
[{"$f":"+'Hoja3 (2)'!$I578","v":0},"INCUMPLIMIENTO EN EL PAGO DE LA PENSION",4,{"$f":"+IF('Hoja3 (2)'!$C578=1,'Hoja3 (2)'!$B578,\"No\")","v":"No"},{"$f":"+'Hoja3 (2)'!$C578&'Hoja3 (2)'!$B578","v":"4INCUMPLIMIENTO EN EL PAGO DE LA PENSION"},{"$f":"IFERROR(FIND(UPPER('Causas anteriores'!$D$4),D578),0)","v":0},{"$f":"+IF('Hoja3 (2)'!$F578=0,0,1)","v":0},{"$f":"+H577+'Hoja3 (2)'!$G578","v":2},{"$f":"+'Hoja3 (2)'!$H578*'Hoja3 (2)'!$G578","v":0},"CREAR","Activa","INCUMPLIMIENTO EN EL PAGO DE PENSION DE SOBREVIVIENTE"]
[{"$f":"+'Hoja3 (2)'!$I579","v":0},"INCUMPLIMIENTO EN EL PAGO DE LA PENSION",5,{"$f":"+IF('Hoja3 (2)'!$C579=1,'Hoja3 (2)'!$B579,\"No\")","v":"No"},{"$f":"+'Hoja3 (2)'!$C579&'Hoja3 (2)'!$B579","v":"5INCUMPLIMIENTO EN EL PAGO DE LA PENSION"},{"$f":"IFERROR(FIND(UPPER('Causas anteriores'!$D$4),D579),0)","v":0},{"$f":"+IF('Hoja3 (2)'!$F579=0,0,1)","v":0},{"$f":"+H578+'Hoja3 (2)'!$G579","v":2},{"$f":"+'Hoja3 (2)'!$H579*'Hoja3 (2)'!$G579","v":0},"CREAR","Activa","INCUMPLIMIENTO EN EL PAGO DE PENSION DE SOBREVIVIENTE"]
[{"$f":"+'Hoja3 (2)'!$I580","v":0},"INCUMPLIMIENTO EN EL PAGO DE LOS CANONES DE ARRENDAMIENTO",1,{"$f":"+IF('Hoja3 (2)'!$C580=1,'Hoja3 (2)'!$B580,\"No\")","v":"INCUMPLIMIENTO EN EL PAGO DE LOS CANONES DE ARRENDAMIENTO"},{"$f":"+'Hoja3 (2)'!$C580&'Hoja3 (2)'!$B580","v":"1INCUMPLIMIENTO EN EL PAGO DE LOS CANONES DE ARRENDAMIENTO"},{"$f":"IFERROR(FIND(UPPER('Causas anteriores'!$D$4),D580),0)","v":0},{"$f":"+IF('Hoja3 (2)'!$F580=0,0,1)","v":0},{"$f":"+H579+'Hoja3 (2)'!$G580","v":2},{"$f":"+'Hoja3 (2)'!$H580*'Hoja3 (2)'!$G580","v":0},"MANTENER/AJUSTAR TEXTO","Activa","INCUMPLIMIENTO EN EL PAGO DE LOS CANONES DE ARRENDAMIENTO",null,"ACTIVA"]
[{"$f":"+'Hoja3 (2)'!$I581","v":0},"INCUMPLIMIENTO EN EL PAGO DE PRESTACIONES SOCIALES YA RECONOCIDAS",1,{"$f":"+IF('Hoja3 (2)'!$C581=1,'Hoja3 (2)'!$B581,\"No\")","v":"INCUMPLIMIENTO EN EL PAGO DE PRESTACIONES SOCIALES YA RECONOCIDAS"},{"$f":"+'Hoja3 (2)'!$C581&'Hoja3 (2)'!$B581","v":"1INCUMPLIMIENTO EN EL PAGO DE PRESTACIONES SOCIALES YA RECONOCIDAS"},{"$f":"IFERROR(FIND(UPPER('Causas anteriores'!$D$4),D581),0)","v":0},{"$f":"+IF('Hoja3 (2)'!$F581=0,0,1)","v":0},{"$f":"+H580+'Hoja3 (2)'!$G581","v":2},{"$f":"+'Hoja3 (2)'!$H581*'Hoja3 (2)'!$G581","v":0},"MANTENER/AJUSTAR TEXTO","Activa","INCUMPLIMIENTO EN EL PAGO DE PRESTACIONES SOCIALES",null,"ACTIVA"]
[{"$f":"+'Hoja3 (2)'!$I582","v":0},"INCUMPLIMIENTO EN EL PAGO DE SINIESTRO POR ASEGURADORA",1,{"$f":"+IF('Hoja3 (2)'!$C582=1,'Hoja3 (2)'!$B582,\"No\")","v":"INCUMPLIMIENTO EN EL PAGO DE SINIESTRO POR ASEGURADORA"},{"$f":"+'Hoja3 (2)'!$C582&'Hoja3 (2)'!$B582","v":"1INCUMPLIMIENTO EN EL PAGO DE SINIESTRO POR ASEGURADORA"},{"$f":"IFERROR(FIND(UPPER('Causas anteriores'!$D$4),D582),0)","v":0},{"$f":"+IF('Hoja3 (2)'!$F582=0,0,1)","v":0},{"$f":"+H581+'Hoja3 (2)'!$G582","v":2},{"$f":"+'Hoja3 (2)'!$H582*'Hoja3 (2)'!$G582","v":0},"MANTENER/AJUSTAR TEXTO","Activa","INCUMPLIMIENTO EN EL PAGO DE SINIESTRO POR ASEGURADORA",null,"ACTIVA"]
[{"$f":"+'Hoja3 (2)'!$I583","v":0},"INCUMPLIMIENTO EN EL PAGO DE UNA OBLIGACION CON GARANTIA REAL",1,{"$f":"+IF('Hoja3 (2)'!$C583=1,'Hoja3 (2)'!$B583,\"No\")","v":"INCUMPLIMIENTO EN EL PAGO DE UNA OBLIGACION CON GARANTIA REAL"},{"$f":"+'Hoja3 (2)'!$C583&'Hoja3 (2)'!$B583","v":"1INCUMPLIMIENTO EN EL PAGO DE UNA OBLIGACION CON GARANTIA REAL"},{"$f":"IFERROR(FIND(UPPER('Causas anteriores'!$D$4),D583),0)","v":0},{"$f":"+IF('Hoja3 (2)'!$F583=0,0,1)","v":0},{"$f":"+H582+'Hoja3 (2)'!$G583","v":2},{"$f":"+'Hoja3 (2)'!$H583*'Hoja3 (2)'!$G583","v":0},"MANTENER/AJUSTAR TEXTO","Activa","INCUMPLIMIENTO EN EL PAGO DE UNA OBLIGACION CON GARANTIA REAL",null,"ACTIVA"]
[{"$f":"+'Hoja3 (2)'!$I584","v":0},"INCUMPLIMIENTO EN EL RECONOCIMIENTO DE MEDICAMENTOS Y SERVICIOS INCLUIDOS O NO EN EL POS",1,{"$f":"+IF('Hoja3 (2)'!$C584=1,'Hoja3 (2)'!$B584,\"No\")","v":"INCUMPLIMIENTO EN EL RECONOCIMIENTO DE MEDICAMENTOS Y SERVICIOS INCLUIDOS O NO EN EL POS"},{"$f":"+'Hoja3 (2)'!$C584&'Hoja3 (2)'!$B584","v":"1INCUMPLIMIENTO EN EL RECONOCIMIENTO DE MEDICAMENTOS Y SERVICIOS INCLUIDOS O NO EN EL POS"},{"$f":"IFERROR(FIND(UPPER('Causas anteriores'!$D$4),D584),0)","v":0},{"$f":"+IF('Hoja3 (2)'!$F584=0,0,1)","v":0},{"$f":"+H583+'Hoja3 (2)'!$G584","v":2},{"$f":"+'Hoja3 (2)'!$H584*'Hoja3 (2)'!$G584","v":0},"MANTENER/AJUSTAR TEXTO","Activa","INCUMPLIMIENTO EN EL RECONOCIMIENTO DE MEDICAMENTOS Y SERVICIOS INCLUIDOS O NO EN EL POS",null,"ACTIVA"]
[{"$f":"+'Hoja3 (2)'!$I585","v":0},"INCUMPLIMIENTO EN LA CONSTITUCION DE CONSORCIOS Y/O UNIONES TEMPORALES",1,{"$f":"+IF('Hoja3 (2)'!$C585=1,'Hoja3 (2)'!$B585,\"No\")","v":"INCUMPLIMIENTO EN LA CONSTITUCION DE CONSORCIOS Y/O UNIONES TEMPORALES"},{"$f":"+'Hoja3 (2)'!$C585&'Hoja3 (2)'!$B585","v":"1INCUMPLIMIENTO EN LA CONSTITUCION DE CONSORCIOS Y/O UNIONES TEMPORALES"},{"$f":"IFERROR(FIND(UPPER('Causas anteriores'!$D$4),D585),0)","v":0},{"$f":"+IF('Hoja3 (2)'!$F585=0,0,1)","v":0},{"$f":"+H584+'Hoja3 (2)'!$G585","v":2},{"$f":"+'Hoja3 (2)'!$H585*'Hoja3 (2)'!$G585","v":0},"MANTENER/AJUSTAR TEXTO","Activa","INCUMPLIMIENTO EN LA CONSTITUCION DE CONSORCIOS Y/O UNIONES TEMPORALES",null,"ACTIVA"]
[{"$f":"+'Hoja3 (2)'!$I586","v":0},"INCUMPLIMIENTO EN LA ENTREGA DE VIVIENDA DE INTERES SOCIAL",1,{"$f":"+IF('Hoja3 (2)'!$C586=1,'Hoja3 (2)'!$B586,\"No\")","v":"INCUMPLIMIENTO EN LA ENTREGA DE VIVIENDA DE INTERES SOCIAL"},{"$f":"+'Hoja3 (2)'!$C586&'Hoja3 (2)'!$B586","v":"1INCUMPLIMIENTO EN LA ENTREGA DE VIVIENDA DE INTERES SOCIAL"},{"$f":"IFERROR(FIND(UPPER('Causas anteriores'!$D$4),D586),0)","v":0},{"$f":"+IF('Hoja3 (2)'!$F586=0,0,1)","v":0},{"$f":"+H585+'Hoja3 (2)'!$G586","v":2},{"$f":"+'Hoja3 (2)'!$H586*'Hoja3 (2)'!$G586","v":0},"MANTENER/AJUSTAR TEXTO","Activa","INCUMPLIMIENTO EN LA ENTREGA DE VIVIENDA DE INTERES SOCIAL",null,"ACTIVA"]
[{"$f":"+'Hoja3 (2)'!$I587","v":0},"INCUMPLIMIENTO EN LA ENTREGA MATERIAL DE BIEN DEL TRADENTE AL ADQUIRENTE",1,{"$f":"+IF('Hoja3 (2)'!$C587=1,'Hoja3 (2)'!$B587,\"No\")","v":"INCUMPLIMIENTO EN LA ENTREGA MATERIAL DE BIEN DEL TRADENTE AL ADQUIRENTE"},{"$f":"+'Hoja3 (2)'!$C587&'Hoja3 (2)'!$B587","v":"1INCUMPLIMIENTO EN LA ENTREGA MATERIAL DE BIEN DEL TRADENTE AL ADQUIRENTE"},{"$f":"IFERROR(FIND(UPPER('Causas anteriores'!$D$4),D587),0)","v":0},{"$f":"+IF('Hoja3 (2)'!$F587=0,0,1)","v":0},{"$f":"+H586+'Hoja3 (2)'!$G587","v":2},{"$f":"+'Hoja3 (2)'!$H587*'Hoja3 (2)'!$G587","v":0},"MANTENER/AJUSTAR TEXTO","Activa","INCUMPLIMIENTO EN LA ENTREGA MATERIAL DE BIEN DEL TRADENTE AL ADQUIRENTE",null,"ACTIVA"]
[{"$f":"+'Hoja3 (2)'!$I588","v":0},"INCUMPLIMIENTO EN LA LIQUIDACION DEL CONTRATO",1,{"$f":"+IF('Hoja3 (2)'!$C588=1,'Hoja3 (2)'!$B588,\"No\")","v":"INCUMPLIMIENTO EN LA LIQUIDACION DEL CONTRATO"},{"$f":"+'Hoja3 (2)'!$C588&'Hoja3 (2)'!$B588","v":"1INCUMPLIMIENTO EN LA LIQUIDACION DEL CONTRATO"},{"$f":"IFERROR(FIND(UPPER('Causas anteriores'!$D$4),D588),0)","v":0},{"$f":"+IF('Hoja3 (2)'!$F588=0,0,1)","v":0},{"$f":"+H587+'Hoja3 (2)'!$G588","v":2},{"$f":"+'Hoja3 (2)'!$H588*'Hoja3 (2)'!$G588","v":0},"MANTENER/AJUSTAR TEXTO","Activa","INCUMPLIMIENTO DEL DEBER DE LIQUIDAR EL CONTRATO",null,"ACTIVA"]
[{"$f":"+'Hoja3 (2)'!$I589","v":0},"INDEBIDA ADECUACION FISICA DE CONSTRUCCIONES PARA PERSONAS CON ALGUNA DISCAPACIDAD",1,{"$f":"+IF('Hoja3 (2)'!$C589=1,'Hoja3 (2)'!$B589,\"No\")","v":"INDEBIDA ADECUACION FISICA DE CONSTRUCCIONES PARA PERSONAS CON ALGUNA DISCAPACIDAD"},{"$f":"+'Hoja3 (2)'!$C589&'Hoja3 (2)'!$B589","v":"1INDEBIDA ADECUACION FISICA DE CONSTRUCCIONES PARA PERSONAS CON ALGUNA DISCAPACIDAD"},{"$f":"IFERROR(FIND(UPPER('Causas anteriores'!$D$4),D589),0)","v":0},{"$f":"+IF('Hoja3 (2)'!$F589=0,0,1)","v":0},{"$f":"+H588+'Hoja3 (2)'!$G589","v":2},{"$f":"+'Hoja3 (2)'!$H589*'Hoja3 (2)'!$G589","v":0},"MANTENER/AJUSTAR TEXTO","Activa","INDEBIDA ADECUACION FISICA DE CONSTRUCCIONES PARA PERSONAS CON ALGUNA DISCAPACIDAD",null,"ACTIVA"]
[{"$f":"+'Hoja3 (2)'!$I590","v":0},"INDEBIDA ADMINISTRACION DE FUNCIONARIOS PUBLICOS",1,{"$f":"+IF('Hoja3 (2)'!$C590=1,'Hoja3 (2)'!$B590,\"No\")","v":"INDEBIDA ADMINISTRACION DE FUNCIONARIOS PUBLICOS"},{"$f":"+'Hoja3 (2)'!$C590&'Hoja3 (2)'!$B590","v":"1INDEBIDA ADMINISTRACION DE FUNCIONARIOS PUBLICOS"},{"$f":"IFERROR(FIND(UPPER('Causas anteriores'!$D$4),D590),0)","v":0},{"$f":"+IF('Hoja3 (2)'!$F590=0,0,1)","v":0},{"$f":"+H589+'Hoja3 (2)'!$G590","v":2},{"$f":"+'Hoja3 (2)'!$H590*'Hoja3 (2)'!$G590","v":0},"ESTABA INACTIVA","Inactiva",null,null,"INACTIVA"]
[{"$f":"+'Hoja3 (2)'!$I591","v":0},"INDEMNIZACION MESADA PENSIONAL",1,{"$f":"+IF('Hoja3 (2)'!$C591=1,'Hoja3 (2)'!$B591,\"No\")","v":"INDEMNIZACION MESADA PENSIONAL"},{"$f":"+'Hoja3 (2)'!$C591&'Hoja3 (2)'!$B591","v":"1INDEMNIZACION MESADA PENSIONAL"},{"$f":"IFERROR(FIND(UPPER('Causas anteriores'!$D$4),D591),0)","v":0},{"$f":"+IF('Hoja3 (2)'!$F591=0,0,1)","v":0},{"$f":"+H590+'Hoja3 (2)'!$G591","v":2},{"$f":"+'Hoja3 (2)'!$H591*'Hoja3 (2)'!$G591","v":0},"ESTABA INACTIVA","Inactiva",null,null,"INACTIVA"]
[{"$f":"+'Hoja3 (2)'!$I592","v":0},"INDEMNIZACION POR DANO ESPECIAL",1,{"$f":"+IF('Hoja3 (2)'!$C592=1,'Hoja3 (2)'!$B592,\"No\")","v":"INDEMNIZACION POR DANO ESPECIAL"},{"$f":"+'Hoja3 (2)'!$C592&'Hoja3 (2)'!$B592","v":"1INDEMNIZACION POR DANO ESPECIAL"},{"$f":"IFERROR(FIND(UPPER('Causas anteriores'!$D$4),D592),0)","v":0},{"$f":"+IF('Hoja3 (2)'!$F592=0,0,1)","v":0},{"$f":"+H591+'Hoja3 (2)'!$G592","v":2},{"$f":"+'Hoja3 (2)'!$H592*'Hoja3 (2)'!$G592","v":0},"ESTABA INACTIVA","Inactiva",null,null,"INACTIVA"]
[{"$f":"+'Hoja3 (2)'!$I593","v":0},"INDEMNIZACION POR DAÑO ESPECIAL CAUSADO POR MEDIDA DE SEGURIDAD DE LAS FUERZAS MILITARES",1,{"$f":"+IF('Hoja3 (2)'!$C593=1,'Hoja3 (2)'!$B593,\"No\")","v":"INDEMNIZACION POR DAÑO ESPECIAL CAUSADO POR MEDIDA DE SEGURIDAD DE LAS FUERZAS MILITARES"},{"$f":"+'Hoja3 (2)'!$C593&'Hoja3 (2)'!$B593","v":"1INDEMNIZACION POR DAÑO ESPECIAL CAUSADO POR MEDIDA DE SEGURIDAD DE LAS FUERZAS MILITARES"},{"$f":"IFERROR(FIND(UPPER('Causas anteriores'!$D$4),D593),0)","v":0},{"$f":"+IF('Hoja3 (2)'!$F593=0,0,1)","v":0},{"$f":"+H592+'Hoja3 (2)'!$G593","v":2},{"$f":"+'Hoja3 (2)'!$H593*'Hoja3 (2)'!$G593","v":0},"ESTABA INACTIVA","Inactiva",null,null,"INACTIVA"]
[{"$f":"+'Hoja3 (2)'!$I594","v":0},"INDEMNIZACION POR RIESGO EXCEPCIONAL",1,{"$f":"+IF('Hoja3 (2)'!$C594=1,'Hoja3 (2)'!$B594,\"No\")","v":"INDEMNIZACION POR RIESGO EXCEPCIONAL"},{"$f":"+'Hoja3 (2)'!$C594&'Hoja3 (2)'!$B594","v":"1INDEMNIZACION POR RIESGO EXCEPCIONAL"},{"$f":"IFERROR(FIND(UPPER('Causas anteriores'!$D$4),D594),0)","v":0},{"$f":"+IF('Hoja3 (2)'!$F594=0,0,1)","v":0},{"$f":"+H593+'Hoja3 (2)'!$G594","v":2},{"$f":"+'Hoja3 (2)'!$H594*'Hoja3 (2)'!$G594","v":0},"ESTABA INACTIVA","Inactiva",null,null,"INACTIVA"]
[{"$f":"+'Hoja3 (2)'!$I595","v":0},"INTEGRACION DE TRIBUNAL DE ARBITRAMENTO",1,{"$f":"+IF('Hoja3 (2)'!$C595=1,'Hoja3 (2)'!$B595,\"No\")","v":"INTEGRACION DE TRIBUNAL DE ARBITRAMENTO"},{"$f":"+'Hoja3 (2)'!$C595&'Hoja3 (2)'!$B595","v":"1INTEGRACION DE TRIBUNAL DE ARBITRAMENTO"},{"$f":"IFERROR(FIND(UPPER('Causas anteriores'!$D$4),D595),0)","v":0},{"$f":"+IF('Hoja3 (2)'!$F595=0,0,1)","v":0},{"$f":"+H594+'Hoja3 (2)'!$G595","v":2},{"$f":"+'Hoja3 (2)'!$H595*'Hoja3 (2)'!$G595","v":0},"ESTABA INACTIVA","Inactiva",null,null,"INACTIVA"]
[{"$f":"+'Hoja3 (2)'!$I596","v":0},"INTENCION DE DIVISION MATERIAL DE LA COSA COMUN POR PARTE DE COMUNEROS O COPROPIETARIOS",1,{"$f":"+IF('Hoja3 (2)'!$C596=1,'Hoja3 (2)'!$B596,\"No\")","v":"INTENCION DE DIVISION MATERIAL DE LA COSA COMUN POR PARTE DE COMUNEROS O COPROPIETARIOS"},{"$f":"+'Hoja3 (2)'!$C596&'Hoja3 (2)'!$B596","v":"1INTENCION DE DIVISION MATERIAL DE LA COSA COMUN POR PARTE DE COMUNEROS O COPROPIETARIOS"},{"$f":"IFERROR(FIND(UPPER('Causas anteriores'!$D$4),D596),0)","v":0},{"$f":"+IF('Hoja3 (2)'!$F596=0,0,1)","v":0},{"$f":"+H595+'Hoja3 (2)'!$G596","v":2},{"$f":"+'Hoja3 (2)'!$H596*'Hoja3 (2)'!$G596","v":0},"MANTENER/AJUSTAR TEXTO","Activa","DIVISION DE LA COSA COMUN POR PARTE DE COMUNEROS O COPROPIETARIOS",null,"ACTIVA"]
[{"$f":"+'Hoja3 (2)'!$I597","v":0},"INTERCEPTACION SIN ORDEN JUDICIAL",1,{"$f":"+IF('Hoja3 (2)'!$C597=1,'Hoja3 (2)'!$B597,\"No\")","v":"INTERCEPTACION SIN ORDEN JUDICIAL"},{"$f":"+'Hoja3 (2)'!$C597&'Hoja3 (2)'!$B597","v":"1INTERCEPTACION SIN ORDEN JUDICIAL"},{"$f":"IFERROR(FIND(UPPER('Causas anteriores'!$D$4),D597),0)","v":0},{"$f":"+IF('Hoja3 (2)'!$F597=0,0,1)","v":0},{"$f":"+H596+'Hoja3 (2)'!$G597","v":2},{"$f":"+'Hoja3 (2)'!$H597*'Hoja3 (2)'!$G597","v":0},"ESTABA INACTIVA","Inactiva",null,null,"INACTIVA"]
[{"$f":"+'Hoja3 (2)'!$I598","v":0},"LA NULIDAD DE UN ACTO ADMINISTRIVO QUE IMPONE UNA SANCION",1,{"$f":"+IF('Hoja3 (2)'!$C598=1,'Hoja3 (2)'!$B598,\"No\")","v":"LA NULIDAD DE UN ACTO ADMINISTRIVO QUE IMPONE UNA SANCION"},{"$f":"+'Hoja3 (2)'!$C598&'Hoja3 (2)'!$B598","v":"1LA NULIDAD DE UN ACTO ADMINISTRIVO QUE IMPONE UNA SANCION"},{"$f":"IFERROR(FIND(UPPER('Causas anteriores'!$D$4),D598),0)","v":0},{"$f":"+IF('Hoja3 (2)'!$F598=0,0,1)","v":0},{"$f":"+H597+'Hoja3 (2)'!$G598","v":2},{"$f":"+'Hoja3 (2)'!$H598*'Hoja3 (2)'!$G598","v":0},"ESTABA INACTIVA","Inactiva",null,null,"INACTIVA"]
[{"$f":"+'Hoja3 (2)'!$I599","v":0},"LESION A CIVIL CON ARMA DE DOTACION OFICIAL",1,{"$f":"+IF('Hoja3 (2)'!$C599=1,'Hoja3 (2)'!$B599,\"No\")","v":"LESION A CIVIL CON ARMA DE DOTACION OFICIAL"},{"$f":"+'Hoja3 (2)'!$C599&'Hoja3 (2)'!$B599","v":"1LESION A CIVIL CON ARMA DE DOTACION OFICIAL"},{"$f":"IFERROR(FIND(UPPER('Causas anteriores'!$D$4),D599),0)","v":0},{"$f":"+IF('Hoja3 (2)'!$F599=0,0,1)","v":0},{"$f":"+H598+'Hoja3 (2)'!$G599","v":2},{"$f":"+'Hoja3 (2)'!$H599*'Hoja3 (2)'!$G599","v":0},"MANTENER/AJUSTAR TEXTO","Activa","LESION A CIVIL CON ARMA DE DOTACION OFICIAL",null,"ACTIVA"]
[{"$f":"+'Hoja3 (2)'!$I600","v":0},"LESION A CIVIL CON VEHICULO OFICIAL",1,{"$f":"+IF('Hoja3 (2)'!$C600=1,'Hoja3 (2)'!$B600,\"No\")","v":"LESION A CIVIL CON VEHICULO OFICIAL"},{"$f":"+'Hoja3 (2)'!$C600&'Hoja3 (2)'!$B600","v":"1LESION A CIVIL CON VEHICULO OFICIAL"},{"$f":"IFERROR(FIND(UPPER('Causas anteriores'!$D$4),D600),0)","v":0},{"$f":"+IF('Hoja3 (2)'!$F600=0,0,1)","v":0},{"$f":"+H599+'Hoja3 (2)'!$G600","v":2},{"$f":"+'Hoja3 (2)'!$H600*'Hoja3 (2)'!$G600","v":0},"MANTENER/AJUSTAR TEXTO","Activa","LESION A CIVIL CON VEHICULO OFICIAL",null,"ACTIVA"]
[{"$f":"+'Hoja3 (2)'!$I601","v":0},"LESION A CIVIL EN DESARROLLO DE OPERATIVO MILITAR Y/O COMBATE O ENFRENTAMIENTO",1,{"$f":"+IF('Hoja3 (2)'!$C601=1,'Hoja3 (2)'!$B601,\"No\")","v":"LESION A CIVIL EN DESARROLLO DE OPERATIVO MILITAR Y/O COMBATE O ENFRENTAMIENTO"},{"$f":"+'Hoja3 (2)'!$C601&'Hoja3 (2)'!$B601","v":"1LESION A CIVIL EN DESARROLLO DE OPERATIVO MILITAR Y/O COMBATE O ENFRENTAMIENTO"},{"$f":"IFERROR(FIND(UPPER('Causas anteriores'!$D$4),D601),0)","v":0},{"$f":"+IF('Hoja3 (2)'!$F601=0,0,1)","v":0},{"$f":"+H600+'Hoja3 (2)'!$G601","v":2},{"$f":"+'Hoja3 (2)'!$H601*'Hoja3 (2)'!$G601","v":0},"INACTIVAR PARA DESAGREGAR","Inactiva",null,null,"ACTIVA"]
[{"$f":"+'Hoja3 (2)'!$I602","v":0},"LESION A CIVIL EN DESARROLLO DE OPERATIVO MILITAR Y/O COMBATE O ENFRENTAMIENTO",2,{"$f":"+IF('Hoja3 (2)'!$C602=1,'Hoja3 (2)'!$B602,\"No\")","v":"No"},{"$f":"+'Hoja3 (2)'!$C602&'Hoja3 (2)'!$B602","v":"2LESION A CIVIL EN DESARROLLO DE OPERATIVO MILITAR Y/O COMBATE O ENFRENTAMIENTO"},{"$f":"IFERROR(FIND(UPPER('Causas anteriores'!$D$4),D602),0)","v":0},{"$f":"+IF('Hoja3 (2)'!$F602=0,0,1)","v":0},{"$f":"+H601+'Hoja3 (2)'!$G602","v":2},{"$f":"+'Hoja3 (2)'!$H602*'Hoja3 (2)'!$G602","v":0},"CREAR","Activa","LESION A CIVIL EN OPERATIVO MILITAR"]
[{"$f":"+'Hoja3 (2)'!$I603","v":0},"LESION A CIVIL EN DESARROLLO DE OPERATIVO MILITAR Y/O COMBATE O ENFRENTAMIENTO",3,{"$f":"+IF('Hoja3 (2)'!$C603=1,'Hoja3 (2)'!$B603,\"No\")","v":"No"},{"$f":"+'Hoja3 (2)'!$C603&'Hoja3 (2)'!$B603","v":"3LESION A CIVIL EN DESARROLLO DE OPERATIVO MILITAR Y/O COMBATE O ENFRENTAMIENTO"},{"$f":"IFERROR(FIND(UPPER('Causas anteriores'!$D$4),D603),0)","v":0},{"$f":"+IF('Hoja3 (2)'!$F603=0,0,1)","v":0},{"$f":"+H602+'Hoja3 (2)'!$G603","v":2},{"$f":"+'Hoja3 (2)'!$H603*'Hoja3 (2)'!$G603","v":0},"CREAR","Activa","LESION A CIVIL EN COMBATE O ENFRENTAMIENTO"]
[{"$f":"+'Hoja3 (2)'!$I604","v":0},"LESION A CIVIL EN DESARROLLO DE OPERATIVO MILITAR Y/O COMBATE O ENFRENTAMIENTO",4,{"$f":"+IF('Hoja3 (2)'!$C604=1,'Hoja3 (2)'!$B604,\"No\")","v":"No"},{"$f":"+'Hoja3 (2)'!$C604&'Hoja3 (2)'!$B604","v":"4LESION A CIVIL EN DESARROLLO DE OPERATIVO MILITAR Y/O COMBATE O ENFRENTAMIENTO"},{"$f":"IFERROR(FIND(UPPER('Causas anteriores'!$D$4),D604),0)","v":0},{"$f":"+IF('Hoja3 (2)'!$F604=0,0,1)","v":0},{"$f":"+H603+'Hoja3 (2)'!$G604","v":2},{"$f":"+'Hoja3 (2)'!$H604*'Hoja3 (2)'!$G604","v":0},"CREAR","Activa","LESION A CIVIL EN ENFRENTAMIENTO ENTRE TROPAS"]
[{"$f":"+'Hoja3 (2)'!$I605","v":0},"LESION A CIVIL EN PROCEDIMIENTO DE POLICIA",1,{"$f":"+IF('Hoja3 (2)'!$C605=1,'Hoja3 (2)'!$B605,\"No\")","v":"LESION A CIVIL EN PROCEDIMIENTO DE POLICIA"},{"$f":"+'Hoja3 (2)'!$C605&'Hoja3 (2)'!$B605","v":"1LESION A CIVIL EN PROCEDIMIENTO DE POLICIA"},{"$f":"IFERROR(FIND(UPPER('Causas anteriores'!$D$4),D605),0)","v":0},{"$f":"+IF('Hoja3 (2)'!$F605=0,0,1)","v":0},{"$f":"+H604+'Hoja3 (2)'!$G605","v":2},{"$f":"+'Hoja3 (2)'!$H605*'Hoja3 (2)'!$G605","v":0},"MANTENER/AJUSTAR TEXTO","Activa","LESION A CIVIL EN PROCEDIMIENTO DE POLICIA",null,"ACTIVA"]
[{"$f":"+'Hoja3 (2)'!$I606","v":0},"LESION A CIVIL POR EXPLOSION DE MINA ANTIPERSONAL",1,{"$f":"+IF('Hoja3 (2)'!$C606=1,'Hoja3 (2)'!$B606,\"No\")","v":"LESION A CIVIL POR EXPLOSION DE MINA ANTIPERSONAL"},{"$f":"+'Hoja3 (2)'!$C606&'Hoja3 (2)'!$B606","v":"1LESION A CIVIL POR EXPLOSION DE MINA ANTIPERSONAL"},{"$f":"IFERROR(FIND(UPPER('Causas anteriores'!$D$4),D606),0)","v":0},{"$f":"+IF('Hoja3 (2)'!$F606=0,0,1)","v":0},{"$f":"+H605+'Hoja3 (2)'!$G606","v":2},{"$f":"+'Hoja3 (2)'!$H606*'Hoja3 (2)'!$G606","v":0},"MANTENER/AJUSTAR TEXTO","Activa","LESION A CIVIL POR EXPLOSION DE MINA ANTIPERSONAL",null,"ACTIVA"]
[{"$f":"+'Hoja3 (2)'!$I607","v":0},"LESION A CIVIL POR GRUPO ARMADO ILEGAL",1,{"$f":"+IF('Hoja3 (2)'!$C607=1,'Hoja3 (2)'!$B607,\"No\")","v":"LESION A CIVIL POR GRUPO ARMADO ILEGAL"},{"$f":"+'Hoja3 (2)'!$C607&'Hoja3 (2)'!$B607","v":"1LESION A CIVIL POR GRUPO ARMADO ILEGAL"},{"$f":"IFERROR(FIND(UPPER('Causas anteriores'!$D$4),D607),0)","v":0},{"$f":"+IF('Hoja3 (2)'!$F607=0,0,1)","v":0},{"$f":"+H606+'Hoja3 (2)'!$G607","v":2},{"$f":"+'Hoja3 (2)'!$H607*'Hoja3 (2)'!$G607","v":0},"MANTENER/AJUSTAR TEXTO","Activa","LESION A CIVIL POR GRUPO ARMADO ILEGAL",null,"ACTIVA"]
[{"$f":"+'Hoja3 (2)'!$I608","v":0},"LESION A CONSCRIPTO CON AERONAVE OFICIAL",1,{"$f":"+IF('Hoja3 (2)'!$C608=1,'Hoja3 (2)'!$B608,\"No\")","v":"LESION A CONSCRIPTO CON AERONAVE OFICIAL"},{"$f":"+'Hoja3 (2)'!$C608&'Hoja3 (2)'!$B608","v":"1LESION A CONSCRIPTO CON AERONAVE OFICIAL"},{"$f":"IFERROR(FIND(UPPER('Causas anteriores'!$D$4),D608),0)","v":0},{"$f":"+IF('Hoja3 (2)'!$F608=0,0,1)","v":0},{"$f":"+H607+'Hoja3 (2)'!$G608","v":2},{"$f":"+'Hoja3 (2)'!$H608*'Hoja3 (2)'!$G608","v":0},"MANTENER/AJUSTAR TEXTO","Activa","LESION A CONSCRIPTO CON AERONAVE OFICIAL",null,"ACTIVA"]
[{"$f":"+'Hoja3 (2)'!$I609","v":0},"LESION A CONSCRIPTO CON ARMA DE DOTACION OFICIAL",1,{"$f":"+IF('Hoja3 (2)'!$C609=1,'Hoja3 (2)'!$B609,\"No\")","v":"LESION A CONSCRIPTO CON ARMA DE DOTACION OFICIAL"},{"$f":"+'Hoja3 (2)'!$C609&'Hoja3 (2)'!$B609","v":"1LESION A CONSCRIPTO CON ARMA DE DOTACION OFICIAL"},{"$f":"IFERROR(FIND(UPPER('Causas anteriores'!$D$4),D609),0)","v":0},{"$f":"+IF('Hoja3 (2)'!$F609=0,0,1)","v":0},{"$f":"+H608+'Hoja3 (2)'!$G609","v":2},{"$f":"+'Hoja3 (2)'!$H609*'Hoja3 (2)'!$G609","v":0},"MANTENER/AJUSTAR TEXTO","Activa","LESION A CONSCRIPTO CON ARMA DE DOTACION OFICIAL",null,"ACTIVA"]
[{"$f":"+'Hoja3 (2)'!$I610","v":0},"LESION A CONSCRIPTO CON VEHICULO OFICIAL",1,{"$f":"+IF('Hoja3 (2)'!$C610=1,'Hoja3 (2)'!$B610,\"No\")","v":"LESION A CONSCRIPTO CON VEHICULO OFICIAL"},{"$f":"+'Hoja3 (2)'!$C610&'Hoja3 (2)'!$B610","v":"1LESION A CONSCRIPTO CON VEHICULO OFICIAL"},{"$f":"IFERROR(FIND(UPPER('Causas anteriores'!$D$4),D610),0)","v":0},{"$f":"+IF('Hoja3 (2)'!$F610=0,0,1)","v":0},{"$f":"+H609+'Hoja3 (2)'!$G610","v":2},{"$f":"+'Hoja3 (2)'!$H610*'Hoja3 (2)'!$G610","v":0},"MANTENER/AJUSTAR TEXTO","Activa","LESION A CONSCRIPTO CON VEHICULO OFICIAL",null,"ACTIVA"]
[{"$f":"+'Hoja3 (2)'!$I611","v":0},"LESION A CONSCRIPTO DURANTE INSTRUCCION",1,{"$f":"+IF('Hoja3 (2)'!$C611=1,'Hoja3 (2)'!$B611,\"No\")","v":"LESION A CONSCRIPTO DURANTE INSTRUCCION"},{"$f":"+'Hoja3 (2)'!$C611&'Hoja3 (2)'!$B611","v":"1LESION A CONSCRIPTO DURANTE INSTRUCCION"},{"$f":"IFERROR(FIND(UPPER('Causas anteriores'!$D$4),D611),0)","v":0},{"$f":"+IF('Hoja3 (2)'!$F611=0,0,1)","v":0},{"$f":"+H610+'Hoja3 (2)'!$G611","v":2},{"$f":"+'Hoja3 (2)'!$H611*'Hoja3 (2)'!$G611","v":0},"MANTENER/AJUSTAR TEXTO","Activa","LESION A CONSCRIPTO DURANTE INSTRUCCION",null,"ACTIVA"]
[{"$f":"+'Hoja3 (2)'!$I612","v":0},"LESION A CONSCRIPTO EN OPERATIVO MILITAR Y/O COMBATE O ENFRENTAMIENTO",1,{"$f":"+IF('Hoja3 (2)'!$C612=1,'Hoja3 (2)'!$B612,\"No\")","v":"LESION A CONSCRIPTO EN OPERATIVO MILITAR Y/O COMBATE O ENFRENTAMIENTO"},{"$f":"+'Hoja3 (2)'!$C612&'Hoja3 (2)'!$B612","v":"1LESION A CONSCRIPTO EN OPERATIVO MILITAR Y/O COMBATE O ENFRENTAMIENTO"},{"$f":"IFERROR(FIND(UPPER('Causas anteriores'!$D$4),D612),0)","v":0},{"$f":"+IF('Hoja3 (2)'!$F612=0,0,1)","v":0},{"$f":"+H611+'Hoja3 (2)'!$G612","v":2},{"$f":"+'Hoja3 (2)'!$H612*'Hoja3 (2)'!$G612","v":0},"INACTIVAR PARA DESAGREGAR","Inactiva",null,null,"ACTIVA"]
[{"$f":"+'Hoja3 (2)'!$I613","v":0},"LESION A CONSCRIPTO EN OPERATIVO MILITAR Y/O COMBATE O ENFRENTAMIENTO",2,{"$f":"+IF('Hoja3 (2)'!$C613=1,'Hoja3 (2)'!$B613,\"No\")","v":"No"},{"$f":"+'Hoja3 (2)'!$C613&'Hoja3 (2)'!$B613","v":"2LESION A CONSCRIPTO EN OPERATIVO MILITAR Y/O COMBATE O ENFRENTAMIENTO"},{"$f":"IFERROR(FIND(UPPER('Causas anteriores'!$D$4),D613),0)","v":0},{"$f":"+IF('Hoja3 (2)'!$F613=0,0,1)","v":0},{"$f":"+H612+'Hoja3 (2)'!$G613","v":2},{"$f":"+'Hoja3 (2)'!$H613*'Hoja3 (2)'!$G613","v":0},"CREAR","Activa","LESION A CONSCRIPTO EN OPERATIVO MILITAR"]
[{"$f":"+'Hoja3 (2)'!$I614","v":0},"LESION A CONSCRIPTO EN OPERATIVO MILITAR Y/O COMBATE O ENFRENTAMIENTO",3,{"$f":"+IF('Hoja3 (2)'!$C614=1,'Hoja3 (2)'!$B614,\"No\")","v":"No"},{"$f":"+'Hoja3 (2)'!$C614&'Hoja3 (2)'!$B614","v":"3LESION A CONSCRIPTO EN OPERATIVO MILITAR Y/O COMBATE O ENFRENTAMIENTO"},{"$f":"IFERROR(FIND(UPPER('Causas anteriores'!$D$4),D614),0)","v":0},{"$f":"+IF('Hoja3 (2)'!$F614=0,0,1)","v":0},{"$f":"+H613+'Hoja3 (2)'!$G614","v":2},{"$f":"+'Hoja3 (2)'!$H614*'Hoja3 (2)'!$G614","v":0},"CREAR","Activa","LESION A CONSCRIPTO EN COMBATE O ENFRENTAMIENTO"]
[{"$f":"+'Hoja3 (2)'!$I615","v":0},"LESION A CONSCRIPTO EN OPERATIVO MILITAR Y/O COMBATE O ENFRENTAMIENTO",4,{"$f":"+IF('Hoja3 (2)'!$C615=1,'Hoja3 (2)'!$B615,\"No\")","v":"No"},{"$f":"+'Hoja3 (2)'!$C615&'Hoja3 (2)'!$B615","v":"4LESION A CONSCRIPTO EN OPERATIVO MILITAR Y/O COMBATE O ENFRENTAMIENTO"},{"$f":"IFERROR(FIND(UPPER('Causas anteriores'!$D$4),D615),0)","v":0},{"$f":"+IF('Hoja3 (2)'!$F615=0,0,1)","v":0},{"$f":"+H614+'Hoja3 (2)'!$G615","v":2},{"$f":"+'Hoja3 (2)'!$H615*'Hoja3 (2)'!$G615","v":0},"CREAR","Activa","LESION A CONSCRIPTO EN ENFRENTAMIENTO ENTRE TROPAS"]
[{"$f":"+'Hoja3 (2)'!$I616","v":0},"LESION A CONSCRIPTO EN OPERATIVO MILITAR Y/O COMBATE O ENFRENTAMIENTO",5,{"$f":"+IF('Hoja3 (2)'!$C616=1,'Hoja3 (2)'!$B616,\"No\")","v":"No"},{"$f":"+'Hoja3 (2)'!$C616&'Hoja3 (2)'!$B616","v":"5LESION A CONSCRIPTO EN OPERATIVO MILITAR Y/O COMBATE O ENFRENTAMIENTO"},{"$f":"IFERROR(FIND(UPPER('Causas anteriores'!$D$4),D616),0)","v":0},{"$f":"+IF('Hoja3 (2)'!$F616=0,0,1)","v":0},{"$f":"+H615+'Hoja3 (2)'!$G616","v":2},{"$f":"+'Hoja3 (2)'!$H616*'Hoja3 (2)'!$G616","v":0},"CREAR","Activa","LESION A CONSCRIPTO EN PROCEDIMIENTO DE POLICIA"]
[{"$f":"+'Hoja3 (2)'!$I617","v":0},"LESION A CONSCRIPTO POR ACTO TERRORISTA",1,{"$f":"+IF('Hoja3 (2)'!$C617=1,'Hoja3 (2)'!$B617,\"No\")","v":"LESION A CONSCRIPTO POR ACTO TERRORISTA"},{"$f":"+'Hoja3 (2)'!$C617&'Hoja3 (2)'!$B617","v":"1LESION A CONSCRIPTO POR ACTO TERRORISTA"},{"$f":"IFERROR(FIND(UPPER('Causas anteriores'!$D$4),D617),0)","v":0},{"$f":"+IF('Hoja3 (2)'!$F617=0,0,1)","v":0},{"$f":"+H616+'Hoja3 (2)'!$G617","v":2},{"$f":"+'Hoja3 (2)'!$H617*'Hoja3 (2)'!$G617","v":0},"MANTENER/AJUSTAR TEXTO","Activa","LESION A CONSCRIPTO POR ACTO TERRORISTA",null,"ACTIVA"]
[{"$f":"+'Hoja3 (2)'!$I618","v":0},"LESION A CONSCRIPTO POR EXPLOSION DE MINA ANTIPERSONAL",1,{"$f":"+IF('Hoja3 (2)'!$C618=1,'Hoja3 (2)'!$B618,\"No\")","v":"LESION A CONSCRIPTO POR EXPLOSION DE MINA ANTIPERSONAL"},{"$f":"+'Hoja3 (2)'!$C618&'Hoja3 (2)'!$B618","v":"1LESION A CONSCRIPTO POR EXPLOSION DE MINA ANTIPERSONAL"},{"$f":"IFERROR(FIND(UPPER('Causas anteriores'!$D$4),D618),0)","v":0},{"$f":"+IF('Hoja3 (2)'!$F618=0,0,1)","v":0},{"$f":"+H617+'Hoja3 (2)'!$G618","v":2},{"$f":"+'Hoja3 (2)'!$H618*'Hoja3 (2)'!$G618","v":0},"MANTENER/AJUSTAR TEXTO","Activa","LESION A CONSCRIPTO POR EXPLOSION DE MINA ANTIPERSONAL",null,"ACTIVA"]
[{"$f":"+'Hoja3 (2)'!$I619","v":0},"LESION A INTEGRANTE DE GRUPO AL MARGEN DE LA LEY POR PARTE DE MIEMBRO DE LAS FFMM",1,{"$f":"+IF('Hoja3 (2)'!$C619=1,'Hoja3 (2)'!$B619,\"No\")","v":"LESION A INTEGRANTE DE GRUPO AL MARGEN DE LA LEY POR PARTE DE MIEMBRO DE LAS FFMM"},{"$f":"+'Hoja3 (2)'!$C619&'Hoja3 (2)'!$B619","v":"1LESION A INTEGRANTE DE GRUPO AL MARGEN DE LA LEY POR PARTE DE MIEMBRO DE LAS FFMM"},{"$f":"IFERROR(FIND(UPPER('Causas anteriores'!$D$4),D619),0)","v":0},{"$f":"+IF('Hoja3 (2)'!$F619=0,0,1)","v":0},{"$f":"+H618+'Hoja3 (2)'!$G619","v":2},{"$f":"+'Hoja3 (2)'!$H619*'Hoja3 (2)'!$G619","v":0},"INACTIVAR EN NUEVA MATRIZ","Inactiva",null,null,"ACTIVA"]
[{"$f":"+'Hoja3 (2)'!$I620","v":0},"LESION A MIEMBRO VOLUNTARIO DE LA FUERZA PUBLICA CON AERONAVE OFICIAL",1,{"$f":"+IF('Hoja3 (2)'!$C620=1,'Hoja3 (2)'!$B620,\"No\")","v":"LESION A MIEMBRO VOLUNTARIO DE LA FUERZA PUBLICA CON AERONAVE OFICIAL"},{"$f":"+'Hoja3 (2)'!$C620&'Hoja3 (2)'!$B620","v":"1LESION A MIEMBRO VOLUNTARIO DE LA FUERZA PUBLICA CON AERONAVE OFICIAL"},{"$f":"IFERROR(FIND(UPPER('Causas anteriores'!$D$4),D620),0)","v":0},{"$f":"+IF('Hoja3 (2)'!$F620=0,0,1)","v":0},{"$f":"+H619+'Hoja3 (2)'!$G620","v":2},{"$f":"+'Hoja3 (2)'!$H620*'Hoja3 (2)'!$G620","v":0},"MANTENER/AJUSTAR TEXTO","Activa","LESION A MIEMBRO VOLUNTARIO DE LA FUERZA PUBLICA CON AERONAVE OFICIAL",null,"ACTIVA"]
[{"$f":"+'Hoja3 (2)'!$I621","v":0},"LESION A MIEMBRO VOLUNTARIO DE LA FUERZA PUBLICA CON ARMA DE DOTACION OFICIAL",1,{"$f":"+IF('Hoja3 (2)'!$C621=1,'Hoja3 (2)'!$B621,\"No\")","v":"LESION A MIEMBRO VOLUNTARIO DE LA FUERZA PUBLICA CON ARMA DE DOTACION OFICIAL"},{"$f":"+'Hoja3 (2)'!$C621&'Hoja3 (2)'!$B621","v":"1LESION A MIEMBRO VOLUNTARIO DE LA FUERZA PUBLICA CON ARMA DE DOTACION OFICIAL"},{"$f":"IFERROR(FIND(UPPER('Causas anteriores'!$D$4),D621),0)","v":0},{"$f":"+IF('Hoja3 (2)'!$F621=0,0,1)","v":0},{"$f":"+H620+'Hoja3 (2)'!$G621","v":2},{"$f":"+'Hoja3 (2)'!$H621*'Hoja3 (2)'!$G621","v":0},"MANTENER/AJUSTAR TEXTO","Activa","LESION A MIEMBRO VOLUNTARIO DE LA FUERZA PUBLICA CON ARMA DE DOTACION OFICIAL",null,"ACTIVA"]
[{"$f":"+'Hoja3 (2)'!$I622","v":0},"LESION A MIEMBRO VOLUNTARIO DE LA FUERZA PUBLICA CON NAVE OFICIAL",1,{"$f":"+IF('Hoja3 (2)'!$C622=1,'Hoja3 (2)'!$B622,\"No\")","v":"LESION A MIEMBRO VOLUNTARIO DE LA FUERZA PUBLICA CON NAVE OFICIAL"},{"$f":"+'Hoja3 (2)'!$C622&'Hoja3 (2)'!$B622","v":"1LESION A MIEMBRO VOLUNTARIO DE LA FUERZA PUBLICA CON NAVE OFICIAL"},{"$f":"IFERROR(FIND(UPPER('Causas anteriores'!$D$4),D622),0)","v":0},{"$f":"+IF('Hoja3 (2)'!$F622=0,0,1)","v":0},{"$f":"+H621+'Hoja3 (2)'!$G622","v":2},{"$f":"+'Hoja3 (2)'!$H622*'Hoja3 (2)'!$G622","v":0},"MANTENER/AJUSTAR TEXTO","Activa","LESION A MIEMBRO VOLUNTARIO DE LA FUERZA PUBLICA CON NAVE OFICIAL",null,"ACTIVA"]
[{"$f":"+'Hoja3 (2)'!$I623","v":0},"LESION A MIEMBRO VOLUNTARIO DE LA FUERZA PUBLICA CON VEHICULO OFICIAL",1,{"$f":"+IF('Hoja3 (2)'!$C623=1,'Hoja3 (2)'!$B623,\"No\")","v":"LESION A MIEMBRO VOLUNTARIO DE LA FUERZA PUBLICA CON VEHICULO OFICIAL"},{"$f":"+'Hoja3 (2)'!$C623&'Hoja3 (2)'!$B623","v":"1LESION A MIEMBRO VOLUNTARIO DE LA FUERZA PUBLICA CON VEHICULO OFICIAL"},{"$f":"IFERROR(FIND(UPPER('Causas anteriores'!$D$4),D623),0)","v":0},{"$f":"+IF('Hoja3 (2)'!$F623=0,0,1)","v":0},{"$f":"+H622+'Hoja3 (2)'!$G623","v":2},{"$f":"+'Hoja3 (2)'!$H623*'Hoja3 (2)'!$G623","v":0},"MANTENER/AJUSTAR TEXTO","Activa","LESION A MIEMBRO VOLUNTARIO DE LA FUERZA PUBLICA CON VEHICULO OFICIAL",null,"ACTIVA"]
[{"$f":"+'Hoja3 (2)'!$I624","v":0},"LESION A MIEMBRO VOLUNTARIO DE LA FUERZA PUBLICA EN INSTRUCCION",1,{"$f":"+IF('Hoja3 (2)'!$C624=1,'Hoja3 (2)'!$B624,\"No\")","v":"LESION A MIEMBRO VOLUNTARIO DE LA FUERZA PUBLICA EN INSTRUCCION"},{"$f":"+'Hoja3 (2)'!$C624&'Hoja3 (2)'!$B624","v":"1LESION A MIEMBRO VOLUNTARIO DE LA FUERZA PUBLICA EN INSTRUCCION"},{"$f":"IFERROR(FIND(UPPER('Causas anteriores'!$D$4),D624),0)","v":0},{"$f":"+IF('Hoja3 (2)'!$F624=0,0,1)","v":0},{"$f":"+H623+'Hoja3 (2)'!$G624","v":2},{"$f":"+'Hoja3 (2)'!$H624*'Hoja3 (2)'!$G624","v":0},"MANTENER/AJUSTAR TEXTO","Activa","LESION A MIEMBRO VOLUNTARIO DE LA FUERZA PUBLICA DURANTE INSTRUCCION",null,"ACTIVA"]
[{"$f":"+'Hoja3 (2)'!$I625","v":0},"LESION A MIEMBRO VOLUNTARIO DE LA FUERZA PUBLICA EN OPERATIVO MILITAR Y/O COMBATE O ENFRENTAMIENTO",1,{"$f":"+IF('Hoja3 (2)'!$C625=1,'Hoja3 (2)'!$B625,\"No\")","v":"LESION A MIEMBRO VOLUNTARIO DE LA FUERZA PUBLICA EN OPERATIVO MILITAR Y/O COMBATE O ENFRENTAMIENTO"},{"$f":"+'Hoja3 (2)'!$C625&'Hoja3 (2)'!$B625","v":"1LESION A MIEMBRO VOLUNTARIO DE LA FUERZA PUBLICA EN OPERATIVO MILITAR Y/O COMBATE O ENFRENTAMIENTO"},{"$f":"IFERROR(FIND(UPPER('Causas anteriores'!$D$4),D625),0)","v":0},{"$f":"+IF('Hoja3 (2)'!$F625=0,0,1)","v":0},{"$f":"+H624+'Hoja3 (2)'!$G625","v":2},{"$f":"+'Hoja3 (2)'!$H625*'Hoja3 (2)'!$G625","v":0},"INACTIVAR PARA DESAGREGAR","Inactiva",null,null,"ACTIVA"]
[{"$f":"+'Hoja3 (2)'!$I626","v":0},"LESION A MIEMBRO VOLUNTARIO DE LA FUERZA PUBLICA EN OPERATIVO MILITAR Y/O COMBATE O ENFRENTAMIENTO",2,{"$f":"+IF('Hoja3 (2)'!$C626=1,'Hoja3 (2)'!$B626,\"No\")","v":"No"},{"$f":"+'Hoja3 (2)'!$C626&'Hoja3 (2)'!$B626","v":"2LESION A MIEMBRO VOLUNTARIO DE LA FUERZA PUBLICA EN OPERATIVO MILITAR Y/O COMBATE O ENFRENTAMIENTO"},{"$f":"IFERROR(FIND(UPPER('Causas anteriores'!$D$4),D626),0)","v":0},{"$f":"+IF('Hoja3 (2)'!$F626=0,0,1)","v":0},{"$f":"+H625+'Hoja3 (2)'!$G626","v":2},{"$f":"+'Hoja3 (2)'!$H626*'Hoja3 (2)'!$G626","v":0},"CREAR","Activa","LESION A MIEMBRO VOLUNTARIO DE LA FUERZA PUBLICA EN OPERATIVO MILITAR"]
[{"$f":"+'Hoja3 (2)'!$I627","v":0},"LESION A MIEMBRO VOLUNTARIO DE LA FUERZA PUBLICA EN OPERATIVO MILITAR Y/O COMBATE O ENFRENTAMIENTO",3,{"$f":"+IF('Hoja3 (2)'!$C627=1,'Hoja3 (2)'!$B627,\"No\")","v":"No"},{"$f":"+'Hoja3 (2)'!$C627&'Hoja3 (2)'!$B627","v":"3LESION A MIEMBRO VOLUNTARIO DE LA FUERZA PUBLICA EN OPERATIVO MILITAR Y/O COMBATE O ENFRENTAMIENTO"},{"$f":"IFERROR(FIND(UPPER('Causas anteriores'!$D$4),D627),0)","v":0},{"$f":"+IF('Hoja3 (2)'!$F627=0,0,1)","v":0},{"$f":"+H626+'Hoja3 (2)'!$G627","v":2},{"$f":"+'Hoja3 (2)'!$H627*'Hoja3 (2)'!$G627","v":0},"CREAR","Activa","LESION A MIEMBRO VOLUNTARIO DE LA FUERZA PUBLICA EN COMBATE O ENFRENTAMIENTO"]
[{"$f":"+'Hoja3 (2)'!$I628","v":0},"LESION A MIEMBRO VOLUNTARIO DE LA FUERZA PUBLICA EN OPERATIVO MILITAR Y/O COMBATE O ENFRENTAMIENTO",4,{"$f":"+IF('Hoja3 (2)'!$C628=1,'Hoja3 (2)'!$B628,\"No\")","v":"No"},{"$f":"+'Hoja3 (2)'!$C628&'Hoja3 (2)'!$B628","v":"4LESION A MIEMBRO VOLUNTARIO DE LA FUERZA PUBLICA EN OPERATIVO MILITAR Y/O COMBATE O ENFRENTAMIENTO"},{"$f":"IFERROR(FIND(UPPER('Causas anteriores'!$D$4),D628),0)","v":0},{"$f":"+IF('Hoja3 (2)'!$F628=0,0,1)","v":0},{"$f":"+H627+'Hoja3 (2)'!$G628","v":2},{"$f":"+'Hoja3 (2)'!$H628*'Hoja3 (2)'!$G628","v":0},"CREAR","Activa","LESION A MIEMBRO VOLUNTARIO DE LA FUERZA PUBLICA EN ENFRENTAMIENTO ENTRE TROPAS"]
[{"$f":"+'Hoja3 (2)'!$I629","v":0},"LESION A MIEMBRO VOLUNTARIO DE LA FUERZA PUBLICA EN OPERATIVO MILITAR Y/O COMBATE O ENFRENTAMIENTO",5,{"$f":"+IF('Hoja3 (2)'!$C629=1,'Hoja3 (2)'!$B629,\"No\")","v":"No"},{"$f":"+'Hoja3 (2)'!$C629&'Hoja3 (2)'!$B629","v":"5LESION A MIEMBRO VOLUNTARIO DE LA FUERZA PUBLICA EN OPERATIVO MILITAR Y/O COMBATE O ENFRENTAMIENTO"},{"$f":"IFERROR(FIND(UPPER('Causas anteriores'!$D$4),D629),0)","v":0},{"$f":"+IF('Hoja3 (2)'!$F629=0,0,1)","v":0},{"$f":"+H628+'Hoja3 (2)'!$G629","v":2},{"$f":"+'Hoja3 (2)'!$H629*'Hoja3 (2)'!$G629","v":0},"CREAR","Activa","LESION A MIEMBRO VOLUNTARIO DE LA FUERZA PUBLICA EN PROCEDIMIENTO DE POLICIA"]
[{"$f":"+'Hoja3 (2)'!$I630","v":0},"LESION A MIEMBRO VOLUNTARIO DE LA FUERZA PUBLICA POR ACTO TERRORISTA",1,{"$f":"+IF('Hoja3 (2)'!$C630=1,'Hoja3 (2)'!$B630,\"No\")","v":"LESION A MIEMBRO VOLUNTARIO DE LA FUERZA PUBLICA POR ACTO TERRORISTA"},{"$f":"+'Hoja3 (2)'!$C630&'Hoja3 (2)'!$B630","v":"1LESION A MIEMBRO VOLUNTARIO DE LA FUERZA PUBLICA POR ACTO TERRORISTA"},{"$f":"IFERROR(FIND(UPPER('Causas anteriores'!$D$4),D630),0)","v":0},{"$f":"+IF('Hoja3 (2)'!$F630=0,0,1)","v":0},{"$f":"+H629+'Hoja3 (2)'!$G630","v":2},{"$f":"+'Hoja3 (2)'!$H630*'Hoja3 (2)'!$G630","v":0},"MANTENER/AJUSTAR TEXTO","Activa","LESION A MIEMBRO VOLUNTARIO DE LA FUERZA PUBLICA POR ACTO TERRORISTA",null,"ACTIVA"]
[{"$f":"+'Hoja3 (2)'!$I631","v":0},"LESION A MIEMBRO VOLUNTARIO DE LA FUERZA PUBLICA POR EXPLOSION DE MINA ANTIPERSONAL",1,{"$f":"+IF('Hoja3 (2)'!$C631=1,'Hoja3 (2)'!$B631,\"No\")","v":"LESION A MIEMBRO VOLUNTARIO DE LA FUERZA PUBLICA POR EXPLOSION DE MINA ANTIPERSONAL"},{"$f":"+'Hoja3 (2)'!$C631&'Hoja3 (2)'!$B631","v":"1LESION A MIEMBRO VOLUNTARIO DE LA FUERZA PUBLICA POR EXPLOSION DE MINA ANTIPERSONAL"},{"$f":"IFERROR(FIND(UPPER('Causas anteriores'!$D$4),D631),0)","v":0},{"$f":"+IF('Hoja3 (2)'!$F631=0,0,1)","v":0},{"$f":"+H630+'Hoja3 (2)'!$G631","v":2},{"$f":"+'Hoja3 (2)'!$H631*'Hoja3 (2)'!$G631","v":0},"MANTENER/AJUSTAR TEXTO","Activa","LESION A MIEMBRO VOLUNTARIO DE LA FUERZA PUBLICA POR EXPLOSION DE MINA ANTIPERSONAL",null,"ACTIVA"]
[{"$f":"+'Hoja3 (2)'!$I632","v":0},"LESION A RECLUSO",1,{"$f":"+IF('Hoja3 (2)'!$C632=1,'Hoja3 (2)'!$B632,\"No\")","v":"LESION A RECLUSO"},{"$f":"+'Hoja3 (2)'!$C632&'Hoja3 (2)'!$B632","v":"1LESION A RECLUSO"},{"$f":"IFERROR(FIND(UPPER('Causas anteriores'!$D$4),D632),0)","v":0},{"$f":"+IF('Hoja3 (2)'!$F632=0,0,1)","v":0},{"$f":"+H631+'Hoja3 (2)'!$G632","v":2},{"$f":"+'Hoja3 (2)'!$H632*'Hoja3 (2)'!$G632","v":0},"INACTIVAR PARA DESAGREGAR","Inactiva",null,null,"ACTIVA"]
[{"$f":"+'Hoja3 (2)'!$I633","v":0},"LESION A RECLUSO",2,{"$f":"+IF('Hoja3 (2)'!$C633=1,'Hoja3 (2)'!$B633,\"No\")","v":"No"},{"$f":"+'Hoja3 (2)'!$C633&'Hoja3 (2)'!$B633","v":"2LESION A RECLUSO"},{"$f":"IFERROR(FIND(UPPER('Causas anteriores'!$D$4),D633),0)","v":0},{"$f":"+IF('Hoja3 (2)'!$F633=0,0,1)","v":0},{"$f":"+H632+'Hoja3 (2)'!$G633","v":2},{"$f":"+'Hoja3 (2)'!$H633*'Hoja3 (2)'!$G633","v":0},"CREAR","Activa","LESION A RECLUSO CAUSADA POR AGENTES DEL ESTADO"]
[{"$f":"+'Hoja3 (2)'!$I634","v":0},"LESION A RECLUSO",3,{"$f":"+IF('Hoja3 (2)'!$C634=1,'Hoja3 (2)'!$B634,\"No\")","v":"No"},{"$f":"+'Hoja3 (2)'!$C634&'Hoja3 (2)'!$B634","v":"3LESION A RECLUSO"},{"$f":"IFERROR(FIND(UPPER('Causas anteriores'!$D$4),D634),0)","v":0},{"$f":"+IF('Hoja3 (2)'!$F634=0,0,1)","v":0},{"$f":"+H633+'Hoja3 (2)'!$G634","v":2},{"$f":"+'Hoja3 (2)'!$H634*'Hoja3 (2)'!$G634","v":0},"CREAR","Activa","LESION A RECLUSO CAUSADA POR TERCEROS"]
[{"$f":"+'Hoja3 (2)'!$I635","v":0},"LESION A RECLUSO",4,{"$f":"+IF('Hoja3 (2)'!$C635=1,'Hoja3 (2)'!$B635,\"No\")","v":"No"},{"$f":"+'Hoja3 (2)'!$C635&'Hoja3 (2)'!$B635","v":"4LESION A RECLUSO"},{"$f":"IFERROR(FIND(UPPER('Causas anteriores'!$D$4),D635),0)","v":0},{"$f":"+IF('Hoja3 (2)'!$F635=0,0,1)","v":0},{"$f":"+H634+'Hoja3 (2)'!$G635","v":2},{"$f":"+'Hoja3 (2)'!$H635*'Hoja3 (2)'!$G635","v":0},"CREAR","Activa","LESION A RECLUSO CAUSADA POR OTRO RECLUSO"]
[{"$f":"+'Hoja3 (2)'!$I636","v":0},"LESION A RECLUSO",5,{"$f":"+IF('Hoja3 (2)'!$C636=1,'Hoja3 (2)'!$B636,\"No\")","v":"No"},{"$f":"+'Hoja3 (2)'!$C636&'Hoja3 (2)'!$B636","v":"5LESION A RECLUSO"},{"$f":"IFERROR(FIND(UPPER('Causas anteriores'!$D$4),D636),0)","v":0},{"$f":"+IF('Hoja3 (2)'!$F636=0,0,1)","v":0},{"$f":"+H635+'Hoja3 (2)'!$G636","v":2},{"$f":"+'Hoja3 (2)'!$H636*'Hoja3 (2)'!$G636","v":0},"CREAR","Activa","LESION AUTO INFLIGIDA DE RECLUSO"]
[{"$f":"+'Hoja3 (2)'!$I637","v":0},"LESION A RECLUSO",6,{"$f":"+IF('Hoja3 (2)'!$C637=1,'Hoja3 (2)'!$B637,\"No\")","v":"No"},{"$f":"+'Hoja3 (2)'!$C637&'Hoja3 (2)'!$B637","v":"6LESION A RECLUSO"},{"$f":"IFERROR(FIND(UPPER('Causas anteriores'!$D$4),D637),0)","v":0},{"$f":"+IF('Hoja3 (2)'!$F637=0,0,1)","v":0},{"$f":"+H636+'Hoja3 (2)'!$G637","v":2},{"$f":"+'Hoja3 (2)'!$H637*'Hoja3 (2)'!$G637","v":0},"CREAR","Activa","LESION ACCIDENTAL O FORTUITA A RECLUSO"]
[{"$f":"+'Hoja3 (2)'!$I638","v":0},"LESION A RECLUSO",7,{"$f":"+IF('Hoja3 (2)'!$C638=1,'Hoja3 (2)'!$B638,\"No\")","v":"No"},{"$f":"+'Hoja3 (2)'!$C638&'Hoja3 (2)'!$B638","v":"7LESION A RECLUSO"},{"$f":"IFERROR(FIND(UPPER('Causas anteriores'!$D$4),D638),0)","v":0},{"$f":"+IF('Hoja3 (2)'!$F638=0,0,1)","v":0},{"$f":"+H637+'Hoja3 (2)'!$G638","v":2},{"$f":"+'Hoja3 (2)'!$H638*'Hoja3 (2)'!$G638","v":0},"CREAR","Activa","LESION A RECLUSO DERIVADA DE LA PRESTACION DEL SERVICIO DE SALUD"]
[{"$f":"+'Hoja3 (2)'!$I639","v":0},"LESION ACCIDENTAL O FORTUITA A CONSCRIPTO",1,{"$f":"+IF('Hoja3 (2)'!$C639=1,'Hoja3 (2)'!$B639,\"No\")","v":"LESION ACCIDENTAL O FORTUITA A CONSCRIPTO"},{"$f":"+'Hoja3 (2)'!$C639&'Hoja3 (2)'!$B639","v":"1LESION ACCIDENTAL O FORTUITA A CONSCRIPTO"},{"$f":"IFERROR(FIND(UPPER('Causas anteriores'!$D$4),D639),0)","v":0},{"$f":"+IF('Hoja3 (2)'!$F639=0,0,1)","v":0},{"$f":"+H638+'Hoja3 (2)'!$G639","v":2},{"$f":"+'Hoja3 (2)'!$H639*'Hoja3 (2)'!$G639","v":0},"MANTENER/AJUSTAR TEXTO","Activa","LESION ACCIDENTAL O FORTUITA A CONSCRIPTO",null,"ACTIVA"]
[{"$f":"+'Hoja3 (2)'!$I640","v":0},"LESION ACCIDENTAL O FORTUITA A MIEMBRO VOLUNTARIO DE LA FUERZA PUBLICA",1,{"$f":"+IF('Hoja3 (2)'!$C640=1,'Hoja3 (2)'!$B640,\"No\")","v":"LESION ACCIDENTAL O FORTUITA A MIEMBRO VOLUNTARIO DE LA FUERZA PUBLICA"},{"$f":"+'Hoja3 (2)'!$C640&'Hoja3 (2)'!$B640","v":"1LESION ACCIDENTAL O FORTUITA A MIEMBRO VOLUNTARIO DE LA FUERZA PUBLICA"},{"$f":"IFERROR(FIND(UPPER('Causas anteriores'!$D$4),D640),0)","v":0},{"$f":"+IF('Hoja3 (2)'!$F640=0,0,1)","v":0},{"$f":"+H639+'Hoja3 (2)'!$G640","v":2},{"$f":"+'Hoja3 (2)'!$H640*'Hoja3 (2)'!$G640","v":0},"MANTENER/AJUSTAR TEXTO","Activa","LESION ACCIDENTAL O FORTUITA A MIEMBRO VOLUNTARIO DE LA FUERZA PUBLICA",null,"ACTIVA"]
[{"$f":"+'Hoja3 (2)'!$I641","v":0},"LESION DE CIVIL CAUSADA POR SEMOVIENTE (EQUINO) DE PROPIEDAD DE FFMM",1,{"$f":"+IF('Hoja3 (2)'!$C641=1,'Hoja3 (2)'!$B641,\"No\")","v":"LESION DE CIVIL CAUSADA POR SEMOVIENTE (EQUINO) DE PROPIEDAD DE FFMM"},{"$f":"+'Hoja3 (2)'!$C641&'Hoja3 (2)'!$B641","v":"1LESION DE CIVIL CAUSADA POR SEMOVIENTE (EQUINO) DE PROPIEDAD DE FFMM"},{"$f":"IFERROR(FIND(UPPER('Causas anteriores'!$D$4),D641),0)","v":0},{"$f":"+IF('Hoja3 (2)'!$F641=0,0,1)","v":0},{"$f":"+H640+'Hoja3 (2)'!$G641","v":2},{"$f":"+'Hoja3 (2)'!$H641*'Hoja3 (2)'!$G641","v":0},"INACTIVAR PARA DESAGREGAR","Inactiva",null,null,"ACTIVA"]
[{"$f":"+'Hoja3 (2)'!$I642","v":0},"LESION DE CIVIL CAUSADA POR SEMOVIENTE (EQUINO) DE PROPIEDAD DE FFMM",2,{"$f":"+IF('Hoja3 (2)'!$C642=1,'Hoja3 (2)'!$B642,\"No\")","v":"No"},{"$f":"+'Hoja3 (2)'!$C642&'Hoja3 (2)'!$B642","v":"2LESION DE CIVIL CAUSADA POR SEMOVIENTE (EQUINO) DE PROPIEDAD DE FFMM"},{"$f":"IFERROR(FIND(UPPER('Causas anteriores'!$D$4),D642),0)","v":0},{"$f":"+IF('Hoja3 (2)'!$F642=0,0,1)","v":0},{"$f":"+H641+'Hoja3 (2)'!$G642","v":2},{"$f":"+'Hoja3 (2)'!$H642*'Hoja3 (2)'!$G642","v":0},"CREAR","Activa","LESION POR SEMOVIENTE DE PROPIEDAD DEL ESTADO "]
[{"$f":"+'Hoja3 (2)'!$I643","v":0},"LESION DE CONSCRIPTO EN SERVICIO MILITAR",1,{"$f":"+IF('Hoja3 (2)'!$C643=1,'Hoja3 (2)'!$B643,\"No\")","v":"LESION DE CONSCRIPTO EN SERVICIO MILITAR"},{"$f":"+'Hoja3 (2)'!$C643&'Hoja3 (2)'!$B643","v":"1LESION DE CONSCRIPTO EN SERVICIO MILITAR"},{"$f":"IFERROR(FIND(UPPER('Causas anteriores'!$D$4),D643),0)","v":0},{"$f":"+IF('Hoja3 (2)'!$F643=0,0,1)","v":0},{"$f":"+H642+'Hoja3 (2)'!$G643","v":2},{"$f":"+'Hoja3 (2)'!$H643*'Hoja3 (2)'!$G643","v":0},"ESTABA INACTIVA","Inactiva",null,null,"INACTIVA"]
[{"$f":"+'Hoja3 (2)'!$I644","v":0},"LESION DE OPERADOR POR EJECUCION DE OBRA PUBLICA",1,{"$f":"+IF('Hoja3 (2)'!$C644=1,'Hoja3 (2)'!$B644,\"No\")","v":"LESION DE OPERADOR POR EJECUCION DE OBRA PUBLICA"},{"$f":"+'Hoja3 (2)'!$C644&'Hoja3 (2)'!$B644","v":"1LESION DE OPERADOR POR EJECUCION DE OBRA PUBLICA"},{"$f":"IFERROR(FIND(UPPER('Causas anteriores'!$D$4),D644),0)","v":0},{"$f":"+IF('Hoja3 (2)'!$F644=0,0,1)","v":0},{"$f":"+H643+'Hoja3 (2)'!$G644","v":2},{"$f":"+'Hoja3 (2)'!$H644*'Hoja3 (2)'!$G644","v":0},"MANTENER/AJUSTAR TEXTO","Activa","LESION A OPERADOR POR EJECUCION DE OBRA PUBLICA",null,"ACTIVA"]
[{"$f":"+'Hoja3 (2)'!$I645","v":0},"LESION DE TERCERO POR EJECUCION DE OBRA PUBLICA",1,{"$f":"+IF('Hoja3 (2)'!$C645=1,'Hoja3 (2)'!$B645,\"No\")","v":"LESION DE TERCERO POR EJECUCION DE OBRA PUBLICA"},{"$f":"+'Hoja3 (2)'!$C645&'Hoja3 (2)'!$B645","v":"1LESION DE TERCERO POR EJECUCION DE OBRA PUBLICA"},{"$f":"IFERROR(FIND(UPPER('Causas anteriores'!$D$4),D645),0)","v":0},{"$f":"+IF('Hoja3 (2)'!$F645=0,0,1)","v":0},{"$f":"+H644+'Hoja3 (2)'!$G645","v":2},{"$f":"+'Hoja3 (2)'!$H645*'Hoja3 (2)'!$G645","v":0},"MANTENER/AJUSTAR TEXTO","Activa","LESION A TERCERO POR EJECUCION DE OBRA PUBLICA",null,"ACTIVA"]
[{"$f":"+'Hoja3 (2)'!$I646","v":0},"LESION ENORME",1,{"$f":"+IF('Hoja3 (2)'!$C646=1,'Hoja3 (2)'!$B646,\"No\")","v":"LESION ENORME"},{"$f":"+'Hoja3 (2)'!$C646&'Hoja3 (2)'!$B646","v":"1LESION ENORME"},{"$f":"IFERROR(FIND(UPPER('Causas anteriores'!$D$4),D646),0)","v":0},{"$f":"+IF('Hoja3 (2)'!$F646=0,0,1)","v":0},{"$f":"+H645+'Hoja3 (2)'!$G646","v":2},{"$f":"+'Hoja3 (2)'!$H646*'Hoja3 (2)'!$G646","v":0},"MANTENER/AJUSTAR TEXTO","Activa","LESION ENORME",null,"ACTIVA"]
[{"$f":"+'Hoja3 (2)'!$I647","v":0},"LESIONES PERSONALES A MENOR",1,{"$f":"+IF('Hoja3 (2)'!$C647=1,'Hoja3 (2)'!$B647,\"No\")","v":"LESIONES PERSONALES A MENOR"},{"$f":"+'Hoja3 (2)'!$C647&'Hoja3 (2)'!$B647","v":"1LESIONES PERSONALES A MENOR"},{"$f":"IFERROR(FIND(UPPER('Causas anteriores'!$D$4),D647),0)","v":0},{"$f":"+IF('Hoja3 (2)'!$F647=0,0,1)","v":0},{"$f":"+H646+'Hoja3 (2)'!$G647","v":2},{"$f":"+'Hoja3 (2)'!$H647*'Hoja3 (2)'!$G647","v":0},"ESTABA INACTIVA","Inactiva",null,null,"INACTIVA"]
[{"$f":"+'Hoja3 (2)'!$I648","v":0},"LESIONES PERSONALES A PERIODISTA",1,{"$f":"+IF('Hoja3 (2)'!$C648=1,'Hoja3 (2)'!$B648,\"No\")","v":"LESIONES PERSONALES A PERIODISTA"},{"$f":"+'Hoja3 (2)'!$C648&'Hoja3 (2)'!$B648","v":"1LESIONES PERSONALES A PERIODISTA"},{"$f":"IFERROR(FIND(UPPER('Causas anteriores'!$D$4),D648),0)","v":0},{"$f":"+IF('Hoja3 (2)'!$F648=0,0,1)","v":0},{"$f":"+H647+'Hoja3 (2)'!$G648","v":2},{"$f":"+'Hoja3 (2)'!$H648*'Hoja3 (2)'!$G648","v":0},"ESTABA INACTIVA","Inactiva",null,null,"INACTIVA"]
[{"$f":"+'Hoja3 (2)'!$I649","v":0},"LESIONES PERSONALES CAUSADAS A SERVIDOR PUBLICO EN EJERCICIO DE SUS FUNCIONES",1,{"$f":"+IF('Hoja3 (2)'!$C649=1,'Hoja3 (2)'!$B649,\"No\")","v":"LESIONES PERSONALES CAUSADAS A SERVIDOR PUBLICO EN EJERCICIO DE SUS FUNCIONES"},{"$f":"+'Hoja3 (2)'!$C649&'Hoja3 (2)'!$B649","v":"1LESIONES PERSONALES CAUSADAS A SERVIDOR PUBLICO EN EJERCICIO DE SUS FUNCIONES"},{"$f":"IFERROR(FIND(UPPER('Causas anteriores'!$D$4),D649),0)","v":0},{"$f":"+IF('Hoja3 (2)'!$F649=0,0,1)","v":0},{"$f":"+H648+'Hoja3 (2)'!$G649","v":2},{"$f":"+'Hoja3 (2)'!$H649*'Hoja3 (2)'!$G649","v":0},"ESTABA INACTIVA","Inactiva",null,null,"INACTIVA"]
[{"$f":"+'Hoja3 (2)'!$I650","v":0},"LESIONES PERSONALES CAUSADAS EN EJECUCION Y/O DESARROLLO DE OBRA PUBLICA",1,{"$f":"+IF('Hoja3 (2)'!$C650=1,'Hoja3 (2)'!$B650,\"No\")","v":"LESIONES PERSONALES CAUSADAS EN EJECUCION Y/O DESARROLLO DE OBRA PUBLICA"},{"$f":"+'Hoja3 (2)'!$C650&'Hoja3 (2)'!$B650","v":"1LESIONES PERSONALES CAUSADAS EN EJECUCION Y/O DESARROLLO DE OBRA PUBLICA"},{"$f":"IFERROR(FIND(UPPER('Causas anteriores'!$D$4),D650),0)","v":0},{"$f":"+IF('Hoja3 (2)'!$F650=0,0,1)","v":0},{"$f":"+H649+'Hoja3 (2)'!$G650","v":2},{"$f":"+'Hoja3 (2)'!$H650*'Hoja3 (2)'!$G650","v":0},"ESTABA INACTIVA","Inactiva",null,null,"INACTIVA"]
[{"$f":"+'Hoja3 (2)'!$I651","v":0},"LESIONES PERSONALES CAUSADAS POR SERVIDOR PUBLICO",1,{"$f":"+IF('Hoja3 (2)'!$C651=1,'Hoja3 (2)'!$B651,\"No\")","v":"LESIONES PERSONALES CAUSADAS POR SERVIDOR PUBLICO"},{"$f":"+'Hoja3 (2)'!$C651&'Hoja3 (2)'!$B651","v":"1LESIONES PERSONALES CAUSADAS POR SERVIDOR PUBLICO"},{"$f":"IFERROR(FIND(UPPER('Causas anteriores'!$D$4),D651),0)","v":0},{"$f":"+IF('Hoja3 (2)'!$F651=0,0,1)","v":0},{"$f":"+H650+'Hoja3 (2)'!$G651","v":2},{"$f":"+'Hoja3 (2)'!$H651*'Hoja3 (2)'!$G651","v":0},"ESTABA INACTIVA","Inactiva",null,null,"INACTIVA"]
[{"$f":"+'Hoja3 (2)'!$I652","v":0},"LESIONES PERSONALES EN ESTABLECIMIENTO PUBLICO",1,{"$f":"+IF('Hoja3 (2)'!$C652=1,'Hoja3 (2)'!$B652,\"No\")","v":"LESIONES PERSONALES EN ESTABLECIMIENTO PUBLICO"},{"$f":"+'Hoja3 (2)'!$C652&'Hoja3 (2)'!$B652","v":"1LESIONES PERSONALES EN ESTABLECIMIENTO PUBLICO"},{"$f":"IFERROR(FIND(UPPER('Causas anteriores'!$D$4),D652),0)","v":0},{"$f":"+IF('Hoja3 (2)'!$F652=0,0,1)","v":0},{"$f":"+H651+'Hoja3 (2)'!$G652","v":2},{"$f":"+'Hoja3 (2)'!$H652*'Hoja3 (2)'!$G652","v":0},"ESTABA INACTIVA","Inactiva",null,null,"INACTIVA"]
[{"$f":"+'Hoja3 (2)'!$I653","v":0},"LESIONES PERSONALES EN MEDIO DE RESCATE DE SECUESTRADO",1,{"$f":"+IF('Hoja3 (2)'!$C653=1,'Hoja3 (2)'!$B653,\"No\")","v":"LESIONES PERSONALES EN MEDIO DE RESCATE DE SECUESTRADO"},{"$f":"+'Hoja3 (2)'!$C653&'Hoja3 (2)'!$B653","v":"1LESIONES PERSONALES EN MEDIO DE RESCATE DE SECUESTRADO"},{"$f":"IFERROR(FIND(UPPER('Causas anteriores'!$D$4),D653),0)","v":0},{"$f":"+IF('Hoja3 (2)'!$F653=0,0,1)","v":0},{"$f":"+H652+'Hoja3 (2)'!$G653","v":2},{"$f":"+'Hoja3 (2)'!$H653*'Hoja3 (2)'!$G653","v":0},"ESTABA INACTIVA","Inactiva",null,null,"INACTIVA"]
[{"$f":"+'Hoja3 (2)'!$I654","v":0},"LESIONES PERSONALES POR ATAQUE ARMADO DE GRUPOS ILEGALES",1,{"$f":"+IF('Hoja3 (2)'!$C654=1,'Hoja3 (2)'!$B654,\"No\")","v":"LESIONES PERSONALES POR ATAQUE ARMADO DE GRUPOS ILEGALES"},{"$f":"+'Hoja3 (2)'!$C654&'Hoja3 (2)'!$B654","v":"1LESIONES PERSONALES POR ATAQUE ARMADO DE GRUPOS ILEGALES"},{"$f":"IFERROR(FIND(UPPER('Causas anteriores'!$D$4),D654),0)","v":0},{"$f":"+IF('Hoja3 (2)'!$F654=0,0,1)","v":0},{"$f":"+H653+'Hoja3 (2)'!$G654","v":2},{"$f":"+'Hoja3 (2)'!$H654*'Hoja3 (2)'!$G654","v":0},"ESTABA INACTIVA","Inactiva",null,null,"INACTIVA"]
[{"$f":"+'Hoja3 (2)'!$I655","v":0},"LESIONES PERSONALES POR ATENTADO TERRORISTA",1,{"$f":"+IF('Hoja3 (2)'!$C655=1,'Hoja3 (2)'!$B655,\"No\")","v":"LESIONES PERSONALES POR ATENTADO TERRORISTA"},{"$f":"+'Hoja3 (2)'!$C655&'Hoja3 (2)'!$B655","v":"1LESIONES PERSONALES POR ATENTADO TERRORISTA"},{"$f":"IFERROR(FIND(UPPER('Causas anteriores'!$D$4),D655),0)","v":0},{"$f":"+IF('Hoja3 (2)'!$F655=0,0,1)","v":0},{"$f":"+H654+'Hoja3 (2)'!$G655","v":2},{"$f":"+'Hoja3 (2)'!$H655*'Hoja3 (2)'!$G655","v":0},"ESTABA INACTIVA","Inactiva",null,null,"INACTIVA"]
[{"$f":"+'Hoja3 (2)'!$I656","v":0},"LESIONES PERSONALES POR FUNCIONARIO EN DILIGENCIA JUDICIAL",1,{"$f":"+IF('Hoja3 (2)'!$C656=1,'Hoja3 (2)'!$B656,\"No\")","v":"LESIONES PERSONALES POR FUNCIONARIO EN DILIGENCIA JUDICIAL"},{"$f":"+'Hoja3 (2)'!$C656&'Hoja3 (2)'!$B656","v":"1LESIONES PERSONALES POR FUNCIONARIO EN DILIGENCIA JUDICIAL"},{"$f":"IFERROR(FIND(UPPER('Causas anteriores'!$D$4),D656),0)","v":0},{"$f":"+IF('Hoja3 (2)'!$F656=0,0,1)","v":0},{"$f":"+H655+'Hoja3 (2)'!$G656","v":2},{"$f":"+'Hoja3 (2)'!$H656*'Hoja3 (2)'!$G656","v":0},"ESTABA INACTIVA","Inactiva",null,null,"INACTIVA"]
[{"$f":"+'Hoja3 (2)'!$I657","v":0},"LESIONES PERSONALES POR USO DE TINTA EN SUFRAGIO",1,{"$f":"+IF('Hoja3 (2)'!$C657=1,'Hoja3 (2)'!$B657,\"No\")","v":"LESIONES PERSONALES POR USO DE TINTA EN SUFRAGIO"},{"$f":"+'Hoja3 (2)'!$C657&'Hoja3 (2)'!$B657","v":"1LESIONES PERSONALES POR USO DE TINTA EN SUFRAGIO"},{"$f":"IFERROR(FIND(UPPER('Causas anteriores'!$D$4),D657),0)","v":0},{"$f":"+IF('Hoja3 (2)'!$F657=0,0,1)","v":0},{"$f":"+H656+'Hoja3 (2)'!$G657","v":2},{"$f":"+'Hoja3 (2)'!$H657*'Hoja3 (2)'!$G657","v":0},"ESTABA INACTIVA","Inactiva",null,null,"INACTIVA"]
[{"$f":"+'Hoja3 (2)'!$I658","v":0},"MALTRATO FISICO A PERSONAL CIVIL POR PARTE DE FFMM",1,{"$f":"+IF('Hoja3 (2)'!$C658=1,'Hoja3 (2)'!$B658,\"No\")","v":"MALTRATO FISICO A PERSONAL CIVIL POR PARTE DE FFMM"},{"$f":"+'Hoja3 (2)'!$C658&'Hoja3 (2)'!$B658","v":"1MALTRATO FISICO A PERSONAL CIVIL POR PARTE DE FFMM"},{"$f":"IFERROR(FIND(UPPER('Causas anteriores'!$D$4),D658),0)","v":0},{"$f":"+IF('Hoja3 (2)'!$F658=0,0,1)","v":0},{"$f":"+H657+'Hoja3 (2)'!$G658","v":2},{"$f":"+'Hoja3 (2)'!$H658*'Hoja3 (2)'!$G658","v":0},"ESTABA INACTIVA","Inactiva",null,null,"INACTIVA"]
[{"$f":"+'Hoja3 (2)'!$I659","v":0},"MALTRATO FISICO A PERSONAL MILITAR",1,{"$f":"+IF('Hoja3 (2)'!$C659=1,'Hoja3 (2)'!$B659,\"No\")","v":"MALTRATO FISICO A PERSONAL MILITAR"},{"$f":"+'Hoja3 (2)'!$C659&'Hoja3 (2)'!$B659","v":"1MALTRATO FISICO A PERSONAL MILITAR"},{"$f":"IFERROR(FIND(UPPER('Causas anteriores'!$D$4),D659),0)","v":0},{"$f":"+IF('Hoja3 (2)'!$F659=0,0,1)","v":0},{"$f":"+H658+'Hoja3 (2)'!$G659","v":2},{"$f":"+'Hoja3 (2)'!$H659*'Hoja3 (2)'!$G659","v":0},"INACTIVAR EN NUEVA MATRIZ","Inactiva",null,null,"ACTIVA"]
[{"$f":"+'Hoja3 (2)'!$I660","v":0},"MORA EN EL PAGO DE AUXILIO DE CESANTIAS",1,{"$f":"+IF('Hoja3 (2)'!$C660=1,'Hoja3 (2)'!$B660,\"No\")","v":"MORA EN EL PAGO DE AUXILIO DE CESANTIAS"},{"$f":"+'Hoja3 (2)'!$C660&'Hoja3 (2)'!$B660","v":"1MORA EN EL PAGO DE AUXILIO DE CESANTIAS"},{"$f":"IFERROR(FIND(UPPER('Causas anteriores'!$D$4),D660),0)","v":0},{"$f":"+IF('Hoja3 (2)'!$F660=0,0,1)","v":0},{"$f":"+H659+'Hoja3 (2)'!$G660","v":2},{"$f":"+'Hoja3 (2)'!$H660*'Hoja3 (2)'!$G660","v":0},"MANTENER/AJUSTAR TEXTO","Activa","INCUMPLIMIENTO EN EL PAGO DE AUXILIO DE CESANTIAS",null,"ACTIVA"]
[{"$f":"+'Hoja3 (2)'!$I661","v":0},"MORA EN EL PAGO DE INTERESES SOBRE EL AUXILIO DE CESANTIA",1,{"$f":"+IF('Hoja3 (2)'!$C661=1,'Hoja3 (2)'!$B661,\"No\")","v":"MORA EN EL PAGO DE INTERESES SOBRE EL AUXILIO DE CESANTIA"},{"$f":"+'Hoja3 (2)'!$C661&'Hoja3 (2)'!$B661","v":"1MORA EN EL PAGO DE INTERESES SOBRE EL AUXILIO DE CESANTIA"},{"$f":"IFERROR(FIND(UPPER('Causas anteriores'!$D$4),D661),0)","v":0},{"$f":"+IF('Hoja3 (2)'!$F661=0,0,1)","v":0},{"$f":"+H660+'Hoja3 (2)'!$G661","v":2},{"$f":"+'Hoja3 (2)'!$H661*'Hoja3 (2)'!$G661","v":0},"MANTENER/AJUSTAR TEXTO","Activa","INCUMPLIMIENTO EN EL PAGO DE INTERESES SOBRE EL AUXILIO DE CESANTIA",null,"ACTIVA"]
[{"$f":"+'Hoja3 (2)'!$I662","v":0},"MUERTE A CONSCRIPTO CON NAVE OFICIAL",1,{"$f":"+IF('Hoja3 (2)'!$C662=1,'Hoja3 (2)'!$B662,\"No\")","v":"MUERTE A CONSCRIPTO CON NAVE OFICIAL"},{"$f":"+'Hoja3 (2)'!$C662&'Hoja3 (2)'!$B662","v":"1MUERTE A CONSCRIPTO CON NAVE OFICIAL"},{"$f":"IFERROR(FIND(UPPER('Causas anteriores'!$D$4),D662),0)","v":0},{"$f":"+IF('Hoja3 (2)'!$F662=0,0,1)","v":0},{"$f":"+H661+'Hoja3 (2)'!$G662","v":2},{"$f":"+'Hoja3 (2)'!$H662*'Hoja3 (2)'!$G662","v":0},"INACTIVAR EN NUEVA MATRIZ","Inactiva",null,null,"ACTIVA"]
[{"$f":"+'Hoja3 (2)'!$I663","v":0},"MUERTE A MENOR",1,{"$f":"+IF('Hoja3 (2)'!$C663=1,'Hoja3 (2)'!$B663,\"No\")","v":"MUERTE A MENOR"},{"$f":"+'Hoja3 (2)'!$C663&'Hoja3 (2)'!$B663","v":"1MUERTE A MENOR"},{"$f":"IFERROR(FIND(UPPER('Causas anteriores'!$D$4),D663),0)","v":0},{"$f":"+IF('Hoja3 (2)'!$F663=0,0,1)","v":0},{"$f":"+H662+'Hoja3 (2)'!$G663","v":2},{"$f":"+'Hoja3 (2)'!$H663*'Hoja3 (2)'!$G663","v":0},"ESTABA INACTIVA","Inactiva",null,null,"INACTIVA"]
[{"$f":"+'Hoja3 (2)'!$I664","v":0},"MUERTE ACCIDENTAL O FORTUITA A CONSCRIPTO",1,{"$f":"+IF('Hoja3 (2)'!$C664=1,'Hoja3 (2)'!$B664,\"No\")","v":"MUERTE ACCIDENTAL O FORTUITA A CONSCRIPTO"},{"$f":"+'Hoja3 (2)'!$C664&'Hoja3 (2)'!$B664","v":"1MUERTE ACCIDENTAL O FORTUITA A CONSCRIPTO"},{"$f":"IFERROR(FIND(UPPER('Causas anteriores'!$D$4),D664),0)","v":0},{"$f":"+IF('Hoja3 (2)'!$F664=0,0,1)","v":0},{"$f":"+H663+'Hoja3 (2)'!$G664","v":2},{"$f":"+'Hoja3 (2)'!$H664*'Hoja3 (2)'!$G664","v":0},"MANTENER/AJUSTAR TEXTO","Activa","MUERTE ACCIDENTAL O FORTUITA A CONSCRIPTO",null,"ACTIVA"]
[{"$f":"+'Hoja3 (2)'!$I665","v":0},"MUERTE ACCIDENTAL O FORTUITA A MIEMBRO VOLUNTARIO DE LA FUERZA PUBLICA",1,{"$f":"+IF('Hoja3 (2)'!$C665=1,'Hoja3 (2)'!$B665,\"No\")","v":"MUERTE ACCIDENTAL O FORTUITA A MIEMBRO VOLUNTARIO DE LA FUERZA PUBLICA"},{"$f":"+'Hoja3 (2)'!$C665&'Hoja3 (2)'!$B665","v":"1MUERTE ACCIDENTAL O FORTUITA A MIEMBRO VOLUNTARIO DE LA FUERZA PUBLICA"},{"$f":"IFERROR(FIND(UPPER('Causas anteriores'!$D$4),D665),0)","v":0},{"$f":"+IF('Hoja3 (2)'!$F665=0,0,1)","v":0},{"$f":"+H664+'Hoja3 (2)'!$G665","v":2},{"$f":"+'Hoja3 (2)'!$H665*'Hoja3 (2)'!$G665","v":0},"MANTENER/AJUSTAR TEXTO","Activa","MUERTE ACCIDENTAL O FORTUITA A MIEMBRO VOLUNTARIO DE LA FUERZA PUBLICA",null,"ACTIVA"]
[{"$f":"+'Hoja3 (2)'!$I666","v":0},"MUERTE DE CIVIL CON ARMA DE DOTACION OFICIAL",1,{"$f":"+IF('Hoja3 (2)'!$C666=1,'Hoja3 (2)'!$B666,\"No\")","v":"MUERTE DE CIVIL CON ARMA DE DOTACION OFICIAL"},{"$f":"+'Hoja3 (2)'!$C666&'Hoja3 (2)'!$B666","v":"1MUERTE DE CIVIL CON ARMA DE DOTACION OFICIAL"},{"$f":"IFERROR(FIND(UPPER('Causas anteriores'!$D$4),D666),0)","v":0},{"$f":"+IF('Hoja3 (2)'!$F666=0,0,1)","v":0},{"$f":"+H665+'Hoja3 (2)'!$G666","v":2},{"$f":"+'Hoja3 (2)'!$H666*'Hoja3 (2)'!$G666","v":0},"MANTENER/AJUSTAR TEXTO","Activa","MUERTE DE CIVIL CON ARMA DE DOTACION OFICIAL",null,"ACTIVA"]
[{"$f":"+'Hoja3 (2)'!$I667","v":0},"MUERTE DE CIVIL CON VEHICULO OFICIAL",1,{"$f":"+IF('Hoja3 (2)'!$C667=1,'Hoja3 (2)'!$B667,\"No\")","v":"MUERTE DE CIVIL CON VEHICULO OFICIAL"},{"$f":"+'Hoja3 (2)'!$C667&'Hoja3 (2)'!$B667","v":"1MUERTE DE CIVIL CON VEHICULO OFICIAL"},{"$f":"IFERROR(FIND(UPPER('Causas anteriores'!$D$4),D667),0)","v":0},{"$f":"+IF('Hoja3 (2)'!$F667=0,0,1)","v":0},{"$f":"+H666+'Hoja3 (2)'!$G667","v":2},{"$f":"+'Hoja3 (2)'!$H667*'Hoja3 (2)'!$G667","v":0},"MANTENER/AJUSTAR TEXTO","Activa","MUERTE DE CIVIL CON VEHICULO OFICIAL",null,"ACTIVA"]
[{"$f":"+'Hoja3 (2)'!$I668","v":0},"MUERTE DE CIVIL EN DESARROLLO DE OPERATIVO MILITAR Y/O COMBATE O ENFRENTAMIENTO",1,{"$f":"+IF('Hoja3 (2)'!$C668=1,'Hoja3 (2)'!$B668,\"No\")","v":"MUERTE DE CIVIL EN DESARROLLO DE OPERATIVO MILITAR Y/O COMBATE O ENFRENTAMIENTO"},{"$f":"+'Hoja3 (2)'!$C668&'Hoja3 (2)'!$B668","v":"1MUERTE DE CIVIL EN DESARROLLO DE OPERATIVO MILITAR Y/O COMBATE O ENFRENTAMIENTO"},{"$f":"IFERROR(FIND(UPPER('Causas anteriores'!$D$4),D668),0)","v":0},{"$f":"+IF('Hoja3 (2)'!$F668=0,0,1)","v":0},{"$f":"+H667+'Hoja3 (2)'!$G668","v":2},{"$f":"+'Hoja3 (2)'!$H668*'Hoja3 (2)'!$G668","v":0},"INACTIVAR PARA DESAGREGAR","Inactiva",null,null,"ACTIVA"]
[{"$f":"+'Hoja3 (2)'!$I669","v":0},"MUERTE DE CIVIL EN DESARROLLO DE OPERATIVO MILITAR Y/O COMBATE O ENFRENTAMIENTO",2,{"$f":"+IF('Hoja3 (2)'!$C669=1,'Hoja3 (2)'!$B669,\"No\")","v":"No"},{"$f":"+'Hoja3 (2)'!$C669&'Hoja3 (2)'!$B669","v":"2MUERTE DE CIVIL EN DESARROLLO DE OPERATIVO MILITAR Y/O COMBATE O ENFRENTAMIENTO"},{"$f":"IFERROR(FIND(UPPER('Causas anteriores'!$D$4),D669),0)","v":0},{"$f":"+IF('Hoja3 (2)'!$F669=0,0,1)","v":0},{"$f":"+H668+'Hoja3 (2)'!$G669","v":2},{"$f":"+'Hoja3 (2)'!$H669*'Hoja3 (2)'!$G669","v":0},"CREAR","Activa","MUERTE DE CIVIL EN OPERATIVO MILITAR"]
[{"$f":"+'Hoja3 (2)'!$I670","v":0},"MUERTE DE CIVIL EN DESARROLLO DE OPERATIVO MILITAR Y/O COMBATE O ENFRENTAMIENTO",3,{"$f":"+IF('Hoja3 (2)'!$C670=1,'Hoja3 (2)'!$B670,\"No\")","v":"No"},{"$f":"+'Hoja3 (2)'!$C670&'Hoja3 (2)'!$B670","v":"3MUERTE DE CIVIL EN DESARROLLO DE OPERATIVO MILITAR Y/O COMBATE O ENFRENTAMIENTO"},{"$f":"IFERROR(FIND(UPPER('Causas anteriores'!$D$4),D670),0)","v":0},{"$f":"+IF('Hoja3 (2)'!$F670=0,0,1)","v":0},{"$f":"+H669+'Hoja3 (2)'!$G670","v":2},{"$f":"+'Hoja3 (2)'!$H670*'Hoja3 (2)'!$G670","v":0},"CREAR","Activa","MUERTE DE CIVIL EN COMBATE O ENFRENTAMIENTO"]
[{"$f":"+'Hoja3 (2)'!$I671","v":0},"MUERTE DE CIVIL EN DESARROLLO DE OPERATIVO MILITAR Y/O COMBATE O ENFRENTAMIENTO",4,{"$f":"+IF('Hoja3 (2)'!$C671=1,'Hoja3 (2)'!$B671,\"No\")","v":"No"},{"$f":"+'Hoja3 (2)'!$C671&'Hoja3 (2)'!$B671","v":"4MUERTE DE CIVIL EN DESARROLLO DE OPERATIVO MILITAR Y/O COMBATE O ENFRENTAMIENTO"},{"$f":"IFERROR(FIND(UPPER('Causas anteriores'!$D$4),D671),0)","v":0},{"$f":"+IF('Hoja3 (2)'!$F671=0,0,1)","v":0},{"$f":"+H670+'Hoja3 (2)'!$G671","v":2},{"$f":"+'Hoja3 (2)'!$H671*'Hoja3 (2)'!$G671","v":0},"CREAR","Activa","MUERTE DE CIVIL EN ENFRENTAMIENTO ENTRE TROPAS"]
[{"$f":"+'Hoja3 (2)'!$I672","v":0},"MUERTE DE CIVIL EN PROCEDIMIENTO DE POLICIA",1,{"$f":"+IF('Hoja3 (2)'!$C672=1,'Hoja3 (2)'!$B672,\"No\")","v":"MUERTE DE CIVIL EN PROCEDIMIENTO DE POLICIA"},{"$f":"+'Hoja3 (2)'!$C672&'Hoja3 (2)'!$B672","v":"1MUERTE DE CIVIL EN PROCEDIMIENTO DE POLICIA"},{"$f":"IFERROR(FIND(UPPER('Causas anteriores'!$D$4),D672),0)","v":0},{"$f":"+IF('Hoja3 (2)'!$F672=0,0,1)","v":0},{"$f":"+H671+'Hoja3 (2)'!$G672","v":2},{"$f":"+'Hoja3 (2)'!$H672*'Hoja3 (2)'!$G672","v":0},"MANTENER/AJUSTAR TEXTO","Activa","MUERTE DE CIVIL EN PROCEDIMIENTO DE POLICIA",null,"ACTIVA"]
[{"$f":"+'Hoja3 (2)'!$I673","v":0},"MUERTE DE CIVIL POR EXPLOSION DE FABRICA DE POLVORA",1,{"$f":"+IF('Hoja3 (2)'!$C673=1,'Hoja3 (2)'!$B673,\"No\")","v":"MUERTE DE CIVIL POR EXPLOSION DE FABRICA DE POLVORA"},{"$f":"+'Hoja3 (2)'!$C673&'Hoja3 (2)'!$B673","v":"1MUERTE DE CIVIL POR EXPLOSION DE FABRICA DE POLVORA"},{"$f":"IFERROR(FIND(UPPER('Causas anteriores'!$D$4),D673),0)","v":0},{"$f":"+IF('Hoja3 (2)'!$F673=0,0,1)","v":0},{"$f":"+H672+'Hoja3 (2)'!$G673","v":2},{"$f":"+'Hoja3 (2)'!$H673*'Hoja3 (2)'!$G673","v":0},"INACTIVAR EN NUEVA MATRIZ","Inactiva",null,null,"ACTIVA"]
[{"$f":"+'Hoja3 (2)'!$I674","v":0},"MUERTE DE CIVIL POR EXPLOSION DE MINA ANTIPERSONAL",1,{"$f":"+IF('Hoja3 (2)'!$C674=1,'Hoja3 (2)'!$B674,\"No\")","v":"MUERTE DE CIVIL POR EXPLOSION DE MINA ANTIPERSONAL"},{"$f":"+'Hoja3 (2)'!$C674&'Hoja3 (2)'!$B674","v":"1MUERTE DE CIVIL POR EXPLOSION DE MINA ANTIPERSONAL"},{"$f":"IFERROR(FIND(UPPER('Causas anteriores'!$D$4),D674),0)","v":0},{"$f":"+IF('Hoja3 (2)'!$F674=0,0,1)","v":0},{"$f":"+H673+'Hoja3 (2)'!$G674","v":2},{"$f":"+'Hoja3 (2)'!$H674*'Hoja3 (2)'!$G674","v":0},"MANTENER/AJUSTAR TEXTO","Activa","MUERTE DE CIVIL POR EXPLOSION DE MINA ANTIPERSONAL",null,"ACTIVA"]
[{"$f":"+'Hoja3 (2)'!$I675","v":0},"MUERTE DE CIVIL POR EXPLOSION POR FUGA DE COMBUSTIBLE",1,{"$f":"+IF('Hoja3 (2)'!$C675=1,'Hoja3 (2)'!$B675,\"No\")","v":"MUERTE DE CIVIL POR EXPLOSION POR FUGA DE COMBUSTIBLE"},{"$f":"+'Hoja3 (2)'!$C675&'Hoja3 (2)'!$B675","v":"1MUERTE DE CIVIL POR EXPLOSION POR FUGA DE COMBUSTIBLE"},{"$f":"IFERROR(FIND(UPPER('Causas anteriores'!$D$4),D675),0)","v":0},{"$f":"+IF('Hoja3 (2)'!$F675=0,0,1)","v":0},{"$f":"+H674+'Hoja3 (2)'!$G675","v":2},{"$f":"+'Hoja3 (2)'!$H675*'Hoja3 (2)'!$G675","v":0},"INACTIVAR EN NUEVA MATRIZ","Inactiva",null,null,"ACTIVA"]
[{"$f":"+'Hoja3 (2)'!$I676","v":0},"MUERTE DE CIVIL POR GRUPO ARMADO ILEGAL",1,{"$f":"+IF('Hoja3 (2)'!$C676=1,'Hoja3 (2)'!$B676,\"No\")","v":"MUERTE DE CIVIL POR GRUPO ARMADO ILEGAL"},{"$f":"+'Hoja3 (2)'!$C676&'Hoja3 (2)'!$B676","v":"1MUERTE DE CIVIL POR GRUPO ARMADO ILEGAL"},{"$f":"IFERROR(FIND(UPPER('Causas anteriores'!$D$4),D676),0)","v":0},{"$f":"+IF('Hoja3 (2)'!$F676=0,0,1)","v":0},{"$f":"+H675+'Hoja3 (2)'!$G676","v":2},{"$f":"+'Hoja3 (2)'!$H676*'Hoja3 (2)'!$G676","v":0},"MANTENER/AJUSTAR TEXTO","Activa","MUERTE DE CIVIL POR GRUPO ARMADO ILEGAL",null,"ACTIVA"]
[{"$f":"+'Hoja3 (2)'!$I677","v":0},"MUERTE DE CONSCRIPTO CON AERONAVE OFICIAL",1,{"$f":"+IF('Hoja3 (2)'!$C677=1,'Hoja3 (2)'!$B677,\"No\")","v":"MUERTE DE CONSCRIPTO CON AERONAVE OFICIAL"},{"$f":"+'Hoja3 (2)'!$C677&'Hoja3 (2)'!$B677","v":"1MUERTE DE CONSCRIPTO CON AERONAVE OFICIAL"},{"$f":"IFERROR(FIND(UPPER('Causas anteriores'!$D$4),D677),0)","v":0},{"$f":"+IF('Hoja3 (2)'!$F677=0,0,1)","v":0},{"$f":"+H676+'Hoja3 (2)'!$G677","v":2},{"$f":"+'Hoja3 (2)'!$H677*'Hoja3 (2)'!$G677","v":0},"MANTENER/AJUSTAR TEXTO","Activa","MUERTE DE CONSCRIPTO CON AERONAVE OFICIAL",null,"ACTIVA"]
[{"$f":"+'Hoja3 (2)'!$I678","v":0},"MUERTE DE CONSCRIPTO CON ARMA DE DOTACION OFICIAL",1,{"$f":"+IF('Hoja3 (2)'!$C678=1,'Hoja3 (2)'!$B678,\"No\")","v":"MUERTE DE CONSCRIPTO CON ARMA DE DOTACION OFICIAL"},{"$f":"+'Hoja3 (2)'!$C678&'Hoja3 (2)'!$B678","v":"1MUERTE DE CONSCRIPTO CON ARMA DE DOTACION OFICIAL"},{"$f":"IFERROR(FIND(UPPER('Causas anteriores'!$D$4),D678),0)","v":0},{"$f":"+IF('Hoja3 (2)'!$F678=0,0,1)","v":0},{"$f":"+H677+'Hoja3 (2)'!$G678","v":2},{"$f":"+'Hoja3 (2)'!$H678*'Hoja3 (2)'!$G678","v":0},"MANTENER/AJUSTAR TEXTO","Activa","MUERTE DE CONSCRIPTO CON ARMA DE DOTACION OFICIAL",null,"ACTIVA"]
[{"$f":"+'Hoja3 (2)'!$I679","v":0},"MUERTE DE CONSCRIPTO CON NAVE OFICIAL",1,{"$f":"+IF('Hoja3 (2)'!$C679=1,'Hoja3 (2)'!$B679,\"No\")","v":"MUERTE DE CONSCRIPTO CON NAVE OFICIAL"},{"$f":"+'Hoja3 (2)'!$C679&'Hoja3 (2)'!$B679","v":"1MUERTE DE CONSCRIPTO CON NAVE OFICIAL"},{"$f":"IFERROR(FIND(UPPER('Causas anteriores'!$D$4),D679),0)","v":0},{"$f":"+IF('Hoja3 (2)'!$F679=0,0,1)","v":0},{"$f":"+H678+'Hoja3 (2)'!$G679","v":2},{"$f":"+'Hoja3 (2)'!$H679*'Hoja3 (2)'!$G679","v":0},"MANTENER/AJUSTAR TEXTO","Activa","MUERTE DE CONSCRIPTO CON NAVE OFICIAL",null,"ACTIVA"]
[{"$f":"+'Hoja3 (2)'!$I680","v":0},"MUERTE DE CONSCRIPTO CON VEHICULO OFICIAL",1,{"$f":"+IF('Hoja3 (2)'!$C680=1,'Hoja3 (2)'!$B680,\"No\")","v":"MUERTE DE CONSCRIPTO CON VEHICULO OFICIAL"},{"$f":"+'Hoja3 (2)'!$C680&'Hoja3 (2)'!$B680","v":"1MUERTE DE CONSCRIPTO CON VEHICULO OFICIAL"},{"$f":"IFERROR(FIND(UPPER('Causas anteriores'!$D$4),D680),0)","v":0},{"$f":"+IF('Hoja3 (2)'!$F680=0,0,1)","v":0},{"$f":"+H679+'Hoja3 (2)'!$G680","v":2},{"$f":"+'Hoja3 (2)'!$H680*'Hoja3 (2)'!$G680","v":0},"MANTENER/AJUSTAR TEXTO","Activa","MUERTE DE CONSCRIPTO CON VEHICULO OFICIAL",null,"ACTIVA"]
[{"$f":"+'Hoja3 (2)'!$I681","v":0},"MUERTE DE CONSCRIPTO EN INSTRUCCION",1,{"$f":"+IF('Hoja3 (2)'!$C681=1,'Hoja3 (2)'!$B681,\"No\")","v":"MUERTE DE CONSCRIPTO EN INSTRUCCION"},{"$f":"+'Hoja3 (2)'!$C681&'Hoja3 (2)'!$B681","v":"1MUERTE DE CONSCRIPTO EN INSTRUCCION"},{"$f":"IFERROR(FIND(UPPER('Causas anteriores'!$D$4),D681),0)","v":0},{"$f":"+IF('Hoja3 (2)'!$F681=0,0,1)","v":0},{"$f":"+H680+'Hoja3 (2)'!$G681","v":2},{"$f":"+'Hoja3 (2)'!$H681*'Hoja3 (2)'!$G681","v":0},"MANTENER/AJUSTAR TEXTO","Activa","MUERTE DE CONSCRIPTO EN INSTRUCCION",null,"ACTIVA"]
[{"$f":"+'Hoja3 (2)'!$I682","v":0},"MUERTE DE CONSCRIPTO EN OPERATIVO MILITAR Y/O COMBATE O ENFRENTAMIENTO",1,{"$f":"+IF('Hoja3 (2)'!$C682=1,'Hoja3 (2)'!$B682,\"No\")","v":"MUERTE DE CONSCRIPTO EN OPERATIVO MILITAR Y/O COMBATE O ENFRENTAMIENTO"},{"$f":"+'Hoja3 (2)'!$C682&'Hoja3 (2)'!$B682","v":"1MUERTE DE CONSCRIPTO EN OPERATIVO MILITAR Y/O COMBATE O ENFRENTAMIENTO"},{"$f":"IFERROR(FIND(UPPER('Causas anteriores'!$D$4),D682),0)","v":0},{"$f":"+IF('Hoja3 (2)'!$F682=0,0,1)","v":0},{"$f":"+H681+'Hoja3 (2)'!$G682","v":2},{"$f":"+'Hoja3 (2)'!$H682*'Hoja3 (2)'!$G682","v":0},"INACTIVAR PARA DESAGREGAR","Inactiva",null,null,"ACTIVA"]
[{"$f":"+'Hoja3 (2)'!$I683","v":0},"MUERTE DE CONSCRIPTO EN OPERATIVO MILITAR Y/O COMBATE O ENFRENTAMIENTO",2,{"$f":"+IF('Hoja3 (2)'!$C683=1,'Hoja3 (2)'!$B683,\"No\")","v":"No"},{"$f":"+'Hoja3 (2)'!$C683&'Hoja3 (2)'!$B683","v":"2MUERTE DE CONSCRIPTO EN OPERATIVO MILITAR Y/O COMBATE O ENFRENTAMIENTO"},{"$f":"IFERROR(FIND(UPPER('Causas anteriores'!$D$4),D683),0)","v":0},{"$f":"+IF('Hoja3 (2)'!$F683=0,0,1)","v":0},{"$f":"+H682+'Hoja3 (2)'!$G683","v":2},{"$f":"+'Hoja3 (2)'!$H683*'Hoja3 (2)'!$G683","v":0},"CREAR","Activa","MUERTE DE CONSCRIPTO EN OPERATIVO MILITAR"]
[{"$f":"+'Hoja3 (2)'!$I684","v":0},"MUERTE DE CONSCRIPTO EN OPERATIVO MILITAR Y/O COMBATE O ENFRENTAMIENTO",3,{"$f":"+IF('Hoja3 (2)'!$C684=1,'Hoja3 (2)'!$B684,\"No\")","v":"No"},{"$f":"+'Hoja3 (2)'!$C684&'Hoja3 (2)'!$B684","v":"3MUERTE DE CONSCRIPTO EN OPERATIVO MILITAR Y/O COMBATE O ENFRENTAMIENTO"},{"$f":"IFERROR(FIND(UPPER('Causas anteriores'!$D$4),D684),0)","v":0},{"$f":"+IF('Hoja3 (2)'!$F684=0,0,1)","v":0},{"$f":"+H683+'Hoja3 (2)'!$G684","v":2},{"$f":"+'Hoja3 (2)'!$H684*'Hoja3 (2)'!$G684","v":0},"CREAR","Activa","MUERTE DE CONSCRIPTO EN COMBATE O ENFRENTAMIENTO"]
[{"$f":"+'Hoja3 (2)'!$I685","v":0},"MUERTE DE CONSCRIPTO EN OPERATIVO MILITAR Y/O COMBATE O ENFRENTAMIENTO",4,{"$f":"+IF('Hoja3 (2)'!$C685=1,'Hoja3 (2)'!$B685,\"No\")","v":"No"},{"$f":"+'Hoja3 (2)'!$C685&'Hoja3 (2)'!$B685","v":"4MUERTE DE CONSCRIPTO EN OPERATIVO MILITAR Y/O COMBATE O ENFRENTAMIENTO"},{"$f":"IFERROR(FIND(UPPER('Causas anteriores'!$D$4),D685),0)","v":0},{"$f":"+IF('Hoja3 (2)'!$F685=0,0,1)","v":0},{"$f":"+H684+'Hoja3 (2)'!$G685","v":2},{"$f":"+'Hoja3 (2)'!$H685*'Hoja3 (2)'!$G685","v":0},"CREAR","Activa","MUERTE DE CONSCRIPTO EN PROCEDIMIENTO DE POLICIA"]
[{"$f":"+'Hoja3 (2)'!$I686","v":0},"MUERTE DE CONSCRIPTO EN OPERATIVO MILITAR Y/O COMBATE O ENFRENTAMIENTO",5,{"$f":"+IF('Hoja3 (2)'!$C686=1,'Hoja3 (2)'!$B686,\"No\")","v":"No"},{"$f":"+'Hoja3 (2)'!$C686&'Hoja3 (2)'!$B686","v":"5MUERTE DE CONSCRIPTO EN OPERATIVO MILITAR Y/O COMBATE O ENFRENTAMIENTO"},{"$f":"IFERROR(FIND(UPPER('Causas anteriores'!$D$4),D686),0)","v":0},{"$f":"+IF('Hoja3 (2)'!$F686=0,0,1)","v":0},{"$f":"+H685+'Hoja3 (2)'!$G686","v":2},{"$f":"+'Hoja3 (2)'!$H686*'Hoja3 (2)'!$G686","v":0},"CREAR","Activa","MUERTE DE CONSCRIPTO EN ENFRENTAMIENTO ENTRE TROPAS"]
[{"$f":"+'Hoja3 (2)'!$I687","v":0},"MUERTE DE CONSCRIPTO POR ACTO TERRORISTA",1,{"$f":"+IF('Hoja3 (2)'!$C687=1,'Hoja3 (2)'!$B687,\"No\")","v":"MUERTE DE CONSCRIPTO POR ACTO TERRORISTA"},{"$f":"+'Hoja3 (2)'!$C687&'Hoja3 (2)'!$B687","v":"1MUERTE DE CONSCRIPTO POR ACTO TERRORISTA"},{"$f":"IFERROR(FIND(UPPER('Causas anteriores'!$D$4),D687),0)","v":0},{"$f":"+IF('Hoja3 (2)'!$F687=0,0,1)","v":0},{"$f":"+H686+'Hoja3 (2)'!$G687","v":2},{"$f":"+'Hoja3 (2)'!$H687*'Hoja3 (2)'!$G687","v":0},"MANTENER/AJUSTAR TEXTO","Activa","MUERTE DE CONSCRIPTO POR ACTO TERRORISTA",null,"ACTIVA"]
[{"$f":"+'Hoja3 (2)'!$I688","v":0},"MUERTE DE CONSCRIPTO POR EXPLOSION DE MINA ANTIPERSONAL",1,{"$f":"+IF('Hoja3 (2)'!$C688=1,'Hoja3 (2)'!$B688,\"No\")","v":"MUERTE DE CONSCRIPTO POR EXPLOSION DE MINA ANTIPERSONAL"},{"$f":"+'Hoja3 (2)'!$C688&'Hoja3 (2)'!$B688","v":"1MUERTE DE CONSCRIPTO POR EXPLOSION DE MINA ANTIPERSONAL"},{"$f":"IFERROR(FIND(UPPER('Causas anteriores'!$D$4),D688),0)","v":0},{"$f":"+IF('Hoja3 (2)'!$F688=0,0,1)","v":0},{"$f":"+H687+'Hoja3 (2)'!$G688","v":2},{"$f":"+'Hoja3 (2)'!$H688*'Hoja3 (2)'!$G688","v":0},"MANTENER/AJUSTAR TEXTO","Activa","MUERTE DE CONSCRIPTO POR EXPLOSION DE MINA ANTIPERSONAL",null,"ACTIVA"]
[{"$f":"+'Hoja3 (2)'!$I689","v":0},"MUERTE DE MIEMBRO VOLUNTARIO DE LA FUERZA PUBLICA CON AERONAVE OFICIAL",1,{"$f":"+IF('Hoja3 (2)'!$C689=1,'Hoja3 (2)'!$B689,\"No\")","v":"MUERTE DE MIEMBRO VOLUNTARIO DE LA FUERZA PUBLICA CON AERONAVE OFICIAL"},{"$f":"+'Hoja3 (2)'!$C689&'Hoja3 (2)'!$B689","v":"1MUERTE DE MIEMBRO VOLUNTARIO DE LA FUERZA PUBLICA CON AERONAVE OFICIAL"},{"$f":"IFERROR(FIND(UPPER('Causas anteriores'!$D$4),D689),0)","v":0},{"$f":"+IF('Hoja3 (2)'!$F689=0,0,1)","v":0},{"$f":"+H688+'Hoja3 (2)'!$G689","v":2},{"$f":"+'Hoja3 (2)'!$H689*'Hoja3 (2)'!$G689","v":0},"MANTENER/AJUSTAR TEXTO","Activa","MUERTE DE MIEMBRO VOLUNTARIO DE LA FUERZA PUBLICA CON AERONAVE OFICIAL",null,"ACTIVA"]
[{"$f":"+'Hoja3 (2)'!$I690","v":0},"MUERTE DE MIEMBRO VOLUNTARIO DE LA FUERZA PUBLICA CON ARMA DE DOTACION OFICIAL",1,{"$f":"+IF('Hoja3 (2)'!$C690=1,'Hoja3 (2)'!$B690,\"No\")","v":"MUERTE DE MIEMBRO VOLUNTARIO DE LA FUERZA PUBLICA CON ARMA DE DOTACION OFICIAL"},{"$f":"+'Hoja3 (2)'!$C690&'Hoja3 (2)'!$B690","v":"1MUERTE DE MIEMBRO VOLUNTARIO DE LA FUERZA PUBLICA CON ARMA DE DOTACION OFICIAL"},{"$f":"IFERROR(FIND(UPPER('Causas anteriores'!$D$4),D690),0)","v":0},{"$f":"+IF('Hoja3 (2)'!$F690=0,0,1)","v":0},{"$f":"+H689+'Hoja3 (2)'!$G690","v":2},{"$f":"+'Hoja3 (2)'!$H690*'Hoja3 (2)'!$G690","v":0},"MANTENER/AJUSTAR TEXTO","Activa","MUERTE DE MIEMBRO VOLUNTARIO DE LA FUERZA PUBLICA CON ARMA DE DOTACION OFICIAL",null,"ACTIVA"]
[{"$f":"+'Hoja3 (2)'!$I691","v":0},"MUERTE DE MIEMBRO VOLUNTARIO DE LA FUERZA PUBLICA CON ARMA DE USO PERSONAL",1,{"$f":"+IF('Hoja3 (2)'!$C691=1,'Hoja3 (2)'!$B691,\"No\")","v":"MUERTE DE MIEMBRO VOLUNTARIO DE LA FUERZA PUBLICA CON ARMA DE USO PERSONAL"},{"$f":"+'Hoja3 (2)'!$C691&'Hoja3 (2)'!$B691","v":"1MUERTE DE MIEMBRO VOLUNTARIO DE LA FUERZA PUBLICA CON ARMA DE USO PERSONAL"},{"$f":"IFERROR(FIND(UPPER('Causas anteriores'!$D$4),D691),0)","v":0},{"$f":"+IF('Hoja3 (2)'!$F691=0,0,1)","v":0},{"$f":"+H690+'Hoja3 (2)'!$G691","v":2},{"$f":"+'Hoja3 (2)'!$H691*'Hoja3 (2)'!$G691","v":0},"MANTENER/AJUSTAR TEXTO","Activa","MUERTE DE MIEMBRO VOLUNTARIO DE LA FUERZA PUBLICA CON ARMA DE USO PERSONAL",null,"ACTIVA"]
[{"$f":"+'Hoja3 (2)'!$I692","v":0},"MUERTE DE MIEMBRO VOLUNTARIO DE LA FUERZA PUBLICA CON NAVE OFICIAL",1,{"$f":"+IF('Hoja3 (2)'!$C692=1,'Hoja3 (2)'!$B692,\"No\")","v":"MUERTE DE MIEMBRO VOLUNTARIO DE LA FUERZA PUBLICA CON NAVE OFICIAL"},{"$f":"+'Hoja3 (2)'!$C692&'Hoja3 (2)'!$B692","v":"1MUERTE DE MIEMBRO VOLUNTARIO DE LA FUERZA PUBLICA CON NAVE OFICIAL"},{"$f":"IFERROR(FIND(UPPER('Causas anteriores'!$D$4),D692),0)","v":0},{"$f":"+IF('Hoja3 (2)'!$F692=0,0,1)","v":0},{"$f":"+H691+'Hoja3 (2)'!$G692","v":2},{"$f":"+'Hoja3 (2)'!$H692*'Hoja3 (2)'!$G692","v":0},"MANTENER/AJUSTAR TEXTO","Activa","MUERTE DE MIEMBRO VOLUNTARIO DE LA FUERZA PUBLICA CON NAVE OFICIAL",null,"ACTIVA"]
[{"$f":"+'Hoja3 (2)'!$I693","v":0},"MUERTE DE MIEMBRO VOLUNTARIO DE LA FUERZA PUBLICA CON VEHICULO OFICIAL",1,{"$f":"+IF('Hoja3 (2)'!$C693=1,'Hoja3 (2)'!$B693,\"No\")","v":"MUERTE DE MIEMBRO VOLUNTARIO DE LA FUERZA PUBLICA CON VEHICULO OFICIAL"},{"$f":"+'Hoja3 (2)'!$C693&'Hoja3 (2)'!$B693","v":"1MUERTE DE MIEMBRO VOLUNTARIO DE LA FUERZA PUBLICA CON VEHICULO OFICIAL"},{"$f":"IFERROR(FIND(UPPER('Causas anteriores'!$D$4),D693),0)","v":0},{"$f":"+IF('Hoja3 (2)'!$F693=0,0,1)","v":0},{"$f":"+H692+'Hoja3 (2)'!$G693","v":2},{"$f":"+'Hoja3 (2)'!$H693*'Hoja3 (2)'!$G693","v":0},"MANTENER/AJUSTAR TEXTO","Activa","MUERTE DE MIEMBRO VOLUNTARIO DE LA FUERZA PUBLICA CON VEHICULO OFICIAL",null,"ACTIVA"]
[{"$f":"+'Hoja3 (2)'!$I694","v":0},"MUERTE DE MIEMBRO VOLUNTARIO DE LA FUERZA PUBLICA EN ENFRENTAMIENTO ENTRE TROPAS",1,{"$f":"+IF('Hoja3 (2)'!$C694=1,'Hoja3 (2)'!$B694,\"No\")","v":"MUERTE DE MIEMBRO VOLUNTARIO DE LA FUERZA PUBLICA EN ENFRENTAMIENTO ENTRE TROPAS"},{"$f":"+'Hoja3 (2)'!$C694&'Hoja3 (2)'!$B694","v":"1MUERTE DE MIEMBRO VOLUNTARIO DE LA FUERZA PUBLICA EN ENFRENTAMIENTO ENTRE TROPAS"},{"$f":"IFERROR(FIND(UPPER('Causas anteriores'!$D$4),D694),0)","v":0},{"$f":"+IF('Hoja3 (2)'!$F694=0,0,1)","v":0},{"$f":"+H693+'Hoja3 (2)'!$G694","v":2},{"$f":"+'Hoja3 (2)'!$H694*'Hoja3 (2)'!$G694","v":0},"MANTENER/AJUSTAR TEXTO","Activa","MUERTE DE MIEMBRO VOLUNTARIO DE LA FUERZA PUBLICA EN ENFRENTAMIENTO ENTRE TROPAS",null,"ACTIVA"]
[{"$f":"+'Hoja3 (2)'!$I695","v":0},"MUERTE DE MIEMBRO VOLUNTARIO DE LA FUERZA PUBLICA EN INSTRUCCION",1,{"$f":"+IF('Hoja3 (2)'!$C695=1,'Hoja3 (2)'!$B695,\"No\")","v":"MUERTE DE MIEMBRO VOLUNTARIO DE LA FUERZA PUBLICA EN INSTRUCCION"},{"$f":"+'Hoja3 (2)'!$C695&'Hoja3 (2)'!$B695","v":"1MUERTE DE MIEMBRO VOLUNTARIO DE LA FUERZA PUBLICA EN INSTRUCCION"},{"$f":"IFERROR(FIND(UPPER('Causas anteriores'!$D$4),D695),0)","v":0},{"$f":"+IF('Hoja3 (2)'!$F695=0,0,1)","v":0},{"$f":"+H694+'Hoja3 (2)'!$G695","v":2},{"$f":"+'Hoja3 (2)'!$H695*'Hoja3 (2)'!$G695","v":0},"MANTENER/AJUSTAR TEXTO","Activa","MUERTE DE MIEMBRO VOLUNTARIO DE LA FUERZA PUBLICA EN INSTRUCCION",null,"ACTIVA"]
[{"$f":"+'Hoja3 (2)'!$I696","v":0},"MUERTE DE MIEMBRO VOLUNTARIO DE LA FUERZA PUBLICA EN OPERATIVO MILITAR Y/O COMBATE O ENFRENTAMIENTO",1,{"$f":"+IF('Hoja3 (2)'!$C696=1,'Hoja3 (2)'!$B696,\"No\")","v":"MUERTE DE MIEMBRO VOLUNTARIO DE LA FUERZA PUBLICA EN OPERATIVO MILITAR Y/O COMBATE O ENFRENTAMIENTO"},{"$f":"+'Hoja3 (2)'!$C696&'Hoja3 (2)'!$B696","v":"1MUERTE DE MIEMBRO VOLUNTARIO DE LA FUERZA PUBLICA EN OPERATIVO MILITAR Y/O COMBATE O ENFRENTAMIENTO"},{"$f":"IFERROR(FIND(UPPER('Causas anteriores'!$D$4),D696),0)","v":0},{"$f":"+IF('Hoja3 (2)'!$F696=0,0,1)","v":0},{"$f":"+H695+'Hoja3 (2)'!$G696","v":2},{"$f":"+'Hoja3 (2)'!$H696*'Hoja3 (2)'!$G696","v":0},"INACTIVAR PARA DESAGREGAR","Inactiva",null,null,"ACTIVA"]
[{"$f":"+'Hoja3 (2)'!$I697","v":0},"MUERTE DE MIEMBRO VOLUNTARIO DE LA FUERZA PUBLICA EN OPERATIVO MILITAR Y/O COMBATE O ENFRENTAMIENTO",2,{"$f":"+IF('Hoja3 (2)'!$C697=1,'Hoja3 (2)'!$B697,\"No\")","v":"No"},{"$f":"+'Hoja3 (2)'!$C697&'Hoja3 (2)'!$B697","v":"2MUERTE DE MIEMBRO VOLUNTARIO DE LA FUERZA PUBLICA EN OPERATIVO MILITAR Y/O COMBATE O ENFRENTAMIENTO"},{"$f":"IFERROR(FIND(UPPER('Causas anteriores'!$D$4),D697),0)","v":0},{"$f":"+IF('Hoja3 (2)'!$F697=0,0,1)","v":0},{"$f":"+H696+'Hoja3 (2)'!$G697","v":2},{"$f":"+'Hoja3 (2)'!$H697*'Hoja3 (2)'!$G697","v":0},"CREAR","Activa","MUERTE DE MIEMBRO VOLUNTARIO DE LA FUERZA PUBLICA EN OPERATIVO MILITAR"]
[{"$f":"+'Hoja3 (2)'!$I698","v":0},"MUERTE DE MIEMBRO VOLUNTARIO DE LA FUERZA PUBLICA EN OPERATIVO MILITAR Y/O COMBATE O ENFRENTAMIENTO",3,{"$f":"+IF('Hoja3 (2)'!$C698=1,'Hoja3 (2)'!$B698,\"No\")","v":"No"},{"$f":"+'Hoja3 (2)'!$C698&'Hoja3 (2)'!$B698","v":"3MUERTE DE MIEMBRO VOLUNTARIO DE LA FUERZA PUBLICA EN OPERATIVO MILITAR Y/O COMBATE O ENFRENTAMIENTO"},{"$f":"IFERROR(FIND(UPPER('Causas anteriores'!$D$4),D698),0)","v":0},{"$f":"+IF('Hoja3 (2)'!$F698=0,0,1)","v":0},{"$f":"+H697+'Hoja3 (2)'!$G698","v":2},{"$f":"+'Hoja3 (2)'!$H698*'Hoja3 (2)'!$G698","v":0},"CREAR","Activa","MUERTE DE MIEMBRO VOLUNTARIO DE LA FUERZA PUBLICA EN COMBATE O ENFRENTAMIENTO"]
[{"$f":"+'Hoja3 (2)'!$I699","v":0},"MUERTE DE MIEMBRO VOLUNTARIO DE LA FUERZA PUBLICA EN OPERATIVO MILITAR Y/O COMBATE O ENFRENTAMIENTO",4,{"$f":"+IF('Hoja3 (2)'!$C699=1,'Hoja3 (2)'!$B699,\"No\")","v":"No"},{"$f":"+'Hoja3 (2)'!$C699&'Hoja3 (2)'!$B699","v":"4MUERTE DE MIEMBRO VOLUNTARIO DE LA FUERZA PUBLICA EN OPERATIVO MILITAR Y/O COMBATE O ENFRENTAMIENTO"},{"$f":"IFERROR(FIND(UPPER('Causas anteriores'!$D$4),D699),0)","v":0},{"$f":"+IF('Hoja3 (2)'!$F699=0,0,1)","v":0},{"$f":"+H698+'Hoja3 (2)'!$G699","v":2},{"$f":"+'Hoja3 (2)'!$H699*'Hoja3 (2)'!$G699","v":0},"CREAR","Activa","MUERTE DE MIEMBRO VOLUNTARIO DE LA FUERZA PUBLICA EN PROCEDIMIENTO DE POLICIA"]
[{"$f":"+'Hoja3 (2)'!$I700","v":0},"MUERTE DE MIEMBRO VOLUNTARIO DE LA FUERZA PUBLICA POR ACTO TERRORISTA",1,{"$f":"+IF('Hoja3 (2)'!$C700=1,'Hoja3 (2)'!$B700,\"No\")","v":"MUERTE DE MIEMBRO VOLUNTARIO DE LA FUERZA PUBLICA POR ACTO TERRORISTA"},{"$f":"+'Hoja3 (2)'!$C700&'Hoja3 (2)'!$B700","v":"1MUERTE DE MIEMBRO VOLUNTARIO DE LA FUERZA PUBLICA POR ACTO TERRORISTA"},{"$f":"IFERROR(FIND(UPPER('Causas anteriores'!$D$4),D700),0)","v":0},{"$f":"+IF('Hoja3 (2)'!$F700=0,0,1)","v":0},{"$f":"+H699+'Hoja3 (2)'!$G700","v":2},{"$f":"+'Hoja3 (2)'!$H700*'Hoja3 (2)'!$G700","v":0},"MANTENER/AJUSTAR TEXTO","Activa","MUERTE DE MIEMBRO VOLUNTARIO DE LA FUERZA PUBLICA POR ACTO TERRORISTA",null,"ACTIVA"]
[{"$f":"+'Hoja3 (2)'!$I701","v":0},"MUERTE DE MIEMBRO VOLUNTARIO DE LA FUERZA PUBLICA POR EXPLOSION DE MINA ANTIPERSONAL",1,{"$f":"+IF('Hoja3 (2)'!$C701=1,'Hoja3 (2)'!$B701,\"No\")","v":"MUERTE DE MIEMBRO VOLUNTARIO DE LA FUERZA PUBLICA POR EXPLOSION DE MINA ANTIPERSONAL"},{"$f":"+'Hoja3 (2)'!$C701&'Hoja3 (2)'!$B701","v":"1MUERTE DE MIEMBRO VOLUNTARIO DE LA FUERZA PUBLICA POR EXPLOSION DE MINA ANTIPERSONAL"},{"$f":"IFERROR(FIND(UPPER('Causas anteriores'!$D$4),D701),0)","v":0},{"$f":"+IF('Hoja3 (2)'!$F701=0,0,1)","v":0},{"$f":"+H700+'Hoja3 (2)'!$G701","v":2},{"$f":"+'Hoja3 (2)'!$H701*'Hoja3 (2)'!$G701","v":0},"MANTENER/AJUSTAR TEXTO","Activa","MUERTE DE MIEMBRO VOLUNTARIO DE LA FUERZA PUBLICA POR EXPLOSION DE MINA ANTIPERSONAL",null,"ACTIVA"]
[{"$f":"+'Hoja3 (2)'!$I702","v":0},"MUERTE DE MILITAR POR DESCONOCIDOS",1,{"$f":"+IF('Hoja3 (2)'!$C702=1,'Hoja3 (2)'!$B702,\"No\")","v":"MUERTE DE MILITAR POR DESCONOCIDOS"},{"$f":"+'Hoja3 (2)'!$C702&'Hoja3 (2)'!$B702","v":"1MUERTE DE MILITAR POR DESCONOCIDOS"},{"$f":"IFERROR(FIND(UPPER('Causas anteriores'!$D$4),D702),0)","v":0},{"$f":"+IF('Hoja3 (2)'!$F702=0,0,1)","v":0},{"$f":"+H701+'Hoja3 (2)'!$G702","v":2},{"$f":"+'Hoja3 (2)'!$H702*'Hoja3 (2)'!$G702","v":0},"MANTENER/AJUSTAR TEXTO","Activa","MUERTE DE MIEMBRO VOLUNTARIO DE LA FUERZA PUBLICA POR DESCONOCIDOS",null,"ACTIVA"]
[{"$f":"+'Hoja3 (2)'!$I703","v":0},"MUERTE DE MILITAR POR FALLAS EN INSTALACIONES MILITARES",1,{"$f":"+IF('Hoja3 (2)'!$C703=1,'Hoja3 (2)'!$B703,\"No\")","v":"MUERTE DE MILITAR POR FALLAS EN INSTALACIONES MILITARES"},{"$f":"+'Hoja3 (2)'!$C703&'Hoja3 (2)'!$B703","v":"1MUERTE DE MILITAR POR FALLAS EN INSTALACIONES MILITARES"},{"$f":"IFERROR(FIND(UPPER('Causas anteriores'!$D$4),D703),0)","v":0},{"$f":"+IF('Hoja3 (2)'!$F703=0,0,1)","v":0},{"$f":"+H702+'Hoja3 (2)'!$G703","v":2},{"$f":"+'Hoja3 (2)'!$H703*'Hoja3 (2)'!$G703","v":0},"ESTABA INACTIVA","Inactiva",null,null,"INACTIVA"]
[{"$f":"+'Hoja3 (2)'!$I704","v":0},"MUERTE DE OPERADOR POR EJECUCION DE OBRA PUBLICA",1,{"$f":"+IF('Hoja3 (2)'!$C704=1,'Hoja3 (2)'!$B704,\"No\")","v":"MUERTE DE OPERADOR POR EJECUCION DE OBRA PUBLICA"},{"$f":"+'Hoja3 (2)'!$C704&'Hoja3 (2)'!$B704","v":"1MUERTE DE OPERADOR POR EJECUCION DE OBRA PUBLICA"},{"$f":"IFERROR(FIND(UPPER('Causas anteriores'!$D$4),D704),0)","v":0},{"$f":"+IF('Hoja3 (2)'!$F704=0,0,1)","v":0},{"$f":"+H703+'Hoja3 (2)'!$G704","v":2},{"$f":"+'Hoja3 (2)'!$H704*'Hoja3 (2)'!$G704","v":0},"MANTENER/AJUSTAR TEXTO","Activa","MUERTE DE OPERADOR POR EJECUCION DE OBRA PUBLICA",null,"ACTIVA"]
[{"$f":"+'Hoja3 (2)'!$I705","v":0},"MUERTE DE RECLUSO",1,{"$f":"+IF('Hoja3 (2)'!$C705=1,'Hoja3 (2)'!$B705,\"No\")","v":"MUERTE DE RECLUSO"},{"$f":"+'Hoja3 (2)'!$C705&'Hoja3 (2)'!$B705","v":"1MUERTE DE RECLUSO"},{"$f":"IFERROR(FIND(UPPER('Causas anteriores'!$D$4),D705),0)","v":0},{"$f":"+IF('Hoja3 (2)'!$F705=0,0,1)","v":0},{"$f":"+H704+'Hoja3 (2)'!$G705","v":2},{"$f":"+'Hoja3 (2)'!$H705*'Hoja3 (2)'!$G705","v":0},"INACTIVAR PARA DESAGREGAR","Inactiva",null,null,"ACTIVA"]
[{"$f":"+'Hoja3 (2)'!$I706","v":0},"MUERTE DE RECLUSO",2,{"$f":"+IF('Hoja3 (2)'!$C706=1,'Hoja3 (2)'!$B706,\"No\")","v":"No"},{"$f":"+'Hoja3 (2)'!$C706&'Hoja3 (2)'!$B706","v":"2MUERTE DE RECLUSO"},{"$f":"IFERROR(FIND(UPPER('Causas anteriores'!$D$4),D706),0)","v":0},{"$f":"+IF('Hoja3 (2)'!$F706=0,0,1)","v":0},{"$f":"+H705+'Hoja3 (2)'!$G706","v":2},{"$f":"+'Hoja3 (2)'!$H706*'Hoja3 (2)'!$G706","v":0},"CREAR","Activa","MUERTE DE RECLUSO CAUSADA POR AGENTES DEL ESTADO"]
[{"$f":"+'Hoja3 (2)'!$I707","v":0},"MUERTE DE RECLUSO",3,{"$f":"+IF('Hoja3 (2)'!$C707=1,'Hoja3 (2)'!$B707,\"No\")","v":"No"},{"$f":"+'Hoja3 (2)'!$C707&'Hoja3 (2)'!$B707","v":"3MUERTE DE RECLUSO"},{"$f":"IFERROR(FIND(UPPER('Causas anteriores'!$D$4),D707),0)","v":0},{"$f":"+IF('Hoja3 (2)'!$F707=0,0,1)","v":0},{"$f":"+H706+'Hoja3 (2)'!$G707","v":2},{"$f":"+'Hoja3 (2)'!$H707*'Hoja3 (2)'!$G707","v":0},"CREAR","Activa","MUERTE DE RECLUSO CAUSADA POR TERCEROS"]
[{"$f":"+'Hoja3 (2)'!$I708","v":0},"MUERTE DE RECLUSO",4,{"$f":"+IF('Hoja3 (2)'!$C708=1,'Hoja3 (2)'!$B708,\"No\")","v":"No"},{"$f":"+'Hoja3 (2)'!$C708&'Hoja3 (2)'!$B708","v":"4MUERTE DE RECLUSO"},{"$f":"IFERROR(FIND(UPPER('Causas anteriores'!$D$4),D708),0)","v":0},{"$f":"+IF('Hoja3 (2)'!$F708=0,0,1)","v":0},{"$f":"+H707+'Hoja3 (2)'!$G708","v":2},{"$f":"+'Hoja3 (2)'!$H708*'Hoja3 (2)'!$G708","v":0},"CREAR","Activa","MUERTE DE RECLUSO CAUSADA POR OTRO RECLUSO"]
[{"$f":"+'Hoja3 (2)'!$I709","v":0},"MUERTE DE RECLUSO",5,{"$f":"+IF('Hoja3 (2)'!$C709=1,'Hoja3 (2)'!$B709,\"No\")","v":"No"},{"$f":"+'Hoja3 (2)'!$C709&'Hoja3 (2)'!$B709","v":"5MUERTE DE RECLUSO"},{"$f":"IFERROR(FIND(UPPER('Causas anteriores'!$D$4),D709),0)","v":0},{"$f":"+IF('Hoja3 (2)'!$F709=0,0,1)","v":0},{"$f":"+H708+'Hoja3 (2)'!$G709","v":2},{"$f":"+'Hoja3 (2)'!$H709*'Hoja3 (2)'!$G709","v":0},"CREAR","Activa","MUERTE AUTO INFLIGIDA DE RECLUSO"]
[{"$f":"+'Hoja3 (2)'!$I710","v":0},"MUERTE DE RECLUSO",6,{"$f":"+IF('Hoja3 (2)'!$C710=1,'Hoja3 (2)'!$B710,\"No\")","v":"No"},{"$f":"+'Hoja3 (2)'!$C710&'Hoja3 (2)'!$B710","v":"6MUERTE DE RECLUSO"},{"$f":"IFERROR(FIND(UPPER('Causas anteriores'!$D$4),D710),0)","v":0},{"$f":"+IF('Hoja3 (2)'!$F710=0,0,1)","v":0},{"$f":"+H709+'Hoja3 (2)'!$G710","v":2},{"$f":"+'Hoja3 (2)'!$H710*'Hoja3 (2)'!$G710","v":0},"CREAR","Activa","MUERTE ACCIDENTAL O FORTUITA A RECLUSO"]
[{"$f":"+'Hoja3 (2)'!$I711","v":0},"MUERTE DE RECLUSO",7,{"$f":"+IF('Hoja3 (2)'!$C711=1,'Hoja3 (2)'!$B711,\"No\")","v":"No"},{"$f":"+'Hoja3 (2)'!$C711&'Hoja3 (2)'!$B711","v":"7MUERTE DE RECLUSO"},{"$f":"IFERROR(FIND(UPPER('Causas anteriores'!$D$4),D711),0)","v":0},{"$f":"+IF('Hoja3 (2)'!$F711=0,0,1)","v":0},{"$f":"+H710+'Hoja3 (2)'!$G711","v":2},{"$f":"+'Hoja3 (2)'!$H711*'Hoja3 (2)'!$G711","v":0},"CREAR","Activa","MUERTE DE RECLUSO DERIVADA DE LA PRESTACION DEL SERVICIO DE SALUD"]
[{"$f":"+'Hoja3 (2)'!$I712","v":0},"MUERTE DE SERVIDOR PUBLICO EN EJERCICIO DE SUS FUNCIONES",1,{"$f":"+IF('Hoja3 (2)'!$C712=1,'Hoja3 (2)'!$B712,\"No\")","v":"MUERTE DE SERVIDOR PUBLICO EN EJERCICIO DE SUS FUNCIONES"},{"$f":"+'Hoja3 (2)'!$C712&'Hoja3 (2)'!$B712","v":"1MUERTE DE SERVIDOR PUBLICO EN EJERCICIO DE SUS FUNCIONES"},{"$f":"IFERROR(FIND(UPPER('Causas anteriores'!$D$4),D712),0)","v":0},{"$f":"+IF('Hoja3 (2)'!$F712=0,0,1)","v":0},{"$f":"+H711+'Hoja3 (2)'!$G712","v":2},{"$f":"+'Hoja3 (2)'!$H712*'Hoja3 (2)'!$G712","v":0},"ESTABA INACTIVA","Inactiva",null,null,"INACTIVA"]
[{"$f":"+'Hoja3 (2)'!$I713","v":0},"MUERTE DE TERCERO POR EJECUCION DE OBRA PUBLICA",1,{"$f":"+IF('Hoja3 (2)'!$C713=1,'Hoja3 (2)'!$B713,\"No\")","v":"MUERTE DE TERCERO POR EJECUCION DE OBRA PUBLICA"},{"$f":"+'Hoja3 (2)'!$C713&'Hoja3 (2)'!$B713","v":"1MUERTE DE TERCERO POR EJECUCION DE OBRA PUBLICA"},{"$f":"IFERROR(FIND(UPPER('Causas anteriores'!$D$4),D713),0)","v":0},{"$f":"+IF('Hoja3 (2)'!$F713=0,0,1)","v":0},{"$f":"+H712+'Hoja3 (2)'!$G713","v":2},{"$f":"+'Hoja3 (2)'!$H713*'Hoja3 (2)'!$G713","v":0},"MANTENER/AJUSTAR TEXTO","Activa","MUERTE DE TERCERO POR EJECUCION DE OBRA PUBLICA",null,"ACTIVA"]
[{"$f":"+'Hoja3 (2)'!$I714","v":0},"MUERTE EN EJECUCION Y/O DESARROLLO DE OBRA PUBLICA",1,{"$f":"+IF('Hoja3 (2)'!$C714=1,'Hoja3 (2)'!$B714,\"No\")","v":"MUERTE EN EJECUCION Y/O DESARROLLO DE OBRA PUBLICA"},{"$f":"+'Hoja3 (2)'!$C714&'Hoja3 (2)'!$B714","v":"1MUERTE EN EJECUCION Y/O DESARROLLO DE OBRA PUBLICA"},{"$f":"IFERROR(FIND(UPPER('Causas anteriores'!$D$4),D714),0)","v":0},{"$f":"+IF('Hoja3 (2)'!$F714=0,0,1)","v":0},{"$f":"+H713+'Hoja3 (2)'!$G714","v":2},{"$f":"+'Hoja3 (2)'!$H714*'Hoja3 (2)'!$G714","v":0},"ESTABA INACTIVA","Inactiva",null,null,"INACTIVA"]
[{"$f":"+'Hoja3 (2)'!$I715","v":0},"MUERTE O LESION DE MILITAR CON ARMA DE USO PERSONAL",1,{"$f":"+IF('Hoja3 (2)'!$C715=1,'Hoja3 (2)'!$B715,\"No\")","v":"MUERTE O LESION DE MILITAR CON ARMA DE USO PERSONAL"},{"$f":"+'Hoja3 (2)'!$C715&'Hoja3 (2)'!$B715","v":"1MUERTE O LESION DE MILITAR CON ARMA DE USO PERSONAL"},{"$f":"IFERROR(FIND(UPPER('Causas anteriores'!$D$4),D715),0)","v":0},{"$f":"+IF('Hoja3 (2)'!$F715=0,0,1)","v":0},{"$f":"+H714+'Hoja3 (2)'!$G715","v":2},{"$f":"+'Hoja3 (2)'!$H715*'Hoja3 (2)'!$G715","v":0},"ESTABA INACTIVA","Inactiva",null,null,"INACTIVA"]
[{"$f":"+'Hoja3 (2)'!$I716","v":0},"MUERTE POR ATENTADO TERRORISTA",1,{"$f":"+IF('Hoja3 (2)'!$C716=1,'Hoja3 (2)'!$B716,\"No\")","v":"MUERTE POR ATENTADO TERRORISTA"},{"$f":"+'Hoja3 (2)'!$C716&'Hoja3 (2)'!$B716","v":"1MUERTE POR ATENTADO TERRORISTA"},{"$f":"IFERROR(FIND(UPPER('Causas anteriores'!$D$4),D716),0)","v":0},{"$f":"+IF('Hoja3 (2)'!$F716=0,0,1)","v":0},{"$f":"+H715+'Hoja3 (2)'!$G716","v":2},{"$f":"+'Hoja3 (2)'!$H716*'Hoja3 (2)'!$G716","v":0},"ESTABA INACTIVA","Inactiva",null,null,"INACTIVA"]
[{"$f":"+'Hoja3 (2)'!$I717","v":0},"MUERTE POR FUNCIONARIO EN DILIGENCIA JUDICIAL",1,{"$f":"+IF('Hoja3 (2)'!$C717=1,'Hoja3 (2)'!$B717,\"No\")","v":"MUERTE POR FUNCIONARIO EN DILIGENCIA JUDICIAL"},{"$f":"+'Hoja3 (2)'!$C717&'Hoja3 (2)'!$B717","v":"1MUERTE POR FUNCIONARIO EN DILIGENCIA JUDICIAL"},{"$f":"IFERROR(FIND(UPPER('Causas anteriores'!$D$4),D717),0)","v":0},{"$f":"+IF('Hoja3 (2)'!$F717=0,0,1)","v":0},{"$f":"+H716+'Hoja3 (2)'!$G717","v":2},{"$f":"+'Hoja3 (2)'!$H717*'Hoja3 (2)'!$G717","v":0},"ESTABA INACTIVA","Inactiva",null,null,"INACTIVA"]
[{"$f":"+'Hoja3 (2)'!$I718","v":0},"MULTAS POR EL NO PAGO DE ACREENCIAS POR PARTE DEL FOSYGA O LA ENTIDAD PROMOTORA DE SALUD",1,{"$f":"+IF('Hoja3 (2)'!$C718=1,'Hoja3 (2)'!$B718,\"No\")","v":"MULTAS POR EL NO PAGO DE ACREENCIAS POR PARTE DEL FOSYGA O LA ENTIDAD PROMOTORA DE SALUD"},{"$f":"+'Hoja3 (2)'!$C718&'Hoja3 (2)'!$B718","v":"1MULTAS POR EL NO PAGO DE ACREENCIAS POR PARTE DEL FOSYGA O LA ENTIDAD PROMOTORA DE SALUD"},{"$f":"IFERROR(FIND(UPPER('Causas anteriores'!$D$4),D718),0)","v":0},{"$f":"+IF('Hoja3 (2)'!$F718=0,0,1)","v":0},{"$f":"+H717+'Hoja3 (2)'!$G718","v":2},{"$f":"+'Hoja3 (2)'!$H718*'Hoja3 (2)'!$G718","v":0},"INACTIVAR EN NUEVA MATRIZ","Inactiva",null,null,"ACTIVA"]
[{"$f":"+'Hoja3 (2)'!$I719","v":0},"NO ACEPTACION DE LA RENUNCIA",1,{"$f":"+IF('Hoja3 (2)'!$C719=1,'Hoja3 (2)'!$B719,\"No\")","v":"NO ACEPTACION DE LA RENUNCIA"},{"$f":"+'Hoja3 (2)'!$C719&'Hoja3 (2)'!$B719","v":"1NO ACEPTACION DE LA RENUNCIA"},{"$f":"IFERROR(FIND(UPPER('Causas anteriores'!$D$4),D719),0)","v":0},{"$f":"+IF('Hoja3 (2)'!$F719=0,0,1)","v":0},{"$f":"+H718+'Hoja3 (2)'!$G719","v":2},{"$f":"+'Hoja3 (2)'!$H719*'Hoja3 (2)'!$G719","v":0},"MANTENER/AJUSTAR TEXTO","Activa","NO ACEPTACION DE LA RENUNCIA",null,"ACTIVA"]
[{"$f":"+'Hoja3 (2)'!$I720","v":0},"NO OTORGAMIENTO DE LICENCIAS Y PERMISOS AMBIENTALES",1,{"$f":"+IF('Hoja3 (2)'!$C720=1,'Hoja3 (2)'!$B720,\"No\")","v":"NO OTORGAMIENTO DE LICENCIAS Y PERMISOS AMBIENTALES"},{"$f":"+'Hoja3 (2)'!$C720&'Hoja3 (2)'!$B720","v":"1NO OTORGAMIENTO DE LICENCIAS Y PERMISOS AMBIENTALES"},{"$f":"IFERROR(FIND(UPPER('Causas anteriores'!$D$4),D720),0)","v":0},{"$f":"+IF('Hoja3 (2)'!$F720=0,0,1)","v":0},{"$f":"+H719+'Hoja3 (2)'!$G720","v":2},{"$f":"+'Hoja3 (2)'!$H720*'Hoja3 (2)'!$G720","v":0},"INACTIVAR PARA DESAGREGAR","Inactiva",null,null,"ACTIVA"]
[{"$f":"+'Hoja3 (2)'!$I721","v":0},"NO OTORGAMIENTO DE LICENCIAS Y PERMISOS AMBIENTALES",2,{"$f":"+IF('Hoja3 (2)'!$C721=1,'Hoja3 (2)'!$B721,\"No\")","v":"No"},{"$f":"+'Hoja3 (2)'!$C721&'Hoja3 (2)'!$B721","v":"2NO OTORGAMIENTO DE LICENCIAS Y PERMISOS AMBIENTALES"},{"$f":"IFERROR(FIND(UPPER('Causas anteriores'!$D$4),D721),0)","v":0},{"$f":"+IF('Hoja3 (2)'!$F721=0,0,1)","v":0},{"$f":"+H720+'Hoja3 (2)'!$G721","v":2},{"$f":"+'Hoja3 (2)'!$H721*'Hoja3 (2)'!$G721","v":0},"CREAR","Activa","NO OTORGAMIENTO DE LICENCIAS AMBIENTALES"]
[{"$f":"+'Hoja3 (2)'!$I722","v":0},"NO OTORGAMIENTO DE LICENCIAS Y PERMISOS AMBIENTALES",3,{"$f":"+IF('Hoja3 (2)'!$C722=1,'Hoja3 (2)'!$B722,\"No\")","v":"No"},{"$f":"+'Hoja3 (2)'!$C722&'Hoja3 (2)'!$B722","v":"3NO OTORGAMIENTO DE LICENCIAS Y PERMISOS AMBIENTALES"},{"$f":"IFERROR(FIND(UPPER('Causas anteriores'!$D$4),D722),0)","v":0},{"$f":"+IF('Hoja3 (2)'!$F722=0,0,1)","v":0},{"$f":"+H721+'Hoja3 (2)'!$G722","v":2},{"$f":"+'Hoja3 (2)'!$H722*'Hoja3 (2)'!$G722","v":0},"CREAR","Activa","REVOCATORIA DE LICENCIAS AMBIENTALES"]
[{"$f":"+'Hoja3 (2)'!$I723","v":0},"NO OTORGAMIENTO DE LICENCIAS Y PERMISOS AMBIENTALES",4,{"$f":"+IF('Hoja3 (2)'!$C723=1,'Hoja3 (2)'!$B723,\"No\")","v":"No"},{"$f":"+'Hoja3 (2)'!$C723&'Hoja3 (2)'!$B723","v":"4NO OTORGAMIENTO DE LICENCIAS Y PERMISOS AMBIENTALES"},{"$f":"IFERROR(FIND(UPPER('Causas anteriores'!$D$4),D723),0)","v":0},{"$f":"+IF('Hoja3 (2)'!$F723=0,0,1)","v":0},{"$f":"+H722+'Hoja3 (2)'!$G723","v":2},{"$f":"+'Hoja3 (2)'!$H723*'Hoja3 (2)'!$G723","v":0},"CREAR","Activa","SUSPENSION DE LICENCIAS AMBIENTALES"]
[{"$f":"+'Hoja3 (2)'!$I724","v":0},"NO PAGO DE APORTES PARAFISCALES",1,{"$f":"+IF('Hoja3 (2)'!$C724=1,'Hoja3 (2)'!$B724,\"No\")","v":"NO PAGO DE APORTES PARAFISCALES"},{"$f":"+'Hoja3 (2)'!$C724&'Hoja3 (2)'!$B724","v":"1NO PAGO DE APORTES PARAFISCALES"},{"$f":"IFERROR(FIND(UPPER('Causas anteriores'!$D$4),D724),0)","v":0},{"$f":"+IF('Hoja3 (2)'!$F724=0,0,1)","v":0},{"$f":"+H723+'Hoja3 (2)'!$G724","v":2},{"$f":"+'Hoja3 (2)'!$H724*'Hoja3 (2)'!$G724","v":0},"MANTENER/AJUSTAR TEXTO","Activa","INCUMPLIMIENTO EN EL PAGO DE APORTES PARAFISCALES",null,"ACTIVA"]
[{"$f":"+'Hoja3 (2)'!$I725","v":0},"NO PAGO DE MESADA ADICIONAL",1,{"$f":"+IF('Hoja3 (2)'!$C725=1,'Hoja3 (2)'!$B725,\"No\")","v":"NO PAGO DE MESADA ADICIONAL"},{"$f":"+'Hoja3 (2)'!$C725&'Hoja3 (2)'!$B725","v":"1NO PAGO DE MESADA ADICIONAL"},{"$f":"IFERROR(FIND(UPPER('Causas anteriores'!$D$4),D725),0)","v":0},{"$f":"+IF('Hoja3 (2)'!$F725=0,0,1)","v":0},{"$f":"+H724+'Hoja3 (2)'!$G725","v":2},{"$f":"+'Hoja3 (2)'!$H725*'Hoja3 (2)'!$G725","v":0},"MANTENER/AJUSTAR TEXTO","Activa","INCUMPLIMIENTO EN EL PAGO DE MESADA ADICIONAL",null,"ACTIVA"]
[{"$f":"+'Hoja3 (2)'!$I726","v":0},"NO PAGO DE SALARIOS",1,{"$f":"+IF('Hoja3 (2)'!$C726=1,'Hoja3 (2)'!$B726,\"No\")","v":"NO PAGO DE SALARIOS"},{"$f":"+'Hoja3 (2)'!$C726&'Hoja3 (2)'!$B726","v":"1NO PAGO DE SALARIOS"},{"$f":"IFERROR(FIND(UPPER('Causas anteriores'!$D$4),D726),0)","v":0},{"$f":"+IF('Hoja3 (2)'!$F726=0,0,1)","v":0},{"$f":"+H725+'Hoja3 (2)'!$G726","v":2},{"$f":"+'Hoja3 (2)'!$H726*'Hoja3 (2)'!$G726","v":0},"MANTENER/AJUSTAR TEXTO","Activa","INCUMPLIMIENTO EN EL PAGO DE SALARIO",null,"ACTIVA"]
[{"$f":"+'Hoja3 (2)'!$I727","v":0},"NO RECONOCIMIENTO DE DESCANSOS COMPENSATORIOS",1,{"$f":"+IF('Hoja3 (2)'!$C727=1,'Hoja3 (2)'!$B727,\"No\")","v":"NO RECONOCIMIENTO DE DESCANSOS COMPENSATORIOS"},{"$f":"+'Hoja3 (2)'!$C727&'Hoja3 (2)'!$B727","v":"1NO RECONOCIMIENTO DE DESCANSOS COMPENSATORIOS"},{"$f":"IFERROR(FIND(UPPER('Causas anteriores'!$D$4),D727),0)","v":0},{"$f":"+IF('Hoja3 (2)'!$F727=0,0,1)","v":0},{"$f":"+H726+'Hoja3 (2)'!$G727","v":2},{"$f":"+'Hoja3 (2)'!$H727*'Hoja3 (2)'!$G727","v":0},"MANTENER/AJUSTAR TEXTO","Activa","NO RECONOCIMIENTO DE DESCANSOS COMPENSATORIOS",null,"ACTIVA"]
[{"$f":"+'Hoja3 (2)'!$I728","v":0},"NO RECONOCIMIENTO DE INCREMENTO PENSIONAL",1,{"$f":"+IF('Hoja3 (2)'!$C728=1,'Hoja3 (2)'!$B728,\"No\")","v":"NO RECONOCIMIENTO DE INCREMENTO PENSIONAL"},{"$f":"+'Hoja3 (2)'!$C728&'Hoja3 (2)'!$B728","v":"1NO RECONOCIMIENTO DE INCREMENTO PENSIONAL"},{"$f":"IFERROR(FIND(UPPER('Causas anteriores'!$D$4),D728),0)","v":0},{"$f":"+IF('Hoja3 (2)'!$F728=0,0,1)","v":0},{"$f":"+H727+'Hoja3 (2)'!$G728","v":2},{"$f":"+'Hoja3 (2)'!$H728*'Hoja3 (2)'!$G728","v":0},"INACTIVAR PARA DESAGREGAR","Inactiva",null,null,"ACTIVA"]
[{"$f":"+'Hoja3 (2)'!$I729","v":0},"NO RECONOCIMIENTO DE INCREMENTO PENSIONAL",2,{"$f":"+IF('Hoja3 (2)'!$C729=1,'Hoja3 (2)'!$B729,\"No\")","v":"No"},{"$f":"+'Hoja3 (2)'!$C729&'Hoja3 (2)'!$B729","v":"2NO RECONOCIMIENTO DE INCREMENTO PENSIONAL"},{"$f":"IFERROR(FIND(UPPER('Causas anteriores'!$D$4),D729),0)","v":0},{"$f":"+IF('Hoja3 (2)'!$F729=0,0,1)","v":0},{"$f":"+H728+'Hoja3 (2)'!$G729","v":2},{"$f":"+'Hoja3 (2)'!$H729*'Hoja3 (2)'!$G729","v":0},"CREAR","Activa","NO RECONOCIMIENTO DE INCREMENTO DE PENSION DE VEJEZ"]
[{"$f":"+'Hoja3 (2)'!$I730","v":0},"NO RECONOCIMIENTO DE INCREMENTO PENSIONAL",3,{"$f":"+IF('Hoja3 (2)'!$C730=1,'Hoja3 (2)'!$B730,\"No\")","v":"No"},{"$f":"+'Hoja3 (2)'!$C730&'Hoja3 (2)'!$B730","v":"3NO RECONOCIMIENTO DE INCREMENTO PENSIONAL"},{"$f":"IFERROR(FIND(UPPER('Causas anteriores'!$D$4),D730),0)","v":0},{"$f":"+IF('Hoja3 (2)'!$F730=0,0,1)","v":0},{"$f":"+H729+'Hoja3 (2)'!$G730","v":2},{"$f":"+'Hoja3 (2)'!$H730*'Hoja3 (2)'!$G730","v":0},"CREAR","Activa","NO RECONOCIMIENTO DE INCREMENTO DE PENSION DE INVALIDEZ"]
[{"$f":"+'Hoja3 (2)'!$I731","v":0},"NO RECONOCIMIENTO DE INDEMNIZACION SUSTITUTIVA DE PENSION",1,{"$f":"+IF('Hoja3 (2)'!$C731=1,'Hoja3 (2)'!$B731,\"No\")","v":"NO RECONOCIMIENTO DE INDEMNIZACION SUSTITUTIVA DE PENSION"},{"$f":"+'Hoja3 (2)'!$C731&'Hoja3 (2)'!$B731","v":"1NO RECONOCIMIENTO DE INDEMNIZACION SUSTITUTIVA DE PENSION"},{"$f":"IFERROR(FIND(UPPER('Causas anteriores'!$D$4),D731),0)","v":0},{"$f":"+IF('Hoja3 (2)'!$F731=0,0,1)","v":0},{"$f":"+H730+'Hoja3 (2)'!$G731","v":2},{"$f":"+'Hoja3 (2)'!$H731*'Hoja3 (2)'!$G731","v":0},"MANTENER/AJUSTAR TEXTO","Activa","NO RECONOCIMIENTO DE INDEMNIZACION SUSTITUTIVA DE PENSION DE VEJEZ",null,"ACTIVA"]
[{"$f":"+'Hoja3 (2)'!$I732","v":0},"NO RECONOCIMIENTO DE LA MESADA 14",1,{"$f":"+IF('Hoja3 (2)'!$C732=1,'Hoja3 (2)'!$B732,\"No\")","v":"NO RECONOCIMIENTO DE LA MESADA 14"},{"$f":"+'Hoja3 (2)'!$C732&'Hoja3 (2)'!$B732","v":"1NO RECONOCIMIENTO DE LA MESADA 14"},{"$f":"IFERROR(FIND(UPPER('Causas anteriores'!$D$4),D732),0)","v":0},{"$f":"+IF('Hoja3 (2)'!$F732=0,0,1)","v":0},{"$f":"+H731+'Hoja3 (2)'!$G732","v":2},{"$f":"+'Hoja3 (2)'!$H732*'Hoja3 (2)'!$G732","v":0},"INACTIVAR EN NUEVA MATRIZ","Inactiva",null,null,"ACTIVA"]
[{"$f":"+'Hoja3 (2)'!$I733","v":0},"NO RECONOCIMIENTO DE PAGO DE RECOMPENSA POR DELACION",1,{"$f":"+IF('Hoja3 (2)'!$C733=1,'Hoja3 (2)'!$B733,\"No\")","v":"NO RECONOCIMIENTO DE PAGO DE RECOMPENSA POR DELACION"},{"$f":"+'Hoja3 (2)'!$C733&'Hoja3 (2)'!$B733","v":"1NO RECONOCIMIENTO DE PAGO DE RECOMPENSA POR DELACION"},{"$f":"IFERROR(FIND(UPPER('Causas anteriores'!$D$4),D733),0)","v":0},{"$f":"+IF('Hoja3 (2)'!$F733=0,0,1)","v":0},{"$f":"+H732+'Hoja3 (2)'!$G733","v":2},{"$f":"+'Hoja3 (2)'!$H733*'Hoja3 (2)'!$G733","v":0},"MANTENER/AJUSTAR TEXTO","Activa","NO PAGO DE RECOMPENSA POR DELACION",null,"ACTIVA"]
[{"$f":"+'Hoja3 (2)'!$I734","v":0},"NO RECONOCIMIENTO DE REAJUSTE Y/O NIVELACION SALARIAL",1,{"$f":"+IF('Hoja3 (2)'!$C734=1,'Hoja3 (2)'!$B734,\"No\")","v":"NO RECONOCIMIENTO DE REAJUSTE Y/O NIVELACION SALARIAL"},{"$f":"+'Hoja3 (2)'!$C734&'Hoja3 (2)'!$B734","v":"1NO RECONOCIMIENTO DE REAJUSTE Y/O NIVELACION SALARIAL"},{"$f":"IFERROR(FIND(UPPER('Causas anteriores'!$D$4),D734),0)","v":0},{"$f":"+IF('Hoja3 (2)'!$F734=0,0,1)","v":0},{"$f":"+H733+'Hoja3 (2)'!$G734","v":2},{"$f":"+'Hoja3 (2)'!$H734*'Hoja3 (2)'!$G734","v":0},"MANTENER/AJUSTAR TEXTO","Activa","NO RECONOCIMIENTO DE REAJUSTE O NIVELACION SALARIAL",null,"ACTIVA"]
[{"$f":"+'Hoja3 (2)'!$I735","v":0},"NO RECONOCIMIENTO DE RELIQUIDACION DE INDEMNIZACION SUSTITUTIVA DE PENSION",1,{"$f":"+IF('Hoja3 (2)'!$C735=1,'Hoja3 (2)'!$B735,\"No\")","v":"NO RECONOCIMIENTO DE RELIQUIDACION DE INDEMNIZACION SUSTITUTIVA DE PENSION"},{"$f":"+'Hoja3 (2)'!$C735&'Hoja3 (2)'!$B735","v":"1NO RECONOCIMIENTO DE RELIQUIDACION DE INDEMNIZACION SUSTITUTIVA DE PENSION"},{"$f":"IFERROR(FIND(UPPER('Causas anteriores'!$D$4),D735),0)","v":0},{"$f":"+IF('Hoja3 (2)'!$F735=0,0,1)","v":0},{"$f":"+H734+'Hoja3 (2)'!$G735","v":2},{"$f":"+'Hoja3 (2)'!$H735*'Hoja3 (2)'!$G735","v":0},"MANTENER/AJUSTAR TEXTO","Activa","INDEBIDA LIQUIDACION DE INDEMNIZACION SUSTITUTIVA DE PENSION DE VEJEZ",null,"ACTIVA"]
[{"$f":"+'Hoja3 (2)'!$I736","v":0},"NO RECONOCIMIENTO DE RETROACTIVO PENSIONAL",1,{"$f":"+IF('Hoja3 (2)'!$C736=1,'Hoja3 (2)'!$B736,\"No\")","v":"NO RECONOCIMIENTO DE RETROACTIVO PENSIONAL"},{"$f":"+'Hoja3 (2)'!$C736&'Hoja3 (2)'!$B736","v":"1NO RECONOCIMIENTO DE RETROACTIVO PENSIONAL"},{"$f":"IFERROR(FIND(UPPER('Causas anteriores'!$D$4),D736),0)","v":0},{"$f":"+IF('Hoja3 (2)'!$F736=0,0,1)","v":0},{"$f":"+H735+'Hoja3 (2)'!$G736","v":2},{"$f":"+'Hoja3 (2)'!$H736*'Hoja3 (2)'!$G736","v":0},"INACTIVAR PARA DESAGREGAR","Inactiva",null,null,"ACTIVA"]
[{"$f":"+'Hoja3 (2)'!$I737","v":0},"NO RECONOCIMIENTO DE RETROACTIVO PENSIONAL",2,{"$f":"+IF('Hoja3 (2)'!$C737=1,'Hoja3 (2)'!$B737,\"No\")","v":"No"},{"$f":"+'Hoja3 (2)'!$C737&'Hoja3 (2)'!$B737","v":"2NO RECONOCIMIENTO DE RETROACTIVO PENSIONAL"},{"$f":"IFERROR(FIND(UPPER('Causas anteriores'!$D$4),D737),0)","v":0},{"$f":"+IF('Hoja3 (2)'!$F737=0,0,1)","v":0},{"$f":"+H736+'Hoja3 (2)'!$G737","v":2},{"$f":"+'Hoja3 (2)'!$H737*'Hoja3 (2)'!$G737","v":0},"CREAR","Activa","NO RECONOCIMIENTO DE RETROACTIVO DE PENSION DE VEJEZ"]
[{"$f":"+'Hoja3 (2)'!$I738","v":0},"NO RECONOCIMIENTO DE RETROACTIVO PENSIONAL",3,{"$f":"+IF('Hoja3 (2)'!$C738=1,'Hoja3 (2)'!$B738,\"No\")","v":"No"},{"$f":"+'Hoja3 (2)'!$C738&'Hoja3 (2)'!$B738","v":"3NO RECONOCIMIENTO DE RETROACTIVO PENSIONAL"},{"$f":"IFERROR(FIND(UPPER('Causas anteriores'!$D$4),D738),0)","v":0},{"$f":"+IF('Hoja3 (2)'!$F738=0,0,1)","v":0},{"$f":"+H737+'Hoja3 (2)'!$G738","v":2},{"$f":"+'Hoja3 (2)'!$H738*'Hoja3 (2)'!$G738","v":0},"CREAR","Activa","NO RECONOCIMIENTO DE RETROACTIVO DE PENSION DE INVALIDEZ"]
[{"$f":"+'Hoja3 (2)'!$I739","v":0},"NO RECONOCIMIENTO DE VIATICOS",1,{"$f":"+IF('Hoja3 (2)'!$C739=1,'Hoja3 (2)'!$B739,\"No\")","v":"NO RECONOCIMIENTO DE VIATICOS"},{"$f":"+'Hoja3 (2)'!$C739&'Hoja3 (2)'!$B739","v":"1NO RECONOCIMIENTO DE VIATICOS"},{"$f":"IFERROR(FIND(UPPER('Causas anteriores'!$D$4),D739),0)","v":0},{"$f":"+IF('Hoja3 (2)'!$F739=0,0,1)","v":0},{"$f":"+H738+'Hoja3 (2)'!$G739","v":2},{"$f":"+'Hoja3 (2)'!$H739*'Hoja3 (2)'!$G739","v":0},"MANTENER/AJUSTAR TEXTO","Activa","NO RECONOCIMIENTO DE VIATICOS",null,"ACTIVA"]
[{"$f":"+'Hoja3 (2)'!$I740","v":0},"NO RECONOCIMIENTO DEL PAGO DE BONIFICACION MENSUAL PARA LAS MADRES COMUNITARIAS Y SUSTITUTAS ESTRABLECIDA EN LA LEY 1450 DE 2011",1,{"$f":"+IF('Hoja3 (2)'!$C740=1,'Hoja3 (2)'!$B740,\"No\")","v":"NO RECONOCIMIENTO DEL PAGO DE BONIFICACION MENSUAL PARA LAS MADRES COMUNITARIAS Y SUSTITUTAS ESTRABLECIDA EN LA LEY 1450 DE 2011"},{"$f":"+'Hoja3 (2)'!$C740&'Hoja3 (2)'!$B740","v":"1NO RECONOCIMIENTO DEL PAGO DE BONIFICACION MENSUAL PARA LAS MADRES COMUNITARIAS Y SUSTITUTAS ESTRABLECIDA EN LA LEY 1450 DE 2011"},{"$f":"IFERROR(FIND(UPPER('Causas anteriores'!$D$4),D740),0)","v":0},{"$f":"+IF('Hoja3 (2)'!$F740=0,0,1)","v":0},{"$f":"+H739+'Hoja3 (2)'!$G740","v":2},{"$f":"+'Hoja3 (2)'!$H740*'Hoja3 (2)'!$G740","v":0},"MANTENER/AJUSTAR TEXTO","Activa","NO RECONOCIMIENTO BONIFICACION MENSUAL PARA LAS MADRES COMUNITARIAS Y SUSTITUTAS",null,"ACTIVA"]
[{"$f":"+'Hoja3 (2)'!$I741","v":0},"NO RECONOCIMIENTO DEL SUBSIDIO NOTARIAL",1,{"$f":"+IF('Hoja3 (2)'!$C741=1,'Hoja3 (2)'!$B741,\"No\")","v":"NO RECONOCIMIENTO DEL SUBSIDIO NOTARIAL"},{"$f":"+'Hoja3 (2)'!$C741&'Hoja3 (2)'!$B741","v":"1NO RECONOCIMIENTO DEL SUBSIDIO NOTARIAL"},{"$f":"IFERROR(FIND(UPPER('Causas anteriores'!$D$4),D741),0)","v":0},{"$f":"+IF('Hoja3 (2)'!$F741=0,0,1)","v":0},{"$f":"+H740+'Hoja3 (2)'!$G741","v":2},{"$f":"+'Hoja3 (2)'!$H741*'Hoja3 (2)'!$G741","v":0},"MANTENER/AJUSTAR TEXTO","Activa","NO RECONOCIMIENTO DEL SUBSIDIO NOTARIAL",null,"ACTIVA"]
[{"$f":"+'Hoja3 (2)'!$I742","v":0},"NO RECONOCIMIENTO EN DERECHO DE HONORARIOS",1,{"$f":"+IF('Hoja3 (2)'!$C742=1,'Hoja3 (2)'!$B742,\"No\")","v":"NO RECONOCIMIENTO EN DERECHO DE HONORARIOS"},{"$f":"+'Hoja3 (2)'!$C742&'Hoja3 (2)'!$B742","v":"1NO RECONOCIMIENTO EN DERECHO DE HONORARIOS"},{"$f":"IFERROR(FIND(UPPER('Causas anteriores'!$D$4),D742),0)","v":0},{"$f":"+IF('Hoja3 (2)'!$F742=0,0,1)","v":0},{"$f":"+H741+'Hoja3 (2)'!$G742","v":2},{"$f":"+'Hoja3 (2)'!$H742*'Hoja3 (2)'!$G742","v":0},"INACTIVAR PARA DESAGREGAR","Inactiva",null,null,"ACTIVA"]
[{"$f":"+'Hoja3 (2)'!$I743","v":0},"NO RECONOCIMIENTO EN DERECHO DE HONORARIOS",2,{"$f":"+IF('Hoja3 (2)'!$C743=1,'Hoja3 (2)'!$B743,\"No\")","v":"No"},{"$f":"+'Hoja3 (2)'!$C743&'Hoja3 (2)'!$B743","v":"2NO RECONOCIMIENTO EN DERECHO DE HONORARIOS"},{"$f":"IFERROR(FIND(UPPER('Causas anteriores'!$D$4),D743),0)","v":0},{"$f":"+IF('Hoja3 (2)'!$F743=0,0,1)","v":0},{"$f":"+H742+'Hoja3 (2)'!$G743","v":2},{"$f":"+'Hoja3 (2)'!$H743*'Hoja3 (2)'!$G743","v":0},"CREAR","Activa","NO RECONOCIMIENTO DE HONORARIOS"]
[{"$f":"+'Hoja3 (2)'!$I744","v":0},"NO RECONOCIMIENTO EN DERECHO DE HONORARIOS",3,{"$f":"+IF('Hoja3 (2)'!$C744=1,'Hoja3 (2)'!$B744,\"No\")","v":"No"},{"$f":"+'Hoja3 (2)'!$C744&'Hoja3 (2)'!$B744","v":"3NO RECONOCIMIENTO EN DERECHO DE HONORARIOS"},{"$f":"IFERROR(FIND(UPPER('Causas anteriores'!$D$4),D744),0)","v":0},{"$f":"+IF('Hoja3 (2)'!$F744=0,0,1)","v":0},{"$f":"+H743+'Hoja3 (2)'!$G744","v":2},{"$f":"+'Hoja3 (2)'!$H744*'Hoja3 (2)'!$G744","v":0},"CREAR","Activa","INDEBIDA LIQUIDACION DE HONORARIOS"]
[{"$f":"+'Hoja3 (2)'!$I745","v":0},"NO RECONOCIMIENTO EN DERECHO DE HONORARIOS",4,{"$f":"+IF('Hoja3 (2)'!$C745=1,'Hoja3 (2)'!$B745,\"No\")","v":"No"},{"$f":"+'Hoja3 (2)'!$C745&'Hoja3 (2)'!$B745","v":"4NO RECONOCIMIENTO EN DERECHO DE HONORARIOS"},{"$f":"IFERROR(FIND(UPPER('Causas anteriores'!$D$4),D745),0)","v":0},{"$f":"+IF('Hoja3 (2)'!$F745=0,0,1)","v":0},{"$f":"+H744+'Hoja3 (2)'!$G745","v":2},{"$f":"+'Hoja3 (2)'!$H745*'Hoja3 (2)'!$G745","v":0},"CREAR","Activa","INCUMPLIMIENTO EN EL PAGO DE HONORARIOS"]
[{"$f":"+'Hoja3 (2)'!$I746","v":0},"NO RECONOCIMIENTO EN DERECHO DE INDEMNIZACION POR DISMINUCION DE CAPACIDAD LABORAL",1,{"$f":"+IF('Hoja3 (2)'!$C746=1,'Hoja3 (2)'!$B746,\"No\")","v":"NO RECONOCIMIENTO EN DERECHO DE INDEMNIZACION POR DISMINUCION DE CAPACIDAD LABORAL"},{"$f":"+'Hoja3 (2)'!$C746&'Hoja3 (2)'!$B746","v":"1NO RECONOCIMIENTO EN DERECHO DE INDEMNIZACION POR DISMINUCION DE CAPACIDAD LABORAL"},{"$f":"IFERROR(FIND(UPPER('Causas anteriores'!$D$4),D746),0)","v":0},{"$f":"+IF('Hoja3 (2)'!$F746=0,0,1)","v":0},{"$f":"+H745+'Hoja3 (2)'!$G746","v":2},{"$f":"+'Hoja3 (2)'!$H746*'Hoja3 (2)'!$G746","v":0},"MANTENER/AJUSTAR TEXTO","Activa","NO RECONOCIMIENTO DE INDEMNIZACION POR DISMINUCION DE CAPACIDAD LABORAL",null,"ACTIVA"]
[{"$f":"+'Hoja3 (2)'!$I747","v":0},"NO RECONOCIMIENTO EN DERECHO DE INDEMNIZACION POR MUERTE EN ACCIDENTE DE TRABAJO",1,{"$f":"+IF('Hoja3 (2)'!$C747=1,'Hoja3 (2)'!$B747,\"No\")","v":"NO RECONOCIMIENTO EN DERECHO DE INDEMNIZACION POR MUERTE EN ACCIDENTE DE TRABAJO"},{"$f":"+'Hoja3 (2)'!$C747&'Hoja3 (2)'!$B747","v":"1NO RECONOCIMIENTO EN DERECHO DE INDEMNIZACION POR MUERTE EN ACCIDENTE DE TRABAJO"},{"$f":"IFERROR(FIND(UPPER('Causas anteriores'!$D$4),D747),0)","v":0},{"$f":"+IF('Hoja3 (2)'!$F747=0,0,1)","v":0},{"$f":"+H746+'Hoja3 (2)'!$G747","v":2},{"$f":"+'Hoja3 (2)'!$H747*'Hoja3 (2)'!$G747","v":0},"MANTENER/AJUSTAR TEXTO","Activa","NO RECONOCIMIENTO DE INDEMNIZACION POR MUERTE EN ACCIDENTE DE TRABAJO",null,"ACTIVA"]
[{"$f":"+'Hoja3 (2)'!$I748","v":0},"NO RECONOCIMIENTO EN DERECHO DE PRESTACIONES SOCIALES",1,{"$f":"+IF('Hoja3 (2)'!$C748=1,'Hoja3 (2)'!$B748,\"No\")","v":"NO RECONOCIMIENTO EN DERECHO DE PRESTACIONES SOCIALES"},{"$f":"+'Hoja3 (2)'!$C748&'Hoja3 (2)'!$B748","v":"1NO RECONOCIMIENTO EN DERECHO DE PRESTACIONES SOCIALES"},{"$f":"IFERROR(FIND(UPPER('Causas anteriores'!$D$4),D748),0)","v":0},{"$f":"+IF('Hoja3 (2)'!$F748=0,0,1)","v":0},{"$f":"+H747+'Hoja3 (2)'!$G748","v":2},{"$f":"+'Hoja3 (2)'!$H748*'Hoja3 (2)'!$G748","v":0},"INACTIVAR PARA DESAGREGAR","Inactiva",null,null,"ACTIVA"]
[{"$f":"+'Hoja3 (2)'!$I749","v":0},"NO RECONOCIMIENTO EN DERECHO DE PRESTACIONES SOCIALES",2,{"$f":"+IF('Hoja3 (2)'!$C749=1,'Hoja3 (2)'!$B749,\"No\")","v":"No"},{"$f":"+'Hoja3 (2)'!$C749&'Hoja3 (2)'!$B749","v":"2NO RECONOCIMIENTO EN DERECHO DE PRESTACIONES SOCIALES"},{"$f":"IFERROR(FIND(UPPER('Causas anteriores'!$D$4),D749),0)","v":0},{"$f":"+IF('Hoja3 (2)'!$F749=0,0,1)","v":0},{"$f":"+H748+'Hoja3 (2)'!$G749","v":2},{"$f":"+'Hoja3 (2)'!$H749*'Hoja3 (2)'!$G749","v":0},"CREAR","Activa","NO RECONOCIMIENTO DE PRESTACIONES SOCIALES"]
[{"$f":"+'Hoja3 (2)'!$I750","v":0},"NO RECONOCIMIENTO EN DERECHO DE PRESTACIONES SOCIALES",3,{"$f":"+IF('Hoja3 (2)'!$C750=1,'Hoja3 (2)'!$B750,\"No\")","v":"No"},{"$f":"+'Hoja3 (2)'!$C750&'Hoja3 (2)'!$B750","v":"3NO RECONOCIMIENTO EN DERECHO DE PRESTACIONES SOCIALES"},{"$f":"IFERROR(FIND(UPPER('Causas anteriores'!$D$4),D750),0)","v":0},{"$f":"+IF('Hoja3 (2)'!$F750=0,0,1)","v":0},{"$f":"+H749+'Hoja3 (2)'!$G750","v":2},{"$f":"+'Hoja3 (2)'!$H750*'Hoja3 (2)'!$G750","v":0},"CREAR","Activa","INDEBIDA LIQUIDACION DE PRESTACIONES SOCIALES"]
[{"$f":"+'Hoja3 (2)'!$I751","v":0},"NO RECONOCIMIENTO EN DERECHO DE REAFORO",1,{"$f":"+IF('Hoja3 (2)'!$C751=1,'Hoja3 (2)'!$B751,\"No\")","v":"NO RECONOCIMIENTO EN DERECHO DE REAFORO"},{"$f":"+'Hoja3 (2)'!$C751&'Hoja3 (2)'!$B751","v":"1NO RECONOCIMIENTO EN DERECHO DE REAFORO"},{"$f":"IFERROR(FIND(UPPER('Causas anteriores'!$D$4),D751),0)","v":0},{"$f":"+IF('Hoja3 (2)'!$F751=0,0,1)","v":0},{"$f":"+H750+'Hoja3 (2)'!$G751","v":2},{"$f":"+'Hoja3 (2)'!$H751*'Hoja3 (2)'!$G751","v":0},"INACTIVAR EN NUEVA MATRIZ","Inactiva",null,null,"ACTIVA"]
[{"$f":"+'Hoja3 (2)'!$I752","v":0},"NO RECONOCIMIENTO EN DERECHO DE SUBSIDIOS A LOS USUARIOS DE SERVICIOS PUBLICOS DOMICILIARIOS",1,{"$f":"+IF('Hoja3 (2)'!$C752=1,'Hoja3 (2)'!$B752,\"No\")","v":"NO RECONOCIMIENTO EN DERECHO DE SUBSIDIOS A LOS USUARIOS DE SERVICIOS PUBLICOS DOMICILIARIOS"},{"$f":"+'Hoja3 (2)'!$C752&'Hoja3 (2)'!$B752","v":"1NO RECONOCIMIENTO EN DERECHO DE SUBSIDIOS A LOS USUARIOS DE SERVICIOS PUBLICOS DOMICILIARIOS"},{"$f":"IFERROR(FIND(UPPER('Causas anteriores'!$D$4),D752),0)","v":0},{"$f":"+IF('Hoja3 (2)'!$F752=0,0,1)","v":0},{"$f":"+H751+'Hoja3 (2)'!$G752","v":2},{"$f":"+'Hoja3 (2)'!$H752*'Hoja3 (2)'!$G752","v":0},"MANTENER/AJUSTAR TEXTO","Activa","NO RECONOCIMIENTO EN DERECHO DE SUBSIDIOS A LOS USUARIOS DE SERVICIOS PUBLICOS DOMICILIARIOS",null,"ACTIVA"]
[{"$f":"+'Hoja3 (2)'!$I753","v":0},"NO RECONOCIMIENTO EN DERECHO DEL AUXILIO FUNERARIO",1,{"$f":"+IF('Hoja3 (2)'!$C753=1,'Hoja3 (2)'!$B753,\"No\")","v":"NO RECONOCIMIENTO EN DERECHO DEL AUXILIO FUNERARIO"},{"$f":"+'Hoja3 (2)'!$C753&'Hoja3 (2)'!$B753","v":"1NO RECONOCIMIENTO EN DERECHO DEL AUXILIO FUNERARIO"},{"$f":"IFERROR(FIND(UPPER('Causas anteriores'!$D$4),D753),0)","v":0},{"$f":"+IF('Hoja3 (2)'!$F753=0,0,1)","v":0},{"$f":"+H752+'Hoja3 (2)'!$G753","v":2},{"$f":"+'Hoja3 (2)'!$H753*'Hoja3 (2)'!$G753","v":0},"MANTENER/AJUSTAR TEXTO","Activa","NO RECONOCIMIENTO DEL AUXILIO FUNERARIO",null,"ACTIVA"]
[{"$f":"+'Hoja3 (2)'!$I754","v":0},"NO RECONOCIMIENTO EN DERECHO DEL PAGO DE INCAPACIDAD MEDICA",1,{"$f":"+IF('Hoja3 (2)'!$C754=1,'Hoja3 (2)'!$B754,\"No\")","v":"NO RECONOCIMIENTO EN DERECHO DEL PAGO DE INCAPACIDAD MEDICA"},{"$f":"+'Hoja3 (2)'!$C754&'Hoja3 (2)'!$B754","v":"1NO RECONOCIMIENTO EN DERECHO DEL PAGO DE INCAPACIDAD MEDICA"},{"$f":"IFERROR(FIND(UPPER('Causas anteriores'!$D$4),D754),0)","v":0},{"$f":"+IF('Hoja3 (2)'!$F754=0,0,1)","v":0},{"$f":"+H753+'Hoja3 (2)'!$G754","v":2},{"$f":"+'Hoja3 (2)'!$H754*'Hoja3 (2)'!$G754","v":0},"INACTIVAR PARA DESAGREGAR","Inactiva",null,null,"ACTIVA"]
[{"$f":"+'Hoja3 (2)'!$I755","v":0},"NO RECONOCIMIENTO EN DERECHO DEL PAGO DE INCAPACIDAD MEDICA",2,{"$f":"+IF('Hoja3 (2)'!$C755=1,'Hoja3 (2)'!$B755,\"No\")","v":"No"},{"$f":"+'Hoja3 (2)'!$C755&'Hoja3 (2)'!$B755","v":"2NO RECONOCIMIENTO EN DERECHO DEL PAGO DE INCAPACIDAD MEDICA"},{"$f":"IFERROR(FIND(UPPER('Causas anteriores'!$D$4),D755),0)","v":0},{"$f":"+IF('Hoja3 (2)'!$F755=0,0,1)","v":0},{"$f":"+H754+'Hoja3 (2)'!$G755","v":2},{"$f":"+'Hoja3 (2)'!$H755*'Hoja3 (2)'!$G755","v":0},"CREAR","Activa","NO RECONOCIMIENTO DE PAGO DE INCAPACIDAD MEDICA"]
[{"$f":"+'Hoja3 (2)'!$I756","v":0},"NO RECONOCIMIENTO EN DERECHO DEL PAGO DE INCAPACIDAD MEDICA",3,{"$f":"+IF('Hoja3 (2)'!$C756=1,'Hoja3 (2)'!$B756,\"No\")","v":"No"},{"$f":"+'Hoja3 (2)'!$C756&'Hoja3 (2)'!$B756","v":"3NO RECONOCIMIENTO EN DERECHO DEL PAGO DE INCAPACIDAD MEDICA"},{"$f":"IFERROR(FIND(UPPER('Causas anteriores'!$D$4),D756),0)","v":0},{"$f":"+IF('Hoja3 (2)'!$F756=0,0,1)","v":0},{"$f":"+H755+'Hoja3 (2)'!$G756","v":2},{"$f":"+'Hoja3 (2)'!$H756*'Hoja3 (2)'!$G756","v":0},"CREAR","Activa","INDEBIDA LIQUIDACION DE PAGO DE INCAPACIDAD MEDICA"]
[{"$f":"+'Hoja3 (2)'!$I757","v":0},"NO RECONOCIMIENTO EN DERECHO DEL PAGO DE INCAPACIDAD MEDICA",4,{"$f":"+IF('Hoja3 (2)'!$C757=1,'Hoja3 (2)'!$B757,\"No\")","v":"No"},{"$f":"+'Hoja3 (2)'!$C757&'Hoja3 (2)'!$B757","v":"4NO RECONOCIMIENTO EN DERECHO DEL PAGO DE INCAPACIDAD MEDICA"},{"$f":"IFERROR(FIND(UPPER('Causas anteriores'!$D$4),D757),0)","v":0},{"$f":"+IF('Hoja3 (2)'!$F757=0,0,1)","v":0},{"$f":"+H756+'Hoja3 (2)'!$G757","v":2},{"$f":"+'Hoja3 (2)'!$H757*'Hoja3 (2)'!$G757","v":0},"CREAR","Activa","INCUMPLIMIENTO EN EL PAGO DE INCAPACIDAD MEDICA"]
[{"$f":"+'Hoja3 (2)'!$I758","v":0},"NO RECONOCIMIENTO Y PAGO DEL SUBSIDIO FAMILIAR",1,{"$f":"+IF('Hoja3 (2)'!$C758=1,'Hoja3 (2)'!$B758,\"No\")","v":"NO RECONOCIMIENTO Y PAGO DEL SUBSIDIO FAMILIAR"},{"$f":"+'Hoja3 (2)'!$C758&'Hoja3 (2)'!$B758","v":"1NO RECONOCIMIENTO Y PAGO DEL SUBSIDIO FAMILIAR"},{"$f":"IFERROR(FIND(UPPER('Causas anteriores'!$D$4),D758),0)","v":0},{"$f":"+IF('Hoja3 (2)'!$F758=0,0,1)","v":0},{"$f":"+H757+'Hoja3 (2)'!$G758","v":2},{"$f":"+'Hoja3 (2)'!$H758*'Hoja3 (2)'!$G758","v":0},"MANTENER/AJUSTAR TEXTO","Activa","NO RECONOCIMIENTO DE SUBSIDIO FAMILIAR",null,"ACTIVA"]
[{"$f":"+'Hoja3 (2)'!$I759","v":0},"NO RESTITUCION DE BIEN INMUEBLE ARRENDADO",1,{"$f":"+IF('Hoja3 (2)'!$C759=1,'Hoja3 (2)'!$B759,\"No\")","v":"NO RESTITUCION DE BIEN INMUEBLE ARRENDADO"},{"$f":"+'Hoja3 (2)'!$C759&'Hoja3 (2)'!$B759","v":"1NO RESTITUCION DE BIEN INMUEBLE ARRENDADO"},{"$f":"IFERROR(FIND(UPPER('Causas anteriores'!$D$4),D759),0)","v":0},{"$f":"+IF('Hoja3 (2)'!$F759=0,0,1)","v":0},{"$f":"+H758+'Hoja3 (2)'!$G759","v":2},{"$f":"+'Hoja3 (2)'!$H759*'Hoja3 (2)'!$G759","v":0},"MANTENER/AJUSTAR TEXTO","Activa","NO RESTITUCION DE BIEN INMUEBLE ARRENDADO",null,"ACTIVA"]
[{"$f":"+'Hoja3 (2)'!$I760","v":0},"NULIDAD ACTO ADMINISTRATIVO - RESOLUCION",1,{"$f":"+IF('Hoja3 (2)'!$C760=1,'Hoja3 (2)'!$B760,\"No\")","v":"NULIDAD ACTO ADMINISTRATIVO - RESOLUCION"},{"$f":"+'Hoja3 (2)'!$C760&'Hoja3 (2)'!$B760","v":"1NULIDAD ACTO ADMINISTRATIVO - RESOLUCION"},{"$f":"IFERROR(FIND(UPPER('Causas anteriores'!$D$4),D760),0)","v":0},{"$f":"+IF('Hoja3 (2)'!$F760=0,0,1)","v":0},{"$f":"+H759+'Hoja3 (2)'!$G760","v":2},{"$f":"+'Hoja3 (2)'!$H760*'Hoja3 (2)'!$G760","v":0},"ESTABA INACTIVA","Inactiva",null,null,"INACTIVA"]
[{"$f":"+'Hoja3 (2)'!$I761","v":0},"NULIDAD DE FALLO ADMINISTRATIVO MULTA",1,{"$f":"+IF('Hoja3 (2)'!$C761=1,'Hoja3 (2)'!$B761,\"No\")","v":"NULIDAD DE FALLO ADMINISTRATIVO MULTA"},{"$f":"+'Hoja3 (2)'!$C761&'Hoja3 (2)'!$B761","v":"1NULIDAD DE FALLO ADMINISTRATIVO MULTA"},{"$f":"IFERROR(FIND(UPPER('Causas anteriores'!$D$4),D761),0)","v":0},{"$f":"+IF('Hoja3 (2)'!$F761=0,0,1)","v":0},{"$f":"+H760+'Hoja3 (2)'!$G761","v":2},{"$f":"+'Hoja3 (2)'!$H761*'Hoja3 (2)'!$G761","v":0},"ESTABA INACTIVA","Inactiva",null,null,"INACTIVA"]
[{"$f":"+'Hoja3 (2)'!$I762","v":0},"NULIDAD DEL ACTO ADMINISTRATIVO QUE RECONOCE RETROACTIVIDAD EN EL PAGO DEL ESCALAFON DOCENTE",1,{"$f":"+IF('Hoja3 (2)'!$C762=1,'Hoja3 (2)'!$B762,\"No\")","v":"NULIDAD DEL ACTO ADMINISTRATIVO QUE RECONOCE RETROACTIVIDAD EN EL PAGO DEL ESCALAFON DOCENTE"},{"$f":"+'Hoja3 (2)'!$C762&'Hoja3 (2)'!$B762","v":"1NULIDAD DEL ACTO ADMINISTRATIVO QUE RECONOCE RETROACTIVIDAD EN EL PAGO DEL ESCALAFON DOCENTE"},{"$f":"IFERROR(FIND(UPPER('Causas anteriores'!$D$4),D762),0)","v":0},{"$f":"+IF('Hoja3 (2)'!$F762=0,0,1)","v":0},{"$f":"+H761+'Hoja3 (2)'!$G762","v":2},{"$f":"+'Hoja3 (2)'!$H762*'Hoja3 (2)'!$G762","v":0},"INACTIVAR PARA DESAGREGAR","Inactiva",null,null,"ACTIVA"]
[{"$f":"+'Hoja3 (2)'!$I763","v":0},"NULIDAD DEL ACTO ADMINISTRATIVO QUE RECONOCE RETROACTIVIDAD EN EL PAGO DEL ESCALAFON DOCENTE",2,{"$f":"+IF('Hoja3 (2)'!$C763=1,'Hoja3 (2)'!$B763,\"No\")","v":"No"},{"$f":"+'Hoja3 (2)'!$C763&'Hoja3 (2)'!$B763","v":"2NULIDAD DEL ACTO ADMINISTRATIVO QUE RECONOCE RETROACTIVIDAD EN EL PAGO DEL ESCALAFON DOCENTE"},{"$f":"IFERROR(FIND(UPPER('Causas anteriores'!$D$4),D763),0)","v":0},{"$f":"+IF('Hoja3 (2)'!$F763=0,0,1)","v":0},{"$f":"+H762+'Hoja3 (2)'!$G763","v":2},{"$f":"+'Hoja3 (2)'!$H763*'Hoja3 (2)'!$G763","v":0},"CREAR","Activa","NO RECONOCIMIENTO DE COSTO ACUMULADO DE ASCENSOS EN EL ESCALAFON DOCENTE"]
[{"$f":"+'Hoja3 (2)'!$I764","v":0},"NULIDAD DEL ACTO ADMINISTRATIVO QUE RECONOCE RETROACTIVIDAD EN EL PAGO DEL ESCALAFON DOCENTE",3,{"$f":"+IF('Hoja3 (2)'!$C764=1,'Hoja3 (2)'!$B764,\"No\")","v":"No"},{"$f":"+'Hoja3 (2)'!$C764&'Hoja3 (2)'!$B764","v":"3NULIDAD DEL ACTO ADMINISTRATIVO QUE RECONOCE RETROACTIVIDAD EN EL PAGO DEL ESCALAFON DOCENTE"},{"$f":"IFERROR(FIND(UPPER('Causas anteriores'!$D$4),D764),0)","v":0},{"$f":"+IF('Hoja3 (2)'!$F764=0,0,1)","v":0},{"$f":"+H763+'Hoja3 (2)'!$G764","v":2},{"$f":"+'Hoja3 (2)'!$H764*'Hoja3 (2)'!$G764","v":0},"CREAR","Activa","INDEBIDA LIQUIDACION DE DE COSTO ACUMULADO DE ASCENSOS EN EL ESCALAFON DOCENTE"]
[{"$f":"+'Hoja3 (2)'!$I765","v":0},"NULIDAD DEL ACTO ADMINISTRATIVO QUE RECONOCE RETROACTIVIDAD EN EL PAGO DEL ESCALAFON DOCENTE",4,{"$f":"+IF('Hoja3 (2)'!$C765=1,'Hoja3 (2)'!$B765,\"No\")","v":"No"},{"$f":"+'Hoja3 (2)'!$C765&'Hoja3 (2)'!$B765","v":"4NULIDAD DEL ACTO ADMINISTRATIVO QUE RECONOCE RETROACTIVIDAD EN EL PAGO DEL ESCALAFON DOCENTE"},{"$f":"IFERROR(FIND(UPPER('Causas anteriores'!$D$4),D765),0)","v":0},{"$f":"+IF('Hoja3 (2)'!$F765=0,0,1)","v":0},{"$f":"+H764+'Hoja3 (2)'!$G765","v":2},{"$f":"+'Hoja3 (2)'!$H765*'Hoja3 (2)'!$G765","v":0},"CREAR","Activa","INCUMPLIMIENTO EN EL PAGO DE COSTO ACUMULADO DE ASCENSOS EN EL ESCALAFON DOCENTE"]
[{"$f":"+'Hoja3 (2)'!$I766","v":0},"NULIDAD DEL CONTRATO ESTATAL",1,{"$f":"+IF('Hoja3 (2)'!$C766=1,'Hoja3 (2)'!$B766,\"No\")","v":"NULIDAD DEL CONTRATO ESTATAL"},{"$f":"+'Hoja3 (2)'!$C766&'Hoja3 (2)'!$B766","v":"1NULIDAD DEL CONTRATO ESTATAL"},{"$f":"IFERROR(FIND(UPPER('Causas anteriores'!$D$4),D766),0)","v":0},{"$f":"+IF('Hoja3 (2)'!$F766=0,0,1)","v":0},{"$f":"+H765+'Hoja3 (2)'!$G766","v":2},{"$f":"+'Hoja3 (2)'!$H766*'Hoja3 (2)'!$G766","v":0},"INACTIVAR PARA DESAGREGAR","Inactiva",null,null,"ACTIVA"]
[{"$f":"+'Hoja3 (2)'!$I767","v":0},"NULIDAD DEL CONTRATO ESTATAL",2,{"$f":"+IF('Hoja3 (2)'!$C767=1,'Hoja3 (2)'!$B767,\"No\")","v":"No"},{"$f":"+'Hoja3 (2)'!$C767&'Hoja3 (2)'!$B767","v":"2NULIDAD DEL CONTRATO ESTATAL"},{"$f":"IFERROR(FIND(UPPER('Causas anteriores'!$D$4),D767),0)","v":0},{"$f":"+IF('Hoja3 (2)'!$F767=0,0,1)","v":0},{"$f":"+H766+'Hoja3 (2)'!$G767","v":2},{"$f":"+'Hoja3 (2)'!$H767*'Hoja3 (2)'!$G767","v":0},"CREAR","Activa","NULIDAD ABSOLUTA DEL CONTRATO ESTATAL"]
[{"$f":"+'Hoja3 (2)'!$I768","v":0},"NULIDAD DEL CONTRATO ESTATAL",3,{"$f":"+IF('Hoja3 (2)'!$C768=1,'Hoja3 (2)'!$B768,\"No\")","v":"No"},{"$f":"+'Hoja3 (2)'!$C768&'Hoja3 (2)'!$B768","v":"3NULIDAD DEL CONTRATO ESTATAL"},{"$f":"IFERROR(FIND(UPPER('Causas anteriores'!$D$4),D768),0)","v":0},{"$f":"+IF('Hoja3 (2)'!$F768=0,0,1)","v":0},{"$f":"+H767+'Hoja3 (2)'!$G768","v":2},{"$f":"+'Hoja3 (2)'!$H768*'Hoja3 (2)'!$G768","v":0},"CREAR","Activa","NULIDAD RELATIVA DEL CONTRATO ESTATAL"]
[{"$f":"+'Hoja3 (2)'!$I769","v":0},"OBSTRUCCION A LA EJECUCION DE PROGRAMAS Y PROYECTOS DE INFRAESTRUCTURA VIAL Y DE SISTEMAS DE TRANSPORTE MASIVO",1,{"$f":"+IF('Hoja3 (2)'!$C769=1,'Hoja3 (2)'!$B769,\"No\")","v":"OBSTRUCCION A LA EJECUCION DE PROGRAMAS Y PROYECTOS DE INFRAESTRUCTURA VIAL Y DE SISTEMAS DE TRANSPORTE MASIVO"},{"$f":"+'Hoja3 (2)'!$C769&'Hoja3 (2)'!$B769","v":"1OBSTRUCCION A LA EJECUCION DE PROGRAMAS Y PROYECTOS DE INFRAESTRUCTURA VIAL Y DE SISTEMAS DE TRANSPORTE MASIVO"},{"$f":"IFERROR(FIND(UPPER('Causas anteriores'!$D$4),D769),0)","v":0},{"$f":"+IF('Hoja3 (2)'!$F769=0,0,1)","v":0},{"$f":"+H768+'Hoja3 (2)'!$G769","v":2},{"$f":"+'Hoja3 (2)'!$H769*'Hoja3 (2)'!$G769","v":0},"MANTENER/AJUSTAR TEXTO","Activa","NO ACEPTACION DE ENAJENACION VOLUNTARIA DE INMUEBLE AFECTADO A UN PROYECTO DE INFRAESTRUCTURA",null,"ACTIVA"]
[{"$f":"+'Hoja3 (2)'!$I770","v":0},"OCUPACION TEMPORAL O PERMANENTE DE INMUEBLE",1,{"$f":"+IF('Hoja3 (2)'!$C770=1,'Hoja3 (2)'!$B770,\"No\")","v":"OCUPACION TEMPORAL O PERMANENTE DE INMUEBLE"},{"$f":"+'Hoja3 (2)'!$C770&'Hoja3 (2)'!$B770","v":"1OCUPACION TEMPORAL O PERMANENTE DE INMUEBLE"},{"$f":"IFERROR(FIND(UPPER('Causas anteriores'!$D$4),D770),0)","v":0},{"$f":"+IF('Hoja3 (2)'!$F770=0,0,1)","v":0},{"$f":"+H769+'Hoja3 (2)'!$G770","v":2},{"$f":"+'Hoja3 (2)'!$H770*'Hoja3 (2)'!$G770","v":0},"INACTIVAR PARA DESAGREGAR","Inactiva",null,null,"ACTIVA"]
[{"$f":"+'Hoja3 (2)'!$I771","v":0},"OCUPACION TEMPORAL O PERMANENTE DE INMUEBLE",2,{"$f":"+IF('Hoja3 (2)'!$C771=1,'Hoja3 (2)'!$B771,\"No\")","v":"No"},{"$f":"+'Hoja3 (2)'!$C771&'Hoja3 (2)'!$B771","v":"2OCUPACION TEMPORAL O PERMANENTE DE INMUEBLE"},{"$f":"IFERROR(FIND(UPPER('Causas anteriores'!$D$4),D771),0)","v":0},{"$f":"+IF('Hoja3 (2)'!$F771=0,0,1)","v":0},{"$f":"+H770+'Hoja3 (2)'!$G771","v":2},{"$f":"+'Hoja3 (2)'!$H771*'Hoja3 (2)'!$G771","v":0},"CREAR","Activa","OCUPACION TEMPORAL DE INMUEBLE"]
[{"$f":"+'Hoja3 (2)'!$I772","v":0},"OCUPACION TEMPORAL O PERMANENTE DE INMUEBLE",3,{"$f":"+IF('Hoja3 (2)'!$C772=1,'Hoja3 (2)'!$B772,\"No\")","v":"No"},{"$f":"+'Hoja3 (2)'!$C772&'Hoja3 (2)'!$B772","v":"3OCUPACION TEMPORAL O PERMANENTE DE INMUEBLE"},{"$f":"IFERROR(FIND(UPPER('Causas anteriores'!$D$4),D772),0)","v":0},{"$f":"+IF('Hoja3 (2)'!$F772=0,0,1)","v":0},{"$f":"+H771+'Hoja3 (2)'!$G772","v":2},{"$f":"+'Hoja3 (2)'!$H772*'Hoja3 (2)'!$G772","v":0},"CREAR","Activa","OCUPACION PERMANENTE DE INMUEBLE"]
[{"$f":"+'Hoja3 (2)'!$I773","v":0},"OMISION DE ASISTENCIA HUMANITARIA",1,{"$f":"+IF('Hoja3 (2)'!$C773=1,'Hoja3 (2)'!$B773,\"No\")","v":"OMISION DE ASISTENCIA HUMANITARIA"},{"$f":"+'Hoja3 (2)'!$C773&'Hoja3 (2)'!$B773","v":"1OMISION DE ASISTENCIA HUMANITARIA"},{"$f":"IFERROR(FIND(UPPER('Causas anteriores'!$D$4),D773),0)","v":0},{"$f":"+IF('Hoja3 (2)'!$F773=0,0,1)","v":0},{"$f":"+H772+'Hoja3 (2)'!$G773","v":2},{"$f":"+'Hoja3 (2)'!$H773*'Hoja3 (2)'!$G773","v":0},"MANTENER/AJUSTAR TEXTO","Activa","OMISION DE ASISTENCIA HUMANITARIA",null,"ACTIVA"]
[{"$f":"+'Hoja3 (2)'!$I774","v":0},"OMISION DE LAS NORMAS DE SALUD OCUPACIONAL",1,{"$f":"+IF('Hoja3 (2)'!$C774=1,'Hoja3 (2)'!$B774,\"No\")","v":"OMISION DE LAS NORMAS DE SALUD OCUPACIONAL"},{"$f":"+'Hoja3 (2)'!$C774&'Hoja3 (2)'!$B774","v":"1OMISION DE LAS NORMAS DE SALUD OCUPACIONAL"},{"$f":"IFERROR(FIND(UPPER('Causas anteriores'!$D$4),D774),0)","v":0},{"$f":"+IF('Hoja3 (2)'!$F774=0,0,1)","v":0},{"$f":"+H773+'Hoja3 (2)'!$G774","v":2},{"$f":"+'Hoja3 (2)'!$H774*'Hoja3 (2)'!$G774","v":0},"MANTENER/AJUSTAR TEXTO","Activa","OMISION DE LAS NORMAS DE SALUD OCUPACIONAL",null,"ACTIVA"]
[{"$f":"+'Hoja3 (2)'!$I775","v":0},"OMISION EN EL CONTROL DE ARMAS A CIVILES POR PARTE FFMM",1,{"$f":"+IF('Hoja3 (2)'!$C775=1,'Hoja3 (2)'!$B775,\"No\")","v":"OMISION EN EL CONTROL DE ARMAS A CIVILES POR PARTE FFMM"},{"$f":"+'Hoja3 (2)'!$C775&'Hoja3 (2)'!$B775","v":"1OMISION EN EL CONTROL DE ARMAS A CIVILES POR PARTE FFMM"},{"$f":"IFERROR(FIND(UPPER('Causas anteriores'!$D$4),D775),0)","v":0},{"$f":"+IF('Hoja3 (2)'!$F775=0,0,1)","v":0},{"$f":"+H774+'Hoja3 (2)'!$G775","v":2},{"$f":"+'Hoja3 (2)'!$H775*'Hoja3 (2)'!$G775","v":0},"INACTIVAR EN NUEVA MATRIZ","Inactiva",null,null,"ACTIVA"]
[{"$f":"+'Hoja3 (2)'!$I776","v":0},"OMISION EN EL PAGO DE APORTES AL SISTEMA GENERAL DE SEGURIDAD SOCIAL",1,{"$f":"+IF('Hoja3 (2)'!$C776=1,'Hoja3 (2)'!$B776,\"No\")","v":"OMISION EN EL PAGO DE APORTES AL SISTEMA GENERAL DE SEGURIDAD SOCIAL"},{"$f":"+'Hoja3 (2)'!$C776&'Hoja3 (2)'!$B776","v":"1OMISION EN EL PAGO DE APORTES AL SISTEMA GENERAL DE SEGURIDAD SOCIAL"},{"$f":"IFERROR(FIND(UPPER('Causas anteriores'!$D$4),D776),0)","v":0},{"$f":"+IF('Hoja3 (2)'!$F776=0,0,1)","v":0},{"$f":"+H775+'Hoja3 (2)'!$G776","v":2},{"$f":"+'Hoja3 (2)'!$H776*'Hoja3 (2)'!$G776","v":0},"MANTENER/AJUSTAR TEXTO","Activa","INCUMPLIMIENTO EN EL PAGO DE APORTES AL SISTEMA DE SEGURIDAD SOCIAL INTEGRAL",null,"ACTIVA"]
[{"$f":"+'Hoja3 (2)'!$I777","v":0},"OMISION EN LA OBLIGACION DE PREVISION DE RIESGOS ADICIONALES DE OPERACIONES MILITARES",1,{"$f":"+IF('Hoja3 (2)'!$C777=1,'Hoja3 (2)'!$B777,\"No\")","v":"OMISION EN LA OBLIGACION DE PREVISION DE RIESGOS ADICIONALES DE OPERACIONES MILITARES"},{"$f":"+'Hoja3 (2)'!$C777&'Hoja3 (2)'!$B777","v":"1OMISION EN LA OBLIGACION DE PREVISION DE RIESGOS ADICIONALES DE OPERACIONES MILITARES"},{"$f":"IFERROR(FIND(UPPER('Causas anteriores'!$D$4),D777),0)","v":0},{"$f":"+IF('Hoja3 (2)'!$F777=0,0,1)","v":0},{"$f":"+H776+'Hoja3 (2)'!$G777","v":2},{"$f":"+'Hoja3 (2)'!$H777*'Hoja3 (2)'!$G777","v":0},"INACTIVAR EN NUEVA MATRIZ","Inactiva",null,null,"ACTIVA"]
[{"$f":"+'Hoja3 (2)'!$I778","v":0},"OMISION EN LAS FUNCIONES DE INSPECCION, VIGILANCIA Y CONTROL",1,{"$f":"+IF('Hoja3 (2)'!$C778=1,'Hoja3 (2)'!$B778,\"No\")","v":"OMISION EN LAS FUNCIONES DE INSPECCION, VIGILANCIA Y CONTROL"},{"$f":"+'Hoja3 (2)'!$C778&'Hoja3 (2)'!$B778","v":"1OMISION EN LAS FUNCIONES DE INSPECCION, VIGILANCIA Y CONTROL"},{"$f":"IFERROR(FIND(UPPER('Causas anteriores'!$D$4),D778),0)","v":0},{"$f":"+IF('Hoja3 (2)'!$F778=0,0,1)","v":0},{"$f":"+H777+'Hoja3 (2)'!$G778","v":2},{"$f":"+'Hoja3 (2)'!$H778*'Hoja3 (2)'!$G778","v":0},"MANTENER/AJUSTAR TEXTO","Activa","OMISION EN LAS FUNCIONES DE INSPECCION, VIGILANCIA Y CONTROL",null,"ACTIVA"]
[{"$f":"+'Hoja3 (2)'!$I779","v":0},"OMISION EN LAS OBLIGACIONES DE SEGURIDAD Y GARANTIA",1,{"$f":"+IF('Hoja3 (2)'!$C779=1,'Hoja3 (2)'!$B779,\"No\")","v":"OMISION EN LAS OBLIGACIONES DE SEGURIDAD Y GARANTIA"},{"$f":"+'Hoja3 (2)'!$C779&'Hoja3 (2)'!$B779","v":"1OMISION EN LAS OBLIGACIONES DE SEGURIDAD Y GARANTIA"},{"$f":"IFERROR(FIND(UPPER('Causas anteriores'!$D$4),D779),0)","v":0},{"$f":"+IF('Hoja3 (2)'!$F779=0,0,1)","v":0},{"$f":"+H778+'Hoja3 (2)'!$G779","v":2},{"$f":"+'Hoja3 (2)'!$H779*'Hoja3 (2)'!$G779","v":0},"INACTIVAR EN NUEVA MATRIZ","Inactiva",null,null,"ACTIVA"]
[{"$f":"+'Hoja3 (2)'!$I780","v":0},"PAGO DE CONDENA Y/O CONCILIACION POR ACTUACION DOLOSA O GRAVEMENTE CULPOSA DE FUNCIONARIO",1,{"$f":"+IF('Hoja3 (2)'!$C780=1,'Hoja3 (2)'!$B780,\"No\")","v":"PAGO DE CONDENA Y/O CONCILIACION POR ACTUACION DOLOSA O GRAVEMENTE CULPOSA DE FUNCIONARIO"},{"$f":"+'Hoja3 (2)'!$C780&'Hoja3 (2)'!$B780","v":"1PAGO DE CONDENA Y/O CONCILIACION POR ACTUACION DOLOSA O GRAVEMENTE CULPOSA DE FUNCIONARIO"},{"$f":"IFERROR(FIND(UPPER('Causas anteriores'!$D$4),D780),0)","v":0},{"$f":"+IF('Hoja3 (2)'!$F780=0,0,1)","v":0},{"$f":"+H779+'Hoja3 (2)'!$G780","v":2},{"$f":"+'Hoja3 (2)'!$H780*'Hoja3 (2)'!$G780","v":0},"MANTENER/AJUSTAR TEXTO","Activa","PAGO DE CONDENA O CONCILIACION POR ACTUACION DOLOSA O GRAVEMENTE CULPOSA DE SERVIDOR O EX SERVIDOR PUBLICO O PARTICULAR EN EJERCICIO DE FUNCIONES PUBLICAS",null,"ACTIVA"]
[{"$f":"+'Hoja3 (2)'!$I781","v":0},"PAGO POR CONSIGNACION",1,{"$f":"+IF('Hoja3 (2)'!$C781=1,'Hoja3 (2)'!$B781,\"No\")","v":"PAGO POR CONSIGNACION"},{"$f":"+'Hoja3 (2)'!$C781&'Hoja3 (2)'!$B781","v":"1PAGO POR CONSIGNACION"},{"$f":"IFERROR(FIND(UPPER('Causas anteriores'!$D$4),D781),0)","v":0},{"$f":"+IF('Hoja3 (2)'!$F781=0,0,1)","v":0},{"$f":"+H780+'Hoja3 (2)'!$G781","v":2},{"$f":"+'Hoja3 (2)'!$H781*'Hoja3 (2)'!$G781","v":0},"ESTABA INACTIVA","Inactiva",null,null,"INACTIVA"]
[{"$f":"+'Hoja3 (2)'!$I782","v":0},"PAGOS POR GASTOS",1,{"$f":"+IF('Hoja3 (2)'!$C782=1,'Hoja3 (2)'!$B782,\"No\")","v":"PAGOS POR GASTOS"},{"$f":"+'Hoja3 (2)'!$C782&'Hoja3 (2)'!$B782","v":"1PAGOS POR GASTOS"},{"$f":"IFERROR(FIND(UPPER('Causas anteriores'!$D$4),D782),0)","v":0},{"$f":"+IF('Hoja3 (2)'!$F782=0,0,1)","v":0},{"$f":"+H781+'Hoja3 (2)'!$G782","v":2},{"$f":"+'Hoja3 (2)'!$H782*'Hoja3 (2)'!$G782","v":0},"ESTABA INACTIVA","Inactiva",null,null,"INACTIVA"]
[{"$f":"+'Hoja3 (2)'!$I783","v":0},"PERDIDA DE POSESION O TENENCIA DE BIEN",1,{"$f":"+IF('Hoja3 (2)'!$C783=1,'Hoja3 (2)'!$B783,\"No\")","v":"PERDIDA DE POSESION O TENENCIA DE BIEN"},{"$f":"+'Hoja3 (2)'!$C783&'Hoja3 (2)'!$B783","v":"1PERDIDA DE POSESION O TENENCIA DE BIEN"},{"$f":"IFERROR(FIND(UPPER('Causas anteriores'!$D$4),D783),0)","v":0},{"$f":"+IF('Hoja3 (2)'!$F783=0,0,1)","v":0},{"$f":"+H782+'Hoja3 (2)'!$G783","v":2},{"$f":"+'Hoja3 (2)'!$H783*'Hoja3 (2)'!$G783","v":0},"MANTENER/AJUSTAR TEXTO","Activa","PERDIDA DE POSESION O TENENCIA DE BIEN",null,"ACTIVA"]
[{"$f":"+'Hoja3 (2)'!$I784","v":0},"PERDIDA O DAÑO DE BIENES EN DEPOSITO O INCAUTADOS",1,{"$f":"+IF('Hoja3 (2)'!$C784=1,'Hoja3 (2)'!$B784,\"No\")","v":"PERDIDA O DAÑO DE BIENES EN DEPOSITO O INCAUTADOS"},{"$f":"+'Hoja3 (2)'!$C784&'Hoja3 (2)'!$B784","v":"1PERDIDA O DAÑO DE BIENES EN DEPOSITO O INCAUTADOS"},{"$f":"IFERROR(FIND(UPPER('Causas anteriores'!$D$4),D784),0)","v":0},{"$f":"+IF('Hoja3 (2)'!$F784=0,0,1)","v":0},{"$f":"+H783+'Hoja3 (2)'!$G784","v":2},{"$f":"+'Hoja3 (2)'!$H784*'Hoja3 (2)'!$G784","v":0},"MANTENER/AJUSTAR TEXTO","Activa","PERDIDA O DAÑOS A BIENES INCAUTADOS U OCUPADOS EN PROCESOS PENALES",null,"ACTIVA"]
[{"$f":"+'Hoja3 (2)'!$I785","v":0},"PERDIDA O DESTRUCCION DE TITULO VALOR",1,{"$f":"+IF('Hoja3 (2)'!$C785=1,'Hoja3 (2)'!$B785,\"No\")","v":"PERDIDA O DESTRUCCION DE TITULO VALOR"},{"$f":"+'Hoja3 (2)'!$C785&'Hoja3 (2)'!$B785","v":"1PERDIDA O DESTRUCCION DE TITULO VALOR"},{"$f":"IFERROR(FIND(UPPER('Causas anteriores'!$D$4),D785),0)","v":0},{"$f":"+IF('Hoja3 (2)'!$F785=0,0,1)","v":0},{"$f":"+H784+'Hoja3 (2)'!$G785","v":2},{"$f":"+'Hoja3 (2)'!$H785*'Hoja3 (2)'!$G785","v":0},"MANTENER/AJUSTAR TEXTO","Activa","PERDIDA O DESTRUCCION DE TITULO VALOR",null,"ACTIVA"]
[{"$f":"+'Hoja3 (2)'!$I786","v":0},"PERJUICIOS ECONOMICOS POR INDEBIDA ACTUACION ADMINISTRATIVA",1,{"$f":"+IF('Hoja3 (2)'!$C786=1,'Hoja3 (2)'!$B786,\"No\")","v":"PERJUICIOS ECONOMICOS POR INDEBIDA ACTUACION ADMINISTRATIVA"},{"$f":"+'Hoja3 (2)'!$C786&'Hoja3 (2)'!$B786","v":"1PERJUICIOS ECONOMICOS POR INDEBIDA ACTUACION ADMINISTRATIVA"},{"$f":"IFERROR(FIND(UPPER('Causas anteriores'!$D$4),D786),0)","v":0},{"$f":"+IF('Hoja3 (2)'!$F786=0,0,1)","v":0},{"$f":"+H785+'Hoja3 (2)'!$G786","v":2},{"$f":"+'Hoja3 (2)'!$H786*'Hoja3 (2)'!$G786","v":0},"ESTABA INACTIVA","Inactiva",null,null,"INACTIVA"]
[{"$f":"+'Hoja3 (2)'!$I787","v":0},"PERJUICIOS OCASIONADOS CON OCASION A LA EXPEDICION DEL DEC. 1750 DE 2003",1,{"$f":"+IF('Hoja3 (2)'!$C787=1,'Hoja3 (2)'!$B787,\"No\")","v":"PERJUICIOS OCASIONADOS CON OCASION A LA EXPEDICION DEL DEC. 1750 DE 2003"},{"$f":"+'Hoja3 (2)'!$C787&'Hoja3 (2)'!$B787","v":"1PERJUICIOS OCASIONADOS CON OCASION A LA EXPEDICION DEL DEC. 1750 DE 2003"},{"$f":"IFERROR(FIND(UPPER('Causas anteriores'!$D$4),D787),0)","v":0},{"$f":"+IF('Hoja3 (2)'!$F787=0,0,1)","v":0},{"$f":"+H786+'Hoja3 (2)'!$G787","v":2},{"$f":"+'Hoja3 (2)'!$H787*'Hoja3 (2)'!$G787","v":0},"INACTIVAR EN NUEVA MATRIZ","Inactiva",null,null,"ACTIVA"]
[{"$f":"+'Hoja3 (2)'!$I788","v":0},"PERJUICIOS OCASIONADOS POR ACTAS DE JUNTA DE SOCIOS",1,{"$f":"+IF('Hoja3 (2)'!$C788=1,'Hoja3 (2)'!$B788,\"No\")","v":"PERJUICIOS OCASIONADOS POR ACTAS DE JUNTA DE SOCIOS"},{"$f":"+'Hoja3 (2)'!$C788&'Hoja3 (2)'!$B788","v":"1PERJUICIOS OCASIONADOS POR ACTAS DE JUNTA DE SOCIOS"},{"$f":"IFERROR(FIND(UPPER('Causas anteriores'!$D$4),D788),0)","v":0},{"$f":"+IF('Hoja3 (2)'!$F788=0,0,1)","v":0},{"$f":"+H787+'Hoja3 (2)'!$G788","v":2},{"$f":"+'Hoja3 (2)'!$H788*'Hoja3 (2)'!$G788","v":0},"MANTENER/AJUSTAR TEXTO","Activa","PERJUICIOS OCASIONADOS POR ACTAS DE JUNTA DE SOCIOS",null,"ACTIVA"]
[{"$f":"+'Hoja3 (2)'!$I789","v":0},"PERJUICIOS OCASIONADOS POR COLAPSO DE EDIFICACION PUBLICA",1,{"$f":"+IF('Hoja3 (2)'!$C789=1,'Hoja3 (2)'!$B789,\"No\")","v":"PERJUICIOS OCASIONADOS POR COLAPSO DE EDIFICACION PUBLICA"},{"$f":"+'Hoja3 (2)'!$C789&'Hoja3 (2)'!$B789","v":"1PERJUICIOS OCASIONADOS POR COLAPSO DE EDIFICACION PUBLICA"},{"$f":"IFERROR(FIND(UPPER('Causas anteriores'!$D$4),D789),0)","v":0},{"$f":"+IF('Hoja3 (2)'!$F789=0,0,1)","v":0},{"$f":"+H788+'Hoja3 (2)'!$G789","v":2},{"$f":"+'Hoja3 (2)'!$H789*'Hoja3 (2)'!$G789","v":0},"INACTIVAR EN NUEVA MATRIZ","Inactiva",null,null,"ACTIVA"]
[{"$f":"+'Hoja3 (2)'!$I790","v":0},"PERJUICIOS OCASIONADOS POR INSTAURAR UN PROCESO JUDICIAL INFUNDADO",1,{"$f":"+IF('Hoja3 (2)'!$C790=1,'Hoja3 (2)'!$B790,\"No\")","v":"PERJUICIOS OCASIONADOS POR INSTAURAR UN PROCESO JUDICIAL INFUNDADO"},{"$f":"+'Hoja3 (2)'!$C790&'Hoja3 (2)'!$B790","v":"1PERJUICIOS OCASIONADOS POR INSTAURAR UN PROCESO JUDICIAL INFUNDADO"},{"$f":"IFERROR(FIND(UPPER('Causas anteriores'!$D$4),D790),0)","v":0},{"$f":"+IF('Hoja3 (2)'!$F790=0,0,1)","v":0},{"$f":"+H789+'Hoja3 (2)'!$G790","v":2},{"$f":"+'Hoja3 (2)'!$H790*'Hoja3 (2)'!$G790","v":0},"MANTENER/AJUSTAR TEXTO","Activa","PERJUICIOS OCASIONADOS POR INSTAURAR UN PROCESO JUDICIAL INFUNDADO",null,"ACTIVA"]
[{"$f":"+'Hoja3 (2)'!$I791","v":0},"PERJUICIOS OCASIONADOS POR LIQUIDACION DE SOCIEDADES DE DERECHO PRIVADO",1,{"$f":"+IF('Hoja3 (2)'!$C791=1,'Hoja3 (2)'!$B791,\"No\")","v":"PERJUICIOS OCASIONADOS POR LIQUIDACION DE SOCIEDADES DE DERECHO PRIVADO"},{"$f":"+'Hoja3 (2)'!$C791&'Hoja3 (2)'!$B791","v":"1PERJUICIOS OCASIONADOS POR LIQUIDACION DE SOCIEDADES DE DERECHO PRIVADO"},{"$f":"IFERROR(FIND(UPPER('Causas anteriores'!$D$4),D791),0)","v":0},{"$f":"+IF('Hoja3 (2)'!$F791=0,0,1)","v":0},{"$f":"+H790+'Hoja3 (2)'!$G791","v":2},{"$f":"+'Hoja3 (2)'!$H791*'Hoja3 (2)'!$G791","v":0},"MANTENER/AJUSTAR TEXTO","Activa","PERJUICIOS OCASIONADOS POR REESTRUCTURACION Y LIQUIDACION DE ENTIDADES DE DERECHO PRIVADO",null,"ACTIVA"]
[{"$f":"+'Hoja3 (2)'!$I792","v":0},"PERJUICIOS OCASIONADOS POR TRANSFORMACION DE SOCIEDADES DE DERECHO PRIVADO",1,{"$f":"+IF('Hoja3 (2)'!$C792=1,'Hoja3 (2)'!$B792,\"No\")","v":"PERJUICIOS OCASIONADOS POR TRANSFORMACION DE SOCIEDADES DE DERECHO PRIVADO"},{"$f":"+'Hoja3 (2)'!$C792&'Hoja3 (2)'!$B792","v":"1PERJUICIOS OCASIONADOS POR TRANSFORMACION DE SOCIEDADES DE DERECHO PRIVADO"},{"$f":"IFERROR(FIND(UPPER('Causas anteriores'!$D$4),D792),0)","v":0},{"$f":"+IF('Hoja3 (2)'!$F792=0,0,1)","v":0},{"$f":"+H791+'Hoja3 (2)'!$G792","v":2},{"$f":"+'Hoja3 (2)'!$H792*'Hoja3 (2)'!$G792","v":0},"INACTIVAR EN NUEVA MATRIZ","Inactiva",null,null,"ACTIVA"]
[{"$f":"+'Hoja3 (2)'!$I793","v":0},"PERTURBACION A LA POSESION",1,{"$f":"+IF('Hoja3 (2)'!$C793=1,'Hoja3 (2)'!$B793,\"No\")","v":"PERTURBACION A LA POSESION"},{"$f":"+'Hoja3 (2)'!$C793&'Hoja3 (2)'!$B793","v":"1PERTURBACION A LA POSESION"},{"$f":"IFERROR(FIND(UPPER('Causas anteriores'!$D$4),D793),0)","v":0},{"$f":"+IF('Hoja3 (2)'!$F793=0,0,1)","v":0},{"$f":"+H792+'Hoja3 (2)'!$G793","v":2},{"$f":"+'Hoja3 (2)'!$H793*'Hoja3 (2)'!$G793","v":0},"ESTABA INACTIVA","Inactiva",null,null,"INACTIVA"]
[{"$f":"+'Hoja3 (2)'!$I794","v":0},"PERTURBACION A LA POSESION",2,{"$f":"+IF('Hoja3 (2)'!$C794=1,'Hoja3 (2)'!$B794,\"No\")","v":"No"},{"$f":"+'Hoja3 (2)'!$C794&'Hoja3 (2)'!$B794","v":"2PERTURBACION A LA POSESION"},{"$f":"IFERROR(FIND(UPPER('Causas anteriores'!$D$4),D794),0)","v":0},{"$f":"+IF('Hoja3 (2)'!$F794=0,0,1)","v":0},{"$f":"+H793+'Hoja3 (2)'!$G794","v":2},{"$f":"+'Hoja3 (2)'!$H794*'Hoja3 (2)'!$G794","v":0},"MANTENER/AJUSTAR TEXTO","Activa","PERTURBACION A LA POSESION",null,"ACTIVA"]
[{"$f":"+'Hoja3 (2)'!$I795","v":0},"PERTURBACION AL DERECHO DE SERVIDUMBRE",1,{"$f":"+IF('Hoja3 (2)'!$C795=1,'Hoja3 (2)'!$B795,\"No\")","v":"PERTURBACION AL DERECHO DE SERVIDUMBRE"},{"$f":"+'Hoja3 (2)'!$C795&'Hoja3 (2)'!$B795","v":"1PERTURBACION AL DERECHO DE SERVIDUMBRE"},{"$f":"IFERROR(FIND(UPPER('Causas anteriores'!$D$4),D795),0)","v":0},{"$f":"+IF('Hoja3 (2)'!$F795=0,0,1)","v":0},{"$f":"+H794+'Hoja3 (2)'!$G795","v":2},{"$f":"+'Hoja3 (2)'!$H795*'Hoja3 (2)'!$G795","v":0},"ESTABA INACTIVA","Inactiva",null,null,"INACTIVA"]
[{"$f":"+'Hoja3 (2)'!$I796","v":0},"PRESCRIPCION ADQUISITIVA DE DOMINIO",1,{"$f":"+IF('Hoja3 (2)'!$C796=1,'Hoja3 (2)'!$B796,\"No\")","v":"PRESCRIPCION ADQUISITIVA DE DOMINIO"},{"$f":"+'Hoja3 (2)'!$C796&'Hoja3 (2)'!$B796","v":"1PRESCRIPCION ADQUISITIVA DE DOMINIO"},{"$f":"IFERROR(FIND(UPPER('Causas anteriores'!$D$4),D796),0)","v":0},{"$f":"+IF('Hoja3 (2)'!$F796=0,0,1)","v":0},{"$f":"+H795+'Hoja3 (2)'!$G796","v":2},{"$f":"+'Hoja3 (2)'!$H796*'Hoja3 (2)'!$G796","v":0},"MANTENER/AJUSTAR TEXTO","Activa","PRESCRIPCION ADQUISITIVA DE DOMINIO",null,"ACTIVA"]
[{"$f":"+'Hoja3 (2)'!$I797","v":0},"PRESCRIPCION DE LA ACCION EJECUTIVA",1,{"$f":"+IF('Hoja3 (2)'!$C797=1,'Hoja3 (2)'!$B797,\"No\")","v":"PRESCRIPCION DE LA ACCION EJECUTIVA"},{"$f":"+'Hoja3 (2)'!$C797&'Hoja3 (2)'!$B797","v":"1PRESCRIPCION DE LA ACCION EJECUTIVA"},{"$f":"IFERROR(FIND(UPPER('Causas anteriores'!$D$4),D797),0)","v":0},{"$f":"+IF('Hoja3 (2)'!$F797=0,0,1)","v":0},{"$f":"+H796+'Hoja3 (2)'!$G797","v":2},{"$f":"+'Hoja3 (2)'!$H797*'Hoja3 (2)'!$G797","v":0},"INACTIVAR EN NUEVA MATRIZ","Inactiva",null,null,"ACTIVA"]
[{"$f":"+'Hoja3 (2)'!$I798","v":0},"PRESCRIPCION DE LA ACCION ORDINARIA",1,{"$f":"+IF('Hoja3 (2)'!$C798=1,'Hoja3 (2)'!$B798,\"No\")","v":"PRESCRIPCION DE LA ACCION ORDINARIA"},{"$f":"+'Hoja3 (2)'!$C798&'Hoja3 (2)'!$B798","v":"1PRESCRIPCION DE LA ACCION ORDINARIA"},{"$f":"IFERROR(FIND(UPPER('Causas anteriores'!$D$4),D798),0)","v":0},{"$f":"+IF('Hoja3 (2)'!$F798=0,0,1)","v":0},{"$f":"+H797+'Hoja3 (2)'!$G798","v":2},{"$f":"+'Hoja3 (2)'!$H798*'Hoja3 (2)'!$G798","v":0},"INACTIVAR EN NUEVA MATRIZ","Inactiva",null,null,"ACTIVA"]
[{"$f":"+'Hoja3 (2)'!$I799","v":0},"PRIMA DE TRASLADO",1,{"$f":"+IF('Hoja3 (2)'!$C799=1,'Hoja3 (2)'!$B799,\"No\")","v":"PRIMA DE TRASLADO"},{"$f":"+'Hoja3 (2)'!$C799&'Hoja3 (2)'!$B799","v":"1PRIMA DE TRASLADO"},{"$f":"IFERROR(FIND(UPPER('Causas anteriores'!$D$4),D799),0)","v":0},{"$f":"+IF('Hoja3 (2)'!$F799=0,0,1)","v":0},{"$f":"+H798+'Hoja3 (2)'!$G799","v":2},{"$f":"+'Hoja3 (2)'!$H799*'Hoja3 (2)'!$G799","v":0},"ESTABA INACTIVA","Inactiva",null,null,"INACTIVA"]
[{"$f":"+'Hoja3 (2)'!$I800","v":0},"PRIVACION INJUSTA DE LA LIBERTAD",1,{"$f":"+IF('Hoja3 (2)'!$C800=1,'Hoja3 (2)'!$B800,\"No\")","v":"PRIVACION INJUSTA DE LA LIBERTAD"},{"$f":"+'Hoja3 (2)'!$C800&'Hoja3 (2)'!$B800","v":"1PRIVACION INJUSTA DE LA LIBERTAD"},{"$f":"IFERROR(FIND(UPPER('Causas anteriores'!$D$4),D800),0)","v":0},{"$f":"+IF('Hoja3 (2)'!$F800=0,0,1)","v":0},{"$f":"+H799+'Hoja3 (2)'!$G800","v":2},{"$f":"+'Hoja3 (2)'!$H800*'Hoja3 (2)'!$G800","v":0},"MANTENER/AJUSTAR TEXTO","Activa","PRIVACION INJUSTA DE LA LIBERTAD",null,"ACTIVA"]
[{"$f":"+'Hoja3 (2)'!$I801","v":0},"PROCESOS AGRARIOS",1,{"$f":"+IF('Hoja3 (2)'!$C801=1,'Hoja3 (2)'!$B801,\"No\")","v":"PROCESOS AGRARIOS"},{"$f":"+'Hoja3 (2)'!$C801&'Hoja3 (2)'!$B801","v":"1PROCESOS AGRARIOS"},{"$f":"IFERROR(FIND(UPPER('Causas anteriores'!$D$4),D801),0)","v":0},{"$f":"+IF('Hoja3 (2)'!$F801=0,0,1)","v":0},{"$f":"+H800+'Hoja3 (2)'!$G801","v":2},{"$f":"+'Hoja3 (2)'!$H801*'Hoja3 (2)'!$G801","v":0},"ESTABA INACTIVA","Inactiva",null,null,"INACTIVA"]
[{"$f":"+'Hoja3 (2)'!$I802","v":0},"PROHIBICION DE LA FABRICACION, IMPORTACION, POSESION Y USO DE ARMAS",1,{"$f":"+IF('Hoja3 (2)'!$C802=1,'Hoja3 (2)'!$B802,\"No\")","v":"PROHIBICION DE LA FABRICACION, IMPORTACION, POSESION Y USO DE ARMAS"},{"$f":"+'Hoja3 (2)'!$C802&'Hoja3 (2)'!$B802","v":"1PROHIBICION DE LA FABRICACION, IMPORTACION, POSESION Y USO DE ARMAS"},{"$f":"IFERROR(FIND(UPPER('Causas anteriores'!$D$4),D802),0)","v":0},{"$f":"+IF('Hoja3 (2)'!$F802=0,0,1)","v":0},{"$f":"+H801+'Hoja3 (2)'!$G802","v":2},{"$f":"+'Hoja3 (2)'!$H802*'Hoja3 (2)'!$G802","v":0},"ESTABA INACTIVA","Inactiva",null,null,"INACTIVA"]
[{"$f":"+'Hoja3 (2)'!$I803","v":0},"PROTECCION A DERECHOS COLECTIVOS",1,{"$f":"+IF('Hoja3 (2)'!$C803=1,'Hoja3 (2)'!$B803,\"No\")","v":"PROTECCION A DERECHOS COLECTIVOS"},{"$f":"+'Hoja3 (2)'!$C803&'Hoja3 (2)'!$B803","v":"1PROTECCION A DERECHOS COLECTIVOS"},{"$f":"IFERROR(FIND(UPPER('Causas anteriores'!$D$4),D803),0)","v":0},{"$f":"+IF('Hoja3 (2)'!$F803=0,0,1)","v":0},{"$f":"+H802+'Hoja3 (2)'!$G803","v":2},{"$f":"+'Hoja3 (2)'!$H803*'Hoja3 (2)'!$G803","v":0},"ESTABA INACTIVA","Inactiva",null,null,"INACTIVA"]
[{"$f":"+'Hoja3 (2)'!$I804","v":0},"REAJUSTE PENSIONAL POR LEY 4 DE 1992",1,{"$f":"+IF('Hoja3 (2)'!$C804=1,'Hoja3 (2)'!$B804,\"No\")","v":"REAJUSTE PENSIONAL POR LEY 4 DE 1992"},{"$f":"+'Hoja3 (2)'!$C804&'Hoja3 (2)'!$B804","v":"1REAJUSTE PENSIONAL POR LEY 4 DE 1992"},{"$f":"IFERROR(FIND(UPPER('Causas anteriores'!$D$4),D804),0)","v":0},{"$f":"+IF('Hoja3 (2)'!$F804=0,0,1)","v":0},{"$f":"+H803+'Hoja3 (2)'!$G804","v":2},{"$f":"+'Hoja3 (2)'!$H804*'Hoja3 (2)'!$G804","v":0},"INACTIVAR PARA DESAGREGAR","Inactiva",null,null,"ACTIVA"]
[{"$f":"+'Hoja3 (2)'!$I805","v":0},"REAJUSTE PENSIONAL POR LEY 4 DE 1992",2,{"$f":"+IF('Hoja3 (2)'!$C805=1,'Hoja3 (2)'!$B805,\"No\")","v":"No"},{"$f":"+'Hoja3 (2)'!$C805&'Hoja3 (2)'!$B805","v":"2REAJUSTE PENSIONAL POR LEY 4 DE 1992"},{"$f":"IFERROR(FIND(UPPER('Causas anteriores'!$D$4),D805),0)","v":0},{"$f":"+IF('Hoja3 (2)'!$F805=0,0,1)","v":0},{"$f":"+H804+'Hoja3 (2)'!$G805","v":2},{"$f":"+'Hoja3 (2)'!$H805*'Hoja3 (2)'!$G805","v":0},"CREAR","Activa","NO RECONOCIMIENTO DE REAJUSTE DE LA PENSION POR LEY 4 DE 1992"]
[{"$f":"+'Hoja3 (2)'!$I806","v":0},"REAJUSTE PENSIONAL POR LEY 4 DE 1992",3,{"$f":"+IF('Hoja3 (2)'!$C806=1,'Hoja3 (2)'!$B806,\"No\")","v":"No"},{"$f":"+'Hoja3 (2)'!$C806&'Hoja3 (2)'!$B806","v":"3REAJUSTE PENSIONAL POR LEY 4 DE 1992"},{"$f":"IFERROR(FIND(UPPER('Causas anteriores'!$D$4),D806),0)","v":0},{"$f":"+IF('Hoja3 (2)'!$F806=0,0,1)","v":0},{"$f":"+H805+'Hoja3 (2)'!$G806","v":2},{"$f":"+'Hoja3 (2)'!$H806*'Hoja3 (2)'!$G806","v":0},"CREAR","Activa","INDEBIDA LIQUIDACION DE REAJUSTE DE LA PENSION POR LEY 4 DE 1992"]
[{"$f":"+'Hoja3 (2)'!$I807","v":0},"REAJUSTE PENSIONAL POR LEY 4 DE 1992",4,{"$f":"+IF('Hoja3 (2)'!$C807=1,'Hoja3 (2)'!$B807,\"No\")","v":"No"},{"$f":"+'Hoja3 (2)'!$C807&'Hoja3 (2)'!$B807","v":"4REAJUSTE PENSIONAL POR LEY 4 DE 1992"},{"$f":"IFERROR(FIND(UPPER('Causas anteriores'!$D$4),D807),0)","v":0},{"$f":"+IF('Hoja3 (2)'!$F807=0,0,1)","v":0},{"$f":"+H806+'Hoja3 (2)'!$G807","v":2},{"$f":"+'Hoja3 (2)'!$H807*'Hoja3 (2)'!$G807","v":0},"CREAR","Activa","INCUMPLIMIENTO EN EL PAGO DE REAJUSTE DE LA PENSION POR LEY 4 DE 1992"]
[{"$f":"+'Hoja3 (2)'!$I808","v":0},"REALIZACION DE LAS CONSTRUCCIONES, EDIFICACIONES Y DESARROLLOS URBANOS RESPETANDO LAS NORMAS",1,{"$f":"+IF('Hoja3 (2)'!$C808=1,'Hoja3 (2)'!$B808,\"No\")","v":"REALIZACION DE LAS CONSTRUCCIONES, EDIFICACIONES Y DESARROLLOS URBANOS RESPETANDO LAS NORMAS"},{"$f":"+'Hoja3 (2)'!$C808&'Hoja3 (2)'!$B808","v":"1REALIZACION DE LAS CONSTRUCCIONES, EDIFICACIONES Y DESARROLLOS URBANOS RESPETANDO LAS NORMAS"},{"$f":"IFERROR(FIND(UPPER('Causas anteriores'!$D$4),D808),0)","v":0},{"$f":"+IF('Hoja3 (2)'!$F808=0,0,1)","v":0},{"$f":"+H807+'Hoja3 (2)'!$G808","v":2},{"$f":"+'Hoja3 (2)'!$H808*'Hoja3 (2)'!$G808","v":0},"ESTABA INACTIVA","Inactiva",null,null,"INACTIVA"]
[{"$f":"+'Hoja3 (2)'!$I809","v":0},"RECLAMACIONES REFERENTES A PENSIONES",1,{"$f":"+IF('Hoja3 (2)'!$C809=1,'Hoja3 (2)'!$B809,\"No\")","v":"RECLAMACIONES REFERENTES A PENSIONES"},{"$f":"+'Hoja3 (2)'!$C809&'Hoja3 (2)'!$B809","v":"1RECLAMACIONES REFERENTES A PENSIONES"},{"$f":"IFERROR(FIND(UPPER('Causas anteriores'!$D$4),D809),0)","v":0},{"$f":"+IF('Hoja3 (2)'!$F809=0,0,1)","v":0},{"$f":"+H808+'Hoja3 (2)'!$G809","v":2},{"$f":"+'Hoja3 (2)'!$H809*'Hoja3 (2)'!$G809","v":0},"ESTABA INACTIVA","Inactiva",null,null,"INACTIVA"]
[{"$f":"+'Hoja3 (2)'!$I810","v":0},"RECONOCIMIENTO BENEFICIOS PARA SERVIDORES PUBLICOS",1,{"$f":"+IF('Hoja3 (2)'!$C810=1,'Hoja3 (2)'!$B810,\"No\")","v":"RECONOCIMIENTO BENEFICIOS PARA SERVIDORES PUBLICOS"},{"$f":"+'Hoja3 (2)'!$C810&'Hoja3 (2)'!$B810","v":"1RECONOCIMIENTO BENEFICIOS PARA SERVIDORES PUBLICOS"},{"$f":"IFERROR(FIND(UPPER('Causas anteriores'!$D$4),D810),0)","v":0},{"$f":"+IF('Hoja3 (2)'!$F810=0,0,1)","v":0},{"$f":"+H809+'Hoja3 (2)'!$G810","v":2},{"$f":"+'Hoja3 (2)'!$H810*'Hoja3 (2)'!$G810","v":0},"ESTABA INACTIVA","Inactiva",null,null,"INACTIVA"]
[{"$f":"+'Hoja3 (2)'!$I811","v":0},"RECUPERACION DE DINEROS POR PECULADO",1,{"$f":"+IF('Hoja3 (2)'!$C811=1,'Hoja3 (2)'!$B811,\"No\")","v":"RECUPERACION DE DINEROS POR PECULADO"},{"$f":"+'Hoja3 (2)'!$C811&'Hoja3 (2)'!$B811","v":"1RECUPERACION DE DINEROS POR PECULADO"},{"$f":"IFERROR(FIND(UPPER('Causas anteriores'!$D$4),D811),0)","v":0},{"$f":"+IF('Hoja3 (2)'!$F811=0,0,1)","v":0},{"$f":"+H810+'Hoja3 (2)'!$G811","v":2},{"$f":"+'Hoja3 (2)'!$H811*'Hoja3 (2)'!$G811","v":0},"ESTABA INACTIVA","Inactiva",null,null,"INACTIVA"]
[{"$f":"+'Hoja3 (2)'!$I812","v":0},"REEMBOLSO SUMA PAGADA POR UNIFORME",1,{"$f":"+IF('Hoja3 (2)'!$C812=1,'Hoja3 (2)'!$B812,\"No\")","v":"REEMBOLSO SUMA PAGADA POR UNIFORME"},{"$f":"+'Hoja3 (2)'!$C812&'Hoja3 (2)'!$B812","v":"1REEMBOLSO SUMA PAGADA POR UNIFORME"},{"$f":"IFERROR(FIND(UPPER('Causas anteriores'!$D$4),D812),0)","v":0},{"$f":"+IF('Hoja3 (2)'!$F812=0,0,1)","v":0},{"$f":"+H811+'Hoja3 (2)'!$G812","v":2},{"$f":"+'Hoja3 (2)'!$H812*'Hoja3 (2)'!$G812","v":0},"ESTABA INACTIVA","Inactiva",null,null,"INACTIVA"]
[{"$f":"+'Hoja3 (2)'!$I813","v":0},"REFORMA DEL CONTRATO DE SOCIEDAD",1,{"$f":"+IF('Hoja3 (2)'!$C813=1,'Hoja3 (2)'!$B813,\"No\")","v":"REFORMA DEL CONTRATO DE SOCIEDAD"},{"$f":"+'Hoja3 (2)'!$C813&'Hoja3 (2)'!$B813","v":"1REFORMA DEL CONTRATO DE SOCIEDAD"},{"$f":"IFERROR(FIND(UPPER('Causas anteriores'!$D$4),D813),0)","v":0},{"$f":"+IF('Hoja3 (2)'!$F813=0,0,1)","v":0},{"$f":"+H812+'Hoja3 (2)'!$G813","v":2},{"$f":"+'Hoja3 (2)'!$H813*'Hoja3 (2)'!$G813","v":0},"ESTABA INACTIVA","Inactiva",null,null,"INACTIVA"]
[{"$f":"+'Hoja3 (2)'!$I814","v":0},"REINTEGRO DE RECURSOS",1,{"$f":"+IF('Hoja3 (2)'!$C814=1,'Hoja3 (2)'!$B814,\"No\")","v":"REINTEGRO DE RECURSOS"},{"$f":"+'Hoja3 (2)'!$C814&'Hoja3 (2)'!$B814","v":"1REINTEGRO DE RECURSOS"},{"$f":"IFERROR(FIND(UPPER('Causas anteriores'!$D$4),D814),0)","v":0},{"$f":"+IF('Hoja3 (2)'!$F814=0,0,1)","v":0},{"$f":"+H813+'Hoja3 (2)'!$G814","v":2},{"$f":"+'Hoja3 (2)'!$H814*'Hoja3 (2)'!$G814","v":0},"ESTABA INACTIVA","Inactiva",null,null,"INACTIVA"]
[{"$f":"+'Hoja3 (2)'!$I815","v":0},"RELIQUIDACION DE TARIFA FISCAL Y REEMBOLSO",1,{"$f":"+IF('Hoja3 (2)'!$C815=1,'Hoja3 (2)'!$B815,\"No\")","v":"RELIQUIDACION DE TARIFA FISCAL Y REEMBOLSO"},{"$f":"+'Hoja3 (2)'!$C815&'Hoja3 (2)'!$B815","v":"1RELIQUIDACION DE TARIFA FISCAL Y REEMBOLSO"},{"$f":"IFERROR(FIND(UPPER('Causas anteriores'!$D$4),D815),0)","v":0},{"$f":"+IF('Hoja3 (2)'!$F815=0,0,1)","v":0},{"$f":"+H814+'Hoja3 (2)'!$G815","v":2},{"$f":"+'Hoja3 (2)'!$H815*'Hoja3 (2)'!$G815","v":0},"ESTABA INACTIVA","Inactiva",null,null,"INACTIVA"]
[{"$f":"+'Hoja3 (2)'!$I816","v":0},"RENDICION ESPONTANEA DE CUENTAS",1,{"$f":"+IF('Hoja3 (2)'!$C816=1,'Hoja3 (2)'!$B816,\"No\")","v":"RENDICION ESPONTANEA DE CUENTAS"},{"$f":"+'Hoja3 (2)'!$C816&'Hoja3 (2)'!$B816","v":"1RENDICION ESPONTANEA DE CUENTAS"},{"$f":"IFERROR(FIND(UPPER('Causas anteriores'!$D$4),D816),0)","v":0},{"$f":"+IF('Hoja3 (2)'!$F816=0,0,1)","v":0},{"$f":"+H815+'Hoja3 (2)'!$G816","v":2},{"$f":"+'Hoja3 (2)'!$H816*'Hoja3 (2)'!$G816","v":0},"ESTABA INACTIVA","Inactiva",null,null,"INACTIVA"]
[{"$f":"+'Hoja3 (2)'!$I817","v":0},"RENDICION PROVOCADA DE CUENTAS",1,{"$f":"+IF('Hoja3 (2)'!$C817=1,'Hoja3 (2)'!$B817,\"No\")","v":"RENDICION PROVOCADA DE CUENTAS"},{"$f":"+'Hoja3 (2)'!$C817&'Hoja3 (2)'!$B817","v":"1RENDICION PROVOCADA DE CUENTAS"},{"$f":"IFERROR(FIND(UPPER('Causas anteriores'!$D$4),D817),0)","v":0},{"$f":"+IF('Hoja3 (2)'!$F817=0,0,1)","v":0},{"$f":"+H816+'Hoja3 (2)'!$G817","v":2},{"$f":"+'Hoja3 (2)'!$H817*'Hoja3 (2)'!$G817","v":0},"ESTABA INACTIVA","Inactiva",null,null,"INACTIVA"]
[{"$f":"+'Hoja3 (2)'!$I818","v":0},"RESPONSABILIDAD CIVIL EXTRACONTRACTUAL",1,{"$f":"+IF('Hoja3 (2)'!$C818=1,'Hoja3 (2)'!$B818,\"No\")","v":"RESPONSABILIDAD CIVIL EXTRACONTRACTUAL"},{"$f":"+'Hoja3 (2)'!$C818&'Hoja3 (2)'!$B818","v":"1RESPONSABILIDAD CIVIL EXTRACONTRACTUAL"},{"$f":"IFERROR(FIND(UPPER('Causas anteriores'!$D$4),D818),0)","v":0},{"$f":"+IF('Hoja3 (2)'!$F818=0,0,1)","v":0},{"$f":"+H817+'Hoja3 (2)'!$G818","v":2},{"$f":"+'Hoja3 (2)'!$H818*'Hoja3 (2)'!$G818","v":0},"ESTABA INACTIVA","Inactiva",null,null,"INACTIVA"]
[{"$f":"+'Hoja3 (2)'!$I819","v":0},"RETENCION ARBITRARIA POR LA FUERZA PUBLICA",1,{"$f":"+IF('Hoja3 (2)'!$C819=1,'Hoja3 (2)'!$B819,\"No\")","v":"RETENCION ARBITRARIA POR LA FUERZA PUBLICA"},{"$f":"+'Hoja3 (2)'!$C819&'Hoja3 (2)'!$B819","v":"1RETENCION ARBITRARIA POR LA FUERZA PUBLICA"},{"$f":"IFERROR(FIND(UPPER('Causas anteriores'!$D$4),D819),0)","v":0},{"$f":"+IF('Hoja3 (2)'!$F819=0,0,1)","v":0},{"$f":"+H818+'Hoja3 (2)'!$G819","v":2},{"$f":"+'Hoja3 (2)'!$H819*'Hoja3 (2)'!$G819","v":0},"MANTENER/AJUSTAR TEXTO","Activa","PRIVACION DE LA LIBERTAD SIN QUE MEDIE MEDIDA DE ASEGURAMIENTO",null,"ACTIVA"]
[{"$f":"+'Hoja3 (2)'!$I820","v":0},"RETENCION DE CUOTAS SINDICALES",1,{"$f":"+IF('Hoja3 (2)'!$C820=1,'Hoja3 (2)'!$B820,\"No\")","v":"RETENCION DE CUOTAS SINDICALES"},{"$f":"+'Hoja3 (2)'!$C820&'Hoja3 (2)'!$B820","v":"1RETENCION DE CUOTAS SINDICALES"},{"$f":"IFERROR(FIND(UPPER('Causas anteriores'!$D$4),D820),0)","v":0},{"$f":"+IF('Hoja3 (2)'!$F820=0,0,1)","v":0},{"$f":"+H819+'Hoja3 (2)'!$G820","v":2},{"$f":"+'Hoja3 (2)'!$H820*'Hoja3 (2)'!$G820","v":0},"MANTENER/AJUSTAR TEXTO","Activa","RETENCION DE CUOTAS SINDICALES",null,"ACTIVA"]
[{"$f":"+'Hoja3 (2)'!$I821","v":0},"RETENCION ILEGAL DE BIENES",1,{"$f":"+IF('Hoja3 (2)'!$C821=1,'Hoja3 (2)'!$B821,\"No\")","v":"RETENCION ILEGAL DE BIENES"},{"$f":"+'Hoja3 (2)'!$C821&'Hoja3 (2)'!$B821","v":"1RETENCION ILEGAL DE BIENES"},{"$f":"IFERROR(FIND(UPPER('Causas anteriores'!$D$4),D821),0)","v":0},{"$f":"+IF('Hoja3 (2)'!$F821=0,0,1)","v":0},{"$f":"+H820+'Hoja3 (2)'!$G821","v":2},{"$f":"+'Hoja3 (2)'!$H821*'Hoja3 (2)'!$G821","v":0},"MANTENER/AJUSTAR TEXTO","Activa","RETENCION ILEGAL DE BIENES",null,"ACTIVA"]
[{"$f":"+'Hoja3 (2)'!$I822","v":0},"RETENCION ILEGAL DE VEHICULOS, AERONAVES Y NAVES PARTICULARES",1,{"$f":"+IF('Hoja3 (2)'!$C822=1,'Hoja3 (2)'!$B822,\"No\")","v":"RETENCION ILEGAL DE VEHICULOS, AERONAVES Y NAVES PARTICULARES"},{"$f":"+'Hoja3 (2)'!$C822&'Hoja3 (2)'!$B822","v":"1RETENCION ILEGAL DE VEHICULOS, AERONAVES Y NAVES PARTICULARES"},{"$f":"IFERROR(FIND(UPPER('Causas anteriores'!$D$4),D822),0)","v":0},{"$f":"+IF('Hoja3 (2)'!$F822=0,0,1)","v":0},{"$f":"+H821+'Hoja3 (2)'!$G822","v":2},{"$f":"+'Hoja3 (2)'!$H822*'Hoja3 (2)'!$G822","v":0},"INACTIVAR EN NUEVA MATRIZ","Inactiva",null,null,"ACTIVA"]
[{"$f":"+'Hoja3 (2)'!$I823","v":0},"RETIRO DE MILITAR POR ABANDONO DEL SERVICIO",1,{"$f":"+IF('Hoja3 (2)'!$C823=1,'Hoja3 (2)'!$B823,\"No\")","v":"RETIRO DE MILITAR POR ABANDONO DEL SERVICIO"},{"$f":"+'Hoja3 (2)'!$C823&'Hoja3 (2)'!$B823","v":"1RETIRO DE MILITAR POR ABANDONO DEL SERVICIO"},{"$f":"IFERROR(FIND(UPPER('Causas anteriores'!$D$4),D823),0)","v":0},{"$f":"+IF('Hoja3 (2)'!$F823=0,0,1)","v":0},{"$f":"+H822+'Hoja3 (2)'!$G823","v":2},{"$f":"+'Hoja3 (2)'!$H823*'Hoja3 (2)'!$G823","v":0},"ESTABA INACTIVA","Inactiva",null,null,"INACTIVA"]
[{"$f":"+'Hoja3 (2)'!$I824","v":0},"RETIRO ILEGAL DE ALUMNO DE ESCUELA DE FORMACION MILITAR",1,{"$f":"+IF('Hoja3 (2)'!$C824=1,'Hoja3 (2)'!$B824,\"No\")","v":"RETIRO ILEGAL DE ALUMNO DE ESCUELA DE FORMACION MILITAR"},{"$f":"+'Hoja3 (2)'!$C824&'Hoja3 (2)'!$B824","v":"1RETIRO ILEGAL DE ALUMNO DE ESCUELA DE FORMACION MILITAR"},{"$f":"IFERROR(FIND(UPPER('Causas anteriores'!$D$4),D824),0)","v":0},{"$f":"+IF('Hoja3 (2)'!$F824=0,0,1)","v":0},{"$f":"+H823+'Hoja3 (2)'!$G824","v":2},{"$f":"+'Hoja3 (2)'!$H824*'Hoja3 (2)'!$G824","v":0},"MANTENER/AJUSTAR TEXTO","Activa","RETIRO ILEGAL DE ALUMNO DE ESCUELA DE FORMACION MILITAR",null,"ACTIVA"]
[{"$f":"+'Hoja3 (2)'!$I825","v":0},"RETROACTIVIDAD EN DETENCION",1,{"$f":"+IF('Hoja3 (2)'!$C825=1,'Hoja3 (2)'!$B825,\"No\")","v":"RETROACTIVIDAD EN DETENCION"},{"$f":"+'Hoja3 (2)'!$C825&'Hoja3 (2)'!$B825","v":"1RETROACTIVIDAD EN DETENCION"},{"$f":"IFERROR(FIND(UPPER('Causas anteriores'!$D$4),D825),0)","v":0},{"$f":"+IF('Hoja3 (2)'!$F825=0,0,1)","v":0},{"$f":"+H824+'Hoja3 (2)'!$G825","v":2},{"$f":"+'Hoja3 (2)'!$H825*'Hoja3 (2)'!$G825","v":0},"ESTABA INACTIVA","Inactiva",null,null,"INACTIVA"]
[{"$f":"+'Hoja3 (2)'!$I826","v":0},"REVOCATORIA SANCION",1,{"$f":"+IF('Hoja3 (2)'!$C826=1,'Hoja3 (2)'!$B826,\"No\")","v":"REVOCATORIA SANCION"},{"$f":"+'Hoja3 (2)'!$C826&'Hoja3 (2)'!$B826","v":"1REVOCATORIA SANCION"},{"$f":"IFERROR(FIND(UPPER('Causas anteriores'!$D$4),D826),0)","v":0},{"$f":"+IF('Hoja3 (2)'!$F826=0,0,1)","v":0},{"$f":"+H825+'Hoja3 (2)'!$G826","v":2},{"$f":"+'Hoja3 (2)'!$H826*'Hoja3 (2)'!$G826","v":0},"ESTABA INACTIVA","Inactiva",null,null,"INACTIVA"]
[{"$f":"+'Hoja3 (2)'!$I827","v":0},"ROBO A GANADO O DAÑO EN FINCAS",1,{"$f":"+IF('Hoja3 (2)'!$C827=1,'Hoja3 (2)'!$B827,\"No\")","v":"ROBO A GANADO O DAÑO EN FINCAS"},{"$f":"+'Hoja3 (2)'!$C827&'Hoja3 (2)'!$B827","v":"1ROBO A GANADO O DAÑO EN FINCAS"},{"$f":"IFERROR(FIND(UPPER('Causas anteriores'!$D$4),D827),0)","v":0},{"$f":"+IF('Hoja3 (2)'!$F827=0,0,1)","v":0},{"$f":"+H826+'Hoja3 (2)'!$G827","v":2},{"$f":"+'Hoja3 (2)'!$H827*'Hoja3 (2)'!$G827","v":0},"ESTABA INACTIVA","Inactiva",null,null,"INACTIVA"]
[{"$f":"+'Hoja3 (2)'!$I828","v":0},"ROMPIMIENTO ABRUPTO DE NEGOCIACIONES",1,{"$f":"+IF('Hoja3 (2)'!$C828=1,'Hoja3 (2)'!$B828,\"No\")","v":"ROMPIMIENTO ABRUPTO DE NEGOCIACIONES"},{"$f":"+'Hoja3 (2)'!$C828&'Hoja3 (2)'!$B828","v":"1ROMPIMIENTO ABRUPTO DE NEGOCIACIONES"},{"$f":"IFERROR(FIND(UPPER('Causas anteriores'!$D$4),D828),0)","v":0},{"$f":"+IF('Hoja3 (2)'!$F828=0,0,1)","v":0},{"$f":"+H827+'Hoja3 (2)'!$G828","v":2},{"$f":"+'Hoja3 (2)'!$H828*'Hoja3 (2)'!$G828","v":0},"INACTIVAR EN NUEVA MATRIZ","Inactiva",null,null,"ACTIVA"]
[{"$f":"+'Hoja3 (2)'!$I829","v":0},"SALARIOS POR DETENCION",1,{"$f":"+IF('Hoja3 (2)'!$C829=1,'Hoja3 (2)'!$B829,\"No\")","v":"SALARIOS POR DETENCION"},{"$f":"+'Hoja3 (2)'!$C829&'Hoja3 (2)'!$B829","v":"1SALARIOS POR DETENCION"},{"$f":"IFERROR(FIND(UPPER('Causas anteriores'!$D$4),D829),0)","v":0},{"$f":"+IF('Hoja3 (2)'!$F829=0,0,1)","v":0},{"$f":"+H828+'Hoja3 (2)'!$G829","v":2},{"$f":"+'Hoja3 (2)'!$H829*'Hoja3 (2)'!$G829","v":0},"ESTABA INACTIVA","Inactiva",null,null,"INACTIVA"]
[{"$f":"+'Hoja3 (2)'!$I830","v":0},"SANCION Y/O RECONOCIMIENTO TIEMPO POR CESE DE ACTIVIDADES",1,{"$f":"+IF('Hoja3 (2)'!$C830=1,'Hoja3 (2)'!$B830,\"No\")","v":"SANCION Y/O RECONOCIMIENTO TIEMPO POR CESE DE ACTIVIDADES"},{"$f":"+'Hoja3 (2)'!$C830&'Hoja3 (2)'!$B830","v":"1SANCION Y/O RECONOCIMIENTO TIEMPO POR CESE DE ACTIVIDADES"},{"$f":"IFERROR(FIND(UPPER('Causas anteriores'!$D$4),D830),0)","v":0},{"$f":"+IF('Hoja3 (2)'!$F830=0,0,1)","v":0},{"$f":"+H829+'Hoja3 (2)'!$G830","v":2},{"$f":"+'Hoja3 (2)'!$H830*'Hoja3 (2)'!$G830","v":0},"ESTABA INACTIVA","Inactiva",null,null,"INACTIVA"]
[{"$f":"+'Hoja3 (2)'!$I831","v":0},"SEGURIDAD NACIONAL",1,{"$f":"+IF('Hoja3 (2)'!$C831=1,'Hoja3 (2)'!$B831,\"No\")","v":"SEGURIDAD NACIONAL"},{"$f":"+'Hoja3 (2)'!$C831&'Hoja3 (2)'!$B831","v":"1SEGURIDAD NACIONAL"},{"$f":"IFERROR(FIND(UPPER('Causas anteriores'!$D$4),D831),0)","v":0},{"$f":"+IF('Hoja3 (2)'!$F831=0,0,1)","v":0},{"$f":"+H830+'Hoja3 (2)'!$G831","v":2},{"$f":"+'Hoja3 (2)'!$H831*'Hoja3 (2)'!$G831","v":0},"ESTABA INACTIVA","Inactiva",null,null,"INACTIVA"]
[{"$f":"+'Hoja3 (2)'!$I832","v":0},"SERVIDUMBRE",1,{"$f":"+IF('Hoja3 (2)'!$C832=1,'Hoja3 (2)'!$B832,\"No\")","v":"SERVIDUMBRE"},{"$f":"+'Hoja3 (2)'!$C832&'Hoja3 (2)'!$B832","v":"1SERVIDUMBRE"},{"$f":"IFERROR(FIND(UPPER('Causas anteriores'!$D$4),D832),0)","v":0},{"$f":"+IF('Hoja3 (2)'!$F832=0,0,1)","v":0},{"$f":"+H831+'Hoja3 (2)'!$G832","v":2},{"$f":"+'Hoja3 (2)'!$H832*'Hoja3 (2)'!$G832","v":0},"MANTENER/AJUSTAR TEXTO","Activa","CONSTITUCION DE SERVIDUMBRE",null,"ACTIVA"]
[{"$f":"+'Hoja3 (2)'!$I833","v":0},"SIMULACION",1,{"$f":"+IF('Hoja3 (2)'!$C833=1,'Hoja3 (2)'!$B833,\"No\")","v":"SIMULACION"},{"$f":"+'Hoja3 (2)'!$C833&'Hoja3 (2)'!$B833","v":"1SIMULACION"},{"$f":"IFERROR(FIND(UPPER('Causas anteriores'!$D$4),D833),0)","v":0},{"$f":"+IF('Hoja3 (2)'!$F833=0,0,1)","v":0},{"$f":"+H832+'Hoja3 (2)'!$G833","v":2},{"$f":"+'Hoja3 (2)'!$H833*'Hoja3 (2)'!$G833","v":0},"MANTENER/AJUSTAR TEXTO","Activa","SIMULACION",null,"ACTIVA"]
[{"$f":"+'Hoja3 (2)'!$I834","v":0},"SOLICITUD ASIGNACION CARGO EN PROPIEDAD",1,{"$f":"+IF('Hoja3 (2)'!$C834=1,'Hoja3 (2)'!$B834,\"No\")","v":"SOLICITUD ASIGNACION CARGO EN PROPIEDAD"},{"$f":"+'Hoja3 (2)'!$C834&'Hoja3 (2)'!$B834","v":"1SOLICITUD ASIGNACION CARGO EN PROPIEDAD"},{"$f":"IFERROR(FIND(UPPER('Causas anteriores'!$D$4),D834),0)","v":0},{"$f":"+IF('Hoja3 (2)'!$F834=0,0,1)","v":0},{"$f":"+H833+'Hoja3 (2)'!$G834","v":2},{"$f":"+'Hoja3 (2)'!$H834*'Hoja3 (2)'!$G834","v":0},"ESTABA INACTIVA","Inactiva",null,null,"INACTIVA"]
[{"$f":"+'Hoja3 (2)'!$I835","v":0},"SOLICITUD DE LA DIVISION MATERIAL DE BIEN INMUEBLE",1,{"$f":"+IF('Hoja3 (2)'!$C835=1,'Hoja3 (2)'!$B835,\"No\")","v":"SOLICITUD DE LA DIVISION MATERIAL DE BIEN INMUEBLE"},{"$f":"+'Hoja3 (2)'!$C835&'Hoja3 (2)'!$B835","v":"1SOLICITUD DE LA DIVISION MATERIAL DE BIEN INMUEBLE"},{"$f":"IFERROR(FIND(UPPER('Causas anteriores'!$D$4),D835),0)","v":0},{"$f":"+IF('Hoja3 (2)'!$F835=0,0,1)","v":0},{"$f":"+H834+'Hoja3 (2)'!$G835","v":2},{"$f":"+'Hoja3 (2)'!$H835*'Hoja3 (2)'!$G835","v":0},"MANTENER/AJUSTAR TEXTO","Activa","SOLICITUD DE LA DIVISION MATERIAL DE BIEN INMUEBLE",null,"ACTIVA"]
[{"$f":"+'Hoja3 (2)'!$I836","v":0},"SOLICITUD DE REGISTRO ANTE LA DIRECCION NACIONAL DE DERECHOS DE AUTOR",1,{"$f":"+IF('Hoja3 (2)'!$C836=1,'Hoja3 (2)'!$B836,\"No\")","v":"SOLICITUD DE REGISTRO ANTE LA DIRECCION NACIONAL DE DERECHOS DE AUTOR"},{"$f":"+'Hoja3 (2)'!$C836&'Hoja3 (2)'!$B836","v":"1SOLICITUD DE REGISTRO ANTE LA DIRECCION NACIONAL DE DERECHOS DE AUTOR"},{"$f":"IFERROR(FIND(UPPER('Causas anteriores'!$D$4),D836),0)","v":0},{"$f":"+IF('Hoja3 (2)'!$F836=0,0,1)","v":0},{"$f":"+H835+'Hoja3 (2)'!$G836","v":2},{"$f":"+'Hoja3 (2)'!$H836*'Hoja3 (2)'!$G836","v":0},"ESTABA INACTIVA","Inactiva",null,null,"INACTIVA"]
[{"$f":"+'Hoja3 (2)'!$I837","v":0},"SUBROGACION DE LOS DERECHOS DEL ASERGURADO POR RESPONSABILIDAD EN SINIESTRO",1,{"$f":"+IF('Hoja3 (2)'!$C837=1,'Hoja3 (2)'!$B837,\"No\")","v":"SUBROGACION DE LOS DERECHOS DEL ASERGURADO POR RESPONSABILIDAD EN SINIESTRO"},{"$f":"+'Hoja3 (2)'!$C837&'Hoja3 (2)'!$B837","v":"1SUBROGACION DE LOS DERECHOS DEL ASERGURADO POR RESPONSABILIDAD EN SINIESTRO"},{"$f":"IFERROR(FIND(UPPER('Causas anteriores'!$D$4),D837),0)","v":0},{"$f":"+IF('Hoja3 (2)'!$F837=0,0,1)","v":0},{"$f":"+H836+'Hoja3 (2)'!$G837","v":2},{"$f":"+'Hoja3 (2)'!$H837*'Hoja3 (2)'!$G837","v":0},"MANTENER/AJUSTAR TEXTO","Activa","SUBROGACION DE LOS DERECHOS DEL ASEGURADO POR RESPONSABILIDAD EN SINIESTRO",null,"ACTIVA"]
[{"$f":"+'Hoja3 (2)'!$I838","v":0},"SUBSIDIO DE ALIMENTACION",1,{"$f":"+IF('Hoja3 (2)'!$C838=1,'Hoja3 (2)'!$B838,\"No\")","v":"SUBSIDIO DE ALIMENTACION"},{"$f":"+'Hoja3 (2)'!$C838&'Hoja3 (2)'!$B838","v":"1SUBSIDIO DE ALIMENTACION"},{"$f":"IFERROR(FIND(UPPER('Causas anteriores'!$D$4),D838),0)","v":0},{"$f":"+IF('Hoja3 (2)'!$F838=0,0,1)","v":0},{"$f":"+H837+'Hoja3 (2)'!$G838","v":2},{"$f":"+'Hoja3 (2)'!$H838*'Hoja3 (2)'!$G838","v":0},"ESTABA INACTIVA","Inactiva",null,null,"INACTIVA"]
[{"$f":"+'Hoja3 (2)'!$I839","v":0},"SUBSIDIO PENSIONAL",1,{"$f":"+IF('Hoja3 (2)'!$C839=1,'Hoja3 (2)'!$B839,\"No\")","v":"SUBSIDIO PENSIONAL"},{"$f":"+'Hoja3 (2)'!$C839&'Hoja3 (2)'!$B839","v":"1SUBSIDIO PENSIONAL"},{"$f":"IFERROR(FIND(UPPER('Causas anteriores'!$D$4),D839),0)","v":0},{"$f":"+IF('Hoja3 (2)'!$F839=0,0,1)","v":0},{"$f":"+H838+'Hoja3 (2)'!$G839","v":2},{"$f":"+'Hoja3 (2)'!$H839*'Hoja3 (2)'!$G839","v":0},"ESTABA INACTIVA","Inactiva",null,null,"INACTIVA"]
[{"$f":"+'Hoja3 (2)'!$I840","v":0},"SUSTITUCION PATRONAL",1,{"$f":"+IF('Hoja3 (2)'!$C840=1,'Hoja3 (2)'!$B840,\"No\")","v":"SUSTITUCION PATRONAL"},{"$f":"+'Hoja3 (2)'!$C840&'Hoja3 (2)'!$B840","v":"1SUSTITUCION PATRONAL"},{"$f":"IFERROR(FIND(UPPER('Causas anteriores'!$D$4),D840),0)","v":0},{"$f":"+IF('Hoja3 (2)'!$F840=0,0,1)","v":0},{"$f":"+H839+'Hoja3 (2)'!$G840","v":2},{"$f":"+'Hoja3 (2)'!$H840*'Hoja3 (2)'!$G840","v":0},"MANTENER/AJUSTAR TEXTO","Activa","SUSTITUCION PATRONAL",null,"ACTIVA"]
[{"$f":"+'Hoja3 (2)'!$I841","v":0},"TERMINACION DEL CONTRATO DE TRABAJO CON JUSTA CAUSA",1,{"$f":"+IF('Hoja3 (2)'!$C841=1,'Hoja3 (2)'!$B841,\"No\")","v":"TERMINACION DEL CONTRATO DE TRABAJO CON JUSTA CAUSA"},{"$f":"+'Hoja3 (2)'!$C841&'Hoja3 (2)'!$B841","v":"1TERMINACION DEL CONTRATO DE TRABAJO CON JUSTA CAUSA"},{"$f":"IFERROR(FIND(UPPER('Causas anteriores'!$D$4),D841),0)","v":0},{"$f":"+IF('Hoja3 (2)'!$F841=0,0,1)","v":0},{"$f":"+H840+'Hoja3 (2)'!$G841","v":2},{"$f":"+'Hoja3 (2)'!$H841*'Hoja3 (2)'!$G841","v":0},"INACTIVAR EN NUEVA MATRIZ","Inactiva",null,null,"ACTIVA"]
[{"$f":"+'Hoja3 (2)'!$I842","v":0},"TERMINACION DEL CONTRATO DE TRABAJO SIN JUSTA CAUSA",1,{"$f":"+IF('Hoja3 (2)'!$C842=1,'Hoja3 (2)'!$B842,\"No\")","v":"TERMINACION DEL CONTRATO DE TRABAJO SIN JUSTA CAUSA"},{"$f":"+'Hoja3 (2)'!$C842&'Hoja3 (2)'!$B842","v":"1TERMINACION DEL CONTRATO DE TRABAJO SIN JUSTA CAUSA"},{"$f":"IFERROR(FIND(UPPER('Causas anteriores'!$D$4),D842),0)","v":0},{"$f":"+IF('Hoja3 (2)'!$F842=0,0,1)","v":0},{"$f":"+H841+'Hoja3 (2)'!$G842","v":2},{"$f":"+'Hoja3 (2)'!$H842*'Hoja3 (2)'!$G842","v":0},"INACTIVAR EN NUEVA MATRIZ","Inactiva",null,null,"ACTIVA"]
[{"$f":"+'Hoja3 (2)'!$I843","v":0},"UNIDAD DE PAGO POR CAPITACION - UPC",1,{"$f":"+IF('Hoja3 (2)'!$C843=1,'Hoja3 (2)'!$B843,\"No\")","v":"UNIDAD DE PAGO POR CAPITACION - UPC"},{"$f":"+'Hoja3 (2)'!$C843&'Hoja3 (2)'!$B843","v":"1UNIDAD DE PAGO POR CAPITACION - UPC"},{"$f":"IFERROR(FIND(UPPER('Causas anteriores'!$D$4),D843),0)","v":0},{"$f":"+IF('Hoja3 (2)'!$F843=0,0,1)","v":0},{"$f":"+H842+'Hoja3 (2)'!$G843","v":2},{"$f":"+'Hoja3 (2)'!$H843*'Hoja3 (2)'!$G843","v":0},"ESTABA INACTIVA","Inactiva",null,null,"INACTIVA"]
[{"$f":"+'Hoja3 (2)'!$I844","v":0},"UTILIZACION DE MEDIOS DE GUERRA ILICITOS",1,{"$f":"+IF('Hoja3 (2)'!$C844=1,'Hoja3 (2)'!$B844,\"No\")","v":"UTILIZACION DE MEDIOS DE GUERRA ILICITOS"},{"$f":"+'Hoja3 (2)'!$C844&'Hoja3 (2)'!$B844","v":"1UTILIZACION DE MEDIOS DE GUERRA ILICITOS"},{"$f":"IFERROR(FIND(UPPER('Causas anteriores'!$D$4),D844),0)","v":0},{"$f":"+IF('Hoja3 (2)'!$F844=0,0,1)","v":0},{"$f":"+H843+'Hoja3 (2)'!$G844","v":2},{"$f":"+'Hoja3 (2)'!$H844*'Hoja3 (2)'!$G844","v":0},"ESTABA INACTIVA","Inactiva",null,null,"INACTIVA"]
[{"$f":"+'Hoja3 (2)'!$I845","v":0},"VIOLACION A DERECHOS FUNDAMENTALES",1,{"$f":"+IF('Hoja3 (2)'!$C845=1,'Hoja3 (2)'!$B845,\"No\")","v":"VIOLACION A DERECHOS FUNDAMENTALES"},{"$f":"+'Hoja3 (2)'!$C845&'Hoja3 (2)'!$B845","v":"1VIOLACION A DERECHOS FUNDAMENTALES"},{"$f":"IFERROR(FIND(UPPER('Causas anteriores'!$D$4),D845),0)","v":0},{"$f":"+IF('Hoja3 (2)'!$F845=0,0,1)","v":0},{"$f":"+H844+'Hoja3 (2)'!$G845","v":2},{"$f":"+'Hoja3 (2)'!$H845*'Hoja3 (2)'!$G845","v":0},"ESTABA INACTIVA","Inactiva",null,null,"INACTIVA"]
[{"$f":"+'Hoja3 (2)'!$I846","v":0},"VIOLACION A DERECHOS HUMANOS",1,{"$f":"+IF('Hoja3 (2)'!$C846=1,'Hoja3 (2)'!$B846,\"No\")","v":"VIOLACION A DERECHOS HUMANOS"},{"$f":"+'Hoja3 (2)'!$C846&'Hoja3 (2)'!$B846","v":"1VIOLACION A DERECHOS HUMANOS"},{"$f":"IFERROR(FIND(UPPER('Causas anteriores'!$D$4),D846),0)","v":0},{"$f":"+IF('Hoja3 (2)'!$F846=0,0,1)","v":0},{"$f":"+H845+'Hoja3 (2)'!$G846","v":2},{"$f":"+'Hoja3 (2)'!$H846*'Hoja3 (2)'!$G846","v":0},"ESTABA INACTIVA","Inactiva",null,null,"INACTIVA"]
[{"$f":"+'Hoja3 (2)'!$I847","v":0},"VIOLACION A LA PROTECCION DE DATOS PERSONALES",1,{"$f":"+IF('Hoja3 (2)'!$C847=1,'Hoja3 (2)'!$B847,\"No\")","v":"VIOLACION A LA PROTECCION DE DATOS PERSONALES"},{"$f":"+'Hoja3 (2)'!$C847&'Hoja3 (2)'!$B847","v":"1VIOLACION A LA PROTECCION DE DATOS PERSONALES"},{"$f":"IFERROR(FIND(UPPER('Causas anteriores'!$D$4),D847),0)","v":0},{"$f":"+IF('Hoja3 (2)'!$F847=0,0,1)","v":0},{"$f":"+H846+'Hoja3 (2)'!$G847","v":2},{"$f":"+'Hoja3 (2)'!$H847*'Hoja3 (2)'!$G847","v":0},"MANTENER/AJUSTAR TEXTO","Activa","VIOLACION A LA PROTECCION DE DATOS PERSONALES",null,"ACTIVA"]
[{"$f":"+'Hoja3 (2)'!$I848","v":0},"VIOLACION AL DEBIDO PROCESO ADMINISTRATIVO",1,{"$f":"+IF('Hoja3 (2)'!$C848=1,'Hoja3 (2)'!$B848,\"No\")","v":"VIOLACION AL DEBIDO PROCESO ADMINISTRATIVO"},{"$f":"+'Hoja3 (2)'!$C848&'Hoja3 (2)'!$B848","v":"1VIOLACION AL DEBIDO PROCESO ADMINISTRATIVO"},{"$f":"IFERROR(FIND(UPPER('Causas anteriores'!$D$4),D848),0)","v":0},{"$f":"+IF('Hoja3 (2)'!$F848=0,0,1)","v":0},{"$f":"+H847+'Hoja3 (2)'!$G848","v":2},{"$f":"+'Hoja3 (2)'!$H848*'Hoja3 (2)'!$G848","v":0},"MANTENER/AJUSTAR TEXTO","Activa","VIOLACION AL DEBIDO PROCESO ADMINISTRATIVO",null,"ACTIVA"]
[{"$f":"+'Hoja3 (2)'!$I849","v":0},"VIOLACION AL DERECHO DE POSTULACION A UN CARGO DE ELECCION POPULAR",1,{"$f":"+IF('Hoja3 (2)'!$C849=1,'Hoja3 (2)'!$B849,\"No\")","v":"VIOLACION AL DERECHO DE POSTULACION A UN CARGO DE ELECCION POPULAR"},{"$f":"+'Hoja3 (2)'!$C849&'Hoja3 (2)'!$B849","v":"1VIOLACION AL DERECHO DE POSTULACION A UN CARGO DE ELECCION POPULAR"},{"$f":"IFERROR(FIND(UPPER('Causas anteriores'!$D$4),D849),0)","v":0},{"$f":"+IF('Hoja3 (2)'!$F849=0,0,1)","v":0},{"$f":"+H848+'Hoja3 (2)'!$G849","v":2},{"$f":"+'Hoja3 (2)'!$H849*'Hoja3 (2)'!$G849","v":0},"MANTENER/AJUSTAR TEXTO","Activa","VIOLACION AL DERECHO DE POSTULACION A UN CARGO DE ELECCION POPULAR",null,"ACTIVA"]
[{"$f":"+'Hoja3 (2)'!$I850","v":0},"VIOLACION AL DERECHO DE UN AMBIENTE SANO",1,{"$f":"+IF('Hoja3 (2)'!$C850=1,'Hoja3 (2)'!$B850,\"No\")","v":"VIOLACION AL DERECHO DE UN AMBIENTE SANO"},{"$f":"+'Hoja3 (2)'!$C850&'Hoja3 (2)'!$B850","v":"1VIOLACION AL DERECHO DE UN AMBIENTE SANO"},{"$f":"IFERROR(FIND(UPPER('Causas anteriores'!$D$4),D850),0)","v":0},{"$f":"+IF('Hoja3 (2)'!$F850=0,0,1)","v":0},{"$f":"+H849+'Hoja3 (2)'!$G850","v":2},{"$f":"+'Hoja3 (2)'!$H850*'Hoja3 (2)'!$G850","v":0},"ESTABA INACTIVA","Inactiva",null,null,"INACTIVA"]
[{"$f":"+'Hoja3 (2)'!$I851","v":0},"VIOLACION AL REGIMEN JURIDICO DE DERECHOS DE AUTOR",1,{"$f":"+IF('Hoja3 (2)'!$C851=1,'Hoja3 (2)'!$B851,\"No\")","v":"VIOLACION AL REGIMEN JURIDICO DE DERECHOS DE AUTOR"},{"$f":"+'Hoja3 (2)'!$C851&'Hoja3 (2)'!$B851","v":"1VIOLACION AL REGIMEN JURIDICO DE DERECHOS DE AUTOR"},{"$f":"IFERROR(FIND(UPPER('Causas anteriores'!$D$4),D851),0)","v":0},{"$f":"+IF('Hoja3 (2)'!$F851=0,0,1)","v":0},{"$f":"+H850+'Hoja3 (2)'!$G851","v":2},{"$f":"+'Hoja3 (2)'!$H851*'Hoja3 (2)'!$G851","v":0},"MANTENER/AJUSTAR TEXTO","Activa","VIOLACION AL REGIMEN JURIDICO DE DERECHOS DE AUTOR",null,"ACTIVA"]
[{"$f":"+'Hoja3 (2)'!$I852","v":0},"VIOLACION AL REGIMEN JURIDICO DE PROPIEDAD INDUSTRIAL",1,{"$f":"+IF('Hoja3 (2)'!$C852=1,'Hoja3 (2)'!$B852,\"No\")","v":"VIOLACION AL REGIMEN JURIDICO DE PROPIEDAD INDUSTRIAL"},{"$f":"+'Hoja3 (2)'!$C852&'Hoja3 (2)'!$B852","v":"1VIOLACION AL REGIMEN JURIDICO DE PROPIEDAD INDUSTRIAL"},{"$f":"IFERROR(FIND(UPPER('Causas anteriores'!$D$4),D852),0)","v":0},{"$f":"+IF('Hoja3 (2)'!$F852=0,0,1)","v":0},{"$f":"+H851+'Hoja3 (2)'!$G852","v":2},{"$f":"+'Hoja3 (2)'!$H852*'Hoja3 (2)'!$G852","v":0},"MANTENER/AJUSTAR TEXTO","Activa","VIOLACION AL REGIMEN JURIDICO DE PROPIEDAD INDUSTRIAL",null,"ACTIVA"]
[{"$f":"+'Hoja3 (2)'!$I853","v":0},"VIOLACION AL REGIMEN LEGAL DE INHABILIDADES E INCOMPATIBILIDADES",1,{"$f":"+IF('Hoja3 (2)'!$C853=1,'Hoja3 (2)'!$B853,\"No\")","v":"VIOLACION AL REGIMEN LEGAL DE INHABILIDADES E INCOMPATIBILIDADES"},{"$f":"+'Hoja3 (2)'!$C853&'Hoja3 (2)'!$B853","v":"1VIOLACION AL REGIMEN LEGAL DE INHABILIDADES E INCOMPATIBILIDADES"},{"$f":"IFERROR(FIND(UPPER('Causas anteriores'!$D$4),D853),0)","v":0},{"$f":"+IF('Hoja3 (2)'!$F853=0,0,1)","v":0},{"$f":"+H852+'Hoja3 (2)'!$G853","v":2},{"$f":"+'Hoja3 (2)'!$H853*'Hoja3 (2)'!$G853","v":0},"MANTENER/AJUSTAR TEXTO","Activa","VIOLACION AL REGIMEN LEGAL DE INHABILIDADES E INCOMPATIBILIDADES PARA ACCEDER A CARGO DE ELECCION POPULAR",null,"ACTIVA"]
[{"$f":"+'Hoja3 (2)'!$I854","v":0},"VIOLACION O AMENAZA A LA LIBRE COMPETENCIA ECONOMICA",1,{"$f":"+IF('Hoja3 (2)'!$C854=1,'Hoja3 (2)'!$B854,\"No\")","v":"VIOLACION O AMENAZA A LA LIBRE COMPETENCIA ECONOMICA"},{"$f":"+'Hoja3 (2)'!$C854&'Hoja3 (2)'!$B854","v":"1VIOLACION O AMENAZA A LA LIBRE COMPETENCIA ECONOMICA"},{"$f":"IFERROR(FIND(UPPER('Causas anteriores'!$D$4),D854),0)","v":0},{"$f":"+IF('Hoja3 (2)'!$F854=0,0,1)","v":0},{"$f":"+H853+'Hoja3 (2)'!$G854","v":2},{"$f":"+'Hoja3 (2)'!$H854*'Hoja3 (2)'!$G854","v":0},"MANTENER/AJUSTAR TEXTO","Activa","VIOLACION O AMENAZA A LA LIBRE COMPETENCIA ECONOMICA",null,"ACTIVA"]
[{"$f":"+'Hoja3 (2)'!$I855","v":0},"VIOLACION O AMENAZA A LA MORALIDAD ADMINISTRATIVA",1,{"$f":"+IF('Hoja3 (2)'!$C855=1,'Hoja3 (2)'!$B855,\"No\")","v":"VIOLACION O AMENAZA A LA MORALIDAD ADMINISTRATIVA"},{"$f":"+'Hoja3 (2)'!$C855&'Hoja3 (2)'!$B855","v":"1VIOLACION O AMENAZA A LA MORALIDAD ADMINISTRATIVA"},{"$f":"IFERROR(FIND(UPPER('Causas anteriores'!$D$4),D855),0)","v":0},{"$f":"+IF('Hoja3 (2)'!$F855=0,0,1)","v":0},{"$f":"+H854+'Hoja3 (2)'!$G855","v":2},{"$f":"+'Hoja3 (2)'!$H855*'Hoja3 (2)'!$G855","v":0},"MANTENER/AJUSTAR TEXTO","Activa","VIOLACION O AMENAZA A LA MORALIDAD ADMINISTRATIVA",null,"ACTIVA"]
[{"$f":"+'Hoja3 (2)'!$I856","v":0},"VIOLACION O AMENAZA A LA SEGURIDAD Y SALUBRIDAD PUBLICA",1,{"$f":"+IF('Hoja3 (2)'!$C856=1,'Hoja3 (2)'!$B856,\"No\")","v":"VIOLACION O AMENAZA A LA SEGURIDAD Y SALUBRIDAD PUBLICA"},{"$f":"+'Hoja3 (2)'!$C856&'Hoja3 (2)'!$B856","v":"1VIOLACION O AMENAZA A LA SEGURIDAD Y SALUBRIDAD PUBLICA"},{"$f":"IFERROR(FIND(UPPER('Causas anteriores'!$D$4),D856),0)","v":0},{"$f":"+IF('Hoja3 (2)'!$F856=0,0,1)","v":0},{"$f":"+H855+'Hoja3 (2)'!$G856","v":2},{"$f":"+'Hoja3 (2)'!$H856*'Hoja3 (2)'!$G856","v":0},"MANTENER/AJUSTAR TEXTO","Activa","VIOLACION O AMENAZA A LA SEGURIDAD Y SALUBRIDAD PUBLICAS",null,"ACTIVA"]
[{"$f":"+'Hoja3 (2)'!$I857","v":0},"VIOLACION O AMENAZA A LOS DERECHOS DE LOS CONSUMIDORES Y USUARIOS",1,{"$f":"+IF('Hoja3 (2)'!$C857=1,'Hoja3 (2)'!$B857,\"No\")","v":"VIOLACION O AMENAZA A LOS DERECHOS DE LOS CONSUMIDORES Y USUARIOS"},{"$f":"+'Hoja3 (2)'!$C857&'Hoja3 (2)'!$B857","v":"1VIOLACION O AMENAZA A LOS DERECHOS DE LOS CONSUMIDORES Y USUARIOS"},{"$f":"IFERROR(FIND(UPPER('Causas anteriores'!$D$4),D857),0)","v":0},{"$f":"+IF('Hoja3 (2)'!$F857=0,0,1)","v":0},{"$f":"+H856+'Hoja3 (2)'!$G857","v":2},{"$f":"+'Hoja3 (2)'!$H857*'Hoja3 (2)'!$G857","v":0},"MANTENER/AJUSTAR TEXTO","Activa","VIOLACION O AMENAZA A LOS DERECHOS DE LOS CONSUMIDORES Y USUARIOS",null,"ACTIVA"]
[{"$f":"+'Hoja3 (2)'!$I858","v":0},"VIOLACION O AMENAZA AL GOCE DE UN AMBIENTE SANO",1,{"$f":"+IF('Hoja3 (2)'!$C858=1,'Hoja3 (2)'!$B858,\"No\")","v":"VIOLACION O AMENAZA AL GOCE DE UN AMBIENTE SANO"},{"$f":"+'Hoja3 (2)'!$C858&'Hoja3 (2)'!$B858","v":"1VIOLACION O AMENAZA AL GOCE DE UN AMBIENTE SANO"},{"$f":"IFERROR(FIND(UPPER('Causas anteriores'!$D$4),D858),0)","v":0},{"$f":"+IF('Hoja3 (2)'!$F858=0,0,1)","v":0},{"$f":"+H857+'Hoja3 (2)'!$G858","v":2},{"$f":"+'Hoja3 (2)'!$H858*'Hoja3 (2)'!$G858","v":0},"MANTENER/AJUSTAR TEXTO","Activa","VIOLACION O AMENAZA AL GOCE DE UN AMBIENTE SANO",null,"ACTIVA"]
[{"$f":"+'Hoja3 (2)'!$I859","v":0},"VIOLACION O AMENAZA AL GOCE DEL ESPACIO PUBLICO Y A LA UTILIZACION Y DEFENSA DE BIENES DE USO PUBLICO",1,{"$f":"+IF('Hoja3 (2)'!$C859=1,'Hoja3 (2)'!$B859,\"No\")","v":"VIOLACION O AMENAZA AL GOCE DEL ESPACIO PUBLICO Y A LA UTILIZACION Y DEFENSA DE BIENES DE USO PUBLICO"},{"$f":"+'Hoja3 (2)'!$C859&'Hoja3 (2)'!$B859","v":"1VIOLACION O AMENAZA AL GOCE DEL ESPACIO PUBLICO Y A LA UTILIZACION Y DEFENSA DE BIENES DE USO PUBLICO"},{"$f":"IFERROR(FIND(UPPER('Causas anteriores'!$D$4),D859),0)","v":0},{"$f":"+IF('Hoja3 (2)'!$F859=0,0,1)","v":0},{"$f":"+H858+'Hoja3 (2)'!$G859","v":2},{"$f":"+'Hoja3 (2)'!$H859*'Hoja3 (2)'!$G859","v":0},"MANTENER/AJUSTAR TEXTO","Activa","VIOLACION O AMENAZA AL GOCE DEL ESPACIO PUBLICO Y A LA UTILIZACION Y DEFENSA DE BIENES DE USO PUBLICO",null,"ACTIVA"]
[{"$f":"+'Hoja3 (2)'!$I860","v":0},"VIOLACION O AMENAZA AL PATRIMONIO CULTURAL DE LA NACION",1,{"$f":"+IF('Hoja3 (2)'!$C860=1,'Hoja3 (2)'!$B860,\"No\")","v":"VIOLACION O AMENAZA AL PATRIMONIO CULTURAL DE LA NACION"},{"$f":"+'Hoja3 (2)'!$C860&'Hoja3 (2)'!$B860","v":"1VIOLACION O AMENAZA AL PATRIMONIO CULTURAL DE LA NACION"},{"$f":"IFERROR(FIND(UPPER('Causas anteriores'!$D$4),D860),0)","v":0},{"$f":"+IF('Hoja3 (2)'!$F860=0,0,1)","v":0},{"$f":"+H859+'Hoja3 (2)'!$G860","v":2},{"$f":"+'Hoja3 (2)'!$H860*'Hoja3 (2)'!$G860","v":0},"MANTENER/AJUSTAR TEXTO","Activa","VIOLACION O AMENAZA AL PATRIMONIO CULTURAL DE LA NACION",null,"ACTIVA"]
[{"$f":"+'Hoja3 (2)'!$I861","v":0},"VIOLACION O AMENAZA AL PATRIMONIO PUBLICO",1,{"$f":"+IF('Hoja3 (2)'!$C861=1,'Hoja3 (2)'!$B861,\"No\")","v":"VIOLACION O AMENAZA AL PATRIMONIO PUBLICO"},{"$f":"+'Hoja3 (2)'!$C861&'Hoja3 (2)'!$B861","v":"1VIOLACION O AMENAZA AL PATRIMONIO PUBLICO"},{"$f":"IFERROR(FIND(UPPER('Causas anteriores'!$D$4),D861),0)","v":0},{"$f":"+IF('Hoja3 (2)'!$F861=0,0,1)","v":0},{"$f":"+H860+'Hoja3 (2)'!$G861","v":2},{"$f":"+'Hoja3 (2)'!$H861*'Hoja3 (2)'!$G861","v":0},"MANTENER/AJUSTAR TEXTO","Activa","VIOLACION O AMENAZA AL PATRIMONIO PUBLICO",null,"ACTIVA"]
[{"$f":"+'Hoja3 (2)'!$I862","v":0},"VOCACION HEREDITARIA DE BIENES",1,{"$f":"+IF('Hoja3 (2)'!$C862=1,'Hoja3 (2)'!$B862,\"No\")","v":"VOCACION HEREDITARIA DE BIENES"},{"$f":"+'Hoja3 (2)'!$C862&'Hoja3 (2)'!$B862","v":"1VOCACION HEREDITARIA DE BIENES"},{"$f":"IFERROR(FIND(UPPER('Causas anteriores'!$D$4),D862),0)","v":0},{"$f":"+IF('Hoja3 (2)'!$F862=0,0,1)","v":0},{"$f":"+H861+'Hoja3 (2)'!$G862","v":2},{"$f":"+'Hoja3 (2)'!$H862*'Hoja3 (2)'!$G862","v":0},"MANTENER/AJUSTAR TEXTO","Activa","VOCACION HEREDITARIA DE BIENES",null,"ACTIVA"]

{"sheet":"Causas anteriores","index":4,"n_rows":114,"n_cols":12,"rows_kept":114,"merged":[[1,2,1,6],[2,2,4,2],[8,3,8,4]]}
[]
[]
[]
[{"$nulls":3},"ERROR DE INFORMACION"]
[]
[{"$nulls":3},{"$f":"\"Se encontraron \"&'Hoja3 (2)'!E1&\" coincidencias al texto ingresado\"","v":"Se encontraron 2 coincidencias al texto ingresado"}]
[]
[]
[null,null,"Causa seleccionada","FALLA DEL SERVICIO POR ERROR DE INFORMACION",null,{"$f":"1&D9","v":"1FALLA DEL SERVICIO POR ERROR DE INFORMACION"}]
[null,null,"Estado actual",{"$f":"+VLOOKUP(F9,'Hoja3 (2)'!$E$3:$L$873,7,0)","v":"Inactiva"}]
[null,null,"Último evento",{"$f":"+VLOOKUP(F9,'Hoja3 (2)'!$E$3:$L$873,6,0)","v":"INACTIVAR EN NUEVA MATRIZ"}]
[{"$nulls":5},2,{"$f":"+F12&$D$9","v":"2FALLA DEL SERVICIO POR ERROR DE INFORMACION"}]
[null,null,"Puede utilizar:","Busque en nueva matriz",null,3,"3FALLA DEL SERVICIO POR ERROR DE INFORMACION",{"$nulls":4},{"$f":"IFERROR(IF(L11=\"MANTENER/AJUSTAR TEXTO\",VLOOKUP(N9,'Hoja3 (2)'!$E$3:$L$873,8,0),VLOOKUP(O12,'Hoja3 (2)'!$E$3:$L$873,8,0)),\"Busque en nueva matriz\")","v":"Busque en nueva matriz"}]
[{"$nulls":3},"",null,4,"4FALLA DEL SERVICIO POR ERROR DE INFORMACION",{"$nulls":4},{"$f":"IFERROR(IF(L12=\"MANTENER/AJUSTAR TEXTO\",VLOOKUP(N10,'Hoja3 (2)'!$E$3:$L$873,8,0),VLOOKUP(O13,'Hoja3 (2)'!$E$3:$L$873,8,0)),\"\")","v":""}]
[{"$nulls":3},"",null,5,"5FALLA DEL SERVICIO POR ERROR DE INFORMACION",{"$nulls":4},{"$f":"IFERROR(IF(L13=\"MANTENER/AJUSTAR TEXTO\",VLOOKUP(N11,'Hoja3 (2)'!$E$3:$L$873,8,0),VLOOKUP(O14,'Hoja3 (2)'!$E$3:$L$873,8,0)),\"\")","v":""}]
[{"$nulls":3},"",null,6,"6FALLA DEL SERVICIO POR ERROR DE INFORMACION",{"$nulls":4},{"$f":"IFERROR(IF(L14=\"MANTENER/AJUSTAR TEXTO\",VLOOKUP(N12,'Hoja3 (2)'!$E$3:$L$873,8,0),VLOOKUP(O15,'Hoja3 (2)'!$E$3:$L$873,8,0)),\"\")","v":""}]
[{"$nulls":3},"",null,7,"7FALLA DEL SERVICIO POR ERROR DE INFORMACION",{"$nulls":4},{"$f":"IFERROR(IF(L15=\"MANTENER/AJUSTAR TEXTO\",VLOOKUP(N13,'Hoja3 (2)'!$E$3:$L$873,8,0),VLOOKUP(O16,'Hoja3 (2)'!$E$3:$L$873,8,0)),\"\")","v":""}]
[{"$nulls":3},"",null,8,"8FALLA DEL SERVICIO POR ERROR DE INFORMACION",{"$nulls":4},{"$f":"IFERROR(IF(L16=\"MANTENER/AJUSTAR TEXTO\",VLOOKUP(N14,'Hoja3 (2)'!$E$3:$L$873,8,0),VLOOKUP(O17,'Hoja3 (2)'!$E$3:$L$873,8,0)),\"\")","v":""}]
[{"$nulls":3},"",null,9,"9FALLA DEL SERVICIO POR ERROR DE INFORMACION",{"$nulls":4},{"$f":"IFERROR(IF(L17=\"MANTENER/AJUSTAR TEXTO\",VLOOKUP(N15,'Hoja3 (2)'!$E$3:$L$873,8,0),VLOOKUP(O18,'Hoja3 (2)'!$E$3:$L$873,8,0)),\"\")","v":""}]
[{"$nulls":3},"",null,10,"10FALLA DEL SERVICIO POR ERROR DE INFORMACION",{"$nulls":4},{"$f":"IFERROR(IF(L18=\"MANTENER/AJUSTAR TEXTO\",VLOOKUP(N16,'Hoja3 (2)'!$E$3:$L$873,8,0),VLOOKUP(O19,'Hoja3 (2)'!$E$3:$L$873,8,0)),\"\")","v":""}]
[{"$nulls":3},"",{"$nulls":7},{"$f":"IFERROR(IF(L19=\"MANTENER/AJUSTAR TEXTO\",VLOOKUP(N17,'Hoja3 (2)'!$E$3:$L$873,8,0),VLOOKUP(O20,'Hoja3 (2)'!$E$3:$L$873,8,0)),\"\")","v":""}]
[{"$nulls":3},"Nombre causa","Acción realizada"]
[1,{"$f":"+IF(A23<='Hoja3 (2)'!$E$1,1,0)","v":1},"Coincidencia 1","FALLA DEL SERVICIO POR ERROR DE INFORMACION","INACTIVAR EN NUEVA MATRIZ"]
[2,{"$f":"+IF(A24<='Hoja3 (2)'!$E$1,1,0)","v":1},"Coincidencia 2","FALLA EN EL SERVICIO POR ERROR DE INFORMACION EN DOCUMENTO EXPEDIDO POR MEDICINA LEGAL","INACTIVAR EN NUEVA MATRIZ"]
[3,{"$f":"+IF(A25<='Hoja3 (2)'!$E$1,1,0)","v":0},"Coincidencia 3",{"$error":"#N/A"},{"$error":"#N/A"}]
[4,{"$f":"+IF(A26<='Hoja3 (2)'!$E$1,1,0)","v":0},"Coincidencia 4",{"$error":"#N/A"},{"$error":"#N/A"}]
[5,{"$f":"+IF(A27<='Hoja3 (2)'!$E$1,1,0)","v":0},"Coincidencia 5",{"$error":"#N/A"},{"$error":"#N/A"}]
[6,{"$f":"+IF(A28<='Hoja3 (2)'!$E$1,1,0)","v":0},"Coincidencia 6",{"$error":"#N/A"},{"$error":"#N/A"}]
[7,{"$f":"+IF(A29<='Hoja3 (2)'!$E$1,1,0)","v":0},"Coincidencia 7",{"$error":"#N/A"},{"$error":"#N/A"}]
[8,{"$f":"+IF(A30<='Hoja3 (2)'!$E$1,1,0)","v":0},"Coincidencia 8",{"$error":"#N/A"},{"$error":"#N/A"}]
[9,{"$f":"+IF(A31<='Hoja3 (2)'!$E$1,1,0)","v":0},"Coincidencia 9",{"$error":"#N/A"},{"$error":"#N/A"}]
[10,{"$f":"+IF(A32<='Hoja3 (2)'!$E$1,1,0)","v":0},"Coincidencia 10",{"$error":"#N/A"},{"$error":"#N/A"}]
[11,{"$f":"+IF(A33<='Hoja3 (2)'!$E$1,1,0)","v":0},"Coincidencia 11",{"$error":"#N/A"},{"$error":"#N/A"}]
[12,{"$f":"+IF(A34<='Hoja3 (2)'!$E$1,1,0)","v":0},"Coincidencia 12",{"$error":"#N/A"},{"$error":"#N/A"}]
[13,{"$f":"+IF(A35<='Hoja3 (2)'!$E$1,1,0)","v":0},"Coincidencia 13",{"$error":"#N/A"},{"$error":"#N/A"}]
[14,{"$f":"+IF(A36<='Hoja3 (2)'!$E$1,1,0)","v":0},"Coincidencia 14",{"$error":"#N/A"},{"$error":"#N/A"}]
[15,{"$f":"+IF(A37<='Hoja3 (2)'!$E$1,1,0)","v":0},"Coincidencia 15",{"$error":"#N/A"},{"$error":"#N/A"}]
[16,{"$f":"+IF(A38<='Hoja3 (2)'!$E$1,1,0)","v":0},"Coincidencia 16",{"$error":"#N/A"},{"$error":"#N/A"}]
[17,{"$f":"+IF(A39<='Hoja3 (2)'!$E$1,1,0)","v":0},"Coincidencia 17",{"$error":"#N/A"},{"$error":"#N/A"}]
[18,{"$f":"+IF(A40<='Hoja3 (2)'!$E$1,1,0)","v":0},"Coincidencia 18",{"$error":"#N/A"},{"$error":"#N/A"}]
[19,{"$f":"+IF(A41<='Hoja3 (2)'!$E$1,1,0)","v":0},"Coincidencia 19",{"$error":"#N/A"},{"$error":"#N/A"}]
[20,{"$f":"+IF(A42<='Hoja3 (2)'!$E$1,1,0)","v":0},"Coincidencia 20",{"$error":"#N/A"},{"$error":"#N/A"}]
[21,{"$f":"+IF(A43<='Hoja3 (2)'!$E$1,1,0)","v":0},"Coincidencia 21",{"$error":"#N/A"},{"$error":"#N/A"}]
[22,{"$f":"+IF(A44<='Hoja3 (2)'!$E$1,1,0)","v":0},"Coincidencia 22",{"$error":"#N/A"},{"$error":"#N/A"}]
[23,{"$f":"+IF(A45<='Hoja3 (2)'!$E$1,1,0)","v":0},"Coincidencia 23",{"$error":"#N/A"},{"$error":"#N/A"}]
[24,{"$f":"+IF(A46<='Hoja3 (2)'!$E$1,1,0)","v":0},"Coincidencia 24",{"$error":"#N/A"},{"$error":"#N/A"}]
[25,{"$f":"+IF(A47<='Hoja3 (2)'!$E$1,1,0)","v":0},"Coincidencia 25",{"$error":"#N/A"},{"$error":"#N/A"}]
[26,{"$f":"+IF(A48<='Hoja3 (2)'!$E$1,1,0)","v":0},"Coincidencia 26",{"$error":"#N/A"},{"$error":"#N/A"}]
[27,{"$f":"+IF(A49<='Hoja3 (2)'!$E$1,1,0)","v":0},"Coincidencia 27",{"$error":"#N/A"},{"$error":"#N/A"}]
[28,{"$f":"+IF(A50<='Hoja3 (2)'!$E$1,1,0)","v":0},"Coincidencia 28",{"$error":"#N/A"},{"$error":"#N/A"}]
[29,{"$f":"+IF(A51<='Hoja3 (2)'!$E$1,1,0)","v":0},"Coincidencia 29",{"$error":"#N/A"},{"$error":"#N/A"}]
[30,{"$f":"+IF(A52<='Hoja3 (2)'!$E$1,1,0)","v":0},"Coincidencia 30",{"$error":"#N/A"},{"$error":"#N/A"}]
[31,{"$f":"+IF(A53<='Hoja3 (2)'!$E$1,1,0)","v":0},"Coincidencia 31",{"$error":"#N/A"},{"$error":"#N/A"}]
[32,{"$f":"+IF(A54<='Hoja3 (2)'!$E$1,1,0)","v":0},"Coincidencia 32",{"$error":"#N/A"},{"$error":"#N/A"}]
[33,{"$f":"+IF(A55<='Hoja3 (2)'!$E$1,1,0)","v":0},"Coincidencia 33",{"$error":"#N/A"},{"$error":"#N/A"}]
[34,{"$f":"+IF(A56<='Hoja3 (2)'!$E$1,1,0)","v":0},"Coincidencia 34",{"$error":"#N/A"},{"$error":"#N/A"}]
[35,{"$f":"+IF(A57<='Hoja3 (2)'!$E$1,1,0)","v":0},"Coincidencia 35",{"$error":"#N/A"},{"$error":"#N/A"}]
[36,{"$f":"+IF(A58<='Hoja3 (2)'!$E$1,1,0)","v":0},"Coincidencia 36",{"$error":"#N/A"},{"$error":"#N/A"}]
[37,{"$f":"+IF(A59<='Hoja3 (2)'!$E$1,1,0)","v":0},"Coincidencia 37",{"$error":"#N/A"},{"$error":"#N/A"}]
[38,{"$f":"+IF(A60<='Hoja3 (2)'!$E$1,1,0)","v":0},"Coincidencia 38",{"$error":"#N/A"},{"$error":"#N/A"}]
[39,{"$f":"+IF(A61<='Hoja3 (2)'!$E$1,1,0)","v":0},"Coincidencia 39",{"$error":"#N/A"},{"$error":"#N/A"}]
[40,{"$f":"+IF(A62<='Hoja3 (2)'!$E$1,1,0)","v":0},"Coincidencia 40",{"$error":"#N/A"},{"$error":"#N/A"}]
[41,{"$f":"+IF(A63<='Hoja3 (2)'!$E$1,1,0)","v":0},"Coincidencia 41",{"$error":"#N/A"},{"$error":"#N/A"}]
[42,{"$f":"+IF(A64<='Hoja3 (2)'!$E$1,1,0)","v":0},"Coincidencia 42",{"$error":"#N/A"},{"$error":"#N/A"}]
[43,{"$f":"+IF(A65<='Hoja3 (2)'!$E$1,1,0)","v":0},"Coincidencia 43",{"$error":"#N/A"},{"$error":"#N/A"}]
[44,{"$f":"+IF(A66<='Hoja3 (2)'!$E$1,1,0)","v":0},"Coincidencia 44",{"$error":"#N/A"},{"$error":"#N/A"}]
[45,{"$f":"+IF(A67<='Hoja3 (2)'!$E$1,1,0)","v":0},"Coincidencia 45",{"$error":"#N/A"},{"$error":"#N/A"}]
[46,{"$f":"+IF(A68<='Hoja3 (2)'!$E$1,1,0)","v":0},"Coincidencia 46",{"$error":"#N/A"},{"$error":"#N/A"}]
[47,{"$f":"+IF(A69<='Hoja3 (2)'!$E$1,1,0)","v":0},"Coincidencia 47",{"$error":"#N/A"},{"$error":"#N/A"}]
[48,{"$f":"+IF(A70<='Hoja3 (2)'!$E$1,1,0)","v":0},"Coincidencia 48",{"$error":"#N/A"},{"$error":"#N/A"}]
[49,{"$f":"+IF(A71<='Hoja3 (2)'!$E$1,1,0)","v":0},"Coincidencia 49",{"$error":"#N/A"},{"$error":"#N/A"}]
[50,{"$f":"+IF(A72<='Hoja3 (2)'!$E$1,1,0)","v":0},"Coincidencia 50",{"$error":"#N/A"},{"$error":"#N/A"}]
[51,{"$f":"+IF(A73<='Hoja3 (2)'!$E$1,1,0)","v":0},"Coincidencia 51",{"$error":"#N/A"},{"$error":"#N/A"}]
[52,{"$f":"+IF(A74<='Hoja3 (2)'!$E$1,1,0)","v":0},"Coincidencia 52",{"$error":"#N/A"},{"$error":"#N/A"}]
[53,{"$f":"+IF(A75<='Hoja3 (2)'!$E$1,1,0)","v":0},"Coincidencia 53",{"$error":"#N/A"},{"$error":"#N/A"}]
[54,{"$f":"+IF(A76<='Hoja3 (2)'!$E$1,1,0)","v":0},"Coincidencia 54",{"$error":"#N/A"},{"$error":"#N/A"}]
[55,{"$f":"+IF(A77<='Hoja3 (2)'!$E$1,1,0)","v":0},"Coincidencia 55",{"$error":"#N/A"},{"$error":"#N/A"}]
[56,{"$f":"+IF(A78<='Hoja3 (2)'!$E$1,1,0)","v":0},"Coincidencia 56",{"$error":"#N/A"},{"$error":"#N/A"}]
[57,{"$f":"+IF(A79<='Hoja3 (2)'!$E$1,1,0)","v":0},"Coincidencia 57",{"$error":"#N/A"},{"$error":"#N/A"}]
[58,{"$f":"+IF(A80<='Hoja3 (2)'!$E$1,1,0)","v":0},"Coincidencia 58",{"$error":"#N/A"},{"$error":"#N/A"}]
[59,{"$f":"+IF(A81<='Hoja3 (2)'!$E$1,1,0)","v":0},"Coincidencia 59",{"$error":"#N/A"},{"$error":"#N/A"}]
[60,{"$f":"+IF(A82<='Hoja3 (2)'!$E$1,1,0)","v":0},"Coincidencia 60",{"$error":"#N/A"},{"$error":"#N/A"}]
[61,{"$f":"+IF(A83<='Hoja3 (2)'!$E$1,1,0)","v":0},"Coincidencia 61",{"$error":"#N/A"},{"$error":"#N/A"}]
[62,{"$f":"+IF(A84<='Hoja3 (2)'!$E$1,1,0)","v":0},"Coincidencia 62",{"$error":"#N/A"},{"$error":"#N/A"}]
[63,{"$f":"+IF(A85<='Hoja3 (2)'!$E$1,1,0)","v":0},"Coincidencia 63",{"$error":"#N/A"},{"$error":"#N/A"}]
[64,{"$f":"+IF(A86<='Hoja3 (2)'!$E$1,1,0)","v":0},"Coincidencia 64",{"$error":"#N/A"},{"$error":"#N/A"}]
[65,{"$f":"+IF(A87<='Hoja3 (2)'!$E$1,1,0)","v":0},"Coincidencia 65",{"$error":"#N/A"},{"$error":"#N/A"}]
[66,{"$f":"+IF(A88<='Hoja3 (2)'!$E$1,1,0)","v":0},"Coincidencia 66",{"$error":"#N/A"},{"$error":"#N/A"}]
[67,{"$f":"+IF(A89<='Hoja3 (2)'!$E$1,1,0)","v":0},"Coincidencia 67",{"$error":"#N/A"},{"$error":"#N/A"}]
[68,{"$f":"+IF(A90<='Hoja3 (2)'!$E$1,1,0)","v":0},"Coincidencia 68",{"$error":"#N/A"},{"$error":"#N/A"}]
[69,{"$f":"+IF(A91<='Hoja3 (2)'!$E$1,1,0)","v":0},"Coincidencia 69",{"$error":"#N/A"},{"$error":"#N/A"}]
[70,{"$f":"+IF(A92<='Hoja3 (2)'!$E$1,1,0)","v":0},"Coincidencia 70",{"$error":"#N/A"},{"$error":"#N/A"}]
[71,{"$f":"+IF(A93<='Hoja3 (2)'!$E$1,1,0)","v":0},"Coincidencia 71",{"$error":"#N/A"},{"$error":"#N/A"}]
[72,{"$f":"+IF(A94<='Hoja3 (2)'!$E$1,1,0)","v":0},"Coincidencia 72",{"$error":"#N/A"},{"$error":"#N/A"}]
[73,{"$f":"+IF(A95<='Hoja3 (2)'!$E$1,1,0)","v":0},"Coincidencia 73",{"$error":"#N/A"},{"$error":"#N/A"}]
[74,{"$f":"+IF(A96<='Hoja3 (2)'!$E$1,1,0)","v":0},"Coincidencia 74",{"$error":"#N/A"},{"$error":"#N/A"}]
[75,{"$f":"+IF(A97<='Hoja3 (2)'!$E$1,1,0)","v":0},"Coincidencia 75",{"$error":"#N/A"},{"$error":"#N/A"}]
[76,{"$f":"+IF(A98<='Hoja3 (2)'!$E$1,1,0)","v":0},"Coincidencia 76",{"$error":"#N/A"},{"$error":"#N/A"}]
[77,{"$f":"+IF(A99<='Hoja3 (2)'!$E$1,1,0)","v":0},"Coincidencia 77",{"$error":"#N/A"},{"$error":"#N/A"}]
[78,{"$f":"+IF(A100<='Hoja3 (2)'!$E$1,1,0)","v":0},"Coincidencia 78",{"$error":"#N/A"},{"$error":"#N/A"}]
[79,{"$f":"+IF(A101<='Hoja3 (2)'!$E$1,1,0)","v":0},"Coincidencia 79",{"$error":"#N/A"},{"$error":"#N/A"}]
[80,{"$f":"+IF(A102<='Hoja3 (2)'!$E$1,1,0)","v":0},"Coincidencia 80",{"$error":"#N/A"},{"$error":"#N/A"}]
[81,{"$f":"+IF(A103<='Hoja3 (2)'!$E$1,1,0)","v":0},"Coincidencia 81",{"$error":"#N/A"},{"$error":"#N/A"}]
[82,{"$f":"+IF(A104<='Hoja3 (2)'!$E$1,1,0)","v":0},"Coincidencia 82",{"$error":"#N/A"},{"$error":"#N/A"}]
[83,{"$f":"+IF(A105<='Hoja3 (2)'!$E$1,1,0)","v":0},"Coincidencia 83",{"$error":"#N/A"},{"$error":"#N/A"}]
[84,{"$f":"+IF(A106<='Hoja3 (2)'!$E$1,1,0)","v":0},"Coincidencia 84",{"$error":"#N/A"},{"$error":"#N/A"}]
[85,{"$f":"+IF(A107<='Hoja3 (2)'!$E$1,1,0)","v":0},"Coincidencia 85",{"$error":"#N/A"},{"$error":"#N/A"}]
[86,{"$f":"+IF(A108<='Hoja3 (2)'!$E$1,1,0)","v":0},"Coincidencia 86",{"$error":"#N/A"},{"$error":"#N/A"}]
[87,{"$f":"+IF(A109<='Hoja3 (2)'!$E$1,1,0)","v":0},"Coincidencia 87",{"$error":"#N/A"},{"$error":"#N/A"}]
[88,{"$f":"+IF(A110<='Hoja3 (2)'!$E$1,1,0)","v":0},"Coincidencia 88",{"$error":"#N/A"},{"$error":"#N/A"}]
[89,{"$f":"+IF(A111<='Hoja3 (2)'!$E$1,1,0)","v":0},"Coincidencia 89",{"$error":"#N/A"},{"$error":"#N/A"}]
[90,{"$f":"+IF(A112<='Hoja3 (2)'!$E$1,1,0)","v":0},"Coincidencia 90",{"$error":"#N/A"},{"$error":"#N/A"}]
[91,{"$f":"+IF(A113<='Hoja3 (2)'!$E$1,1,0)","v":0},"Coincidencia 91",{"$error":"#N/A"},{"$error":"#N/A"}]
[92,{"$f":"+IF(A114<='Hoja3 (2)'!$E$1,1,0)","v":0},"Coincidencia 92",{"$f":"+VLOOKUP(A114,'Hoja3 (2)'!$A$2:$B$874,2,0)","v":"#N/A"},{"$f":"+VLOOKUP(A114,'Hoja3 (2)'!$A$3:$J$873,10,0)","v":"#N/A"}]